{"text_format":"1","workbook":"xlsx","n_sheets":13,"sheets":["_TM_Scoring (2)","Introduction","Project Description","Define Options","Criteria","Selected Criteria","Weighting_Rank_Methods","Weighting_Pairwise Comparison","Scoring","Sensitivity","Analysis","General Calc","Sensitivity Calc"],"not_rendered":{"charts":0,"images":6,"macros":1,"external_links":0,"defined_names":5,"comments":0,"pivot_tables":0},"unopened":[],"bounds":{"document_bytes":16777216,"sheet_cells":100000,"rows_first":2000,"rows_last":500,"rows_between":2000,"halvings":0,"cell_chars":16384,"cell_head_chars":4096},"cells_cut":0,"cells_raw":0,"read":"whole","date_system":"1900"}

{"sheet":"_TM_Scoring (2)","index":0,"n_rows":2,"n_cols":5,"rows_kept":2,"cut":false,"hidden":true,"merged":[]}
["Left","Top","Right","Bottom","Ref"]
[5,4,12,24,"$E$4:$L$24"]

{"sheet":"Introduction","index":1,"n_rows":3,"n_cols":1,"rows_kept":3,"cut":false,"hidden":false,"merged":[[2,0,2,9]]}
["MCA_NIS_Toolkit"]
["Smarter Solutions - Multi-Criteria Assessment Tool"]
["\nThis Smarter Solutions Multi-Criteria Assessment (MCA) Tool provides a clear line-of-sight across the Department of Transport and Main Roads' (TMR) infrastructure planning and investment process, providing assurance that the Network Optimisation Framework is embedded in our decision-making.\n\nThe MCA Tool has been designed for use in selecting a preferred option, or ranking alternate options, where network optimisation solutions (NOS) are included within assessment processes. The MCA Tool applies a standardised consideration of NOS relative to large capital infrastructure, ensuring TMR is delivering the right infrastructure at the right time and aligning with government policy direction for investment as outlined in the Queensland Government's State Infrastructure Plan.\n"]

{"sheet":"Project Description","index":2,"n_rows":23,"n_cols":6,"rows_kept":23,"cut":false,"hidden":false,"merged":[[2,1,2,4]]}
[]
[]
[null,"Project Description"]
[]
[]
[]
[]
[]
[null,"Decision Context: ",null,"What is the overarching service need or opportunity that this project response is sought to address? What is the timeframe for required impacts?"]
[null,null,null,"Type here…"]
[]
[null,"Network Context: ",null,"What is the current transport infrastructure environment? \nIs there any complimentary infrastructure investment occuring within close proximity?"]
[null,null,null,"Type here…"]
[]
[null,"Key Objectives: ",null,"What is the key objective the Project is being implemented to achieve?"]
[null,null,null,"Capacity ",null,false]
[null,null,null,"Performance ",null,false]
[null,null,null,"Behaviour Change",null,false]
[null,null,null,"Safety",null,false]
[null,null,null,"Other",null,false]
[]
[null,null,null,"What are the segmented objectives - ultimate, intermediate and immediate?\nWhat are the corresponding timeframes for these objectives?"]
[null,null,null,"Type here…"]

{"sheet":"Define Options","index":3,"n_rows":27,"n_cols":7,"rows_kept":27,"cut":false,"hidden":false,"merged":[[1,0,1,4],[3,2,4,4]]}
[]
["Define Options"]
[]
[null,null,"Clearly define the short-listed options identified to achieve the outcomes sought. "]
[]
[]
[null,null,"Ref","Option","Description "]
[null,null,"Opt 1",null,null,null,"Has a NOS Option been selected? "]
[null,null,"Opt 2"]
[null,null,"Opt 3"]
[null,null,"Opt 4"]
[null,null,"Opt 5"]
[null,null,"Opt 6"]
[null,null,"Opt 7"]
[null,null,"Opt 8"]
[null,null,"Opt 9"]
[null,null,"Opt 10"]
[null,null,"Opt 11"]
[null,null,"Opt 12"]
[null,null,"Opt 13"]
[null,null,"Opt 14"]
[null,null,"Opt 15"]
[null,null,"Opt 16"]
[null,null,"Opt 17"]
[null,null,"Opt 18"]
[null,null,"Opt 19"]
[null,null,"Opt 20"]

{"sheet":"Criteria","index":4,"n_rows":52,"n_cols":15,"rows_kept":52,"cut":false,"hidden":false,"merged":[[7,1,7,10],[5,3,6,3],[5,2,6,2],[1,0,1,10],[3,1,3,10],[5,1,6,1],[5,4,6,4],[5,5,6,5],[5,6,5,10]]}
[]
["Criteria"]
[]
[null,"As per the Smarter solutions -  Multi-Criteria Assessment Technical Note, various criteria are mandatory when considering an NOS in the evaluation process. Additional criteria relating to intersection delay, public transport patronage and freight should be selected where appropriate. \n* Where an NOS option has not been short-listed for assessment, please refine these criteria to reflect the options identified and the key project objectives. \nA maximum of 20 criteria can be selected. "]
[]
[null,"Category","Criterion","Use Criteria?","Indicator","Measure","Scoring Range"]
[null,null,null,null,null,null,1,2,3,4,5,"Yes/No","Lookup","Unique Category","Category Lookup"]
[null,"Economic Data",null,null,null,null,null,null,null,null,null,null,null,{"$f":"SUM(N9:N42)","v":0}]
[null,"Economic Data","Implementation Costs*","No","Estimated cost of construction and procurement (outturn estimate)","$","Estimated cost is significantly higher than Base Case option (> $100m PAF; > $50m OnQ)","Estimated cost is moderately higher than Base Case option ($0 - $100m PAF; $0-$50m OnQ)","Estimated cost is equivalent to the cost of the identified Base Case option","Estimated cost is moderately less than Base Case option ($0 - $100m PAF; $0 - $50 OnQ)","Estimated cost is significantly less than Base Case option (< $100m PAF; < $50m OnQ)",{"$f":"IF(D9=\"Yes\",1,0)","v":0},{"$f":"IF(L9=1,SUM($L$9:L9),\"\")","v":""},{"$f":"IF(AND(L9=1,COUNTIFS($B$9:$B9,B9,$L$9:$L9,1)=1),1,0)","v":0},{"$f":"IF(N9=1,SUM($N$9:N9),\"\")","v":""}]
[null,"Economic Data","Whole-of-life Operation and Maintenance Costs*","No","Estimated cost of whole-of-life asset operation and maintenance","$","Estimated cost is significantly higher than Base Case option\n (> $100m PAF; > $50m OnQ)","Estimated cost is moderately higher than Base Case option ($0 - $100m PAF; $0-$50m OnQ)","Estimated cost is equivalent to the cost of the identified Base Case option","Estimated cost is moderately less than Base Case option ($0 - $100m PAF; $0 - $50 OnQ)","Estimated cost is significantly less than Base Case option \n(< $100m PAF; < $50m OnQ)",{"$f":"IF(D10=\"Yes\",1,0)","v":0},{"$f":"IF(L10=1,SUM($L$9:L10),\"\")","v":""},{"$f":"IF(AND(L10=1,COUNTIFS($B$9:$B10,B10,$L$9:$L10,1)=1),1,0)","v":0},{"$f":"IF(N10=1,SUM($N$9:N10),\"\")","v":""}]
[null,"Economic Data","End-to-end cost","No","Impact on direct end-to-end cost or price of travel (incl. amenity)","Descriptive","Significant negative impact on the direct end-to-end cost / price of travel (50% - 100% increase on Base Case)","Moderate negative impact on the direct end-to-end cost / price of travel (0% - 50% increase on Base Case)","No impact on the direct end-to-end cost / price of travel relative to Base Case","Moderate positive impact on the direct end-to-end cost / price of travel (0% - 50% reduction on Base Case)","Significant positive impact on the direct end-to-end cost / price of travel (50% - 100% reduction on Base Case)",0,{"$f":"IF(L11=1,SUM($L$9:L11),\"\")","v":""},{"$f":"IF(AND(L11=1,COUNTIFS($B$9:$B11,B11,$L$9:$L11,1)=1),1,0)","v":0},{"$f":"IF(N11=1,SUM($N$9:N11),\"\")","v":""}]
[null,"Economic Data","Road User Vehicle Operating Costs","No","Estimated change in vehicle operating costs ( Vehicle/Bus operating costs: fuel, tyre wear, lubricants, repairs, maintenance)","$/pkt","Significant increase in vehicle operating costs (50% - 100% increase on Base Case)","Moderate increase in vehicle operating costs (0% - 50% increase on Base Case)","No change to vehicle operating costs relative to Base Case","Moderate reduction in vehicle operating cost (0% - 50% reduction on Base Case)","Significant reduction in vehicle operating cost (50% - 100% reduction on Base Case)",{"$f":"IF(D12=\"Yes\",1,0)","v":0},{"$f":"IF(L12=1,SUM($L$9:L12),\"\")","v":""},{"$f":"IF(AND(L12=1,COUNTIFS($B$9:$B12,B12,$L$9:$L12,1)=1),1,0)","v":0},{"$f":"IF(N12=1,SUM($N$9:N12),\"\")","v":""}]
[null,"Economic Data","Rapid BCR","No","Rapid Benefit Cost Ratio ","Ratio","0 to 0.5","0.5 to 1","N/A","1 to 1.5","> 1.5",0,{"$f":"IF(L13=1,SUM($L$9:L13),\"\")","v":""},{"$f":"IF(AND(L13=1,COUNTIFS($B$9:$B13,B13,$L$9:$L13,1)=1),1,0)","v":0},{"$f":"IF(N13=1,SUM($N$9:N13),\"\")","v":""}]
[null,"Traffic Performance and Integration","Network Connectivity","No","Impact on the directness of links and the density of connections in the network ","Descriptive","Significant negative impact on network connectivity relative to Base Case","Moderate negative impact on network connectivity relative to Base Case","No impact on network connectivity relative to Base Case","Moderate positive impact on network connectivity relative to Base Case","Significant positive impact on network connectivity relative to Base Case",0,{"$f":"IF(L14=1,SUM($L$9:L14),\"\")","v":""},{"$f":"IF(AND(L14=1,COUNTIFS($B$9:$B14,B14,$L$9:$L14,1)=1),1,0)","v":0},{"$f":"IF(N14=1,SUM($N$9:N14),\"\")","v":""}]
[null,"Traffic Performance and Integration","Operating Conditions","No","Change in the efficiency of operating conditions","Descriptive","Significant negative impact on operating conditions relative to Base Case","Moderate negative impact on operating conditions relative to Base Case","No impact on operating conditions relative to Base Case","Moderate positive impact on operating conditions relative to Base Case","Significant positive impact on operating conditions relative to Base Case",0,{"$f":"IF(L15=1,SUM($L$9:L15),\"\")","v":""},{"$f":"IF(AND(L15=1,COUNTIFS($B$9:$B15,B15,$L$9:$L15,1)=1),1,0)","v":0},{"$f":"IF(N15=1,SUM($N$9:N15),\"\")","v":""}]
[null,"Traffic Performance and Integration","Travel Time Reliability","No","Impact on time travel reliability, measured by the percent variation in travel time","% Variation","Travel delay equal to above 45% of average travel time","Travel delay equal to between 35% and 45% of average travel time","Travel delay equal to 35% of average travel time","Travel delay equal to between 25% to 35% of average travel time","Travel delay equal to less that 25% of average travel time",0,{"$f":"IF(L16=1,SUM($L$9:L16),\"\")","v":""},{"$f":"IF(AND(L16=1,COUNTIFS($B$9:$B16,B16,$L$9:$L16,1)=1),1,0)","v":0},{"$f":"IF(N16=1,SUM($N$9:N16),\"\")","v":""}]
[null,"Traffic Performance and Integration","LOS","No","Impact on transport network performance as captured by the level of service rating","A-F LOS Scale ","Significant negative impact on level of service relative to Base Case (-2 ratings)","Moderate negative impact on level of service relative to Base Case (-1 rating)","No change in level of service relative to Base Case","Moderate positive impact on level of service relative to Base Case (+1 rating)","Significant positive impact on level of service relative to Base Case (+2 ratings)",0,{"$f":"IF(L17=1,SUM($L$9:L17),\"\")","v":""},{"$f":"IF(AND(L17=1,COUNTIFS($B$9:$B17,B17,$L$9:$L17,1)=1),1,0)","v":0},{"$f":"IF(N17=1,SUM($N$9:N17),\"\")","v":""}]
[null,"Traffic Performance and Integration","Intersection Delay","No","Change in intersection delay","min","Significant negative impact on intersection delay ","Moderate negative impact on intersection delay","No impact on intersection delay","Moderate positive impact on intersection delay","Significant positive impact on intersection delay",0,{"$f":"IF(L18=1,SUM($L$9:L18),\"\")","v":""},{"$f":"IF(AND(L18=1,COUNTIFS($B$9:$B18,B18,$L$9:$L18,1)=1),1,0)","v":0},{"$f":"IF(N18=1,SUM($N$9:N18),\"\")","v":""}]
[null,"Traffic Performance and Integration","Public Transport Patronage","No","Change in user behaviour to increase public transport patronage","# / week","Significant negative impact on public transport patronage","Moderate negative impact on public transport patronage","No impact on public transport patronage","Moderate positive impact on public transport patronage","Significant positive impact on public transport patronage",0,{"$f":"IF(L19=1,SUM($L$9:L19),\"\")","v":""},{"$f":"IF(AND(L19=1,COUNTIFS($B$9:$B19,B19,$L$9:$L19,1)=1),1,0)","v":0},{"$f":"IF(N19=1,SUM($N$9:N19),\"\")","v":""}]
[null,"Traffic Performance and Integration","Active transport – Cyclists/Pedestrians","No","Impact on active transport users","Descriptive","Significant negative impact on active transport","Moderate negative impact on active transport","No impact on active transport","Moderate positive impact active transport","Significant positive impact on active transport",0,{"$f":"IF(L20=1,SUM($L$9:L20),\"\")","v":""},{"$f":"IF(AND(L20=1,COUNTIFS($B$9:$B20,B20,$L$9:$L20,1)=1),1,0)","v":0},{"$f":"IF(N20=1,SUM($N$9:N20),\"\")","v":""}]
[null,"Traffic Performance and Integration","Performance Horizon","No","Performance of the option over time, as measured by the duration of benefits","Years ","N/A","N/A","Duration of benefits\n <5 years","Duration of benefits between 5 – 10 years","Duration of benefits \n> 10 years",0,{"$f":"IF(L21=1,SUM($L$9:L21),\"\")","v":""},{"$f":"IF(AND(L21=1,COUNTIFS($B$9:$B21,B21,$L$9:$L21,1)=1),1,0)","v":0},{"$f":"IF(N21=1,SUM($N$9:N21),\"\")","v":""}]
[null,"Traffic Performance and Integration","Amenity of travel","No","Change in the perceived quality or amenity of travel","Descriptive","Significant negative impact on the perceived quality and amenity of transport network relative to Base Case","Moderate negative impact on the perceived quality and amenity of transport network relative to Base Case","No impact on the perceived quality and amenity of transport network relative to Base Case","Moderate positive impact on the perceived quality and amenity of transport network relative to Base Case","Significant positive impact on the perceived quality and amenity of transport network relative to Base Case",0,{"$f":"IF(L22=1,SUM($L$9:L22),\"\")","v":""},{"$f":"IF(AND(L22=1,COUNTIFS($B$9:$B22,B22,$L$9:$L22,1)=1),1,0)","v":0},{"$f":"IF(N22=1,SUM($N$9:N22),\"\")","v":""}]
[null,"Traffic Performance and Integration","Safety ","No","Impact on safety incl. accidents, injuries and casualities","# / pkt","Significant negative impact on safety relative to Base Case","Moderate negative impact on safety relative to Base Case","No impact on safety relative to Base Case","Moderate positive impact on safety relative to Base Case","Significant positive impact on safety relative to Base Case",0,{"$f":"IF(L23=1,SUM($L$9:L23),\"\")","v":""},{"$f":"IF(AND(L23=1,COUNTIFS($B$9:$B23,B23,$L$9:$L23,1)=1),1,0)","v":0},{"$f":"IF(N23=1,SUM($N$9:N23),\"\")","v":""}]
[null,"Traffic Performance and Integration","Freight Volume","No","Impact on freight volume ","m3 / pkt","Significant  reduction in freight volume relative to Base Case","Moderate reduction in freight volume relative to Base Case","No change in freight volume relative to Base Case","Moderate increase in freight volume relative to Base Case","Significant increase in freight volume relative to Base Case",0,{"$f":"IF(L24=1,SUM($L$9:L24),\"\")","v":""},{"$f":"IF(AND(L24=1,COUNTIFS($B$9:$B24,B24,$L$9:$L24,1)=1),1,0)","v":0},{"$f":"IF(N24=1,SUM($N$9:N24),\"\")","v":""}]
[null,"Traffic Performance and Integration","Freight Vehicle Operating Costs","No","Estimated change in freight vehicle operating costs ( Vehicle operating costs: fuel, tyre wear, lubricants, repairs, maintenance)","$","Significant increase in vehicle operating costs (50% - 100% increase relative to Base Case)","Moderate increase in vehicle operating costs (0% - 50% increase relative to Base Case)","No change to vehicle operating costs relative to Base Case","Moderate reduction in vehicle operating cost (0% - 50% reduction relative to Base Case)","Significant reduction in vehicle operating cost (50% - 100% reduction relative to Base Case)",0,{"$f":"IF(L25=1,SUM($L$9:L25),\"\")","v":""},{"$f":"IF(AND(L25=1,COUNTIFS($B$9:$B25,B25,$L$9:$L25,1)=1),1,0)","v":0},{"$f":"IF(N25=1,SUM($N$9:N25),\"\")","v":""}]
[null,"Traffic Performance and Integration","Frequency of Service","No","Impact on the frequency of freight services","#","Significant reduction in freight frequency relative to Base Case","Moderate reduction in freight frequency relative to Base Case","No change in freight frequency relative to Base Case","Moderate increase in freight frequency relative to Base Case","Significant increase in freight frequency relative to Base Case",0,{"$f":"IF(L26=1,SUM($L$9:L26),\"\")","v":""},{"$f":"IF(AND(L26=1,COUNTIFS($B$9:$B26,B26,$L$9:$L26,1)=1),1,0)","v":0},{"$f":"IF(N26=1,SUM($N$9:N26),\"\")","v":""}]
[null,"Construction and Constructability ","Traffic Management","No","Impact on traffic management during construction / implementation","Descriptive","Significant negative impact on traffic management during construction / implementation","Moderate negative impact on traffic management during construction / implementation","No impact on traffic management during construction / implementation","Moderate positive impact on traffic management during construction / implementation","Significant positive impact on traffic management during construction / implementation",0,{"$f":"IF(L27=1,SUM($L$9:L27),\"\")","v":""},{"$f":"IF(AND(L27=1,COUNTIFS($B$9:$B27,B27,$L$9:$L27,1)=1),1,0)","v":0},{"$f":"IF(N27=1,SUM($N$9:N27),\"\")","v":""}]
[null,"Construction and Constructability ","Community Disruption","No","Impact of construction on the local community, including visual amenity, safety risk, increased traffic and additional parking demand","Descriptive","Significant negative impact on local community","Moderate negative impact on local community ","No impact on local community as a result of construction","N/A","N/A",0,{"$f":"IF(L28=1,SUM($L$9:L28),\"\")","v":""},{"$f":"IF(AND(L28=1,COUNTIFS($B$9:$B28,B28,$L$9:$L28,1)=1),1,0)","v":0},{"$f":"IF(N28=1,SUM($N$9:N28),\"\")","v":""}]
[null,"Construction and Constructability ","Engineering / Constructability","No","Potential engineering or construction challenges - during construction or across lifecycle","Descriptive","Significant evidence of potential engineering or construction challenges","Moderate evidence of potential engineering or construction challenges","No evidence of potential engineering or construction challenges","N/A","N/A",0,{"$f":"IF(L29=1,SUM($L$9:L29),\"\")","v":""},{"$f":"IF(AND(L29=1,COUNTIFS($B$9:$B29,B29,$L$9:$L29,1)=1),1,0)","v":0},{"$f":"IF(N29=1,SUM($N$9:N29),\"\")","v":""}]
[null,"Construction and Constructability ","Geotechnical Risk","No",null,null,"Significant geotechnical risk ","Moderate geotechnical risk","No geotechnical risk","N/A","N/A",0,{"$f":"IF(L30=1,SUM($L$9:L30),\"\")","v":""},{"$f":"IF(AND(L30=1,COUNTIFS($B$9:$B30,B30,$L$9:$L30,1)=1),1,0)","v":0},{"$f":"IF(N30=1,SUM($N$9:N30),\"\")","v":""}]
[null,"Construction and Constructability ","Ease of Construction","No","Level of political and construction risk resulting in delays and disruptions during construction",null,"Significant increase in construction and political risk","Moderate increase in construction and political risk","No change in construction and political risk","Moderate decrease in construction and political risk","Significant decrease in construction and political risk",0,{"$f":"IF(L31=1,SUM($L$9:L31),\"\")","v":""},{"$f":"IF(AND(L31=1,COUNTIFS($B$9:$B31,B31,$L$9:$L31,1)=1),1,0)","v":0},{"$f":"IF(N31=1,SUM($N$9:N31),\"\")","v":""}]
[null,"Construction and Constructability ","Stageability","No","Ability for the option to be implemented in discrete stages over time ","Binary ","N/A","No ability for the option to be implemented in stages ","N/A","Ability for the option to be implemented in stages ","N/A",0,{"$f":"IF(L32=1,SUM($L$9:L32),\"\")","v":""},{"$f":"IF(AND(L32=1,COUNTIFS($B$9:$B32,B32,$L$9:$L32,1)=1),1,0)","v":0},{"$f":"IF(N32=1,SUM($N$9:N32),\"\")","v":""}]
[null,"Environmental Impact","Noise and Air Quality","No","Impact on noise and air quality",null,"Significant reduction in noise and air quality relative to Base Case","Moderate reduction in noise and air quality relative to Base Case","No change in noise and air quality relative to Base Case","Moderate increase in noise and air quality relative to Base Case","Significant increase in noise and air quality relative to Base Case",0,{"$f":"IF(L33=1,SUM($L$9:L33),\"\")","v":""},{"$f":"IF(AND(L33=1,COUNTIFS($B$9:$B33,B33,$L$9:$L33,1)=1),1,0)","v":0},{"$f":"IF(N33=1,SUM($N$9:N33),\"\")","v":""}]
[null,"Environmental Impact","Vehicle Emissions","No","Impact on vehicle emissions",null,"Significant increase in fuel emissions relative to Base Case","Moderate increase in fuel emissions relative to Base Case","No change in fuel emissions relative to Base Case","Moderate reduction in fuel emissions relative to Base Case","Significant reduction in fuel emissions relative to Base Case",0,{"$f":"IF(L34=1,SUM($L$9:L34),\"\")","v":""},{"$f":"IF(AND(L34=1,COUNTIFS($B$9:$B34,B34,$L$9:$L34,1)=1),1,0)","v":0},{"$f":"IF(N34=1,SUM($N$9:N34),\"\")","v":""}]
[null,"Environmental Impact","Flora and fauna","No","Impact on vegetation and / or sites of environmental importance","km2","Significant negative impact on vegetation and / or sites of environmental importance relative to Base Case","Moderate  negative impact on vegetation and / or sites of environmental importance relative to Base Case","No impact on vegetation and / or sites of environmental importance relative to Base Case","Moderate positive impact on vegetation and / or sites of environmental importance relative to Base Case","Significant positive impact on vegetation or sites of environmental importance relative to Base Case",0,{"$f":"IF(L35=1,SUM($L$9:L35),\"\")","v":""},{"$f":"IF(AND(L35=1,COUNTIFS($B$9:$B35,B35,$L$9:$L35,1)=1),1,0)","v":0},{"$f":"IF(N35=1,SUM($N$9:N35),\"\")","v":""}]
[null,"Social Factors","Barriers to development","No","Are there any significant barriers to development? E.g. existing land use or cultural significance","Descriptive","Significant barriers to implementation arising from existing land use relative to Base Case","Moderate  barriers to implementation arising from existing land us relative to Base Case","No barriers to implementation arising from existing land use relative to Base Case","N/A","N/A",0,{"$f":"IF(L36=1,SUM($L$9:L36),\"\")","v":""},{"$f":"IF(AND(L36=1,COUNTIFS($B$9:$B36,B36,$L$9:$L36,1)=1),1,0)","v":0},{"$f":"IF(N36=1,SUM($N$9:N36),\"\")","v":""}]
[null,"Social Factors","Future land use","No","Degree of alignment to strategic land use and planning objectives","Descriptive","Significant misalignment of option  to strategic land use and planning objectives","Slight misalignment of option to strategic land use and planning objectives","No change to future land use relative to Base Case","Well aligned to strategic land use and planning objectives","Perfectly aligned to strategic land use and planning objectives",0,{"$f":"IF(L37=1,SUM($L$9:L37),\"\")","v":""},{"$f":"IF(AND(L37=1,COUNTIFS($B$9:$B37,B37,$L$9:$L37,1)=1),1,0)","v":0},{"$f":"IF(N37=1,SUM($N$9:N37),\"\")","v":""}]
[null,"Social Factors","Mode Shift","No","Impact on user behaviour and influence on mode shift ","Descriptive","Significant negative impact on user behaviour and mode shift and mode shift relative to Base Case","Moderate negative impact on user behaviour and mode shift relative to Base Case","No impact on user behaviour and mode shift relative to Base Case","Moderate positive impact on user behaviour and mode shift relative to Base Case","Significant positive impact on user behaviour and mode shift relative to Base Case",0,{"$f":"IF(L38=1,SUM($L$9:L38),\"\")","v":""},{"$f":"IF(AND(L38=1,COUNTIFS($B$9:$B38,B38,$L$9:$L38,1)=1),1,0)","v":0},{"$f":"IF(N38=1,SUM($N$9:N38),\"\")","v":""}]
[null,"Social Factors","Impact on property owners","No","Impact to local land, property and businesses resulting from disruption during construction and operation ","Quantity of affected properties","Additional properties affected relative to Base Case – impact across a corridor/route spatial area","Additional properties affected relative to Base Case – impact across a localised spatial area","N/A","N/A","No addition properties affected relative to Base Case",0,{"$f":"IF(L39=1,SUM($L$9:L39),\"\")","v":""},{"$f":"IF(AND(L39=1,COUNTIFS($B$9:$B39,B39,$L$9:$L39,1)=1),1,0)","v":0},{"$f":"IF(N39=1,SUM($N$9:N39),\"\")","v":""}]
[null,"Social Factors","Visual Amenity and Urban Quality","No","Impact on visual amenity and urban quality as a result of changes in bikeways, walking paths, noise during construction and design/aesthetic","Descriptive","Significant reduction in visual amenity and urban quality ","Moderate reduction in visual amenity and urban quality ","No impact on visual amenity and urban quality relative to Base Case ","Moderate increase in visual amenity and urban quality ","Significant increase in visual amenity and urban quality ",0,{"$f":"IF(L40=1,SUM($L$9:L40),\"\")","v":""},{"$f":"IF(AND(L40=1,COUNTIFS($B$9:$B40,B40,$L$9:$L40,1)=1),1,0)","v":0},{"$f":"IF(N40=1,SUM($N$9:N40),\"\")","v":""}]
[null,"Social Factors","Severance","No","Impact on community severance","Descriptive","Significant increase in community severence","Moderate increase in community severence","No impact on community severance relative to Base Case","Moderate reduction in community severence","Significant reduction in community severence",0,{"$f":"IF(L41=1,SUM($L$9:L41),\"\")","v":""},{"$f":"IF(AND(L41=1,COUNTIFS($B$9:$B41,B41,$L$9:$L41,1)=1),1,0)","v":0},{"$f":"IF(N41=1,SUM($N$9:N41),\"\")","v":""}]
[null,"Social Factors","Regional development","No","Change in the economic and social impact of the transport system on regional development","Descriptive","Significant negative impact on future regional development","Moderate negative impact on future regional development ","No impact on future regional development relative to Base Case","Moderate positive impact on future regional development","Significant positive impact on future regional development",0,{"$f":"IF(L42=1,SUM($L$9:L42),\"\")","v":""},{"$f":"IF(AND(L42=1,COUNTIFS($B$9:$B42,B42,$L$9:$L42,1)=1),1,0)","v":0},{"$f":"IF(N42=1,SUM($N$9:N42),\"\")","v":""}]
[null,"Add additional criteria here….",null,null,null,null,null,null,null,null,null,0,{"$f":"IF(L43=1,SUM($L$9:L43),\"\")","v":""},{"$f":"IF(AND(L43=1,COUNTIFS($B$9:$B43,#REF!,$L$9:$L43,1)=1),1,0)","v":0},{"$f":"IF(N43=1,SUM($N$9:N43),\"\")","v":""}]
[null,null,null,null,null,null,null,null,null,null,null,{"$f":"IF(D44=\"Yes\",1,0)","v":0},{"$f":"IF(L44=1,SUM($L$9:L44),\"\")","v":""},{"$f":"IF(AND(L44=1,COUNTIFS($B$9:$B44,#REF!,$L$9:$L44,1)=1),1,0)","v":0},{"$f":"IF(N44=1,SUM($N$9:N44),\"\")","v":""}]
[null,null,null,null,null,null,null,null,null,null,null,0,{"$f":"IF(L45=1,SUM($L$9:L45),\"\")","v":""},{"$f":"IF(AND(L45=1,COUNTIFS($B$9:$B45,#REF!,$L$9:$L45,1)=1),1,0)","v":0},{"$f":"IF(N45=1,SUM($N$9:N45),\"\")","v":""}]
[null,null,null,null,null,null,null,null,null,null,null,0,{"$f":"IF(L46=1,SUM($L$9:L46),\"\")","v":""},{"$f":"IF(AND(L46=1,COUNTIFS($B$9:$B46,#REF!,$L$9:$L46,1)=1),1,0)","v":0},{"$f":"IF(N46=1,SUM($N$9:N46),\"\")","v":""}]
[null,null,null,null,null,null,null,null,null,null,null,0,{"$f":"IF(L47=1,SUM($L$9:L47),\"\")","v":""},{"$f":"IF(AND(L47=1,COUNTIFS($B$9:$B47,#REF!,$L$9:$L47,1)=1),1,0)","v":0},{"$f":"IF(N47=1,SUM($N$9:N47),\"\")","v":""}]
[null,null,null,null,null,null,null,null,null,null,null,0,{"$f":"IF(L48=1,SUM($L$9:L48),\"\")","v":""},{"$f":"IF(AND(L48=1,COUNTIFS($B$9:$B48,#REF!,$L$9:$L48,1)=1),1,0)","v":0},{"$f":"IF(N48=1,SUM($N$9:N48),\"\")","v":""}]
[null,null,null,null,null,null,null,null,null,null,null,0,{"$f":"IF(L49=1,SUM($L$9:L49),\"\")","v":""},{"$f":"IF(AND(L49=1,COUNTIFS($B$9:$B49,#REF!,$L$9:$L49,1)=1),1,0)","v":0},{"$f":"IF(N49=1,SUM($N$9:N49),\"\")","v":""}]
[null,null,null,null,null,null,null,null,null,null,null,0,{"$f":"IF(L50=1,SUM($L$9:L50),\"\")","v":""},{"$f":"IF(AND(L50=1,COUNTIFS($B$9:$B50,#REF!,$L$9:$L50,1)=1),1,0)","v":0},{"$f":"IF(N50=1,SUM($N$9:N50),\"\")","v":""}]
[null,null,null,null,null,null,null,null,null,null,null,0,{"$f":"IF(L51=1,SUM($L$9:L51),\"\")","v":""},{"$f":"IF(AND(L51=1,COUNTIFS($B$9:$B51,#REF!,$L$9:$L51,1)=1),1,0)","v":0},{"$f":"IF(N51=1,SUM($N$9:N51),\"\")","v":""}]
[null,null,null,null,null,null,null,null,null,null,null,0,{"$f":"IF(L52=1,SUM($L$9:L52),\"\")","v":""},{"$f":"IF(AND(L52=1,COUNTIFS($B$9:$B52,#REF!,$L$9:$L52,1)=1),1,0)","v":0},{"$f":"IF(N52=1,SUM($N$9:N52),\"\")","v":""}]

{"sheet":"Selected Criteria","index":5,"n_rows":34,"n_cols":12,"rows_kept":34,"cut":false,"hidden":false,"merged":[[1,2,2,11],[3,3,4,3],[3,5,4,5],[3,6,4,6],[3,7,3,11],[3,4,4,4]]}
[]
[null,null,"Preview of Selected Criterion"]
[]
[null,null,null,"Category","Criterion","Indicator","Measure","Scoring Range"]
[{"$f":"MAX(Criteria!$M:$M)","v":0},null,null,null,null,null,null,1,2,3,4,5]
[{"$f":"IF(ROWS($A$5:$A5)>$A$5,\"\",ROWS($A$5:$A5))","v":""},{"$f":"IF(A6=\"\",\"\",MATCH(A6,Criteria!$M:$M,0))","v":""},null,{"$f":"IF($B6=\"\",\"\",IF(INDEX(Criteria!B:B,$B6)=0,\"\",INDEX(Criteria!B:B,$B6)))","v":""},{"$f":"IF($B6=\"\",\"\",IF(INDEX(Criteria!C:C,$B6)=0,\"\",INDEX(Criteria!C:C,$B6)))","v":""},{"$f":"IF($B6=\"\",\"\",IF(INDEX(Criteria!E:E,$B6)=0,\"\",INDEX(Criteria!E:E,$B6)))","v":""},{"$f":"IF($B6=\"\",\"\",IF(INDEX(Criteria!F:F,$B6)=0,\"\",INDEX(Criteria!F:F,$B6)))","v":""},{"$f":"IF($B6=\"\",\"\",IF(INDEX(Criteria!G:G,$B6)=0,\"\",INDEX(Criteria!G:G,$B6)))","v":""},{"$f":"IF($B6=\"\",\"\",IF(INDEX(Criteria!H:H,$B6)=0,\"\",INDEX(Criteria!H:H,$B6)))","v":""},{"$f":"IF($B6=\"\",\"\",IF(INDEX(Criteria!I:I,$B6)=0,\"\",INDEX(Criteria!I:I,$B6)))","v":""},{"$f":"IF($B6=\"\",\"\",IF(INDEX(Criteria!J:J,$B6)=0,\"\",INDEX(Criteria!J:J,$B6)))","v":""},{"$f":"IF($B6=\"\",\"\",IF(INDEX(Criteria!K:K,$B6)=0,\"\",INDEX(Criteria!K:K,$B6)))","v":""}]
[{"$f":"IF(ROWS($A$5:$A6)>$A$5,\"\",ROWS($A$5:$A6))","v":""},{"$f":"IF(A7=\"\",\"\",MATCH(A7,Criteria!$M:$M,0))","v":""},null,{"$f":"IF($B7=\"\",\"\",IF(INDEX(Criteria!B:B,$B7)=0,\"\",INDEX(Criteria!B:B,$B7)))","v":""},{"$f":"IF($B7=\"\",\"\",IF(INDEX(Criteria!C:C,$B7)=0,\"\",INDEX(Criteria!C:C,$B7)))","v":""},{"$f":"IF($B7=\"\",\"\",IF(INDEX(Criteria!E:E,$B7)=0,\"\",INDEX(Criteria!E:E,$B7)))","v":""},{"$f":"IF($B7=\"\",\"\",IF(INDEX(Criteria!F:F,$B7)=0,\"\",INDEX(Criteria!F:F,$B7)))","v":""},{"$f":"IF($B7=\"\",\"\",IF(INDEX(Criteria!G:G,$B7)=0,\"\",INDEX(Criteria!G:G,$B7)))","v":""},{"$f":"IF($B7=\"\",\"\",IF(INDEX(Criteria!H:H,$B7)=0,\"\",INDEX(Criteria!H:H,$B7)))","v":""},{"$f":"IF($B7=\"\",\"\",IF(INDEX(Criteria!I:I,$B7)=0,\"\",INDEX(Criteria!I:I,$B7)))","v":""},{"$f":"IF($B7=\"\",\"\",IF(INDEX(Criteria!J:J,$B7)=0,\"\",INDEX(Criteria!J:J,$B7)))","v":""},{"$f":"IF($B7=\"\",\"\",IF(INDEX(Criteria!K:K,$B7)=0,\"\",INDEX(Criteria!K:K,$B7)))","v":""}]
[{"$f":"IF(ROWS($A$5:$A7)>$A$5,\"\",ROWS($A$5:$A7))","v":""},{"$f":"IF(A8=\"\",\"\",MATCH(A8,Criteria!$M:$M,0))","v":""},null,{"$f":"IF($B8=\"\",\"\",IF(INDEX(Criteria!B:B,$B8)=0,\"\",INDEX(Criteria!B:B,$B8)))","v":""},{"$f":"IF($B8=\"\",\"\",IF(INDEX(Criteria!C:C,$B8)=0,\"\",INDEX(Criteria!C:C,$B8)))","v":""},{"$f":"IF($B8=\"\",\"\",IF(INDEX(Criteria!E:E,$B8)=0,\"\",INDEX(Criteria!E:E,$B8)))","v":""},{"$f":"IF($B8=\"\",\"\",IF(INDEX(Criteria!F:F,$B8)=0,\"\",INDEX(Criteria!F:F,$B8)))","v":""},{"$f":"IF($B8=\"\",\"\",IF(INDEX(Criteria!G:G,$B8)=0,\"\",INDEX(Criteria!G:G,$B8)))","v":""},{"$f":"IF($B8=\"\",\"\",IF(INDEX(Criteria!H:H,$B8)=0,\"\",INDEX(Criteria!H:H,$B8)))","v":""},{"$f":"IF($B8=\"\",\"\",IF(INDEX(Criteria!I:I,$B8)=0,\"\",INDEX(Criteria!I:I,$B8)))","v":""},{"$f":"IF($B8=\"\",\"\",IF(INDEX(Criteria!J:J,$B8)=0,\"\",INDEX(Criteria!J:J,$B8)))","v":""},{"$f":"IF($B8=\"\",\"\",IF(INDEX(Criteria!K:K,$B8)=0,\"\",INDEX(Criteria!K:K,$B8)))","v":""}]
[{"$f":"IF(ROWS($A$5:$A8)>$A$5,\"\",ROWS($A$5:$A8))","v":""},{"$f":"IF(A9=\"\",\"\",MATCH(A9,Criteria!$M:$M,0))","v":""},null,{"$f":"IF($B9=\"\",\"\",IF(INDEX(Criteria!B:B,$B9)=0,\"\",INDEX(Criteria!B:B,$B9)))","v":""},{"$f":"IF($B9=\"\",\"\",IF(INDEX(Criteria!C:C,$B9)=0,\"\",INDEX(Criteria!C:C,$B9)))","v":""},{"$f":"IF($B9=\"\",\"\",IF(INDEX(Criteria!E:E,$B9)=0,\"\",INDEX(Criteria!E:E,$B9)))","v":""},{"$f":"IF($B9=\"\",\"\",IF(INDEX(Criteria!F:F,$B9)=0,\"\",INDEX(Criteria!F:F,$B9)))","v":""},{"$f":"IF($B9=\"\",\"\",IF(INDEX(Criteria!G:G,$B9)=0,\"\",INDEX(Criteria!G:G,$B9)))","v":""},{"$f":"IF($B9=\"\",\"\",IF(INDEX(Criteria!H:H,$B9)=0,\"\",INDEX(Criteria!H:H,$B9)))","v":""},{"$f":"IF($B9=\"\",\"\",IF(INDEX(Criteria!I:I,$B9)=0,\"\",INDEX(Criteria!I:I,$B9)))","v":""},{"$f":"IF($B9=\"\",\"\",IF(INDEX(Criteria!J:J,$B9)=0,\"\",INDEX(Criteria!J:J,$B9)))","v":""},{"$f":"IF($B9=\"\",\"\",IF(INDEX(Criteria!K:K,$B9)=0,\"\",INDEX(Criteria!K:K,$B9)))","v":""}]
[{"$f":"IF(ROWS($A$5:$A9)>$A$5,\"\",ROWS($A$5:$A9))","v":""},{"$f":"IF(A10=\"\",\"\",MATCH(A10,Criteria!$M:$M,0))","v":""},null,{"$f":"IF($B10=\"\",\"\",IF(INDEX(Criteria!B:B,$B10)=0,\"\",INDEX(Criteria!B:B,$B10)))","v":""},{"$f":"IF($B10=\"\",\"\",IF(INDEX(Criteria!C:C,$B10)=0,\"\",INDEX(Criteria!C:C,$B10)))","v":""},{"$f":"IF($B10=\"\",\"\",IF(INDEX(Criteria!E:E,$B10)=0,\"\",INDEX(Criteria!E:E,$B10)))","v":""},{"$f":"IF($B10=\"\",\"\",IF(INDEX(Criteria!F:F,$B10)=0,\"\",INDEX(Criteria!F:F,$B10)))","v":""},{"$f":"IF($B10=\"\",\"\",IF(INDEX(Criteria!G:G,$B10)=0,\"\",INDEX(Criteria!G:G,$B10)))","v":""},{"$f":"IF($B10=\"\",\"\",IF(INDEX(Criteria!H:H,$B10)=0,\"\",INDEX(Criteria!H:H,$B10)))","v":""},{"$f":"IF($B10=\"\",\"\",IF(INDEX(Criteria!I:I,$B10)=0,\"\",INDEX(Criteria!I:I,$B10)))","v":""},{"$f":"IF($B10=\"\",\"\",IF(INDEX(Criteria!J:J,$B10)=0,\"\",INDEX(Criteria!J:J,$B10)))","v":""},{"$f":"IF($B10=\"\",\"\",IF(INDEX(Criteria!K:K,$B10)=0,\"\",INDEX(Criteria!K:K,$B10)))","v":""}]
[{"$f":"IF(ROWS($A$5:$A10)>$A$5,\"\",ROWS($A$5:$A10))","v":""},{"$f":"IF(A11=\"\",\"\",MATCH(A11,Criteria!$M:$M,0))","v":""},null,{"$f":"IF($B11=\"\",\"\",IF(INDEX(Criteria!B:B,$B11)=0,\"\",INDEX(Criteria!B:B,$B11)))","v":""},{"$f":"IF($B11=\"\",\"\",IF(INDEX(Criteria!C:C,$B11)=0,\"\",INDEX(Criteria!C:C,$B11)))","v":""},{"$f":"IF($B11=\"\",\"\",IF(INDEX(Criteria!E:E,$B11)=0,\"\",INDEX(Criteria!E:E,$B11)))","v":""},{"$f":"IF($B11=\"\",\"\",IF(INDEX(Criteria!F:F,$B11)=0,\"\",INDEX(Criteria!F:F,$B11)))","v":""},{"$f":"IF($B11=\"\",\"\",IF(INDEX(Criteria!G:G,$B11)=0,\"\",INDEX(Criteria!G:G,$B11)))","v":""},{"$f":"IF($B11=\"\",\"\",IF(INDEX(Criteria!H:H,$B11)=0,\"\",INDEX(Criteria!H:H,$B11)))","v":""},{"$f":"IF($B11=\"\",\"\",IF(INDEX(Criteria!I:I,$B11)=0,\"\",INDEX(Criteria!I:I,$B11)))","v":""},{"$f":"IF($B11=\"\",\"\",IF(INDEX(Criteria!J:J,$B11)=0,\"\",INDEX(Criteria!J:J,$B11)))","v":""},{"$f":"IF($B11=\"\",\"\",IF(INDEX(Criteria!K:K,$B11)=0,\"\",INDEX(Criteria!K:K,$B11)))","v":""}]
[{"$f":"IF(ROWS($A$5:$A11)>$A$5,\"\",ROWS($A$5:$A11))","v":""},{"$f":"IF(A12=\"\",\"\",MATCH(A12,Criteria!$M:$M,0))","v":""},null,{"$f":"IF($B12=\"\",\"\",IF(INDEX(Criteria!B:B,$B12)=0,\"\",INDEX(Criteria!B:B,$B12)))","v":""},{"$f":"IF($B12=\"\",\"\",IF(INDEX(Criteria!C:C,$B12)=0,\"\",INDEX(Criteria!C:C,$B12)))","v":""},{"$f":"IF($B12=\"\",\"\",IF(INDEX(Criteria!E:E,$B12)=0,\"\",INDEX(Criteria!E:E,$B12)))","v":""},{"$f":"IF($B12=\"\",\"\",IF(INDEX(Criteria!F:F,$B12)=0,\"\",INDEX(Criteria!F:F,$B12)))","v":""},{"$f":"IF($B12=\"\",\"\",IF(INDEX(Criteria!G:G,$B12)=0,\"\",INDEX(Criteria!G:G,$B12)))","v":""},{"$f":"IF($B12=\"\",\"\",IF(INDEX(Criteria!H:H,$B12)=0,\"\",INDEX(Criteria!H:H,$B12)))","v":""},{"$f":"IF($B12=\"\",\"\",IF(INDEX(Criteria!I:I,$B12)=0,\"\",INDEX(Criteria!I:I,$B12)))","v":""},{"$f":"IF($B12=\"\",\"\",IF(INDEX(Criteria!J:J,$B12)=0,\"\",INDEX(Criteria!J:J,$B12)))","v":""},{"$f":"IF($B12=\"\",\"\",IF(INDEX(Criteria!K:K,$B12)=0,\"\",INDEX(Criteria!K:K,$B12)))","v":""}]
[{"$f":"IF(ROWS($A$5:$A12)>$A$5,\"\",ROWS($A$5:$A12))","v":""},{"$f":"IF(A13=\"\",\"\",MATCH(A13,Criteria!$M:$M,0))","v":""},null,{"$f":"IF($B13=\"\",\"\",IF(INDEX(Criteria!B:B,$B13)=0,\"\",INDEX(Criteria!B:B,$B13)))","v":""},{"$f":"IF($B13=\"\",\"\",IF(INDEX(Criteria!C:C,$B13)=0,\"\",INDEX(Criteria!C:C,$B13)))","v":""},{"$f":"IF($B13=\"\",\"\",IF(INDEX(Criteria!E:E,$B13)=0,\"\",INDEX(Criteria!E:E,$B13)))","v":""},{"$f":"IF($B13=\"\",\"\",IF(INDEX(Criteria!F:F,$B13)=0,\"\",INDEX(Criteria!F:F,$B13)))","v":""},{"$f":"IF($B13=\"\",\"\",IF(INDEX(Criteria!G:G,$B13)=0,\"\",INDEX(Criteria!G:G,$B13)))","v":""},{"$f":"IF($B13=\"\",\"\",IF(INDEX(Criteria!H:H,$B13)=0,\"\",INDEX(Criteria!H:H,$B13)))","v":""},{"$f":"IF($B13=\"\",\"\",IF(INDEX(Criteria!I:I,$B13)=0,\"\",INDEX(Criteria!I:I,$B13)))","v":""},{"$f":"IF($B13=\"\",\"\",IF(INDEX(Criteria!J:J,$B13)=0,\"\",INDEX(Criteria!J:J,$B13)))","v":""},{"$f":"IF($B13=\"\",\"\",IF(INDEX(Criteria!K:K,$B13)=0,\"\",INDEX(Criteria!K:K,$B13)))","v":""}]
[{"$f":"IF(ROWS($A$5:$A13)>$A$5,\"\",ROWS($A$5:$A13))","v":""},{"$f":"IF(A14=\"\",\"\",MATCH(A14,Criteria!$M:$M,0))","v":""},null,{"$f":"IF($B14=\"\",\"\",IF(INDEX(Criteria!B:B,$B14)=0,\"\",INDEX(Criteria!B:B,$B14)))","v":""},{"$f":"IF($B14=\"\",\"\",IF(INDEX(Criteria!C:C,$B14)=0,\"\",INDEX(Criteria!C:C,$B14)))","v":""},{"$f":"IF($B14=\"\",\"\",IF(INDEX(Criteria!E:E,$B14)=0,\"\",INDEX(Criteria!E:E,$B14)))","v":""},{"$f":"IF($B14=\"\",\"\",IF(INDEX(Criteria!F:F,$B14)=0,\"\",INDEX(Criteria!F:F,$B14)))","v":""},{"$f":"IF($B14=\"\",\"\",IF(INDEX(Criteria!G:G,$B14)=0,\"\",INDEX(Criteria!G:G,$B14)))","v":""},{"$f":"IF($B14=\"\",\"\",IF(INDEX(Criteria!H:H,$B14)=0,\"\",INDEX(Criteria!H:H,$B14)))","v":""},{"$f":"IF($B14=\"\",\"\",IF(INDEX(Criteria!I:I,$B14)=0,\"\",INDEX(Criteria!I:I,$B14)))","v":""},{"$f":"IF($B14=\"\",\"\",IF(INDEX(Criteria!J:J,$B14)=0,\"\",INDEX(Criteria!J:J,$B14)))","v":""},{"$f":"IF($B14=\"\",\"\",IF(INDEX(Criteria!K:K,$B14)=0,\"\",INDEX(Criteria!K:K,$B14)))","v":""}]
[{"$f":"IF(ROWS($A$5:$A14)>$A$5,\"\",ROWS($A$5:$A14))","v":""},{"$f":"IF(A15=\"\",\"\",MATCH(A15,Criteria!$M:$M,0))","v":""},null,{"$f":"IF($B15=\"\",\"\",IF(INDEX(Criteria!B:B,$B15)=0,\"\",INDEX(Criteria!B:B,$B15)))","v":""},{"$f":"IF($B15=\"\",\"\",IF(INDEX(Criteria!C:C,$B15)=0,\"\",INDEX(Criteria!C:C,$B15)))","v":""},{"$f":"IF($B15=\"\",\"\",IF(INDEX(Criteria!E:E,$B15)=0,\"\",INDEX(Criteria!E:E,$B15)))","v":""},{"$f":"IF($B15=\"\",\"\",IF(INDEX(Criteria!F:F,$B15)=0,\"\",INDEX(Criteria!F:F,$B15)))","v":""},{"$f":"IF($B15=\"\",\"\",IF(INDEX(Criteria!G:G,$B15)=0,\"\",INDEX(Criteria!G:G,$B15)))","v":""},{"$f":"IF($B15=\"\",\"\",IF(INDEX(Criteria!H:H,$B15)=0,\"\",INDEX(Criteria!H:H,$B15)))","v":""},{"$f":"IF($B15=\"\",\"\",IF(INDEX(Criteria!I:I,$B15)=0,\"\",INDEX(Criteria!I:I,$B15)))","v":""},{"$f":"IF($B15=\"\",\"\",IF(INDEX(Criteria!J:J,$B15)=0,\"\",INDEX(Criteria!J:J,$B15)))","v":""},{"$f":"IF($B15=\"\",\"\",IF(INDEX(Criteria!K:K,$B15)=0,\"\",INDEX(Criteria!K:K,$B15)))","v":""}]
[{"$f":"IF(ROWS($A$5:$A15)>$A$5,\"\",ROWS($A$5:$A15))","v":""},{"$f":"IF(A16=\"\",\"\",MATCH(A16,Criteria!$M:$M,0))","v":""},null,{"$f":"IF($B16=\"\",\"\",IF(INDEX(Criteria!B:B,$B16)=0,\"\",INDEX(Criteria!B:B,$B16)))","v":""},{"$f":"IF($B16=\"\",\"\",IF(INDEX(Criteria!C:C,$B16)=0,\"\",INDEX(Criteria!C:C,$B16)))","v":""},{"$f":"IF($B16=\"\",\"\",IF(INDEX(Criteria!E:E,$B16)=0,\"\",INDEX(Criteria!E:E,$B16)))","v":""},{"$f":"IF($B16=\"\",\"\",IF(INDEX(Criteria!F:F,$B16)=0,\"\",INDEX(Criteria!F:F,$B16)))","v":""},{"$f":"IF($B16=\"\",\"\",IF(INDEX(Criteria!G:G,$B16)=0,\"\",INDEX(Criteria!G:G,$B16)))","v":""},{"$f":"IF($B16=\"\",\"\",IF(INDEX(Criteria!H:H,$B16)=0,\"\",INDEX(Criteria!H:H,$B16)))","v":""},{"$f":"IF($B16=\"\",\"\",IF(INDEX(Criteria!I:I,$B16)=0,\"\",INDEX(Criteria!I:I,$B16)))","v":""},{"$f":"IF($B16=\"\",\"\",IF(INDEX(Criteria!J:J,$B16)=0,\"\",INDEX(Criteria!J:J,$B16)))","v":""},{"$f":"IF($B16=\"\",\"\",IF(INDEX(Criteria!K:K,$B16)=0,\"\",INDEX(Criteria!K:K,$B16)))","v":""}]
[{"$f":"IF(ROWS($A$5:$A16)>$A$5,\"\",ROWS($A$5:$A16))","v":""},{"$f":"IF(A17=\"\",\"\",MATCH(A17,Criteria!$M:$M,0))","v":""},null,{"$f":"IF($B17=\"\",\"\",IF(INDEX(Criteria!B:B,$B17)=0,\"\",INDEX(Criteria!B:B,$B17)))","v":""},{"$f":"IF($B17=\"\",\"\",IF(INDEX(Criteria!C:C,$B17)=0,\"\",INDEX(Criteria!C:C,$B17)))","v":""},{"$f":"IF($B17=\"\",\"\",IF(INDEX(Criteria!E:E,$B17)=0,\"\",INDEX(Criteria!E:E,$B17)))","v":""},{"$f":"IF($B17=\"\",\"\",IF(INDEX(Criteria!F:F,$B17)=0,\"\",INDEX(Criteria!F:F,$B17)))","v":""},{"$f":"IF($B17=\"\",\"\",IF(INDEX(Criteria!G:G,$B17)=0,\"\",INDEX(Criteria!G:G,$B17)))","v":""},{"$f":"IF($B17=\"\",\"\",IF(INDEX(Criteria!H:H,$B17)=0,\"\",INDEX(Criteria!H:H,$B17)))","v":""},{"$f":"IF($B17=\"\",\"\",IF(INDEX(Criteria!I:I,$B17)=0,\"\",INDEX(Criteria!I:I,$B17)))","v":""},{"$f":"IF($B17=\"\",\"\",IF(INDEX(Criteria!J:J,$B17)=0,\"\",INDEX(Criteria!J:J,$B17)))","v":""},{"$f":"IF($B17=\"\",\"\",IF(INDEX(Criteria!K:K,$B17)=0,\"\",INDEX(Criteria!K:K,$B17)))","v":""}]
[{"$f":"IF(ROWS($A$5:$A17)>$A$5,\"\",ROWS($A$5:$A17))","v":""},{"$f":"IF(A18=\"\",\"\",MATCH(A18,Criteria!$M:$M,0))","v":""},null,{"$f":"IF($B18=\"\",\"\",IF(INDEX(Criteria!B:B,$B18)=0,\"\",INDEX(Criteria!B:B,$B18)))","v":""},{"$f":"IF($B18=\"\",\"\",IF(INDEX(Criteria!C:C,$B18)=0,\"\",INDEX(Criteria!C:C,$B18)))","v":""},{"$f":"IF($B18=\"\",\"\",IF(INDEX(Criteria!E:E,$B18)=0,\"\",INDEX(Criteria!E:E,$B18)))","v":""},{"$f":"IF($B18=\"\",\"\",IF(INDEX(Criteria!F:F,$B18)=0,\"\",INDEX(Criteria!F:F,$B18)))","v":""},{"$f":"IF($B18=\"\",\"\",IF(INDEX(Criteria!G:G,$B18)=0,\"\",INDEX(Criteria!G:G,$B18)))","v":""},{"$f":"IF($B18=\"\",\"\",IF(INDEX(Criteria!H:H,$B18)=0,\"\",INDEX(Criteria!H:H,$B18)))","v":""},{"$f":"IF($B18=\"\",\"\",IF(INDEX(Criteria!I:I,$B18)=0,\"\",INDEX(Criteria!I:I,$B18)))","v":""},{"$f":"IF($B18=\"\",\"\",IF(INDEX(Criteria!J:J,$B18)=0,\"\",INDEX(Criteria!J:J,$B18)))","v":""},{"$f":"IF($B18=\"\",\"\",IF(INDEX(Criteria!K:K,$B18)=0,\"\",INDEX(Criteria!K:K,$B18)))","v":""}]
[{"$f":"IF(ROWS($A$5:$A18)>$A$5,\"\",ROWS($A$5:$A18))","v":""},{"$f":"IF(A19=\"\",\"\",MATCH(A19,Criteria!$M:$M,0))","v":""},null,{"$f":"IF($B19=\"\",\"\",IF(INDEX(Criteria!B:B,$B19)=0,\"\",INDEX(Criteria!B:B,$B19)))","v":""},{"$f":"IF($B19=\"\",\"\",IF(INDEX(Criteria!C:C,$B19)=0,\"\",INDEX(Criteria!C:C,$B19)))","v":""},{"$f":"IF($B19=\"\",\"\",IF(INDEX(Criteria!E:E,$B19)=0,\"\",INDEX(Criteria!E:E,$B19)))","v":""},{"$f":"IF($B19=\"\",\"\",IF(INDEX(Criteria!F:F,$B19)=0,\"\",INDEX(Criteria!F:F,$B19)))","v":""},{"$f":"IF($B19=\"\",\"\",IF(INDEX(Criteria!G:G,$B19)=0,\"\",INDEX(Criteria!G:G,$B19)))","v":""},{"$f":"IF($B19=\"\",\"\",IF(INDEX(Criteria!H:H,$B19)=0,\"\",INDEX(Criteria!H:H,$B19)))","v":""},{"$f":"IF($B19=\"\",\"\",IF(INDEX(Criteria!I:I,$B19)=0,\"\",INDEX(Criteria!I:I,$B19)))","v":""},{"$f":"IF($B19=\"\",\"\",IF(INDEX(Criteria!J:J,$B19)=0,\"\",INDEX(Criteria!J:J,$B19)))","v":""},{"$f":"IF($B19=\"\",\"\",IF(INDEX(Criteria!K:K,$B19)=0,\"\",INDEX(Criteria!K:K,$B19)))","v":""}]
[{"$f":"IF(ROWS($A$5:$A19)>$A$5,\"\",ROWS($A$5:$A19))","v":""},{"$f":"IF(A20=\"\",\"\",MATCH(A20,Criteria!$M:$M,0))","v":""},null,{"$f":"IF($B20=\"\",\"\",IF(INDEX(Criteria!B:B,$B20)=0,\"\",INDEX(Criteria!B:B,$B20)))","v":""},{"$f":"IF($B20=\"\",\"\",IF(INDEX(Criteria!C:C,$B20)=0,\"\",INDEX(Criteria!C:C,$B20)))","v":""},{"$f":"IF($B20=\"\",\"\",IF(INDEX(Criteria!E:E,$B20)=0,\"\",INDEX(Criteria!E:E,$B20)))","v":""},{"$f":"IF($B20=\"\",\"\",IF(INDEX(Criteria!F:F,$B20)=0,\"\",INDEX(Criteria!F:F,$B20)))","v":""},{"$f":"IF($B20=\"\",\"\",IF(INDEX(Criteria!G:G,$B20)=0,\"\",INDEX(Criteria!G:G,$B20)))","v":""},{"$f":"IF($B20=\"\",\"\",IF(INDEX(Criteria!H:H,$B20)=0,\"\",INDEX(Criteria!H:H,$B20)))","v":""},{"$f":"IF($B20=\"\",\"\",IF(INDEX(Criteria!I:I,$B20)=0,\"\",INDEX(Criteria!I:I,$B20)))","v":""},{"$f":"IF($B20=\"\",\"\",IF(INDEX(Criteria!J:J,$B20)=0,\"\",INDEX(Criteria!J:J,$B20)))","v":""},{"$f":"IF($B20=\"\",\"\",IF(INDEX(Criteria!K:K,$B20)=0,\"\",INDEX(Criteria!K:K,$B20)))","v":""}]
[{"$f":"IF(ROWS($A$5:$A20)>$A$5,\"\",ROWS($A$5:$A20))","v":""},{"$f":"IF(A21=\"\",\"\",MATCH(A21,Criteria!$M:$M,0))","v":""},null,{"$f":"IF($B21=\"\",\"\",IF(INDEX(Criteria!B:B,$B21)=0,\"\",INDEX(Criteria!B:B,$B21)))","v":""},{"$f":"IF($B21=\"\",\"\",IF(INDEX(Criteria!C:C,$B21)=0,\"\",INDEX(Criteria!C:C,$B21)))","v":""},{"$f":"IF($B21=\"\",\"\",IF(INDEX(Criteria!E:E,$B21)=0,\"\",INDEX(Criteria!E:E,$B21)))","v":""},{"$f":"IF($B21=\"\",\"\",IF(INDEX(Criteria!F:F,$B21)=0,\"\",INDEX(Criteria!F:F,$B21)))","v":""},{"$f":"IF($B21=\"\",\"\",IF(INDEX(Criteria!G:G,$B21)=0,\"\",INDEX(Criteria!G:G,$B21)))","v":""},{"$f":"IF($B21=\"\",\"\",IF(INDEX(Criteria!H:H,$B21)=0,\"\",INDEX(Criteria!H:H,$B21)))","v":""},{"$f":"IF($B21=\"\",\"\",IF(INDEX(Criteria!I:I,$B21)=0,\"\",INDEX(Criteria!I:I,$B21)))","v":""},{"$f":"IF($B21=\"\",\"\",IF(INDEX(Criteria!J:J,$B21)=0,\"\",INDEX(Criteria!J:J,$B21)))","v":""},{"$f":"IF($B21=\"\",\"\",IF(INDEX(Criteria!K:K,$B21)=0,\"\",INDEX(Criteria!K:K,$B21)))","v":""}]
[{"$f":"IF(ROWS($A$5:$A21)>$A$5,\"\",ROWS($A$5:$A21))","v":""},{"$f":"IF(A22=\"\",\"\",MATCH(A22,Criteria!$M:$M,0))","v":""},null,{"$f":"IF($B22=\"\",\"\",IF(INDEX(Criteria!B:B,$B22)=0,\"\",INDEX(Criteria!B:B,$B22)))","v":""},{"$f":"IF($B22=\"\",\"\",IF(INDEX(Criteria!C:C,$B22)=0,\"\",INDEX(Criteria!C:C,$B22)))","v":""},{"$f":"IF($B22=\"\",\"\",IF(INDEX(Criteria!E:E,$B22)=0,\"\",INDEX(Criteria!E:E,$B22)))","v":""},{"$f":"IF($B22=\"\",\"\",IF(INDEX(Criteria!F:F,$B22)=0,\"\",INDEX(Criteria!F:F,$B22)))","v":""},{"$f":"IF($B22=\"\",\"\",IF(INDEX(Criteria!G:G,$B22)=0,\"\",INDEX(Criteria!G:G,$B22)))","v":""},{"$f":"IF($B22=\"\",\"\",IF(INDEX(Criteria!H:H,$B22)=0,\"\",INDEX(Criteria!H:H,$B22)))","v":""},{"$f":"IF($B22=\"\",\"\",IF(INDEX(Criteria!I:I,$B22)=0,\"\",INDEX(Criteria!I:I,$B22)))","v":""},{"$f":"IF($B22=\"\",\"\",IF(INDEX(Criteria!J:J,$B22)=0,\"\",INDEX(Criteria!J:J,$B22)))","v":""},{"$f":"IF($B22=\"\",\"\",IF(INDEX(Criteria!K:K,$B22)=0,\"\",INDEX(Criteria!K:K,$B22)))","v":""}]
[{"$f":"IF(ROWS($A$5:$A22)>$A$5,\"\",ROWS($A$5:$A22))","v":""},{"$f":"IF(A23=\"\",\"\",MATCH(A23,Criteria!$M:$M,0))","v":""},null,{"$f":"IF($B23=\"\",\"\",IF(INDEX(Criteria!B:B,$B23)=0,\"\",INDEX(Criteria!B:B,$B23)))","v":""},{"$f":"IF($B23=\"\",\"\",IF(INDEX(Criteria!C:C,$B23)=0,\"\",INDEX(Criteria!C:C,$B23)))","v":""},{"$f":"IF($B23=\"\",\"\",IF(INDEX(Criteria!E:E,$B23)=0,\"\",INDEX(Criteria!E:E,$B23)))","v":""},{"$f":"IF($B23=\"\",\"\",IF(INDEX(Criteria!F:F,$B23)=0,\"\",INDEX(Criteria!F:F,$B23)))","v":""},{"$f":"IF($B23=\"\",\"\",IF(INDEX(Criteria!G:G,$B23)=0,\"\",INDEX(Criteria!G:G,$B23)))","v":""},{"$f":"IF($B23=\"\",\"\",IF(INDEX(Criteria!H:H,$B23)=0,\"\",INDEX(Criteria!H:H,$B23)))","v":""},{"$f":"IF($B23=\"\",\"\",IF(INDEX(Criteria!I:I,$B23)=0,\"\",INDEX(Criteria!I:I,$B23)))","v":""},{"$f":"IF($B23=\"\",\"\",IF(INDEX(Criteria!J:J,$B23)=0,\"\",INDEX(Criteria!J:J,$B23)))","v":""},{"$f":"IF($B23=\"\",\"\",IF(INDEX(Criteria!K:K,$B23)=0,\"\",INDEX(Criteria!K:K,$B23)))","v":""}]
[{"$f":"IF(ROWS($A$5:$A23)>$A$5,\"\",ROWS($A$5:$A23))","v":""},{"$f":"IF(A24=\"\",\"\",MATCH(A24,Criteria!$M:$M,0))","v":""},null,{"$f":"IF($B24=\"\",\"\",IF(INDEX(Criteria!B:B,$B24)=0,\"\",INDEX(Criteria!B:B,$B24)))","v":""},{"$f":"IF($B24=\"\",\"\",IF(INDEX(Criteria!C:C,$B24)=0,\"\",INDEX(Criteria!C:C,$B24)))","v":""},{"$f":"IF($B24=\"\",\"\",IF(INDEX(Criteria!E:E,$B24)=0,\"\",INDEX(Criteria!E:E,$B24)))","v":""},{"$f":"IF($B24=\"\",\"\",IF(INDEX(Criteria!F:F,$B24)=0,\"\",INDEX(Criteria!F:F,$B24)))","v":""},{"$f":"IF($B24=\"\",\"\",IF(INDEX(Criteria!G:G,$B24)=0,\"\",INDEX(Criteria!G:G,$B24)))","v":""},{"$f":"IF($B24=\"\",\"\",IF(INDEX(Criteria!H:H,$B24)=0,\"\",INDEX(Criteria!H:H,$B24)))","v":""},{"$f":"IF($B24=\"\",\"\",IF(INDEX(Criteria!I:I,$B24)=0,\"\",INDEX(Criteria!I:I,$B24)))","v":""},{"$f":"IF($B24=\"\",\"\",IF(INDEX(Criteria!J:J,$B24)=0,\"\",INDEX(Criteria!J:J,$B24)))","v":""},{"$f":"IF($B24=\"\",\"\",IF(INDEX(Criteria!K:K,$B24)=0,\"\",INDEX(Criteria!K:K,$B24)))","v":""}]
[{"$f":"IF(ROWS($A$5:$A24)>$A$5,\"\",ROWS($A$5:$A24))","v":""},{"$f":"IF(A25=\"\",\"\",MATCH(A25,Criteria!$M:$M,0))","v":""},null,{"$f":"IF($B25=\"\",\"\",IF(INDEX(Criteria!B:B,$B25)=0,\"\",INDEX(Criteria!B:B,$B25)))","v":""},{"$f":"IF($B25=\"\",\"\",IF(INDEX(Criteria!C:C,$B25)=0,\"\",INDEX(Criteria!C:C,$B25)))","v":""},{"$f":"IF($B25=\"\",\"\",IF(INDEX(Criteria!E:E,$B25)=0,\"\",INDEX(Criteria!E:E,$B25)))","v":""},{"$f":"IF($B25=\"\",\"\",IF(INDEX(Criteria!F:F,$B25)=0,\"\",INDEX(Criteria!F:F,$B25)))","v":""},{"$f":"IF($B25=\"\",\"\",IF(INDEX(Criteria!G:G,$B25)=0,\"\",INDEX(Criteria!G:G,$B25)))","v":""},{"$f":"IF($B25=\"\",\"\",IF(INDEX(Criteria!H:H,$B25)=0,\"\",INDEX(Criteria!H:H,$B25)))","v":""},{"$f":"IF($B25=\"\",\"\",IF(INDEX(Criteria!I:I,$B25)=0,\"\",INDEX(Criteria!I:I,$B25)))","v":""},{"$f":"IF($B25=\"\",\"\",IF(INDEX(Criteria!J:J,$B25)=0,\"\",INDEX(Criteria!J:J,$B25)))","v":""},{"$f":"IF($B25=\"\",\"\",IF(INDEX(Criteria!K:K,$B25)=0,\"\",INDEX(Criteria!K:K,$B25)))","v":""}]
[{"$f":"IF(ROWS($A$5:$A25)>$A$5,\"\",ROWS($A$5:$A25))","v":""},{"$f":"IF(A26=\"\",\"\",MATCH(A26,Criteria!$M:$M,0))","v":""},null,{"$f":"IF($B26=\"\",\"\",IF(INDEX(Criteria!B:B,$B26)=0,\"\",INDEX(Criteria!B:B,$B26)))","v":""},{"$f":"IF($B26=\"\",\"\",IF(INDEX(Criteria!C:C,$B26)=0,\"\",INDEX(Criteria!C:C,$B26)))","v":""},{"$f":"IF($B26=\"\",\"\",IF(INDEX(Criteria!E:E,$B26)=0,\"\",INDEX(Criteria!E:E,$B26)))","v":""},{"$f":"IF($B26=\"\",\"\",IF(INDEX(Criteria!F:F,$B26)=0,\"\",INDEX(Criteria!F:F,$B26)))","v":""},{"$f":"IF($B26=\"\",\"\",IF(INDEX(Criteria!G:G,$B26)=0,\"\",INDEX(Criteria!G:G,$B26)))","v":""},{"$f":"IF($B26=\"\",\"\",IF(INDEX(Criteria!H:H,$B26)=0,\"\",INDEX(Criteria!H:H,$B26)))","v":""},{"$f":"IF($B26=\"\",\"\",IF(INDEX(Criteria!I:I,$B26)=0,\"\",INDEX(Criteria!I:I,$B26)))","v":""},{"$f":"IF($B26=\"\",\"\",IF(INDEX(Criteria!J:J,$B26)=0,\"\",INDEX(Criteria!J:J,$B26)))","v":""},{"$f":"IF($B26=\"\",\"\",IF(INDEX(Criteria!K:K,$B26)=0,\"\",INDEX(Criteria!K:K,$B26)))","v":""}]
[{"$f":"IF(ROWS($A$5:$A26)>$A$5,\"\",ROWS($A$5:$A26))","v":""},{"$f":"IF(A27=\"\",\"\",MATCH(A27,Criteria!$M:$M,0))","v":""},null,{"$f":"IF($B27=\"\",\"\",IF(INDEX(Criteria!B:B,$B27)=0,\"\",INDEX(Criteria!B:B,$B27)))","v":""},{"$f":"IF($B27=\"\",\"\",IF(INDEX(Criteria!C:C,$B27)=0,\"\",INDEX(Criteria!C:C,$B27)))","v":""},{"$f":"IF($B27=\"\",\"\",IF(INDEX(Criteria!E:E,$B27)=0,\"\",INDEX(Criteria!E:E,$B27)))","v":""},{"$f":"IF($B27=\"\",\"\",IF(INDEX(Criteria!F:F,$B27)=0,\"\",INDEX(Criteria!F:F,$B27)))","v":""},{"$f":"IF($B27=\"\",\"\",IF(INDEX(Criteria!G:G,$B27)=0,\"\",INDEX(Criteria!G:G,$B27)))","v":""},{"$f":"IF($B27=\"\",\"\",IF(INDEX(Criteria!H:H,$B27)=0,\"\",INDEX(Criteria!H:H,$B27)))","v":""},{"$f":"IF($B27=\"\",\"\",IF(INDEX(Criteria!I:I,$B27)=0,\"\",INDEX(Criteria!I:I,$B27)))","v":""},{"$f":"IF($B27=\"\",\"\",IF(INDEX(Criteria!J:J,$B27)=0,\"\",INDEX(Criteria!J:J,$B27)))","v":""},{"$f":"IF($B27=\"\",\"\",IF(INDEX(Criteria!K:K,$B27)=0,\"\",INDEX(Criteria!K:K,$B27)))","v":""}]
[{"$f":"IF(ROWS($A$5:$A27)>$A$5,\"\",ROWS($A$5:$A27))","v":""},{"$f":"IF(A28=\"\",\"\",MATCH(A28,Criteria!$M:$M,0))","v":""},null,{"$f":"IF($B28=\"\",\"\",IF(INDEX(Criteria!B:B,$B28)=0,\"\",INDEX(Criteria!B:B,$B28)))","v":""},{"$f":"IF($B28=\"\",\"\",IF(INDEX(Criteria!C:C,$B28)=0,\"\",INDEX(Criteria!C:C,$B28)))","v":""},{"$f":"IF($B28=\"\",\"\",IF(INDEX(Criteria!E:E,$B28)=0,\"\",INDEX(Criteria!E:E,$B28)))","v":""},{"$f":"IF($B28=\"\",\"\",IF(INDEX(Criteria!F:F,$B28)=0,\"\",INDEX(Criteria!F:F,$B28)))","v":""},{"$f":"IF($B28=\"\",\"\",IF(INDEX(Criteria!G:G,$B28)=0,\"\",INDEX(Criteria!G:G,$B28)))","v":""},{"$f":"IF($B28=\"\",\"\",IF(INDEX(Criteria!H:H,$B28)=0,\"\",INDEX(Criteria!H:H,$B28)))","v":""},{"$f":"IF($B28=\"\",\"\",IF(INDEX(Criteria!I:I,$B28)=0,\"\",INDEX(Criteria!I:I,$B28)))","v":""},{"$f":"IF($B28=\"\",\"\",IF(INDEX(Criteria!J:J,$B28)=0,\"\",INDEX(Criteria!J:J,$B28)))","v":""},{"$f":"IF($B28=\"\",\"\",IF(INDEX(Criteria!K:K,$B28)=0,\"\",INDEX(Criteria!K:K,$B28)))","v":""}]
[{"$f":"IF(ROWS($A$5:$A28)>$A$5,\"\",ROWS($A$5:$A28))","v":""},{"$f":"IF(A29=\"\",\"\",MATCH(A29,Criteria!$M:$M,0))","v":""},null,{"$f":"IF($B29=\"\",\"\",IF(INDEX(Criteria!B:B,$B29)=0,\"\",INDEX(Criteria!B:B,$B29)))","v":""},{"$f":"IF($B29=\"\",\"\",IF(INDEX(Criteria!C:C,$B29)=0,\"\",INDEX(Criteria!C:C,$B29)))","v":""},{"$f":"IF($B29=\"\",\"\",IF(INDEX(Criteria!E:E,$B29)=0,\"\",INDEX(Criteria!E:E,$B29)))","v":""},{"$f":"IF($B29=\"\",\"\",IF(INDEX(Criteria!F:F,$B29)=0,\"\",INDEX(Criteria!F:F,$B29)))","v":""},{"$f":"IF($B29=\"\",\"\",IF(INDEX(Criteria!G:G,$B29)=0,\"\",INDEX(Criteria!G:G,$B29)))","v":""},{"$f":"IF($B29=\"\",\"\",IF(INDEX(Criteria!H:H,$B29)=0,\"\",INDEX(Criteria!H:H,$B29)))","v":""},{"$f":"IF($B29=\"\",\"\",IF(INDEX(Criteria!I:I,$B29)=0,\"\",INDEX(Criteria!I:I,$B29)))","v":""},{"$f":"IF($B29=\"\",\"\",IF(INDEX(Criteria!J:J,$B29)=0,\"\",INDEX(Criteria!J:J,$B29)))","v":""},{"$f":"IF($B29=\"\",\"\",IF(INDEX(Criteria!K:K,$B29)=0,\"\",INDEX(Criteria!K:K,$B29)))","v":""}]
[{"$f":"IF(ROWS($A$5:$A29)>$A$5,\"\",ROWS($A$5:$A29))","v":""},{"$f":"IF(A30=\"\",\"\",MATCH(A30,Criteria!$M:$M,0))","v":""},null,{"$f":"IF($B30=\"\",\"\",IF(INDEX(Criteria!B:B,$B30)=0,\"\",INDEX(Criteria!B:B,$B30)))","v":""},{"$f":"IF($B30=\"\",\"\",IF(INDEX(Criteria!C:C,$B30)=0,\"\",INDEX(Criteria!C:C,$B30)))","v":""},{"$f":"IF($B30=\"\",\"\",IF(INDEX(Criteria!E:E,$B30)=0,\"\",INDEX(Criteria!E:E,$B30)))","v":""},{"$f":"IF($B30=\"\",\"\",IF(INDEX(Criteria!F:F,$B30)=0,\"\",INDEX(Criteria!F:F,$B30)))","v":""},{"$f":"IF($B30=\"\",\"\",IF(INDEX(Criteria!G:G,$B30)=0,\"\",INDEX(Criteria!G:G,$B30)))","v":""},{"$f":"IF($B30=\"\",\"\",IF(INDEX(Criteria!H:H,$B30)=0,\"\",INDEX(Criteria!H:H,$B30)))","v":""},{"$f":"IF($B30=\"\",\"\",IF(INDEX(Criteria!I:I,$B30)=0,\"\",INDEX(Criteria!I:I,$B30)))","v":""},{"$f":"IF($B30=\"\",\"\",IF(INDEX(Criteria!J:J,$B30)=0,\"\",INDEX(Criteria!J:J,$B30)))","v":""}]
[{"$f":"IF(ROWS($A$5:$A30)>$A$5,\"\",ROWS($A$5:$A30))","v":""},{"$f":"IF(A31=\"\",\"\",MATCH(A31,Criteria!$M:$M,0))","v":""},null,{"$f":"IF($B31=\"\",\"\",IF(INDEX(Criteria!B:B,$B31)=0,\"\",INDEX(Criteria!B:B,$B31)))","v":""},{"$f":"IF($B31=\"\",\"\",IF(INDEX(Criteria!C:C,$B31)=0,\"\",INDEX(Criteria!C:C,$B31)))","v":""},{"$f":"IF($B31=\"\",\"\",IF(INDEX(Criteria!E:E,$B31)=0,\"\",INDEX(Criteria!E:E,$B31)))","v":""},{"$f":"IF($B31=\"\",\"\",IF(INDEX(Criteria!F:F,$B31)=0,\"\",INDEX(Criteria!F:F,$B31)))","v":""},{"$f":"IF($B31=\"\",\"\",IF(INDEX(Criteria!G:G,$B31)=0,\"\",INDEX(Criteria!G:G,$B31)))","v":""},{"$f":"IF($B31=\"\",\"\",IF(INDEX(Criteria!H:H,$B31)=0,\"\",INDEX(Criteria!H:H,$B31)))","v":""},{"$f":"IF($B31=\"\",\"\",IF(INDEX(Criteria!I:I,$B31)=0,\"\",INDEX(Criteria!I:I,$B31)))","v":""},{"$f":"IF($B31=\"\",\"\",IF(INDEX(Criteria!J:J,$B31)=0,\"\",INDEX(Criteria!J:J,$B31)))","v":""},{"$f":"IF($B31=\"\",\"\",IF(INDEX(Criteria!K:K,$B31)=0,\"\",INDEX(Criteria!K:K,$B31)))","v":""}]
[{"$f":"IF(ROWS($A$5:$A31)>$A$5,\"\",ROWS($A$5:$A31))","v":""},{"$f":"IF(A32=\"\",\"\",MATCH(A32,Criteria!$M:$M,0))","v":""},null,{"$f":"IF($B32=\"\",\"\",IF(INDEX(Criteria!B:B,$B32)=0,\"\",INDEX(Criteria!B:B,$B32)))","v":""},{"$f":"IF($B32=\"\",\"\",IF(INDEX(Criteria!C:C,$B32)=0,\"\",INDEX(Criteria!C:C,$B32)))","v":""},{"$f":"IF($B32=\"\",\"\",IF(INDEX(Criteria!E:E,$B32)=0,\"\",INDEX(Criteria!E:E,$B32)))","v":""},{"$f":"IF($B32=\"\",\"\",IF(INDEX(Criteria!F:F,$B32)=0,\"\",INDEX(Criteria!F:F,$B32)))","v":""},{"$f":"IF($B32=\"\",\"\",IF(INDEX(Criteria!G:G,$B32)=0,\"\",INDEX(Criteria!G:G,$B32)))","v":""},{"$f":"IF($B32=\"\",\"\",IF(INDEX(Criteria!H:H,$B32)=0,\"\",INDEX(Criteria!H:H,$B32)))","v":""},{"$f":"IF($B32=\"\",\"\",IF(INDEX(Criteria!I:I,$B32)=0,\"\",INDEX(Criteria!I:I,$B32)))","v":""},{"$f":"IF($B32=\"\",\"\",IF(INDEX(Criteria!J:J,$B32)=0,\"\",INDEX(Criteria!J:J,$B32)))","v":""},{"$f":"IF($B32=\"\",\"\",IF(INDEX(Criteria!K:K,$B32)=0,\"\",INDEX(Criteria!K:K,$B32)))","v":""}]
[{"$f":"IF(ROWS($A$5:$A32)>$A$5,\"\",ROWS($A$5:$A32))","v":""},{"$f":"IF(A33=\"\",\"\",MATCH(A33,Criteria!$M:$M,0))","v":""},null,{"$f":"IF($B33=\"\",\"\",IF(INDEX(Criteria!B:B,$B33)=0,\"\",INDEX(Criteria!B:B,$B33)))","v":""},{"$f":"IF($B33=\"\",\"\",IF(INDEX(Criteria!C:C,$B33)=0,\"\",INDEX(Criteria!C:C,$B33)))","v":""},{"$f":"IF($B33=\"\",\"\",IF(INDEX(Criteria!E:E,$B33)=0,\"\",INDEX(Criteria!E:E,$B33)))","v":""},{"$f":"IF($B33=\"\",\"\",IF(INDEX(Criteria!F:F,$B33)=0,\"\",INDEX(Criteria!F:F,$B33)))","v":""},{"$f":"IF($B33=\"\",\"\",IF(INDEX(Criteria!G:G,$B33)=0,\"\",INDEX(Criteria!G:G,$B33)))","v":""},{"$f":"IF($B33=\"\",\"\",IF(INDEX(Criteria!H:H,$B33)=0,\"\",INDEX(Criteria!H:H,$B33)))","v":""},{"$f":"IF($B33=\"\",\"\",IF(INDEX(Criteria!I:I,$B33)=0,\"\",INDEX(Criteria!I:I,$B33)))","v":""},{"$f":"IF($B33=\"\",\"\",IF(INDEX(Criteria!J:J,$B33)=0,\"\",INDEX(Criteria!J:J,$B33)))","v":""},{"$f":"IF($B33=\"\",\"\",IF(INDEX(Criteria!K:K,$B33)=0,\"\",INDEX(Criteria!K:K,$B33)))","v":""}]
[{"$f":"IF(ROWS($A$5:$A33)>$A$5,\"\",ROWS($A$5:$A33))","v":""},{"$f":"IF(A34=\"\",\"\",MATCH(A34,Criteria!$M:$M,0))","v":""},null,{"$f":"IF($B34=\"\",\"\",IF(INDEX(Criteria!B:B,$B34)=0,\"\",INDEX(Criteria!B:B,$B34)))","v":""},{"$f":"IF($B34=\"\",\"\",IF(INDEX(Criteria!C:C,$B34)=0,\"\",INDEX(Criteria!C:C,$B34)))","v":""},{"$f":"IF($B34=\"\",\"\",IF(INDEX(Criteria!E:E,$B34)=0,\"\",INDEX(Criteria!E:E,$B34)))","v":""},{"$f":"IF($B34=\"\",\"\",IF(INDEX(Criteria!F:F,$B34)=0,\"\",INDEX(Criteria!F:F,$B34)))","v":""},{"$f":"IF($B34=\"\",\"\",IF(INDEX(Criteria!G:G,$B34)=0,\"\",INDEX(Criteria!G:G,$B34)))","v":""},{"$f":"IF($B34=\"\",\"\",IF(INDEX(Criteria!H:H,$B34)=0,\"\",INDEX(Criteria!H:H,$B34)))","v":""},{"$f":"IF($B34=\"\",\"\",IF(INDEX(Criteria!I:I,$B34)=0,\"\",INDEX(Criteria!I:I,$B34)))","v":""},{"$f":"IF($B34=\"\",\"\",IF(INDEX(Criteria!J:J,$B34)=0,\"\",INDEX(Criteria!J:J,$B34)))","v":""},{"$f":"IF($B34=\"\",\"\",IF(INDEX(Criteria!K:K,$B34)=0,\"\",INDEX(Criteria!K:K,$B34)))","v":""}]

{"sheet":"Weighting_Rank_Methods","index":6,"n_rows":45,"n_cols":10,"rows_kept":45,"cut":false,"hidden":false,"merged":[[1,1,1,3]]}
[]
[null,"Weighting - Rank Methods"]
[null,"Category","Criterion","Criteria Ranking ","Rank Sum","Rank Rec Working Column","Rank Reciprocal","Rank-Order Centroid",null,"Ranks to be assigned"]
[null,{"$f":"IF(INDEX('Selected Criteria'!$D$6:$D$25,ROWS($B$4:$B4))=0,\"\",INDEX('Selected Criteria'!$D$6:$D$25,ROWS($B$4:$B4)))","v":""},{"$f":"IF(INDEX('Selected Criteria'!$E$6:$E$25,ROWS($C$4:$C4))=0,\"\",INDEX('Selected Criteria'!$E$6:$E$25,ROWS($C$4:$C4)))","v":""},null,{"$f":"IF(COUNT(H4)=1,IFERROR(IF($B4=\"\",\"\",(MAX(Criteria!$M:$M)-D4+1)/SUM($D$4:$D$23)),\"\"),\"\")","v":""},{"$f":"IF($B4=\"\",\"\",1/D4)","v":""},{"$f":"IFERROR(IF($B4=\"\",\"\",F4/SUM($F$4:$F$23)),\"\")","v":""},{"$f":"IFERROR(IF($B4=\"\",\"\",INDEX($D$26:$D$45,MATCH(D4,$B$26:$B$45,0))),\"\")","v":""},null,{"$f":"IF(ROWS($J$4:$J4)>COUNTIF('General Calc'!$C$27:$C$46,\">0\"),\"\",SMALL('General Calc'!$C$27:$C$46,ROWS($J$4:$J4)))","v":""}]
[null,{"$f":"IF(INDEX('Selected Criteria'!$D$6:$D$25,ROWS($B$4:$B5))=0,\"\",INDEX('Selected Criteria'!$D$6:$D$25,ROWS($B$4:$B5)))","v":""},{"$f":"IF(INDEX('Selected Criteria'!$E$6:$E$25,ROWS($C$4:$C5))=0,\"\",INDEX('Selected Criteria'!$E$6:$E$25,ROWS($C$4:$C5)))","v":""},null,{"$f":"IF(COUNT(H5)=1,IFERROR(IF($B5=\"\",\"\",(MAX(Criteria!$M:$M)-D5+1)/SUM($D$4:$D$23)),\"\"),\"\")","v":""},{"$f":"IF($B5=\"\",\"\",1/D5)","v":""},{"$f":"IFERROR(IF($B5=\"\",\"\",F5/SUM($F$4:$F$23)),\"\")","v":""},{"$f":"IFERROR(IF($B5=\"\",\"\",INDEX($D$26:$D$45,MATCH(D5,$B$26:$B$45,0))),\"\")","v":""},null,{"$f":"IF(ROWS($J$4:$J5)>COUNTIF('General Calc'!$C$27:$C$46,\">0\"),\"\",SMALL('General Calc'!$C$27:$C$46,ROWS($J$4:$J5)))","v":""}]
[null,{"$f":"IF(INDEX('Selected Criteria'!$D$6:$D$25,ROWS($B$4:$B6))=0,\"\",INDEX('Selected Criteria'!$D$6:$D$25,ROWS($B$4:$B6)))","v":""},{"$f":"IF(INDEX('Selected Criteria'!$E$6:$E$25,ROWS($C$4:$C6))=0,\"\",INDEX('Selected Criteria'!$E$6:$E$25,ROWS($C$4:$C6)))","v":""},null,{"$f":"IF(COUNT(H6)=1,IFERROR(IF($B6=\"\",\"\",(MAX(Criteria!$M:$M)-D6+1)/SUM($D$4:$D$23)),\"\"),\"\")","v":""},"","","",null,{"$f":"IF(ROWS($J$4:$J6)>COUNTIF('General Calc'!$C$27:$C$46,\">0\"),\"\",SMALL('General Calc'!$C$27:$C$46,ROWS($J$4:$J6)))","v":""}]
[null,{"$f":"IF(INDEX('Selected Criteria'!$D$6:$D$25,ROWS($B$4:$B7))=0,\"\",INDEX('Selected Criteria'!$D$6:$D$25,ROWS($B$4:$B7)))","v":""},{"$f":"IF(INDEX('Selected Criteria'!$E$6:$E$25,ROWS($C$4:$C7))=0,\"\",INDEX('Selected Criteria'!$E$6:$E$25,ROWS($C$4:$C7)))","v":""},null,{"$f":"IF(COUNT(H7)=1,IFERROR(IF($B7=\"\",\"\",(MAX(Criteria!$M:$M)-D7+1)/SUM($D$4:$D$23)),\"\"),\"\")","v":""},"","","",null,{"$f":"IF(ROWS($J$4:$J7)>COUNTIF('General Calc'!$C$27:$C$46,\">0\"),\"\",SMALL('General Calc'!$C$27:$C$46,ROWS($J$4:$J7)))","v":""}]
[null,{"$f":"IF(INDEX('Selected Criteria'!$D$6:$D$25,ROWS($B$4:$B8))=0,\"\",INDEX('Selected Criteria'!$D$6:$D$25,ROWS($B$4:$B8)))","v":""},{"$f":"IF(INDEX('Selected Criteria'!$E$6:$E$25,ROWS($C$4:$C8))=0,\"\",INDEX('Selected Criteria'!$E$6:$E$25,ROWS($C$4:$C8)))","v":""},null,{"$f":"IF(COUNT(H8)=1,IFERROR(IF($B8=\"\",\"\",(MAX(Criteria!$M:$M)-D8+1)/SUM($D$4:$D$23)),\"\"),\"\")","v":""},"","","",null,{"$f":"IF(ROWS($J$4:$J8)>COUNTIF('General Calc'!$C$27:$C$46,\">0\"),\"\",SMALL('General Calc'!$C$27:$C$46,ROWS($J$4:$J8)))","v":""}]
[null,{"$f":"IF(INDEX('Selected Criteria'!$D$6:$D$25,ROWS($B$4:$B9))=0,\"\",INDEX('Selected Criteria'!$D$6:$D$25,ROWS($B$4:$B9)))","v":""},{"$f":"IF(INDEX('Selected Criteria'!$E$6:$E$25,ROWS($C$4:$C9))=0,\"\",INDEX('Selected Criteria'!$E$6:$E$25,ROWS($C$4:$C9)))","v":""},null,{"$f":"IF(COUNT(H9)=1,IFERROR(IF($B9=\"\",\"\",(MAX(Criteria!$M:$M)-D9+1)/SUM($D$4:$D$23)),\"\"),\"\")","v":""},"","","",null,{"$f":"IF(ROWS($J$4:$J9)>COUNTIF('General Calc'!$C$27:$C$46,\">0\"),\"\",SMALL('General Calc'!$C$27:$C$46,ROWS($J$4:$J9)))","v":""}]
[null,{"$f":"IF(INDEX('Selected Criteria'!$D$6:$D$25,ROWS($B$4:$B10))=0,\"\",INDEX('Selected Criteria'!$D$6:$D$25,ROWS($B$4:$B10)))","v":""},{"$f":"IF(INDEX('Selected Criteria'!$E$6:$E$25,ROWS($C$4:$C10))=0,\"\",INDEX('Selected Criteria'!$E$6:$E$25,ROWS($C$4:$C10)))","v":""},null,{"$f":"IF(COUNT(H10)=1,IFERROR(IF($B10=\"\",\"\",(MAX(Criteria!$M:$M)-D10+1)/SUM($D$4:$D$23)),\"\"),\"\")","v":""},"","","",null,{"$f":"IF(ROWS($J$4:$J10)>COUNTIF('General Calc'!$C$27:$C$46,\">0\"),\"\",SMALL('General Calc'!$C$27:$C$46,ROWS($J$4:$J10)))","v":""}]
[null,{"$f":"IF(INDEX('Selected Criteria'!$D$6:$D$25,ROWS($B$4:$B11))=0,\"\",INDEX('Selected Criteria'!$D$6:$D$25,ROWS($B$4:$B11)))","v":""},{"$f":"IF(INDEX('Selected Criteria'!$E$6:$E$25,ROWS($C$4:$C11))=0,\"\",INDEX('Selected Criteria'!$E$6:$E$25,ROWS($C$4:$C11)))","v":""},null,{"$f":"IF(COUNT(H11)=1,IFERROR(IF($B11=\"\",\"\",(MAX(Criteria!$M:$M)-D11+1)/SUM($D$4:$D$23)),\"\"),\"\")","v":""},"","","",null,{"$f":"IF(ROWS($J$4:$J11)>COUNTIF('General Calc'!$C$27:$C$46,\">0\"),\"\",SMALL('General Calc'!$C$27:$C$46,ROWS($J$4:$J11)))","v":""}]
[null,{"$f":"IF(INDEX('Selected Criteria'!$D$6:$D$25,ROWS($B$4:$B12))=0,\"\",INDEX('Selected Criteria'!$D$6:$D$25,ROWS($B$4:$B12)))","v":""},{"$f":"IF(INDEX('Selected Criteria'!$E$6:$E$25,ROWS($C$4:$C12))=0,\"\",INDEX('Selected Criteria'!$E$6:$E$25,ROWS($C$4:$C12)))","v":""},null,{"$f":"IF(COUNT(H12)=1,IFERROR(IF($B12=\"\",\"\",(MAX(Criteria!$M:$M)-D12+1)/SUM($D$4:$D$23)),\"\"),\"\")","v":""},"","","",null,{"$f":"IF(ROWS($J$4:$J12)>COUNTIF('General Calc'!$C$27:$C$46,\">0\"),\"\",SMALL('General Calc'!$C$27:$C$46,ROWS($J$4:$J12)))","v":""}]
[null,{"$f":"IF(INDEX('Selected Criteria'!$D$6:$D$25,ROWS($B$4:$B13))=0,\"\",INDEX('Selected Criteria'!$D$6:$D$25,ROWS($B$4:$B13)))","v":""},{"$f":"IF(INDEX('Selected Criteria'!$E$6:$E$25,ROWS($C$4:$C13))=0,\"\",INDEX('Selected Criteria'!$E$6:$E$25,ROWS($C$4:$C13)))","v":""},null,{"$f":"IF(COUNT(H13)=1,IFERROR(IF($B13=\"\",\"\",(MAX(Criteria!$M:$M)-D13+1)/SUM($D$4:$D$23)),\"\"),\"\")","v":""},"","","",null,{"$f":"IF(ROWS($J$4:$J13)>COUNTIF('General Calc'!$C$27:$C$46,\">0\"),\"\",SMALL('General Calc'!$C$27:$C$46,ROWS($J$4:$J13)))","v":""}]
[null,{"$f":"IF(INDEX('Selected Criteria'!$D$6:$D$25,ROWS($B$4:$B14))=0,\"\",INDEX('Selected Criteria'!$D$6:$D$25,ROWS($B$4:$B14)))","v":""},{"$f":"IF(INDEX('Selected Criteria'!$E$6:$E$25,ROWS($C$4:$C14))=0,\"\",INDEX('Selected Criteria'!$E$6:$E$25,ROWS($C$4:$C14)))","v":""},null,{"$f":"IF(COUNT(H14)=1,IFERROR(IF($B14=\"\",\"\",(MAX(Criteria!$M:$M)-D14+1)/SUM($D$4:$D$23)),\"\"),\"\")","v":""},"","","",null,{"$f":"IF(ROWS($J$4:$J14)>COUNTIF('General Calc'!$C$27:$C$46,\">0\"),\"\",SMALL('General Calc'!$C$27:$C$46,ROWS($J$4:$J14)))","v":""}]
[null,{"$f":"IF(INDEX('Selected Criteria'!$D$6:$D$25,ROWS($B$4:$B15))=0,\"\",INDEX('Selected Criteria'!$D$6:$D$25,ROWS($B$4:$B15)))","v":""},{"$f":"IF(INDEX('Selected Criteria'!$E$6:$E$25,ROWS($C$4:$C15))=0,\"\",INDEX('Selected Criteria'!$E$6:$E$25,ROWS($C$4:$C15)))","v":""},null,{"$f":"IF(COUNT(H15)=1,IFERROR(IF($B15=\"\",\"\",(MAX(Criteria!$M:$M)-D15+1)/SUM($D$4:$D$23)),\"\"),\"\")","v":""},"","","",null,{"$f":"IF(ROWS($J$4:$J15)>COUNTIF('General Calc'!$C$27:$C$46,\">0\"),\"\",SMALL('General Calc'!$C$27:$C$46,ROWS($J$4:$J15)))","v":""}]
[null,{"$f":"IF(INDEX('Selected Criteria'!$D$6:$D$25,ROWS($B$4:$B16))=0,\"\",INDEX('Selected Criteria'!$D$6:$D$25,ROWS($B$4:$B16)))","v":""},{"$f":"IF(INDEX('Selected Criteria'!$E$6:$E$25,ROWS($C$4:$C16))=0,\"\",INDEX('Selected Criteria'!$E$6:$E$25,ROWS($C$4:$C16)))","v":""},null,{"$f":"IF(COUNT(H16)=1,IFERROR(IF($B16=\"\",\"\",(MAX(Criteria!$M:$M)-D16+1)/SUM($D$4:$D$23)),\"\"),\"\")","v":""},"","","",null,{"$f":"IF(ROWS($J$4:$J16)>COUNTIF('General Calc'!$C$27:$C$46,\">0\"),\"\",SMALL('General Calc'!$C$27:$C$46,ROWS($J$4:$J16)))","v":""}]
[null,{"$f":"IF(INDEX('Selected Criteria'!$D$6:$D$25,ROWS($B$4:$B17))=0,\"\",INDEX('Selected Criteria'!$D$6:$D$25,ROWS($B$4:$B17)))","v":""},{"$f":"IF(INDEX('Selected Criteria'!$E$6:$E$25,ROWS($C$4:$C17))=0,\"\",INDEX('Selected Criteria'!$E$6:$E$25,ROWS($C$4:$C17)))","v":""},null,{"$f":"IF(COUNT(H17)=1,IFERROR(IF($B17=\"\",\"\",(MAX(Criteria!$M:$M)-D17+1)/SUM($D$4:$D$23)),\"\"),\"\")","v":""},"","","",null,{"$f":"IF(ROWS($J$4:$J17)>COUNTIF('General Calc'!$C$27:$C$46,\">0\"),\"\",SMALL('General Calc'!$C$27:$C$46,ROWS($J$4:$J17)))","v":""}]
[null,{"$f":"IF(INDEX('Selected Criteria'!$D$6:$D$25,ROWS($B$4:$B18))=0,\"\",INDEX('Selected Criteria'!$D$6:$D$25,ROWS($B$4:$B18)))","v":""},{"$f":"IF(INDEX('Selected Criteria'!$E$6:$E$25,ROWS($C$4:$C18))=0,\"\",INDEX('Selected Criteria'!$E$6:$E$25,ROWS($C$4:$C18)))","v":""},null,{"$f":"IF(COUNT(H18)=1,IFERROR(IF($B18=\"\",\"\",(MAX(Criteria!$M:$M)-D18+1)/SUM($D$4:$D$23)),\"\"),\"\")","v":""},"","","",null,{"$f":"IF(ROWS($J$4:$J18)>COUNTIF('General Calc'!$C$27:$C$46,\">0\"),\"\",SMALL('General Calc'!$C$27:$C$46,ROWS($J$4:$J18)))","v":""}]
[null,{"$f":"IF(INDEX('Selected Criteria'!$D$6:$D$25,ROWS($B$4:$B19))=0,\"\",INDEX('Selected Criteria'!$D$6:$D$25,ROWS($B$4:$B19)))","v":""},{"$f":"IF(INDEX('Selected Criteria'!$E$6:$E$25,ROWS($C$4:$C19))=0,\"\",INDEX('Selected Criteria'!$E$6:$E$25,ROWS($C$4:$C19)))","v":""},null,{"$f":"IF(COUNT(H19)=1,IFERROR(IF($B19=\"\",\"\",(MAX(Criteria!$M:$M)-D19+1)/SUM($D$4:$D$23)),\"\"),\"\")","v":""},"","","",null,{"$f":"IF(ROWS($J$4:$J19)>COUNTIF('General Calc'!$C$27:$C$46,\">0\"),\"\",SMALL('General Calc'!$C$27:$C$46,ROWS($J$4:$J19)))","v":""}]
[null,{"$f":"IF(INDEX('Selected Criteria'!$D$6:$D$25,ROWS($B$4:$B20))=0,\"\",INDEX('Selected Criteria'!$D$6:$D$25,ROWS($B$4:$B20)))","v":""},{"$f":"IF(INDEX('Selected Criteria'!$E$6:$E$25,ROWS($C$4:$C20))=0,\"\",INDEX('Selected Criteria'!$E$6:$E$25,ROWS($C$4:$C20)))","v":""},null,{"$f":"IF(COUNT(H20)=1,IFERROR(IF($B20=\"\",\"\",(MAX(Criteria!$M:$M)-D20+1)/SUM($D$4:$D$23)),\"\"),\"\")","v":""},"","","",null,{"$f":"IF(ROWS($J$4:$J20)>COUNTIF('General Calc'!$C$27:$C$46,\">0\"),\"\",SMALL('General Calc'!$C$27:$C$46,ROWS($J$4:$J20)))","v":""}]
[null,{"$f":"IF(INDEX('Selected Criteria'!$D$6:$D$25,ROWS($B$4:$B21))=0,\"\",INDEX('Selected Criteria'!$D$6:$D$25,ROWS($B$4:$B21)))","v":""},{"$f":"IF(INDEX('Selected Criteria'!$E$6:$E$25,ROWS($C$4:$C21))=0,\"\",INDEX('Selected Criteria'!$E$6:$E$25,ROWS($C$4:$C21)))","v":""},null,{"$f":"IF(COUNT(H21)=1,IFERROR(IF($B21=\"\",\"\",(MAX(Criteria!$M:$M)-D21+1)/SUM($D$4:$D$23)),\"\"),\"\")","v":""},"","","",null,{"$f":"IF(ROWS($J$4:$J21)>COUNTIF('General Calc'!$C$27:$C$46,\">0\"),\"\",SMALL('General Calc'!$C$27:$C$46,ROWS($J$4:$J21)))","v":""}]
[null,{"$f":"IF(INDEX('Selected Criteria'!$D$6:$D$25,ROWS($B$4:$B22))=0,\"\",INDEX('Selected Criteria'!$D$6:$D$25,ROWS($B$4:$B22)))","v":""},{"$f":"IF(INDEX('Selected Criteria'!$E$6:$E$25,ROWS($C$4:$C22))=0,\"\",INDEX('Selected Criteria'!$E$6:$E$25,ROWS($C$4:$C22)))","v":""},null,{"$f":"IF(COUNT(H22)=1,IFERROR(IF($B22=\"\",\"\",(MAX(Criteria!$M:$M)-D22+1)/SUM($D$4:$D$23)),\"\"),\"\")","v":""},"","","",null,{"$f":"IF(ROWS($J$4:$J22)>COUNTIF('General Calc'!$C$27:$C$46,\">0\"),\"\",SMALL('General Calc'!$C$27:$C$46,ROWS($J$4:$J22)))","v":""}]
[null,{"$f":"IF(INDEX('Selected Criteria'!$D$6:$D$25,ROWS($B$4:$B23))=0,\"\",INDEX('Selected Criteria'!$D$6:$D$25,ROWS($B$4:$B23)))","v":""},{"$f":"IF(INDEX('Selected Criteria'!$E$6:$E$25,ROWS($C$4:$C23))=0,\"\",INDEX('Selected Criteria'!$E$6:$E$25,ROWS($C$4:$C23)))","v":""},null,{"$f":"IF(COUNT(H23)=1,IFERROR(IF($B23=\"\",\"\",(MAX(Criteria!$M:$M)-D23+1)/SUM($D$4:$D$23)),\"\"),\"\")","v":""},"","","",null,{"$f":"IF(ROWS($J$4:$J23)>COUNTIF('General Calc'!$C$27:$C$46,\">0\"),\"\",SMALL('General Calc'!$C$27:$C$46,ROWS($J$4:$J23)))","v":""}]
[]
[null,"Rank-Order Centroid Calculation"]
[null,{"$f":"IF(ROWS($B$26:B26)>MAX(Criteria!$M:$M),\"\",ROWS($B$26:B26))","v":""},{"$f":"IF($B26=\"\",\"\",1/B26)","v":""},{"$f":"IF($B26=\"\",\"\",(1/MAX($B$26:$B$45))*SUM($C26:$C$45))","v":""}]
[null,{"$f":"IF(ROWS($B$26:B27)>MAX(Criteria!$M:$M),\"\",ROWS($B$26:B27))","v":""},"",{"$f":"IF($B27=\"\",\"\",(1/MAX($B$26:$B$45))*SUM($C27:$C$45))","v":""}]
[null,{"$f":"IF(ROWS($B$26:B28)>MAX(Criteria!$M:$M),\"\",ROWS($B$26:B28))","v":""},"",{"$f":"IF($B28=\"\",\"\",(1/MAX($B$26:$B$45))*SUM($C28:$C$45))","v":""}]
[null,{"$f":"IF(ROWS($B$26:B29)>MAX(Criteria!$M:$M),\"\",ROWS($B$26:B29))","v":""},"",{"$f":"IF($B29=\"\",\"\",(1/MAX($B$26:$B$45))*SUM($C29:$C$45))","v":""}]
[null,{"$f":"IF(ROWS($B$26:B30)>MAX(Criteria!$M:$M),\"\",ROWS($B$26:B30))","v":""},"",{"$f":"IF($B30=\"\",\"\",(1/MAX($B$26:$B$45))*SUM($C30:$C$45))","v":""}]
[null,{"$f":"IF(ROWS($B$26:B31)>MAX(Criteria!$M:$M),\"\",ROWS($B$26:B31))","v":""},"",{"$f":"IF($B31=\"\",\"\",(1/MAX($B$26:$B$45))*SUM($C31:$C$45))","v":""}]
[null,{"$f":"IF(ROWS($B$26:B32)>MAX(Criteria!$M:$M),\"\",ROWS($B$26:B32))","v":""},"",{"$f":"IF($B32=\"\",\"\",(1/MAX($B$26:$B$45))*SUM($C32:$C$45))","v":""}]
[null,{"$f":"IF(ROWS($B$26:B33)>MAX(Criteria!$M:$M),\"\",ROWS($B$26:B33))","v":""},"",{"$f":"IF($B33=\"\",\"\",(1/MAX($B$26:$B$45))*SUM($C33:$C$45))","v":""}]
[null,{"$f":"IF(ROWS($B$26:B34)>MAX(Criteria!$M:$M),\"\",ROWS($B$26:B34))","v":""},"",{"$f":"IF($B34=\"\",\"\",(1/MAX($B$26:$B$45))*SUM($C34:$C$45))","v":""}]
[null,{"$f":"IF(ROWS($B$26:B35)>MAX(Criteria!$M:$M),\"\",ROWS($B$26:B35))","v":""},"",{"$f":"IF($B35=\"\",\"\",(1/MAX($B$26:$B$45))*SUM($C35:$C$45))","v":""}]
[null,{"$f":"IF(ROWS($B$26:B36)>MAX(Criteria!$M:$M),\"\",ROWS($B$26:B36))","v":""},"",{"$f":"IF($B36=\"\",\"\",(1/MAX($B$26:$B$45))*SUM($C36:$C$45))","v":""}]
[null,{"$f":"IF(ROWS($B$26:B37)>MAX(Criteria!$M:$M),\"\",ROWS($B$26:B37))","v":""},"",{"$f":"IF($B37=\"\",\"\",(1/MAX($B$26:$B$45))*SUM($C37:$C$45))","v":""}]
[null,{"$f":"IF(ROWS($B$26:B38)>MAX(Criteria!$M:$M),\"\",ROWS($B$26:B38))","v":""},"",{"$f":"IF($B38=\"\",\"\",(1/MAX($B$26:$B$45))*SUM($C38:$C$45))","v":""}]
[null,{"$f":"IF(ROWS($B$26:B39)>MAX(Criteria!$M:$M),\"\",ROWS($B$26:B39))","v":""},"",{"$f":"IF($B39=\"\",\"\",(1/MAX($B$26:$B$45))*SUM($C39:$C$45))","v":""}]
[null,{"$f":"IF(ROWS($B$26:B40)>MAX(Criteria!$M:$M),\"\",ROWS($B$26:B40))","v":""},"",{"$f":"IF($B40=\"\",\"\",(1/MAX($B$26:$B$45))*SUM($C40:$C$45))","v":""}]
[null,{"$f":"IF(ROWS($B$26:B41)>MAX(Criteria!$M:$M),\"\",ROWS($B$26:B41))","v":""},"",{"$f":"IF($B41=\"\",\"\",(1/MAX($B$26:$B$45))*SUM($C41:$C$45))","v":""}]
[null,{"$f":"IF(ROWS($B$26:B42)>MAX(Criteria!$M:$M),\"\",ROWS($B$26:B42))","v":""},"",{"$f":"IF($B42=\"\",\"\",(1/MAX($B$26:$B$45))*SUM($C42:$C$45))","v":""}]
[null,{"$f":"IF(ROWS($B$26:B43)>MAX(Criteria!$M:$M),\"\",ROWS($B$26:B43))","v":""},"",{"$f":"IF($B43=\"\",\"\",(1/MAX($B$26:$B$45))*SUM($C43:$C$45))","v":""}]
[null,{"$f":"IF(ROWS($B$26:B44)>MAX(Criteria!$M:$M),\"\",ROWS($B$26:B44))","v":""},"",{"$f":"IF($B44=\"\",\"\",(1/MAX($B$26:$B$45))*SUM($C44:$C$45))","v":""}]
[null,{"$f":"IF(ROWS($B$26:B45)>MAX(Criteria!$M:$M),\"\",ROWS($B$26:B45))","v":""},"",{"$f":"IF($B45=\"\",\"\",(1/MAX($B$26:$B$45))*SUM($C45:$C$45))","v":""}]

{"sheet":"Weighting_Pairwise Comparison","index":7,"n_rows":27,"n_cols":26,"rows_kept":27,"cut":false,"hidden":false,"merged":[[1,0,2,25]]}
[]
["Weighting - Pairwise Comparison"]
[]
[null,null,null,null,{"$f":"IF(INDEX('Selected Criteria'!$D$6:$D$25,COLUMNS($E$5:E$5))=0,\"\",INDEX('Selected Criteria'!$D$6:$D$25,COLUMNS($E$5:E$5)))","v":""},{"$f":"IF(INDEX('Selected Criteria'!$D$6:$D$25,COLUMNS($E$5:F$5))=0,\"\",INDEX('Selected Criteria'!$D$6:$D$25,COLUMNS($E$5:F$5)))","v":""},{"$f":"IF(INDEX('Selected Criteria'!$D$6:$D$25,COLUMNS($E$5:G$5))=0,\"\",INDEX('Selected Criteria'!$D$6:$D$25,COLUMNS($E$5:G$5)))","v":""},{"$f":"IF(INDEX('Selected Criteria'!$D$6:$D$25,COLUMNS($E$5:H$5))=0,\"\",INDEX('Selected Criteria'!$D$6:$D$25,COLUMNS($E$5:H$5)))","v":""},{"$f":"IF(INDEX('Selected Criteria'!$D$6:$D$25,COLUMNS($E$5:I$5))=0,\"\",INDEX('Selected Criteria'!$D$6:$D$25,COLUMNS($E$5:I$5)))","v":""},{"$f":"IF(INDEX('Selected Criteria'!$D$6:$D$25,COLUMNS($E$5:J$5))=0,\"\",INDEX('Selected Criteria'!$D$6:$D$25,COLUMNS($E$5:J$5)))","v":""},{"$f":"IF(INDEX('Selected Criteria'!$D$6:$D$25,COLUMNS($E$5:K$5))=0,\"\",INDEX('Selected Criteria'!$D$6:$D$25,COLUMNS($E$5:K$5)))","v":""},{"$f":"IF(INDEX('Selected Criteria'!$D$6:$D$25,COLUMNS($E$5:L$5))=0,\"\",INDEX('Selected Criteria'!$D$6:$D$25,COLUMNS($E$5:L$5)))","v":""},{"$f":"IF(INDEX('Selected Criteria'!$D$6:$D$25,COLUMNS($E$5:M$5))=0,\"\",INDEX('Selected Criteria'!$D$6:$D$25,COLUMNS($E$5:M$5)))","v":""},{"$f":"IF(INDEX('Selected Criteria'!$D$6:$D$25,COLUMNS($E$5:N$5))=0,\"\",INDEX('Selected Criteria'!$D$6:$D$25,COLUMNS($E$5:N$5)))","v":""},{"$f":"IF(INDEX('Selected Criteria'!$D$6:$D$25,COLUMNS($E$5:O$5))=0,\"\",INDEX('Selected Criteria'!$D$6:$D$25,COLUMNS($E$5:O$5)))","v":""},{"$f":"IF(INDEX('Selected Criteria'!$D$6:$D$25,COLUMNS($E$5:P$5))=0,\"\",INDEX('Selected Criteria'!$D$6:$D$25,COLUMNS($E$5:P$5)))","v":""},{"$f":"IF(INDEX('Selected Criteria'!$D$6:$D$25,COLUMNS($E$5:Q$5))=0,\"\",INDEX('Selected Criteria'!$D$6:$D$25,COLUMNS($E$5:Q$5)))","v":""},{"$f":"IF(INDEX('Selected Criteria'!$D$6:$D$25,COLUMNS($E$5:R$5))=0,\"\",INDEX('Selected Criteria'!$D$6:$D$25,COLUMNS($E$5:R$5)))","v":""},{"$f":"IF(INDEX('Selected Criteria'!$D$6:$D$25,COLUMNS($E$5:S$5))=0,\"\",INDEX('Selected Criteria'!$D$6:$D$25,COLUMNS($E$5:S$5)))","v":""},{"$f":"IF(INDEX('Selected Criteria'!$D$6:$D$25,COLUMNS($E$5:T$5))=0,\"\",INDEX('Selected Criteria'!$D$6:$D$25,COLUMNS($E$5:T$5)))","v":""},{"$f":"IF(INDEX('Selected Criteria'!$D$6:$D$25,COLUMNS($E$5:U$5))=0,\"\",INDEX('Selected Criteria'!$D$6:$D$25,COLUMNS($E$5:U$5)))","v":""},{"$f":"IF(INDEX('Selected Criteria'!$D$6:$D$25,COLUMNS($E$5:V$5))=0,\"\",INDEX('Selected Criteria'!$D$6:$D$25,COLUMNS($E$5:V$5)))","v":""},{"$f":"IF(INDEX('Selected Criteria'!$D$6:$D$25,COLUMNS($E$5:W$5))=0,\"\",INDEX('Selected Criteria'!$D$6:$D$25,COLUMNS($E$5:W$5)))","v":""},{"$f":"IF(INDEX('Selected Criteria'!$D$6:$D$25,COLUMNS($E$5:X$5))=0,\"\",INDEX('Selected Criteria'!$D$6:$D$25,COLUMNS($E$5:X$5)))","v":""}," "," "]
[null,null,"  ",null,{"$f":"IF(INDEX('Selected Criteria'!$E$6:$E$25,COLUMNS($E$5:E$5))=0,\"\",INDEX('Selected Criteria'!$E$6:$E$25,COLUMNS($E$5:E$5)))","v":""},{"$f":"IF(INDEX('Selected Criteria'!$E$6:$E$25,COLUMNS($E$5:F$5))=0,\"\",INDEX('Selected Criteria'!$E$6:$E$25,COLUMNS($E$5:F$5)))","v":""},{"$f":"IF(INDEX('Selected Criteria'!$E$6:$E$25,COLUMNS($E$5:G$5))=0,\"\",INDEX('Selected Criteria'!$E$6:$E$25,COLUMNS($E$5:G$5)))","v":""},{"$f":"IF(INDEX('Selected Criteria'!$E$6:$E$25,COLUMNS($E$5:H$5))=0,\"\",INDEX('Selected Criteria'!$E$6:$E$25,COLUMNS($E$5:H$5)))","v":""},{"$f":"IF(INDEX('Selected Criteria'!$E$6:$E$25,COLUMNS($E$5:I$5))=0,\"\",INDEX('Selected Criteria'!$E$6:$E$25,COLUMNS($E$5:I$5)))","v":""},{"$f":"IF(INDEX('Selected Criteria'!$E$6:$E$25,COLUMNS($E$5:J$5))=0,\"\",INDEX('Selected Criteria'!$E$6:$E$25,COLUMNS($E$5:J$5)))","v":""},{"$f":"IF(INDEX('Selected Criteria'!$E$6:$E$25,COLUMNS($E$5:K$5))=0,\"\",INDEX('Selected Criteria'!$E$6:$E$25,COLUMNS($E$5:K$5)))","v":""},{"$f":"IF(INDEX('Selected Criteria'!$E$6:$E$25,COLUMNS($E$5:L$5))=0,\"\",INDEX('Selected Criteria'!$E$6:$E$25,COLUMNS($E$5:L$5)))","v":""},{"$f":"IF(INDEX('Selected Criteria'!$E$6:$E$25,COLUMNS($E$5:M$5))=0,\"\",INDEX('Selected Criteria'!$E$6:$E$25,COLUMNS($E$5:M$5)))","v":""},{"$f":"IF(INDEX('Selected Criteria'!$E$6:$E$25,COLUMNS($E$5:N$5))=0,\"\",INDEX('Selected Criteria'!$E$6:$E$25,COLUMNS($E$5:N$5)))","v":""},{"$f":"IF(INDEX('Selected Criteria'!$E$6:$E$25,COLUMNS($E$5:O$5))=0,\"\",INDEX('Selected Criteria'!$E$6:$E$25,COLUMNS($E$5:O$5)))","v":""},{"$f":"IF(INDEX('Selected Criteria'!$E$6:$E$25,COLUMNS($E$5:P$5))=0,\"\",INDEX('Selected Criteria'!$E$6:$E$25,COLUMNS($E$5:P$5)))","v":""},{"$f":"IF(INDEX('Selected Criteria'!$E$6:$E$25,COLUMNS($E$5:Q$5))=0,\"\",INDEX('Selected Criteria'!$E$6:$E$25,COLUMNS($E$5:Q$5)))","v":""},{"$f":"IF(INDEX('Selected Criteria'!$E$6:$E$25,COLUMNS($E$5:R$5))=0,\"\",INDEX('Selected Criteria'!$E$6:$E$25,COLUMNS($E$5:R$5)))","v":""},{"$f":"IF(INDEX('Selected Criteria'!$E$6:$E$25,COLUMNS($E$5:S$5))=0,\"\",INDEX('Selected Criteria'!$E$6:$E$25,COLUMNS($E$5:S$5)))","v":""},{"$f":"IF(INDEX('Selected Criteria'!$E$6:$E$25,COLUMNS($E$5:T$5))=0,\"\",INDEX('Selected Criteria'!$E$6:$E$25,COLUMNS($E$5:T$5)))","v":""},{"$f":"IF(INDEX('Selected Criteria'!$E$6:$E$25,COLUMNS($E$5:U$5))=0,\"\",INDEX('Selected Criteria'!$E$6:$E$25,COLUMNS($E$5:U$5)))","v":""},{"$f":"IF(INDEX('Selected Criteria'!$E$6:$E$25,COLUMNS($E$5:V$5))=0,\"\",INDEX('Selected Criteria'!$E$6:$E$25,COLUMNS($E$5:V$5)))","v":""},{"$f":"IF(INDEX('Selected Criteria'!$E$6:$E$25,COLUMNS($E$5:W$5))=0,\"\",INDEX('Selected Criteria'!$E$6:$E$25,COLUMNS($E$5:W$5)))","v":""},{"$f":"IF(INDEX('Selected Criteria'!$E$6:$E$25,COLUMNS($E$5:X$5))=0,\"\",INDEX('Selected Criteria'!$E$6:$E$25,COLUMNS($E$5:X$5)))","v":""},"Occurrence +1","WEIGHTING"]
[null," ","  ",null,{"$f":"IF(E5=\"\",\"\",INDEX('General Calc'!$B$5:$B$24,COLUMNS($E$5:E$5)))","v":""},{"$f":"IF(F5=\"\",\"\",INDEX('General Calc'!$B$5:$B$24,COLUMNS($E$5:F$5)))","v":""},{"$f":"IF(G5=\"\",\"\",INDEX('General Calc'!$B$5:$B$24,COLUMNS($E$5:G$5)))","v":""},{"$f":"IF(H5=\"\",\"\",INDEX('General Calc'!$B$5:$B$24,COLUMNS($E$5:H$5)))","v":""},{"$f":"IF(I5=\"\",\"\",INDEX('General Calc'!$B$5:$B$24,COLUMNS($E$5:I$5)))","v":""},{"$f":"IF(J5=\"\",\"\",INDEX('General Calc'!$B$5:$B$24,COLUMNS($E$5:J$5)))","v":""},{"$f":"IF(K5=\"\",\"\",INDEX('General Calc'!$B$5:$B$24,COLUMNS($E$5:K$5)))","v":""},{"$f":"IF(L5=\"\",\"\",INDEX('General Calc'!$B$5:$B$24,COLUMNS($E$5:L$5)))","v":""},{"$f":"IF(M5=\"\",\"\",INDEX('General Calc'!$B$5:$B$24,COLUMNS($E$5:M$5)))","v":""},{"$f":"IF(N5=\"\",\"\",INDEX('General Calc'!$B$5:$B$24,COLUMNS($E$5:N$5)))","v":""},{"$f":"IF(O5=\"\",\"\",INDEX('General Calc'!$B$5:$B$24,COLUMNS($E$5:O$5)))","v":""},{"$f":"IF(P5=\"\",\"\",INDEX('General Calc'!$B$5:$B$24,COLUMNS($E$5:P$5)))","v":""},{"$f":"IF(Q5=\"\",\"\",INDEX('General Calc'!$B$5:$B$24,COLUMNS($E$5:Q$5)))","v":""},{"$f":"IF(R5=\"\",\"\",INDEX('General Calc'!$B$5:$B$24,COLUMNS($E$5:R$5)))","v":""},{"$f":"IF(S5=\"\",\"\",INDEX('General Calc'!$B$5:$B$24,COLUMNS($E$5:S$5)))","v":""},{"$f":"IF(T5=\"\",\"\",INDEX('General Calc'!$B$5:$B$24,COLUMNS($E$5:T$5)))","v":""},{"$f":"IF(U5=\"\",\"\",INDEX('General Calc'!$B$5:$B$24,COLUMNS($E$5:U$5)))","v":""},{"$f":"IF(V5=\"\",\"\",INDEX('General Calc'!$B$5:$B$24,COLUMNS($E$5:V$5)))","v":""},{"$f":"IF(W5=\"\",\"\",INDEX('General Calc'!$B$5:$B$24,COLUMNS($E$5:W$5)))","v":""},{"$f":"IF(X5=\"\",\"\",INDEX('General Calc'!$B$5:$B$24,COLUMNS($E$5:X$5)))","v":""}]
[null,{"$f":"IF(INDEX('Selected Criteria'!$D$6:$D$25,ROWS($B$7:$B7))=0,\"\",INDEX('Selected Criteria'!$D$6:$D$25,ROWS($B$7:$B7)))","v":""},{"$f":"IF(INDEX('Selected Criteria'!$E$6:$E$25,ROWS($C$7:$C7))=0,\"\",INDEX('Selected Criteria'!$E$6:$E$25,ROWS($C$7:$C7)))","v":""},{"$f":"IF(C7=\"\",\"\",INDEX('General Calc'!$B$5:$B$24,ROWS($D$7:$D7)))","v":""},null,null,null,null,null,null,null,null,null,null,null,null,null,null,null,null,null,null,null,null,{"$f":"IF($C7=\"\",\"\",COUNTIF($E$7:$X$26,$D7))","v":""},{"$f":"IF($C7=\"\",\"\",Y7/$Y$27)","v":""}]
[null,{"$f":"IF(INDEX('Selected Criteria'!$D$6:$D$25,ROWS($B$7:$B8))=0,\"\",INDEX('Selected Criteria'!$D$6:$D$25,ROWS($B$7:$B8)))","v":""},{"$f":"IF(INDEX('Selected Criteria'!$E$6:$E$25,ROWS($C$7:$C8))=0,\"\",INDEX('Selected Criteria'!$E$6:$E$25,ROWS($C$7:$C8)))","v":""},{"$f":"IF(C8=\"\",\"\",INDEX('General Calc'!$B$5:$B$24,ROWS($D$7:$D8)))","v":""},null,null,null,null,null,null,null,null,null,null,null,null,null,null,null,null,null,null,null,null,{"$f":"IF($C8=\"\",\"\",COUNTIF($E$7:$X$26,$D8))","v":""},{"$f":"IF($C8=\"\",\"\",Y8/$Y$27)","v":""}]
[null,{"$f":"IF(INDEX('Selected Criteria'!$D$6:$D$25,ROWS($B$7:$B9))=0,\"\",INDEX('Selected Criteria'!$D$6:$D$25,ROWS($B$7:$B9)))","v":""},{"$f":"IF(INDEX('Selected Criteria'!$E$6:$E$25,ROWS($C$7:$C9))=0,\"\",INDEX('Selected Criteria'!$E$6:$E$25,ROWS($C$7:$C9)))","v":""},{"$f":"IF(C9=\"\",\"\",INDEX('General Calc'!$B$5:$B$24,ROWS($D$7:$D9)))","v":""},null,null,null,null,null,null,null,null,null,null,null,null,null,null,null,null,null,null,null,null,"",""]
[null,{"$f":"IF(INDEX('Selected Criteria'!$D$6:$D$25,ROWS($B$7:$B10))=0,\"\",INDEX('Selected Criteria'!$D$6:$D$25,ROWS($B$7:$B10)))","v":""},{"$f":"IF(INDEX('Selected Criteria'!$E$6:$E$25,ROWS($C$7:$C10))=0,\"\",INDEX('Selected Criteria'!$E$6:$E$25,ROWS($C$7:$C10)))","v":""},{"$f":"IF(C10=\"\",\"\",INDEX('General Calc'!$B$5:$B$24,ROWS($D$7:$D10)))","v":""},null,null,null,null,null,null,null,null,null,null,null,null,null,null,null,null,null,null,null,null,"",""]
[null,{"$f":"IF(INDEX('Selected Criteria'!$D$6:$D$25,ROWS($B$7:$B11))=0,\"\",INDEX('Selected Criteria'!$D$6:$D$25,ROWS($B$7:$B11)))","v":""},{"$f":"IF(INDEX('Selected Criteria'!$E$6:$E$25,ROWS($C$7:$C11))=0,\"\",INDEX('Selected Criteria'!$E$6:$E$25,ROWS($C$7:$C11)))","v":""},{"$f":"IF(C11=\"\",\"\",INDEX('General Calc'!$B$5:$B$24,ROWS($D$7:$D11)))","v":""},null,null,null,null,null,null,null,null,null,null,null,null,null,null,null,null,null,null,null,null,"",""]
[null,{"$f":"IF(INDEX('Selected Criteria'!$D$6:$D$25,ROWS($B$7:$B12))=0,\"\",INDEX('Selected Criteria'!$D$6:$D$25,ROWS($B$7:$B12)))","v":""},{"$f":"IF(INDEX('Selected Criteria'!$E$6:$E$25,ROWS($C$7:$C12))=0,\"\",INDEX('Selected Criteria'!$E$6:$E$25,ROWS($C$7:$C12)))","v":""},{"$f":"IF(C12=\"\",\"\",INDEX('General Calc'!$B$5:$B$24,ROWS($D$7:$D12)))","v":""},null,null,null,null,null,null,null,null,null,null,null,null,null,null,null,null,null,null,null,null,"",""]
[null,{"$f":"IF(INDEX('Selected Criteria'!$D$6:$D$25,ROWS($B$7:$B13))=0,\"\",INDEX('Selected Criteria'!$D$6:$D$25,ROWS($B$7:$B13)))","v":""},{"$f":"IF(INDEX('Selected Criteria'!$E$6:$E$25,ROWS($C$7:$C13))=0,\"\",INDEX('Selected Criteria'!$E$6:$E$25,ROWS($C$7:$C13)))","v":""},{"$f":"IF(C13=\"\",\"\",INDEX('General Calc'!$B$5:$B$24,ROWS($D$7:$D13)))","v":""},null,null,null,null,null,null,null,null,null,null,null,null,null,null,null,null,null,null,null,null,"",""]
[null,{"$f":"IF(INDEX('Selected Criteria'!$D$6:$D$25,ROWS($B$7:$B14))=0,\"\",INDEX('Selected Criteria'!$D$6:$D$25,ROWS($B$7:$B14)))","v":""},{"$f":"IF(INDEX('Selected Criteria'!$E$6:$E$25,ROWS($C$7:$C14))=0,\"\",INDEX('Selected Criteria'!$E$6:$E$25,ROWS($C$7:$C14)))","v":""},{"$f":"IF(C14=\"\",\"\",INDEX('General Calc'!$B$5:$B$24,ROWS($D$7:$D14)))","v":""},null,null,null,null,null,null,null,null,null,null,null,null,null,null,null,null,null,null,null,null,"",{"$f":"IF($C14=\"\",\"\",Y14/$Y$27)","v":""}]
[null,{"$f":"IF(INDEX('Selected Criteria'!$D$6:$D$25,ROWS($B$7:$B15))=0,\"\",INDEX('Selected Criteria'!$D$6:$D$25,ROWS($B$7:$B15)))","v":""},{"$f":"IF(INDEX('Selected Criteria'!$E$6:$E$25,ROWS($C$7:$C15))=0,\"\",INDEX('Selected Criteria'!$E$6:$E$25,ROWS($C$7:$C15)))","v":""},{"$f":"IF(C15=\"\",\"\",INDEX('General Calc'!$B$5:$B$24,ROWS($D$7:$D15)))","v":""},null,null,null,null,null,null,null,null,null,null,null,null,null,null,null,null,null,null,null,null,"",""]
[null,{"$f":"IF(INDEX('Selected Criteria'!$D$6:$D$25,ROWS($B$7:$B16))=0,\"\",INDEX('Selected Criteria'!$D$6:$D$25,ROWS($B$7:$B16)))","v":""},{"$f":"IF(INDEX('Selected Criteria'!$E$6:$E$25,ROWS($C$7:$C16))=0,\"\",INDEX('Selected Criteria'!$E$6:$E$25,ROWS($C$7:$C16)))","v":""},{"$f":"IF(C16=\"\",\"\",INDEX('General Calc'!$B$5:$B$24,ROWS($D$7:$D16)))","v":""},null,null,null,null,null,null,null,null,null,null,null,null,null,null,null,null,null,null,null,null,"",""]
[null,{"$f":"IF(INDEX('Selected Criteria'!$D$6:$D$25,ROWS($B$7:$B17))=0,\"\",INDEX('Selected Criteria'!$D$6:$D$25,ROWS($B$7:$B17)))","v":""},{"$f":"IF(INDEX('Selected Criteria'!$E$6:$E$25,ROWS($C$7:$C17))=0,\"\",INDEX('Selected Criteria'!$E$6:$E$25,ROWS($C$7:$C17)))","v":""},{"$f":"IF(C17=\"\",\"\",INDEX('General Calc'!$B$5:$B$24,ROWS($D$7:$D17)))","v":""},null,null,null,null,null,null,null,null,null,null,null,null,null,null,null,null,null,null,null,null,"",""]
[null,{"$f":"IF(INDEX('Selected Criteria'!$D$6:$D$25,ROWS($B$7:$B18))=0,\"\",INDEX('Selected Criteria'!$D$6:$D$25,ROWS($B$7:$B18)))","v":""},{"$f":"IF(INDEX('Selected Criteria'!$E$6:$E$25,ROWS($C$7:$C18))=0,\"\",INDEX('Selected Criteria'!$E$6:$E$25,ROWS($C$7:$C18)))","v":""},{"$f":"IF(C18=\"\",\"\",INDEX('General Calc'!$B$5:$B$24,ROWS($D$7:$D18)))","v":""},null,null,null,null,null,null,null,null,null,null,null,null,null,null,null,null,null,null,null,null,"",""]
[null,{"$f":"IF(INDEX('Selected Criteria'!$D$6:$D$25,ROWS($B$7:$B19))=0,\"\",INDEX('Selected Criteria'!$D$6:$D$25,ROWS($B$7:$B19)))","v":""},{"$f":"IF(INDEX('Selected Criteria'!$E$6:$E$25,ROWS($C$7:$C19))=0,\"\",INDEX('Selected Criteria'!$E$6:$E$25,ROWS($C$7:$C19)))","v":""},{"$f":"IF(C19=\"\",\"\",INDEX('General Calc'!$B$5:$B$24,ROWS($D$7:$D19)))","v":""},null,null,null,null,null,null,null,null,null,null,null,null,null,null,null,null,null,null,null,null,"",""]
[null,{"$f":"IF(INDEX('Selected Criteria'!$D$6:$D$25,ROWS($B$7:$B20))=0,\"\",INDEX('Selected Criteria'!$D$6:$D$25,ROWS($B$7:$B20)))","v":""},{"$f":"IF(INDEX('Selected Criteria'!$E$6:$E$25,ROWS($C$7:$C20))=0,\"\",INDEX('Selected Criteria'!$E$6:$E$25,ROWS($C$7:$C20)))","v":""},{"$f":"IF(C20=\"\",\"\",INDEX('General Calc'!$B$5:$B$24,ROWS($D$7:$D20)))","v":""},null,null,null,null,null,null,null,null,null,null,null,null,null,null,null,null,null,null,null,null,"",""]
[null,{"$f":"IF(INDEX('Selected Criteria'!$D$6:$D$25,ROWS($B$7:$B21))=0,\"\",INDEX('Selected Criteria'!$D$6:$D$25,ROWS($B$7:$B21)))","v":""},{"$f":"IF(INDEX('Selected Criteria'!$E$6:$E$25,ROWS($C$7:$C21))=0,\"\",INDEX('Selected Criteria'!$E$6:$E$25,ROWS($C$7:$C21)))","v":""},{"$f":"IF(C21=\"\",\"\",INDEX('General Calc'!$B$5:$B$24,ROWS($D$7:$D21)))","v":""},null,null,null,null,null,null,null,null,null,null,null,null,null,null,null,null,null,null,null,null,"",""]
[null,{"$f":"IF(INDEX('Selected Criteria'!$D$6:$D$25,ROWS($B$7:$B22))=0,\"\",INDEX('Selected Criteria'!$D$6:$D$25,ROWS($B$7:$B22)))","v":""},{"$f":"IF(INDEX('Selected Criteria'!$E$6:$E$25,ROWS($C$7:$C22))=0,\"\",INDEX('Selected Criteria'!$E$6:$E$25,ROWS($C$7:$C22)))","v":""},{"$f":"IF(C22=\"\",\"\",INDEX('General Calc'!$B$5:$B$24,ROWS($D$7:$D22)))","v":""},null,null,null,null,null,null,null,null,null,null,null,null,null,null,null,null,null,null,null,null,"",""]
[null,{"$f":"IF(INDEX('Selected Criteria'!$D$6:$D$25,ROWS($B$7:$B23))=0,\"\",INDEX('Selected Criteria'!$D$6:$D$25,ROWS($B$7:$B23)))","v":""},{"$f":"IF(INDEX('Selected Criteria'!$E$6:$E$25,ROWS($C$7:$C23))=0,\"\",INDEX('Selected Criteria'!$E$6:$E$25,ROWS($C$7:$C23)))","v":""},{"$f":"IF(C23=\"\",\"\",INDEX('General Calc'!$B$5:$B$24,ROWS($D$7:$D23)))","v":""},null,null,null,null,null,null,null,null,null,null,null,null,null,null,null,null,null,null,null,null,"",""]
[null,{"$f":"IF(INDEX('Selected Criteria'!$D$6:$D$25,ROWS($B$7:$B24))=0,\"\",INDEX('Selected Criteria'!$D$6:$D$25,ROWS($B$7:$B24)))","v":""},{"$f":"IF(INDEX('Selected Criteria'!$E$6:$E$25,ROWS($C$7:$C24))=0,\"\",INDEX('Selected Criteria'!$E$6:$E$25,ROWS($C$7:$C24)))","v":""},{"$f":"IF(C24=\"\",\"\",INDEX('General Calc'!$B$5:$B$24,ROWS($D$7:$D24)))","v":""},null,null,null,null,null,null,null,null,null,null,null,null,null,null,null,null,null,null,null,null,"",""]
[null,{"$f":"IF(INDEX('Selected Criteria'!$D$6:$D$25,ROWS($B$7:$B25))=0,\"\",INDEX('Selected Criteria'!$D$6:$D$25,ROWS($B$7:$B25)))","v":""},{"$f":"IF(INDEX('Selected Criteria'!$E$6:$E$25,ROWS($C$7:$C25))=0,\"\",INDEX('Selected Criteria'!$E$6:$E$25,ROWS($C$7:$C25)))","v":""},{"$f":"IF(C25=\"\",\"\",INDEX('General Calc'!$B$5:$B$24,ROWS($D$7:$D25)))","v":""},null,null,null,null,null,null,null,null,null,null,null,null,null,null,null,null,null,null,null,null,"",""]
[null,{"$f":"IF(INDEX('Selected Criteria'!$D$6:$D$25,ROWS($B$7:$B26))=0,\"\",INDEX('Selected Criteria'!$D$6:$D$25,ROWS($B$7:$B26)))","v":""},{"$f":"IF(INDEX('Selected Criteria'!$E$6:$E$25,ROWS($C$7:$C26))=0,\"\",INDEX('Selected Criteria'!$E$6:$E$25,ROWS($C$7:$C26)))","v":""},{"$f":"IF(C26=\"\",\"\",INDEX('General Calc'!$B$5:$B$24,ROWS($D$7:$D26)))","v":""},null,null,null,null,null,null,null,null,null,null,null,null,null,null,null,null,null,null,null,null,"",""]
[null,null,null,null,null,null,null,null,null,null,null,null,null,null,null,null,null,null,null,null,null,null,null,null,{"$f":"SUM(Y7:Y26)","v":0}]

{"sheet":"Scoring","index":8,"n_rows":24,"n_cols":26,"rows_kept":24,"cut":false,"hidden":false,"merged":[[1,0,2,14]]}
[]
["Option Scoring"]
[]
[null,"Category","Criteria","Select ","Rank Sum","Base Case",{"$f":"IF(INDEX('Define Options'!$D$8:$D$27,COLUMNS($G$4:G$4))=0,\"\",(INDEX('Define Options'!$D$8:$D$27,COLUMNS($G$4:G$4))))","v":""},{"$f":"IF(INDEX('Define Options'!$D$8:$D$27,COLUMNS($G$4:H$4))=0,\"\",(INDEX('Define Options'!$D$8:$D$27,COLUMNS($G$4:H$4))))","v":""},{"$f":"IF(INDEX('Define Options'!$D$8:$D$27,COLUMNS($G$4:I$4))=0,\"\",(INDEX('Define Options'!$D$8:$D$27,COLUMNS($G$4:I$4))))","v":""},{"$f":"IF(INDEX('Define Options'!$D$8:$D$27,COLUMNS($G$4:J$4))=0,\"\",(INDEX('Define Options'!$D$8:$D$27,COLUMNS($G$4:J$4))))","v":""},{"$f":"IF(INDEX('Define Options'!$D$8:$D$27,COLUMNS($G$4:K$4))=0,\"\",(INDEX('Define Options'!$D$8:$D$27,COLUMNS($G$4:K$4))))","v":""},{"$f":"IF(INDEX('Define Options'!$D$8:$D$27,COLUMNS($G$4:L$4))=0,\"\",(INDEX('Define Options'!$D$8:$D$27,COLUMNS($G$4:L$4))))","v":""},{"$f":"IF(INDEX('Define Options'!$D$8:$D$27,COLUMNS($G$4:M$4))=0,\"\",(INDEX('Define Options'!$D$8:$D$27,COLUMNS($G$4:M$4))))","v":""},{"$f":"IF(INDEX('Define Options'!$D$8:$D$27,COLUMNS($G$4:N$4))=0,\"\",(INDEX('Define Options'!$D$8:$D$27,COLUMNS($G$4:N$4))))","v":""},{"$f":"IF(INDEX('Define Options'!$D$8:$D$27,COLUMNS($G$4:O$4))=0,\"\",(INDEX('Define Options'!$D$8:$D$27,COLUMNS($G$4:O$4))))","v":""},{"$f":"IF(INDEX('Define Options'!$D$8:$D$27,COLUMNS($G$4:P$4))=0,\"\",(INDEX('Define Options'!$D$8:$D$27,COLUMNS($G$4:P$4))))","v":""},{"$f":"IF(INDEX('Define Options'!$D$8:$D$27,COLUMNS($G$4:Q$4))=0,\"\",(INDEX('Define Options'!$D$8:$D$27,COLUMNS($G$4:Q$4))))","v":""},{"$f":"IF(INDEX('Define Options'!$D$8:$D$27,COLUMNS($G$4:R$4))=0,\"\",(INDEX('Define Options'!$D$8:$D$27,COLUMNS($G$4:R$4))))","v":""},{"$f":"IF(INDEX('Define Options'!$D$8:$D$27,COLUMNS($G$4:S$4))=0,\"\",(INDEX('Define Options'!$D$8:$D$27,COLUMNS($G$4:S$4))))","v":""},{"$f":"IF(INDEX('Define Options'!$D$8:$D$27,COLUMNS($G$4:T$4))=0,\"\",(INDEX('Define Options'!$D$8:$D$27,COLUMNS($G$4:T$4))))","v":""},{"$f":"IF(INDEX('Define Options'!$D$8:$D$27,COLUMNS($G$4:U$4))=0,\"\",(INDEX('Define Options'!$D$8:$D$27,COLUMNS($G$4:U$4))))","v":""},{"$f":"IF(INDEX('Define Options'!$D$8:$D$27,COLUMNS($G$4:V$4))=0,\"\",(INDEX('Define Options'!$D$8:$D$27,COLUMNS($G$4:V$4))))","v":""},{"$f":"IF(INDEX('Define Options'!$D$8:$D$27,COLUMNS($G$4:W$4))=0,\"\",(INDEX('Define Options'!$D$8:$D$27,COLUMNS($G$4:W$4))))","v":""},{"$f":"IF(INDEX('Define Options'!$D$8:$D$27,COLUMNS($G$4:X$4))=0,\"\",(INDEX('Define Options'!$D$8:$D$27,COLUMNS($G$4:X$4))))","v":""},{"$f":"IF(INDEX('Define Options'!$D$8:$D$27,COLUMNS($G$4:Y$4))=0,\"\",(INDEX('Define Options'!$D$8:$D$27,COLUMNS($G$4:Y$4))))","v":""},{"$f":"IF(INDEX('Define Options'!$D$8:$D$27,COLUMNS($G$4:Z$4))=0,\"\",(INDEX('Define Options'!$D$8:$D$27,COLUMNS($G$4:Z$4))))","v":""}]
[null,{"$f":"IF(INDEX('Selected Criteria'!$D$6:$D$25,ROWS($B$5:$B5))=0,\"\",INDEX('Selected Criteria'!$D$6:$D$25,ROWS($B$5:$B5)))","v":""},{"$f":"IF(INDEX('Selected Criteria'!$E$6:$E$25,ROWS($C$5:$C5))=0,\"\",INDEX('Selected Criteria'!$E$6:$E$25,ROWS($C$5:$C5)))","v":""},null,{"$f":"IF($C5=\"\",\"\",INDEX('General Calc'!$F$5:$I$24,MATCH($C5,'General Calc'!$E$5:$E$24,0),MATCH($E$4,'General Calc'!$F$4:$I$4,0)))","v":""},{"$f":"IF($C5=\"\",\"\",3)","v":""}]
[null,{"$f":"IF(INDEX('Selected Criteria'!$D$6:$D$25,ROWS($B$5:$B6))=0,\"\",INDEX('Selected Criteria'!$D$6:$D$25,ROWS($B$5:$B6)))","v":""},{"$f":"IF(INDEX('Selected Criteria'!$E$6:$E$25,ROWS($C$5:$C6))=0,\"\",INDEX('Selected Criteria'!$E$6:$E$25,ROWS($C$5:$C6)))","v":""},null,{"$f":"IF($C6=\"\",\"\",INDEX('General Calc'!$F$5:$I$24,MATCH($C6,'General Calc'!$E$5:$E$24,0),MATCH($E$4,'General Calc'!$F$4:$I$4,0)))","v":""},{"$f":"IF($C6=\"\",\"\",3)","v":""}]
[null,{"$f":"IF(INDEX('Selected Criteria'!$D$6:$D$25,ROWS($B$5:$B7))=0,\"\",INDEX('Selected Criteria'!$D$6:$D$25,ROWS($B$5:$B7)))","v":""},{"$f":"IF(INDEX('Selected Criteria'!$E$6:$E$25,ROWS($C$5:$C7))=0,\"\",INDEX('Selected Criteria'!$E$6:$E$25,ROWS($C$5:$C7)))","v":""},null,{"$f":"IF($C7=\"\",\"\",INDEX('General Calc'!$F$5:$I$24,MATCH($C7,'General Calc'!$E$5:$E$24,0),MATCH($E$4,'General Calc'!$F$4:$I$4,0)))","v":""},""]
[null,{"$f":"IF(INDEX('Selected Criteria'!$D$6:$D$25,ROWS($B$5:$B8))=0,\"\",INDEX('Selected Criteria'!$D$6:$D$25,ROWS($B$5:$B8)))","v":""},{"$f":"IF(INDEX('Selected Criteria'!$E$6:$E$25,ROWS($C$5:$C8))=0,\"\",INDEX('Selected Criteria'!$E$6:$E$25,ROWS($C$5:$C8)))","v":""},null,{"$f":"IF($C8=\"\",\"\",INDEX('General Calc'!$F$5:$I$24,MATCH($C8,'General Calc'!$E$5:$E$24,0),MATCH($E$4,'General Calc'!$F$4:$I$4,0)))","v":""},""]
[null,{"$f":"IF(INDEX('Selected Criteria'!$D$6:$D$25,ROWS($B$5:$B9))=0,\"\",INDEX('Selected Criteria'!$D$6:$D$25,ROWS($B$5:$B9)))","v":""},{"$f":"IF(INDEX('Selected Criteria'!$E$6:$E$25,ROWS($C$5:$C9))=0,\"\",INDEX('Selected Criteria'!$E$6:$E$25,ROWS($C$5:$C9)))","v":""},null,{"$f":"IF($C9=\"\",\"\",INDEX('General Calc'!$F$5:$I$24,MATCH($C9,'General Calc'!$E$5:$E$24,0),MATCH($E$4,'General Calc'!$F$4:$I$4,0)))","v":""},""]
[null,{"$f":"IF(INDEX('Selected Criteria'!$D$6:$D$25,ROWS($B$5:$B10))=0,\"\",INDEX('Selected Criteria'!$D$6:$D$25,ROWS($B$5:$B10)))","v":""},{"$f":"IF(INDEX('Selected Criteria'!$E$6:$E$25,ROWS($C$5:$C10))=0,\"\",INDEX('Selected Criteria'!$E$6:$E$25,ROWS($C$5:$C10)))","v":""},null,{"$f":"IF($C10=\"\",\"\",INDEX('General Calc'!$F$5:$I$24,MATCH($C10,'General Calc'!$E$5:$E$24,0),MATCH($E$4,'General Calc'!$F$4:$I$4,0)))","v":""},""]
[null,{"$f":"IF(INDEX('Selected Criteria'!$D$6:$D$25,ROWS($B$5:$B11))=0,\"\",INDEX('Selected Criteria'!$D$6:$D$25,ROWS($B$5:$B11)))","v":""},{"$f":"IF(INDEX('Selected Criteria'!$E$6:$E$25,ROWS($C$5:$C11))=0,\"\",INDEX('Selected Criteria'!$E$6:$E$25,ROWS($C$5:$C11)))","v":""},null,{"$f":"IF($C11=\"\",\"\",INDEX('General Calc'!$F$5:$I$24,MATCH($C11,'General Calc'!$E$5:$E$24,0),MATCH($E$4,'General Calc'!$F$4:$I$4,0)))","v":""},""]
[null,{"$f":"IF(INDEX('Selected Criteria'!$D$6:$D$25,ROWS($B$5:$B12))=0,\"\",INDEX('Selected Criteria'!$D$6:$D$25,ROWS($B$5:$B12)))","v":""},{"$f":"IF(INDEX('Selected Criteria'!$E$6:$E$25,ROWS($C$5:$C12))=0,\"\",INDEX('Selected Criteria'!$E$6:$E$25,ROWS($C$5:$C12)))","v":""},null,{"$f":"IF($C12=\"\",\"\",INDEX('General Calc'!$F$5:$I$24,MATCH($C12,'General Calc'!$E$5:$E$24,0),MATCH($E$4,'General Calc'!$F$4:$I$4,0)))","v":""},""]
[null,{"$f":"IF(INDEX('Selected Criteria'!$D$6:$D$25,ROWS($B$5:$B13))=0,\"\",INDEX('Selected Criteria'!$D$6:$D$25,ROWS($B$5:$B13)))","v":""},{"$f":"IF(INDEX('Selected Criteria'!$E$6:$E$25,ROWS($C$5:$C13))=0,\"\",INDEX('Selected Criteria'!$E$6:$E$25,ROWS($C$5:$C13)))","v":""},null,{"$f":"IF($C13=\"\",\"\",INDEX('General Calc'!$F$5:$I$24,MATCH($C13,'General Calc'!$E$5:$E$24,0),MATCH($E$4,'General Calc'!$F$4:$I$4,0)))","v":""},""]
[null,{"$f":"IF(INDEX('Selected Criteria'!$D$6:$D$25,ROWS($B$5:$B14))=0,\"\",INDEX('Selected Criteria'!$D$6:$D$25,ROWS($B$5:$B14)))","v":""},{"$f":"IF(INDEX('Selected Criteria'!$E$6:$E$25,ROWS($C$5:$C14))=0,\"\",INDEX('Selected Criteria'!$E$6:$E$25,ROWS($C$5:$C14)))","v":""},null,{"$f":"IF($C14=\"\",\"\",INDEX('General Calc'!$F$5:$I$24,MATCH($C14,'General Calc'!$E$5:$E$24,0),MATCH($E$4,'General Calc'!$F$4:$I$4,0)))","v":""},""]
[null,{"$f":"IF(INDEX('Selected Criteria'!$D$6:$D$25,ROWS($B$5:$B15))=0,\"\",INDEX('Selected Criteria'!$D$6:$D$25,ROWS($B$5:$B15)))","v":""},{"$f":"IF(INDEX('Selected Criteria'!$E$6:$E$25,ROWS($C$5:$C15))=0,\"\",INDEX('Selected Criteria'!$E$6:$E$25,ROWS($C$5:$C15)))","v":""},null,{"$f":"IF($C15=\"\",\"\",INDEX('General Calc'!$F$5:$I$24,MATCH($C15,'General Calc'!$E$5:$E$24,0),MATCH($E$4,'General Calc'!$F$4:$I$4,0)))","v":""},""]
[null,{"$f":"IF(INDEX('Selected Criteria'!$D$6:$D$25,ROWS($B$5:$B16))=0,\"\",INDEX('Selected Criteria'!$D$6:$D$25,ROWS($B$5:$B16)))","v":""},{"$f":"IF(INDEX('Selected Criteria'!$E$6:$E$25,ROWS($C$5:$C16))=0,\"\",INDEX('Selected Criteria'!$E$6:$E$25,ROWS($C$5:$C16)))","v":""},null,{"$f":"IF($C16=\"\",\"\",INDEX('General Calc'!$F$5:$I$24,MATCH($C16,'General Calc'!$E$5:$E$24,0),MATCH($E$4,'General Calc'!$F$4:$I$4,0)))","v":""},""]
[null,{"$f":"IF(INDEX('Selected Criteria'!$D$6:$D$25,ROWS($B$5:$B17))=0,\"\",INDEX('Selected Criteria'!$D$6:$D$25,ROWS($B$5:$B17)))","v":""},{"$f":"IF(INDEX('Selected Criteria'!$E$6:$E$25,ROWS($C$5:$C17))=0,\"\",INDEX('Selected Criteria'!$E$6:$E$25,ROWS($C$5:$C17)))","v":""},null,{"$f":"IF($C17=\"\",\"\",INDEX('General Calc'!$F$5:$I$24,MATCH($C17,'General Calc'!$E$5:$E$24,0),MATCH($E$4,'General Calc'!$F$4:$I$4,0)))","v":""},""]
[null,{"$f":"IF(INDEX('Selected Criteria'!$D$6:$D$25,ROWS($B$5:$B18))=0,\"\",INDEX('Selected Criteria'!$D$6:$D$25,ROWS($B$5:$B18)))","v":""},{"$f":"IF(INDEX('Selected Criteria'!$E$6:$E$25,ROWS($C$5:$C18))=0,\"\",INDEX('Selected Criteria'!$E$6:$E$25,ROWS($C$5:$C18)))","v":""},null,{"$f":"IF($C18=\"\",\"\",INDEX('General Calc'!$F$5:$I$24,MATCH($C18,'General Calc'!$E$5:$E$24,0),MATCH($E$4,'General Calc'!$F$4:$I$4,0)))","v":""},""]
[null,{"$f":"IF(INDEX('Selected Criteria'!$D$6:$D$25,ROWS($B$5:$B19))=0,\"\",INDEX('Selected Criteria'!$D$6:$D$25,ROWS($B$5:$B19)))","v":""},{"$f":"IF(INDEX('Selected Criteria'!$E$6:$E$25,ROWS($C$5:$C19))=0,\"\",INDEX('Selected Criteria'!$E$6:$E$25,ROWS($C$5:$C19)))","v":""},null,{"$f":"IF($C19=\"\",\"\",INDEX('General Calc'!$F$5:$I$24,MATCH($C19,'General Calc'!$E$5:$E$24,0),MATCH($E$4,'General Calc'!$F$4:$I$4,0)))","v":""},""]
[null,{"$f":"IF(INDEX('Selected Criteria'!$D$6:$D$25,ROWS($B$5:$B20))=0,\"\",INDEX('Selected Criteria'!$D$6:$D$25,ROWS($B$5:$B20)))","v":""},{"$f":"IF(INDEX('Selected Criteria'!$E$6:$E$25,ROWS($C$5:$C20))=0,\"\",INDEX('Selected Criteria'!$E$6:$E$25,ROWS($C$5:$C20)))","v":""},null,{"$f":"IF($C20=\"\",\"\",INDEX('General Calc'!$F$5:$I$24,MATCH($C20,'General Calc'!$E$5:$E$24,0),MATCH($E$4,'General Calc'!$F$4:$I$4,0)))","v":""},""]
[null,{"$f":"IF(INDEX('Selected Criteria'!$D$6:$D$25,ROWS($B$5:$B21))=0,\"\",INDEX('Selected Criteria'!$D$6:$D$25,ROWS($B$5:$B21)))","v":""},{"$f":"IF(INDEX('Selected Criteria'!$E$6:$E$25,ROWS($C$5:$C21))=0,\"\",INDEX('Selected Criteria'!$E$6:$E$25,ROWS($C$5:$C21)))","v":""},null,{"$f":"IF($C21=\"\",\"\",INDEX('General Calc'!$F$5:$I$24,MATCH($C21,'General Calc'!$E$5:$E$24,0),MATCH($E$4,'General Calc'!$F$4:$I$4,0)))","v":""},""]
[null,{"$f":"IF(INDEX('Selected Criteria'!$D$6:$D$25,ROWS($B$5:$B22))=0,\"\",INDEX('Selected Criteria'!$D$6:$D$25,ROWS($B$5:$B22)))","v":""},{"$f":"IF(INDEX('Selected Criteria'!$E$6:$E$25,ROWS($C$5:$C22))=0,\"\",INDEX('Selected Criteria'!$E$6:$E$25,ROWS($C$5:$C22)))","v":""},null,{"$f":"IF($C22=\"\",\"\",INDEX('General Calc'!$F$5:$I$24,MATCH($C22,'General Calc'!$E$5:$E$24,0),MATCH($E$4,'General Calc'!$F$4:$I$4,0)))","v":""},""]
[null,{"$f":"IF(INDEX('Selected Criteria'!$D$6:$D$25,ROWS($B$5:$B23))=0,\"\",INDEX('Selected Criteria'!$D$6:$D$25,ROWS($B$5:$B23)))","v":""},{"$f":"IF(INDEX('Selected Criteria'!$E$6:$E$25,ROWS($C$5:$C23))=0,\"\",INDEX('Selected Criteria'!$E$6:$E$25,ROWS($C$5:$C23)))","v":""},null,{"$f":"IF($C23=\"\",\"\",INDEX('General Calc'!$F$5:$I$24,MATCH($C23,'General Calc'!$E$5:$E$24,0),MATCH($E$4,'General Calc'!$F$4:$I$4,0)))","v":""},""]
[null,{"$f":"IF(INDEX('Selected Criteria'!$D$6:$D$25,ROWS($B$5:$B24))=0,\"\",INDEX('Selected Criteria'!$D$6:$D$25,ROWS($B$5:$B24)))","v":""},{"$f":"IF(INDEX('Selected Criteria'!$E$6:$E$25,ROWS($C$5:$C24))=0,\"\",INDEX('Selected Criteria'!$E$6:$E$25,ROWS($C$5:$C24)))","v":""},null,{"$f":"IF($C24=\"\",\"\",INDEX('General Calc'!$F$5:$I$24,MATCH($C24,'General Calc'!$E$5:$E$24,0),MATCH($E$4,'General Calc'!$F$4:$I$4,0)))","v":""},""]

{"sheet":"Sensitivity","index":9,"n_rows":26,"n_cols":7,"rows_kept":26,"cut":false,"hidden":false,"merged":[[4,1,5,1],[4,3,4,6],[4,2,5,2],[1,0,1,6]]}
[]
["Sensitivity Analysis"]
[null,"Best Option",{"$f":"INDEX(Scoring!$F$4:$Z$4,MATCH(1,Analysis!$C$19:$W$19,0))","v":{"$error":"#N/A"}}]
[]
[null,"Category","Criteria","Proportional Change in Criteria Weighting"]
[null,null,null,-0.5,-0.25,0.25,0.5]
[null,{"$f":"IF(INDEX('Selected Criteria'!$D$6:$D$25,ROWS($B$7:$B7))=0,\"\",INDEX('Selected Criteria'!$D$6:$D$25,ROWS($B$7:$B7)))","v":""},{"$f":"IF(INDEX('Selected Criteria'!$E$6:$E$25,ROWS($C$7:$C7))=0,\"\",INDEX('Selected Criteria'!$E$6:$E$25,ROWS($C$7:$C7)))","v":""},{"$f":"IF($C7=\"\",\"\",INDEX('Sensitivity Calc'!$AA$5:$AA$84,MATCH($C7&D$6,'Sensitivity Calc'!$Z$5:$Z$84,0)))","v":""},{"$f":"IF($C7=\"\",\"\",INDEX('Sensitivity Calc'!$AA$5:$AA$84,MATCH($C7&E$6,'Sensitivity Calc'!$Z$5:$Z$84,0)))","v":""},{"$f":"IF($C7=\"\",\"\",INDEX('Sensitivity Calc'!$AA$5:$AA$84,MATCH($C7&F$6,'Sensitivity Calc'!$Z$5:$Z$84,0)))","v":""},{"$f":"IF($C7=\"\",\"\",INDEX('Sensitivity Calc'!$AA$5:$AA$84,MATCH($C7&G$6,'Sensitivity Calc'!$Z$5:$Z$84,0)))","v":""}]
[null,{"$f":"IF(INDEX('Selected Criteria'!$D$6:$D$25,ROWS($B$7:$B8))=0,\"\",INDEX('Selected Criteria'!$D$6:$D$25,ROWS($B$7:$B8)))","v":""},{"$f":"IF(INDEX('Selected Criteria'!$E$6:$E$25,ROWS($C$7:$C8))=0,\"\",INDEX('Selected Criteria'!$E$6:$E$25,ROWS($C$7:$C8)))","v":""},{"$f":"IF($C8=\"\",\"\",INDEX('Sensitivity Calc'!$AA$5:$AA$84,MATCH($C8&D$6,'Sensitivity Calc'!$Z$5:$Z$84,0)))","v":""},{"$f":"IF($C8=\"\",\"\",INDEX('Sensitivity Calc'!$AA$5:$AA$84,MATCH($C8&E$6,'Sensitivity Calc'!$Z$5:$Z$84,0)))","v":""},{"$f":"IF($C8=\"\",\"\",INDEX('Sensitivity Calc'!$AA$5:$AA$84,MATCH($C8&F$6,'Sensitivity Calc'!$Z$5:$Z$84,0)))","v":""},{"$f":"IF($C8=\"\",\"\",INDEX('Sensitivity Calc'!$AA$5:$AA$84,MATCH($C8&G$6,'Sensitivity Calc'!$Z$5:$Z$84,0)))","v":""}]
[null,{"$f":"IF(INDEX('Selected Criteria'!$D$6:$D$25,ROWS($B$7:$B9))=0,\"\",INDEX('Selected Criteria'!$D$6:$D$25,ROWS($B$7:$B9)))","v":""},{"$f":"IF(INDEX('Selected Criteria'!$E$6:$E$25,ROWS($C$7:$C9))=0,\"\",INDEX('Selected Criteria'!$E$6:$E$25,ROWS($C$7:$C9)))","v":""},{"$f":"IF($C9=\"\",\"\",INDEX('Sensitivity Calc'!$AA$5:$AA$84,MATCH($C9&D$6,'Sensitivity Calc'!$Z$5:$Z$84,0)))","v":""},{"$f":"IF($C9=\"\",\"\",INDEX('Sensitivity Calc'!$AA$5:$AA$84,MATCH($C9&E$6,'Sensitivity Calc'!$Z$5:$Z$84,0)))","v":""},{"$f":"IF($C9=\"\",\"\",INDEX('Sensitivity Calc'!$AA$5:$AA$84,MATCH($C9&F$6,'Sensitivity Calc'!$Z$5:$Z$84,0)))","v":""},{"$f":"IF($C9=\"\",\"\",INDEX('Sensitivity Calc'!$AA$5:$AA$84,MATCH($C9&G$6,'Sensitivity Calc'!$Z$5:$Z$84,0)))","v":""}]
[null,{"$f":"IF(INDEX('Selected Criteria'!$D$6:$D$25,ROWS($B$7:$B10))=0,\"\",INDEX('Selected Criteria'!$D$6:$D$25,ROWS($B$7:$B10)))","v":""},{"$f":"IF(INDEX('Selected Criteria'!$E$6:$E$25,ROWS($C$7:$C10))=0,\"\",INDEX('Selected Criteria'!$E$6:$E$25,ROWS($C$7:$C10)))","v":""},{"$f":"IF($C10=\"\",\"\",INDEX('Sensitivity Calc'!$AA$5:$AA$84,MATCH($C10&D$6,'Sensitivity Calc'!$Z$5:$Z$84,0)))","v":""},{"$f":"IF($C10=\"\",\"\",INDEX('Sensitivity Calc'!$AA$5:$AA$84,MATCH($C10&E$6,'Sensitivity Calc'!$Z$5:$Z$84,0)))","v":""},{"$f":"IF($C10=\"\",\"\",INDEX('Sensitivity Calc'!$AA$5:$AA$84,MATCH($C10&F$6,'Sensitivity Calc'!$Z$5:$Z$84,0)))","v":""},{"$f":"IF($C10=\"\",\"\",INDEX('Sensitivity Calc'!$AA$5:$AA$84,MATCH($C10&G$6,'Sensitivity Calc'!$Z$5:$Z$84,0)))","v":""}]
[null,{"$f":"IF(INDEX('Selected Criteria'!$D$6:$D$25,ROWS($B$7:$B11))=0,\"\",INDEX('Selected Criteria'!$D$6:$D$25,ROWS($B$7:$B11)))","v":""},{"$f":"IF(INDEX('Selected Criteria'!$E$6:$E$25,ROWS($C$7:$C11))=0,\"\",INDEX('Selected Criteria'!$E$6:$E$25,ROWS($C$7:$C11)))","v":""},{"$f":"IF($C11=\"\",\"\",INDEX('Sensitivity Calc'!$AA$5:$AA$84,MATCH($C11&D$6,'Sensitivity Calc'!$Z$5:$Z$84,0)))","v":""},{"$f":"IF($C11=\"\",\"\",INDEX('Sensitivity Calc'!$AA$5:$AA$84,MATCH($C11&E$6,'Sensitivity Calc'!$Z$5:$Z$84,0)))","v":""},{"$f":"IF($C11=\"\",\"\",INDEX('Sensitivity Calc'!$AA$5:$AA$84,MATCH($C11&F$6,'Sensitivity Calc'!$Z$5:$Z$84,0)))","v":""},{"$f":"IF($C11=\"\",\"\",INDEX('Sensitivity Calc'!$AA$5:$AA$84,MATCH($C11&G$6,'Sensitivity Calc'!$Z$5:$Z$84,0)))","v":""}]
[null,{"$f":"IF(INDEX('Selected Criteria'!$D$6:$D$25,ROWS($B$7:$B12))=0,\"\",INDEX('Selected Criteria'!$D$6:$D$25,ROWS($B$7:$B12)))","v":""},{"$f":"IF(INDEX('Selected Criteria'!$E$6:$E$25,ROWS($C$7:$C12))=0,\"\",INDEX('Selected Criteria'!$E$6:$E$25,ROWS($C$7:$C12)))","v":""},{"$f":"IF($C12=\"\",\"\",INDEX('Sensitivity Calc'!$AA$5:$AA$84,MATCH($C12&D$6,'Sensitivity Calc'!$Z$5:$Z$84,0)))","v":""},{"$f":"IF($C12=\"\",\"\",INDEX('Sensitivity Calc'!$AA$5:$AA$84,MATCH($C12&E$6,'Sensitivity Calc'!$Z$5:$Z$84,0)))","v":""},{"$f":"IF($C12=\"\",\"\",INDEX('Sensitivity Calc'!$AA$5:$AA$84,MATCH($C12&F$6,'Sensitivity Calc'!$Z$5:$Z$84,0)))","v":""},{"$f":"IF($C12=\"\",\"\",INDEX('Sensitivity Calc'!$AA$5:$AA$84,MATCH($C12&G$6,'Sensitivity Calc'!$Z$5:$Z$84,0)))","v":""}]
[null,{"$f":"IF(INDEX('Selected Criteria'!$D$6:$D$25,ROWS($B$7:$B13))=0,\"\",INDEX('Selected Criteria'!$D$6:$D$25,ROWS($B$7:$B13)))","v":""},{"$f":"IF(INDEX('Selected Criteria'!$E$6:$E$25,ROWS($C$7:$C13))=0,\"\",INDEX('Selected Criteria'!$E$6:$E$25,ROWS($C$7:$C13)))","v":""},{"$f":"IF($C13=\"\",\"\",INDEX('Sensitivity Calc'!$AA$5:$AA$84,MATCH($C13&D$6,'Sensitivity Calc'!$Z$5:$Z$84,0)))","v":""},{"$f":"IF($C13=\"\",\"\",INDEX('Sensitivity Calc'!$AA$5:$AA$84,MATCH($C13&E$6,'Sensitivity Calc'!$Z$5:$Z$84,0)))","v":""},{"$f":"IF($C13=\"\",\"\",INDEX('Sensitivity Calc'!$AA$5:$AA$84,MATCH($C13&F$6,'Sensitivity Calc'!$Z$5:$Z$84,0)))","v":""},{"$f":"IF($C13=\"\",\"\",INDEX('Sensitivity Calc'!$AA$5:$AA$84,MATCH($C13&G$6,'Sensitivity Calc'!$Z$5:$Z$84,0)))","v":""}]
[null,{"$f":"IF(INDEX('Selected Criteria'!$D$6:$D$25,ROWS($B$7:$B14))=0,\"\",INDEX('Selected Criteria'!$D$6:$D$25,ROWS($B$7:$B14)))","v":""},{"$f":"IF(INDEX('Selected Criteria'!$E$6:$E$25,ROWS($C$7:$C14))=0,\"\",INDEX('Selected Criteria'!$E$6:$E$25,ROWS($C$7:$C14)))","v":""},{"$f":"IF($C14=\"\",\"\",INDEX('Sensitivity Calc'!$AA$5:$AA$84,MATCH($C14&D$6,'Sensitivity Calc'!$Z$5:$Z$84,0)))","v":""},{"$f":"IF($C14=\"\",\"\",INDEX('Sensitivity Calc'!$AA$5:$AA$84,MATCH($C14&E$6,'Sensitivity Calc'!$Z$5:$Z$84,0)))","v":""},{"$f":"IF($C14=\"\",\"\",INDEX('Sensitivity Calc'!$AA$5:$AA$84,MATCH($C14&F$6,'Sensitivity Calc'!$Z$5:$Z$84,0)))","v":""},{"$f":"IF($C14=\"\",\"\",INDEX('Sensitivity Calc'!$AA$5:$AA$84,MATCH($C14&G$6,'Sensitivity Calc'!$Z$5:$Z$84,0)))","v":""}]
[null,{"$f":"IF(INDEX('Selected Criteria'!$D$6:$D$25,ROWS($B$7:$B15))=0,\"\",INDEX('Selected Criteria'!$D$6:$D$25,ROWS($B$7:$B15)))","v":""},{"$f":"IF(INDEX('Selected Criteria'!$E$6:$E$25,ROWS($C$7:$C15))=0,\"\",INDEX('Selected Criteria'!$E$6:$E$25,ROWS($C$7:$C15)))","v":""},{"$f":"IF($C15=\"\",\"\",INDEX('Sensitivity Calc'!$AA$5:$AA$84,MATCH($C15&D$6,'Sensitivity Calc'!$Z$5:$Z$84,0)))","v":""},{"$f":"IF($C15=\"\",\"\",INDEX('Sensitivity Calc'!$AA$5:$AA$84,MATCH($C15&E$6,'Sensitivity Calc'!$Z$5:$Z$84,0)))","v":""},{"$f":"IF($C15=\"\",\"\",INDEX('Sensitivity Calc'!$AA$5:$AA$84,MATCH($C15&F$6,'Sensitivity Calc'!$Z$5:$Z$84,0)))","v":""},{"$f":"IF($C15=\"\",\"\",INDEX('Sensitivity Calc'!$AA$5:$AA$84,MATCH($C15&G$6,'Sensitivity Calc'!$Z$5:$Z$84,0)))","v":""}]
[null,{"$f":"IF(INDEX('Selected Criteria'!$D$6:$D$25,ROWS($B$7:$B16))=0,\"\",INDEX('Selected Criteria'!$D$6:$D$25,ROWS($B$7:$B16)))","v":""},{"$f":"IF(INDEX('Selected Criteria'!$E$6:$E$25,ROWS($C$7:$C16))=0,\"\",INDEX('Selected Criteria'!$E$6:$E$25,ROWS($C$7:$C16)))","v":""},{"$f":"IF($C16=\"\",\"\",INDEX('Sensitivity Calc'!$AA$5:$AA$84,MATCH($C16&D$6,'Sensitivity Calc'!$Z$5:$Z$84,0)))","v":""},{"$f":"IF($C16=\"\",\"\",INDEX('Sensitivity Calc'!$AA$5:$AA$84,MATCH($C16&E$6,'Sensitivity Calc'!$Z$5:$Z$84,0)))","v":""},{"$f":"IF($C16=\"\",\"\",INDEX('Sensitivity Calc'!$AA$5:$AA$84,MATCH($C16&F$6,'Sensitivity Calc'!$Z$5:$Z$84,0)))","v":""},{"$f":"IF($C16=\"\",\"\",INDEX('Sensitivity Calc'!$AA$5:$AA$84,MATCH($C16&G$6,'Sensitivity Calc'!$Z$5:$Z$84,0)))","v":""}]
[null,{"$f":"IF(INDEX('Selected Criteria'!$D$6:$D$25,ROWS($B$7:$B17))=0,\"\",INDEX('Selected Criteria'!$D$6:$D$25,ROWS($B$7:$B17)))","v":""},{"$f":"IF(INDEX('Selected Criteria'!$E$6:$E$25,ROWS($C$7:$C17))=0,\"\",INDEX('Selected Criteria'!$E$6:$E$25,ROWS($C$7:$C17)))","v":""},{"$f":"IF($C17=\"\",\"\",INDEX('Sensitivity Calc'!$AA$5:$AA$84,MATCH($C17&D$6,'Sensitivity Calc'!$Z$5:$Z$84,0)))","v":""},{"$f":"IF($C17=\"\",\"\",INDEX('Sensitivity Calc'!$AA$5:$AA$84,MATCH($C17&E$6,'Sensitivity Calc'!$Z$5:$Z$84,0)))","v":""},{"$f":"IF($C17=\"\",\"\",INDEX('Sensitivity Calc'!$AA$5:$AA$84,MATCH($C17&F$6,'Sensitivity Calc'!$Z$5:$Z$84,0)))","v":""},{"$f":"IF($C17=\"\",\"\",INDEX('Sensitivity Calc'!$AA$5:$AA$84,MATCH($C17&G$6,'Sensitivity Calc'!$Z$5:$Z$84,0)))","v":""}]
[null,{"$f":"IF(INDEX('Selected Criteria'!$D$6:$D$25,ROWS($B$7:$B18))=0,\"\",INDEX('Selected Criteria'!$D$6:$D$25,ROWS($B$7:$B18)))","v":""},{"$f":"IF(INDEX('Selected Criteria'!$E$6:$E$25,ROWS($C$7:$C18))=0,\"\",INDEX('Selected Criteria'!$E$6:$E$25,ROWS($C$7:$C18)))","v":""},{"$f":"IF($C18=\"\",\"\",INDEX('Sensitivity Calc'!$AA$5:$AA$84,MATCH($C18&D$6,'Sensitivity Calc'!$Z$5:$Z$84,0)))","v":""},{"$f":"IF($C18=\"\",\"\",INDEX('Sensitivity Calc'!$AA$5:$AA$84,MATCH($C18&E$6,'Sensitivity Calc'!$Z$5:$Z$84,0)))","v":""},{"$f":"IF($C18=\"\",\"\",INDEX('Sensitivity Calc'!$AA$5:$AA$84,MATCH($C18&F$6,'Sensitivity Calc'!$Z$5:$Z$84,0)))","v":""},{"$f":"IF($C18=\"\",\"\",INDEX('Sensitivity Calc'!$AA$5:$AA$84,MATCH($C18&G$6,'Sensitivity Calc'!$Z$5:$Z$84,0)))","v":""}]
[null,{"$f":"IF(INDEX('Selected Criteria'!$D$6:$D$25,ROWS($B$7:$B19))=0,\"\",INDEX('Selected Criteria'!$D$6:$D$25,ROWS($B$7:$B19)))","v":""},{"$f":"IF(INDEX('Selected Criteria'!$E$6:$E$25,ROWS($C$7:$C19))=0,\"\",INDEX('Selected Criteria'!$E$6:$E$25,ROWS($C$7:$C19)))","v":""},{"$f":"IF($C19=\"\",\"\",INDEX('Sensitivity Calc'!$AA$5:$AA$84,MATCH($C19&D$6,'Sensitivity Calc'!$Z$5:$Z$84,0)))","v":""},{"$f":"IF($C19=\"\",\"\",INDEX('Sensitivity Calc'!$AA$5:$AA$84,MATCH($C19&E$6,'Sensitivity Calc'!$Z$5:$Z$84,0)))","v":""},{"$f":"IF($C19=\"\",\"\",INDEX('Sensitivity Calc'!$AA$5:$AA$84,MATCH($C19&F$6,'Sensitivity Calc'!$Z$5:$Z$84,0)))","v":""},{"$f":"IF($C19=\"\",\"\",INDEX('Sensitivity Calc'!$AA$5:$AA$84,MATCH($C19&G$6,'Sensitivity Calc'!$Z$5:$Z$84,0)))","v":""}]
[null,{"$f":"IF(INDEX('Selected Criteria'!$D$6:$D$25,ROWS($B$7:$B20))=0,\"\",INDEX('Selected Criteria'!$D$6:$D$25,ROWS($B$7:$B20)))","v":""},{"$f":"IF(INDEX('Selected Criteria'!$E$6:$E$25,ROWS($C$7:$C20))=0,\"\",INDEX('Selected Criteria'!$E$6:$E$25,ROWS($C$7:$C20)))","v":""},{"$f":"IF($C20=\"\",\"\",INDEX('Sensitivity Calc'!$AA$5:$AA$84,MATCH($C20&D$6,'Sensitivity Calc'!$Z$5:$Z$84,0)))","v":""},{"$f":"IF($C20=\"\",\"\",INDEX('Sensitivity Calc'!$AA$5:$AA$84,MATCH($C20&E$6,'Sensitivity Calc'!$Z$5:$Z$84,0)))","v":""},{"$f":"IF($C20=\"\",\"\",INDEX('Sensitivity Calc'!$AA$5:$AA$84,MATCH($C20&F$6,'Sensitivity Calc'!$Z$5:$Z$84,0)))","v":""},{"$f":"IF($C20=\"\",\"\",INDEX('Sensitivity Calc'!$AA$5:$AA$84,MATCH($C20&G$6,'Sensitivity Calc'!$Z$5:$Z$84,0)))","v":""}]
[null,{"$f":"IF(INDEX('Selected Criteria'!$D$6:$D$25,ROWS($B$7:$B21))=0,\"\",INDEX('Selected Criteria'!$D$6:$D$25,ROWS($B$7:$B21)))","v":""},{"$f":"IF(INDEX('Selected Criteria'!$E$6:$E$25,ROWS($C$7:$C21))=0,\"\",INDEX('Selected Criteria'!$E$6:$E$25,ROWS($C$7:$C21)))","v":""},{"$f":"IF($C21=\"\",\"\",INDEX('Sensitivity Calc'!$AA$5:$AA$84,MATCH($C21&D$6,'Sensitivity Calc'!$Z$5:$Z$84,0)))","v":""},{"$f":"IF($C21=\"\",\"\",INDEX('Sensitivity Calc'!$AA$5:$AA$84,MATCH($C21&E$6,'Sensitivity Calc'!$Z$5:$Z$84,0)))","v":""},{"$f":"IF($C21=\"\",\"\",INDEX('Sensitivity Calc'!$AA$5:$AA$84,MATCH($C21&F$6,'Sensitivity Calc'!$Z$5:$Z$84,0)))","v":""},{"$f":"IF($C21=\"\",\"\",INDEX('Sensitivity Calc'!$AA$5:$AA$84,MATCH($C21&G$6,'Sensitivity Calc'!$Z$5:$Z$84,0)))","v":""}]
[null,{"$f":"IF(INDEX('Selected Criteria'!$D$6:$D$25,ROWS($B$7:$B22))=0,\"\",INDEX('Selected Criteria'!$D$6:$D$25,ROWS($B$7:$B22)))","v":""},{"$f":"IF(INDEX('Selected Criteria'!$E$6:$E$25,ROWS($C$7:$C22))=0,\"\",INDEX('Selected Criteria'!$E$6:$E$25,ROWS($C$7:$C22)))","v":""},{"$f":"IF($C22=\"\",\"\",INDEX('Sensitivity Calc'!$AA$5:$AA$84,MATCH($C22&D$6,'Sensitivity Calc'!$Z$5:$Z$84,0)))","v":""},{"$f":"IF($C22=\"\",\"\",INDEX('Sensitivity Calc'!$AA$5:$AA$84,MATCH($C22&E$6,'Sensitivity Calc'!$Z$5:$Z$84,0)))","v":""},{"$f":"IF($C22=\"\",\"\",INDEX('Sensitivity Calc'!$AA$5:$AA$84,MATCH($C22&F$6,'Sensitivity Calc'!$Z$5:$Z$84,0)))","v":""},{"$f":"IF($C22=\"\",\"\",INDEX('Sensitivity Calc'!$AA$5:$AA$84,MATCH($C22&G$6,'Sensitivity Calc'!$Z$5:$Z$84,0)))","v":""}]
[null,{"$f":"IF(INDEX('Selected Criteria'!$D$6:$D$25,ROWS($B$7:$B23))=0,\"\",INDEX('Selected Criteria'!$D$6:$D$25,ROWS($B$7:$B23)))","v":""},{"$f":"IF(INDEX('Selected Criteria'!$E$6:$E$25,ROWS($C$7:$C23))=0,\"\",INDEX('Selected Criteria'!$E$6:$E$25,ROWS($C$7:$C23)))","v":""},{"$f":"IF($C23=\"\",\"\",INDEX('Sensitivity Calc'!$AA$5:$AA$84,MATCH($C23&D$6,'Sensitivity Calc'!$Z$5:$Z$84,0)))","v":""},{"$f":"IF($C23=\"\",\"\",INDEX('Sensitivity Calc'!$AA$5:$AA$84,MATCH($C23&E$6,'Sensitivity Calc'!$Z$5:$Z$84,0)))","v":""},{"$f":"IF($C23=\"\",\"\",INDEX('Sensitivity Calc'!$AA$5:$AA$84,MATCH($C23&F$6,'Sensitivity Calc'!$Z$5:$Z$84,0)))","v":""},{"$f":"IF($C23=\"\",\"\",INDEX('Sensitivity Calc'!$AA$5:$AA$84,MATCH($C23&G$6,'Sensitivity Calc'!$Z$5:$Z$84,0)))","v":""}]
[null,{"$f":"IF(INDEX('Selected Criteria'!$D$6:$D$25,ROWS($B$7:$B24))=0,\"\",INDEX('Selected Criteria'!$D$6:$D$25,ROWS($B$7:$B24)))","v":""},{"$f":"IF(INDEX('Selected Criteria'!$E$6:$E$25,ROWS($C$7:$C24))=0,\"\",INDEX('Selected Criteria'!$E$6:$E$25,ROWS($C$7:$C24)))","v":""},{"$f":"IF($C24=\"\",\"\",INDEX('Sensitivity Calc'!$AA$5:$AA$84,MATCH($C24&D$6,'Sensitivity Calc'!$Z$5:$Z$84,0)))","v":""},{"$f":"IF($C24=\"\",\"\",INDEX('Sensitivity Calc'!$AA$5:$AA$84,MATCH($C24&E$6,'Sensitivity Calc'!$Z$5:$Z$84,0)))","v":""},{"$f":"IF($C24=\"\",\"\",INDEX('Sensitivity Calc'!$AA$5:$AA$84,MATCH($C24&F$6,'Sensitivity Calc'!$Z$5:$Z$84,0)))","v":""},{"$f":"IF($C24=\"\",\"\",INDEX('Sensitivity Calc'!$AA$5:$AA$84,MATCH($C24&G$6,'Sensitivity Calc'!$Z$5:$Z$84,0)))","v":""}]
[null,{"$f":"IF(INDEX('Selected Criteria'!$D$6:$D$25,ROWS($B$7:$B25))=0,\"\",INDEX('Selected Criteria'!$D$6:$D$25,ROWS($B$7:$B25)))","v":""},{"$f":"IF(INDEX('Selected Criteria'!$E$6:$E$25,ROWS($C$7:$C25))=0,\"\",INDEX('Selected Criteria'!$E$6:$E$25,ROWS($C$7:$C25)))","v":""},{"$f":"IF($C25=\"\",\"\",INDEX('Sensitivity Calc'!$AA$5:$AA$84,MATCH($C25&D$6,'Sensitivity Calc'!$Z$5:$Z$84,0)))","v":""},{"$f":"IF($C25=\"\",\"\",INDEX('Sensitivity Calc'!$AA$5:$AA$84,MATCH($C25&E$6,'Sensitivity Calc'!$Z$5:$Z$84,0)))","v":""},{"$f":"IF($C25=\"\",\"\",INDEX('Sensitivity Calc'!$AA$5:$AA$84,MATCH($C25&F$6,'Sensitivity Calc'!$Z$5:$Z$84,0)))","v":""},{"$f":"IF($C25=\"\",\"\",INDEX('Sensitivity Calc'!$AA$5:$AA$84,MATCH($C25&G$6,'Sensitivity Calc'!$Z$5:$Z$84,0)))","v":""}]
[null,{"$f":"IF(INDEX('Selected Criteria'!$D$6:$D$25,ROWS($B$7:$B26))=0,\"\",INDEX('Selected Criteria'!$D$6:$D$25,ROWS($B$7:$B26)))","v":""},{"$f":"IF(INDEX('Selected Criteria'!$E$6:$E$25,ROWS($C$7:$C26))=0,\"\",INDEX('Selected Criteria'!$E$6:$E$25,ROWS($C$7:$C26)))","v":""},{"$f":"IF($C26=\"\",\"\",INDEX('Sensitivity Calc'!$AA$5:$AA$84,MATCH($C26&D$6,'Sensitivity Calc'!$Z$5:$Z$84,0)))","v":""},{"$f":"IF($C26=\"\",\"\",INDEX('Sensitivity Calc'!$AA$5:$AA$84,MATCH($C26&E$6,'Sensitivity Calc'!$Z$5:$Z$84,0)))","v":""},{"$f":"IF($C26=\"\",\"\",INDEX('Sensitivity Calc'!$AA$5:$AA$84,MATCH($C26&F$6,'Sensitivity Calc'!$Z$5:$Z$84,0)))","v":""},{"$f":"IF($C26=\"\",\"\",INDEX('Sensitivity Calc'!$AA$5:$AA$84,MATCH($C26&G$6,'Sensitivity Calc'!$Z$5:$Z$84,0)))","v":""}]

{"sheet":"Analysis","index":10,"n_rows":30,"n_cols":33,"rows_kept":30,"cut":false,"hidden":false,"merged":[[8,1,8,2],[1,0,1,11],[2,1,2,2],[2,3,2,4],[2,5,2,6],[2,7,2,8],[2,9,2,10],[3,2,3,11],[4,2,4,11],[6,2,6,11],[9,3,14,11],[8,3,8,4],[8,5,8,6],[8,7,8,8],[8,9,8,10]]}
[]
["Analysis"]
[null,"Project Decription"]
[null,{"$f":"'Project Description'!$B$9","v":"Decision Context: "},{"$f":"'Project Description'!$D$10","v":"Type here…"}]
[null,{"$f":"'Project Description'!$B$12","v":"Network Context: "},{"$f":"'Project Description'!$D$13","v":"Type here…"}]
[null,{"$f":"'Project Description'!$B$15","v":"Key Objectives: "},{"$f":"IFERROR(INDEX('Project Description'!$D$16:$D$20,SMALL(IF(TRUE='Project Description'!$F$16:$F$20,ROW('Project Description'!$F$16:$F$20)-MIN(ROW('Project Description'!$F$16:$F$20))+1,\"\"),ROW(AA1))),\"\")","v":""},{"$f":"IFERROR(INDEX('Project Description'!$D$16:$D$20,SMALL(IF(TRUE='Project Description'!$F$16:$F$20,ROW('Project Description'!$F$16:$F$20)-MIN(ROW('Project Description'!$F$16:$F$20))+1,\"\"),ROW(AA2))),\"\")","v":""},{"$f":"IFERROR(INDEX('Project Description'!$D$16:$D$20,SMALL(IF(TRUE='Project Description'!$F$16:$F$20,ROW('Project Description'!$F$16:$F$20)-MIN(ROW('Project Description'!$F$16:$F$20))+1,\"\"),ROW(AA3))),\"\")","v":""},{"$f":"IFERROR(INDEX('Project Description'!$D$16:$D$20,SMALL(IF(TRUE='Project Description'!$F$16:$F$20,ROW('Project Description'!$F$16:$F$20)-MIN(ROW('Project Description'!$F$16:$F$20))+1,\"\"),ROW(AA4))),\"\")","v":""},{"$f":"IFERROR(INDEX('Project Description'!$D$16:$D$20,SMALL(IF(TRUE='Project Description'!$F$16:$F$20,ROW('Project Description'!$F$16:$F$20)-MIN(ROW('Project Description'!$F$16:$F$20))+1,\"\"),ROW(AA5))),\"\")","v":""},null,null,null,null,null,null,null,null,null,null,null,null,null,null,null,null,null,null,null,{"$f":"IFERROR(INDEX('Project Description'!$D$16:$D$20,SMALL(IF(TRUE='Project Description'!$F$16:$F$20,ROW('Project Description'!$F$16:$F$20)-MIN(ROW('Project Description'!$F$16:$F$20))+1,\"\"),ROW(AA6))),\"\")","v":""}]
[null,null,{"$f":"'Project Description'!$D$23","v":"Type here…"}]
[]
[null,"Best Option"]
[null,"Overall",{"$f":"INDEX(Scoring!$F$4:$Z$4,MATCH(1,Analysis!$C$19:$W$19,0))","v":{"$error":"#N/A"}},{"$f":"INDEX('Define Options'!$E$8:$E$27,MATCH(C10,'Define Options'!$D$8:$D$27,0))","v":{"$error":"#N/A"}}]
[null,{"$f":"IF(ROWS($B$11:$B11)>Criteria!$N$8,\"\",INDEX(Criteria!$B:$B,MATCH(ROWS($B$11:$B11),Criteria!$O:$O,0)))","v":""},{"$f":"IF(B11=\"\",\"\",INDEX($D$23:$X$23,MATCH(MAX(D24:X24),D24:X24,0)))","v":""}]
[null,{"$f":"IF(ROWS($B$11:$B12)>Criteria!$N$8,\"\",INDEX(Criteria!$B:$B,MATCH(ROWS($B$11:$B12),Criteria!$O:$O,0)))","v":""},{"$f":"IF(B12=\"\",\"\",INDEX($D$23:$X$23,MATCH(MAX(D25:X25),D25:X25,0)))","v":""}]
[null,{"$f":"IF(ROWS($B$11:$B13)>Criteria!$N$8,\"\",INDEX(Criteria!$B:$B,MATCH(ROWS($B$11:$B13),Criteria!$O:$O,0)))","v":""},{"$f":"IF(B13=\"\",\"\",INDEX($D$23:$X$23,MATCH(MAX(D26:X26),D26:X26,0)))","v":""}]
[null,{"$f":"IF(ROWS($B$11:$B14)>Criteria!$N$8,\"\",INDEX(Criteria!$B:$B,MATCH(ROWS($B$11:$B14),Criteria!$O:$O,0)))","v":""},{"$f":"IF(B14=\"\",\"\",INDEX($D$23:$X$23,MATCH(MAX(D27:X27),D27:X27,0)))","v":""}]
[null,{"$f":"IF(ROWS($B$11:$B15)>Criteria!$N$8,\"\",INDEX(Criteria!$B:$B,MATCH(ROWS($B$11:$B15),Criteria!$O:$O,0)))","v":""},{"$f":"IF(B15=\"\",\"\",INDEX($D$23:$X$23,MATCH(MAX(D28:X28),D28:X28,0)))","v":""}]
[]
[null,"Summary of Option Scoring",{"$f":"Scoring!F4","v":"Base Case"},{"$f":"Scoring!G4","v":""},{"$f":"Scoring!H4","v":""},{"$f":"Scoring!I4","v":""},{"$f":"Scoring!J4","v":""},{"$f":"Scoring!K4","v":""},{"$f":"Scoring!L4","v":""},{"$f":"Scoring!M4","v":""},{"$f":"Scoring!N4","v":""},{"$f":"Scoring!O4","v":""},{"$f":"Scoring!P4","v":""},{"$f":"Scoring!Q4","v":""},{"$f":"Scoring!R4","v":""},{"$f":"Scoring!S4","v":""},{"$f":"Scoring!T4","v":""},{"$f":"Scoring!U4","v":""},{"$f":"Scoring!V4","v":""},{"$f":"Scoring!W4","v":""},{"$f":"Scoring!X4","v":""},{"$f":"Scoring!Y4","v":""},{"$f":"Scoring!Z4","v":""}]
[null,"Score",{"$f":"SUMPRODUCT(Scoring!$E$5:$E$24,Scoring!F5:F24)","v":0},{"$f":"SUMPRODUCT(Scoring!$E$5:$E$24,Scoring!G5:G24)","v":0},{"$f":"SUMPRODUCT(Scoring!$E$5:$E$24,Scoring!H5:H24)","v":0},{"$f":"SUMPRODUCT(Scoring!$E$5:$E$24,Scoring!I5:I24)","v":0},{"$f":"SUMPRODUCT(Scoring!$E$5:$E$24,Scoring!J5:J24)","v":0},{"$f":"SUMPRODUCT(Scoring!$E$5:$E$24,Scoring!K5:K24)","v":0},{"$f":"SUMPRODUCT(Scoring!$E$5:$E$24,Scoring!L5:L24)","v":0},{"$f":"SUMPRODUCT(Scoring!$E$5:$E$24,Scoring!M5:M24)","v":0},{"$f":"SUMPRODUCT(Scoring!$E$5:$E$24,Scoring!N5:N24)","v":0},{"$f":"SUMPRODUCT(Scoring!$E$5:$E$24,Scoring!O5:O24)","v":0},{"$f":"SUMPRODUCT(Scoring!$E$5:$E$24,Scoring!P5:P24)","v":0},{"$f":"SUMPRODUCT(Scoring!$E$5:$E$24,Scoring!Q5:Q24)","v":0},{"$f":"SUMPRODUCT(Scoring!$E$5:$E$24,Scoring!R5:R24)","v":0},{"$f":"SUMPRODUCT(Scoring!$E$5:$E$24,Scoring!S5:S24)","v":0},{"$f":"SUMPRODUCT(Scoring!$E$5:$E$24,Scoring!T5:T24)","v":0},{"$f":"SUMPRODUCT(Scoring!$E$5:$E$24,Scoring!U5:U24)","v":0},{"$f":"SUMPRODUCT(Scoring!$E$5:$E$24,Scoring!V5:V24)","v":0},{"$f":"SUMPRODUCT(Scoring!$E$5:$E$24,Scoring!W5:W24)","v":0},{"$f":"SUMPRODUCT(Scoring!$E$5:$E$24,Scoring!X5:X24)","v":0},{"$f":"SUMPRODUCT(Scoring!$E$5:$E$24,Scoring!Y5:Y24)","v":0},{"$f":"SUMPRODUCT(Scoring!$E$5:$E$24,Scoring!Z5:Z24)","v":0}]
[null,"Rank",{"$f":"IF(C18<>0,RANK(C18,$C$18:$W$18),\"\")","v":""},"","","","","","","","","","","","","","","","","","","",""]
[]
[]
[]
[null,"Category",{"$f":"Scoring!E4","v":"Rank Sum"},"Base Case",{"$f":"INDEX('Define Options'!$D$8:$D$27,COLUMNS($F$10:F$10))","v":0},{"$f":"INDEX('Define Options'!$D$8:$D$27,COLUMNS($F$10:G$10))","v":0},{"$f":"INDEX('Define Options'!$D$8:$D$27,COLUMNS($F$10:H$10))","v":0},{"$f":"INDEX('Define Options'!$D$8:$D$27,COLUMNS($F$10:I$10))","v":0},{"$f":"INDEX('Define Options'!$D$8:$D$27,COLUMNS($F$10:J$10))","v":0},{"$f":"INDEX('Define Options'!$D$8:$D$27,COLUMNS($F$10:K$10))","v":0},{"$f":"INDEX('Define Options'!$D$8:$D$27,COLUMNS($F$10:L$10))","v":0},{"$f":"INDEX('Define Options'!$D$8:$D$27,COLUMNS($F$10:M$10))","v":0},{"$f":"INDEX('Define Options'!$D$8:$D$27,COLUMNS($F$10:N$10))","v":0},{"$f":"INDEX('Define Options'!$D$8:$D$27,COLUMNS($F$10:O$10))","v":0},{"$f":"INDEX('Define Options'!$D$8:$D$27,COLUMNS($F$10:P$10))","v":0},{"$f":"INDEX('Define Options'!$D$8:$D$27,COLUMNS($F$10:Q$10))","v":0},{"$f":"INDEX('Define Options'!$D$8:$D$27,COLUMNS($F$10:R$10))","v":0},{"$f":"INDEX('Define Options'!$D$8:$D$27,COLUMNS($F$10:S$10))","v":0},{"$f":"INDEX('Define Options'!$D$8:$D$27,COLUMNS($F$10:T$10))","v":0},{"$f":"INDEX('Define Options'!$D$8:$D$27,COLUMNS($F$10:U$10))","v":0},{"$f":"INDEX('Define Options'!$D$8:$D$27,COLUMNS($F$10:V$10))","v":0},{"$f":"INDEX('Define Options'!$D$8:$D$27,COLUMNS($F$10:W$10))","v":0},{"$f":"INDEX('Define Options'!$D$8:$D$27,COLUMNS($F$10:X$10))","v":0},{"$f":"INDEX('Define Options'!$D$8:$D$27,COLUMNS($F$10:AA$10))","v":{"$error":"#REF!"}}]
[null,{"$f":"IF(ROWS($B$24:$B24)>Criteria!$N$8,\"\",INDEX(Criteria!$B:$B,MATCH(ROWS($B$24:$B24),Criteria!$O:$O,0)))","v":""},{"$f":"IF(B24=\"\",\"\",SUMIF(Scoring!$B$5:$B$24,B24,Scoring!$E$5:$E$24))","v":""},{"$f":"IF($B24=\"\",\"\",SUMPRODUCT(Scoring!$E$5:$E$24,(Scoring!$B$5:$B$24=$B24)*1,Scoring!F$5:F$24))","v":""},{"$f":"IF($B24=\"\",\"\",SUMPRODUCT(Scoring!$E$5:$E$24,(Scoring!$B$5:$B$24=$B24)*1,Scoring!G$5:G$24))","v":""},{"$f":"IF($B24=\"\",\"\",SUMPRODUCT(Scoring!$E$5:$E$24,(Scoring!$B$5:$B$24=$B24)*1,Scoring!H$5:H$24))","v":""},{"$f":"IF($B24=\"\",\"\",SUMPRODUCT(Scoring!$E$5:$E$24,(Scoring!$B$5:$B$24=$B24)*1,Scoring!I$5:I$24))","v":""},{"$f":"IF($B24=\"\",\"\",SUMPRODUCT(Scoring!$E$5:$E$24,(Scoring!$B$5:$B$24=$B24)*1,Scoring!J$5:J$24))","v":""},{"$f":"IF($B24=\"\",\"\",SUMPRODUCT(Scoring!$E$5:$E$24,(Scoring!$B$5:$B$24=$B24)*1,Scoring!K$5:K$24))","v":""},{"$f":"IF($B24=\"\",\"\",SUMPRODUCT(Scoring!$E$5:$E$24,(Scoring!$B$5:$B$24=$B24)*1,Scoring!L$5:L$24))","v":""},{"$f":"IF($B24=\"\",\"\",SUMPRODUCT(Scoring!$E$5:$E$24,(Scoring!$B$5:$B$24=$B24)*1,Scoring!M$5:M$24))","v":""},{"$f":"IF($B24=\"\",\"\",SUMPRODUCT(Scoring!$E$5:$E$24,(Scoring!$B$5:$B$24=$B24)*1,Scoring!N$5:N$24))","v":""},{"$f":"IF($B24=\"\",\"\",SUMPRODUCT(Scoring!$E$5:$E$24,(Scoring!$B$5:$B$24=$B24)*1,Scoring!O$5:O$24))","v":""},{"$f":"IF($B24=\"\",\"\",SUMPRODUCT(Scoring!$E$5:$E$24,(Scoring!$B$5:$B$24=$B24)*1,Scoring!P$5:P$24))","v":""},{"$f":"IF($B24=\"\",\"\",SUMPRODUCT(Scoring!$E$5:$E$24,(Scoring!$B$5:$B$24=$B24)*1,Scoring!Q$5:Q$24))","v":""},{"$f":"IF($B24=\"\",\"\",SUMPRODUCT(Scoring!$E$5:$E$24,(Scoring!$B$5:$B$24=$B24)*1,Scoring!R$5:R$24))","v":""},{"$f":"IF($B24=\"\",\"\",SUMPRODUCT(Scoring!$E$5:$E$24,(Scoring!$B$5:$B$24=$B24)*1,Scoring!S$5:S$24))","v":""},{"$f":"IF($B24=\"\",\"\",SUMPRODUCT(Scoring!$E$5:$E$24,(Scoring!$B$5:$B$24=$B24)*1,Scoring!T$5:T$24))","v":""},{"$f":"IF($B24=\"\",\"\",SUMPRODUCT(Scoring!$E$5:$E$24,(Scoring!$B$5:$B$24=$B24)*1,Scoring!U$5:U$24))","v":""},{"$f":"IF($B24=\"\",\"\",SUMPRODUCT(Scoring!$E$5:$E$24,(Scoring!$B$5:$B$24=$B24)*1,Scoring!V$5:V$24))","v":""},{"$f":"IF($B24=\"\",\"\",SUMPRODUCT(Scoring!$E$5:$E$24,(Scoring!$B$5:$B$24=$B24)*1,Scoring!W$5:W$24))","v":""},{"$f":"IF($B24=\"\",\"\",SUMPRODUCT(Scoring!$E$5:$E$24,(Scoring!$B$5:$B$24=$B24)*1,Scoring!X$5:X$24))","v":""},{"$f":"IF($B24=\"\",\"\",SUMPRODUCT(Scoring!$E$5:$E$24,(Scoring!$B$5:$B$24=$B24)*1,Scoring!Y$5:Y$24))","v":""},{"$f":"IF($B24=\"\",\"\",SUMPRODUCT(Scoring!$E$5:$E$24,(Scoring!$B$5:$B$24=$B24)*1,Scoring!Z$5:Z$24))","v":""}]
[null,{"$f":"IF(ROWS($B$24:$B25)>Criteria!$N$8,\"\",INDEX(Criteria!$B:$B,MATCH(ROWS($B$24:$B25),Criteria!$O:$O,0)))","v":""},{"$f":"IF(B25=\"\",\"\",SUMIF(Scoring!$B$5:$B$24,B25,Scoring!$E$5:$E$24))","v":""},{"$f":"IF($B25=\"\",\"\",SUMPRODUCT(Scoring!$E$5:$E$24,(Scoring!$B$5:$B$24=$B25)*1,Scoring!F$5:F$24))","v":""},{"$f":"IF($B25=\"\",\"\",SUMPRODUCT(Scoring!$E$5:$E$24,(Scoring!$B$5:$B$24=$B25)*1,Scoring!G$5:G$24))","v":""},{"$f":"IF($B25=\"\",\"\",SUMPRODUCT(Scoring!$E$5:$E$24,(Scoring!$B$5:$B$24=$B25)*1,Scoring!H$5:H$24))","v":""},{"$f":"IF($B25=\"\",\"\",SUMPRODUCT(Scoring!$E$5:$E$24,(Scoring!$B$5:$B$24=$B25)*1,Scoring!I$5:I$24))","v":""},{"$f":"IF($B25=\"\",\"\",SUMPRODUCT(Scoring!$E$5:$E$24,(Scoring!$B$5:$B$24=$B25)*1,Scoring!J$5:J$24))","v":""},{"$f":"IF($B25=\"\",\"\",SUMPRODUCT(Scoring!$E$5:$E$24,(Scoring!$B$5:$B$24=$B25)*1,Scoring!K$5:K$24))","v":""},{"$f":"IF($B25=\"\",\"\",SUMPRODUCT(Scoring!$E$5:$E$24,(Scoring!$B$5:$B$24=$B25)*1,Scoring!L$5:L$24))","v":""},{"$f":"IF($B25=\"\",\"\",SUMPRODUCT(Scoring!$E$5:$E$24,(Scoring!$B$5:$B$24=$B25)*1,Scoring!M$5:M$24))","v":""},{"$f":"IF($B25=\"\",\"\",SUMPRODUCT(Scoring!$E$5:$E$24,(Scoring!$B$5:$B$24=$B25)*1,Scoring!N$5:N$24))","v":""},{"$f":"IF($B25=\"\",\"\",SUMPRODUCT(Scoring!$E$5:$E$24,(Scoring!$B$5:$B$24=$B25)*1,Scoring!O$5:O$24))","v":""},{"$f":"IF($B25=\"\",\"\",SUMPRODUCT(Scoring!$E$5:$E$24,(Scoring!$B$5:$B$24=$B25)*1,Scoring!P$5:P$24))","v":""},{"$f":"IF($B25=\"\",\"\",SUMPRODUCT(Scoring!$E$5:$E$24,(Scoring!$B$5:$B$24=$B25)*1,Scoring!Q$5:Q$24))","v":""},{"$f":"IF($B25=\"\",\"\",SUMPRODUCT(Scoring!$E$5:$E$24,(Scoring!$B$5:$B$24=$B25)*1,Scoring!R$5:R$24))","v":""},{"$f":"IF($B25=\"\",\"\",SUMPRODUCT(Scoring!$E$5:$E$24,(Scoring!$B$5:$B$24=$B25)*1,Scoring!S$5:S$24))","v":""},{"$f":"IF($B25=\"\",\"\",SUMPRODUCT(Scoring!$E$5:$E$24,(Scoring!$B$5:$B$24=$B25)*1,Scoring!T$5:T$24))","v":""},{"$f":"IF($B25=\"\",\"\",SUMPRODUCT(Scoring!$E$5:$E$24,(Scoring!$B$5:$B$24=$B25)*1,Scoring!U$5:U$24))","v":""},{"$f":"IF($B25=\"\",\"\",SUMPRODUCT(Scoring!$E$5:$E$24,(Scoring!$B$5:$B$24=$B25)*1,Scoring!V$5:V$24))","v":""},{"$f":"IF($B25=\"\",\"\",SUMPRODUCT(Scoring!$E$5:$E$24,(Scoring!$B$5:$B$24=$B25)*1,Scoring!W$5:W$24))","v":""},{"$f":"IF($B25=\"\",\"\",SUMPRODUCT(Scoring!$E$5:$E$24,(Scoring!$B$5:$B$24=$B25)*1,Scoring!X$5:X$24))","v":""},{"$f":"IF($B25=\"\",\"\",SUMPRODUCT(Scoring!$E$5:$E$24,(Scoring!$B$5:$B$24=$B25)*1,Scoring!Y$5:Y$24))","v":""},{"$f":"IF($B25=\"\",\"\",SUMPRODUCT(Scoring!$E$5:$E$24,(Scoring!$B$5:$B$24=$B25)*1,Scoring!Z$5:Z$24))","v":""}]
[null,{"$f":"IF(ROWS($B$24:$B26)>Criteria!$N$8,\"\",INDEX(Criteria!$B:$B,MATCH(ROWS($B$24:$B26),Criteria!$O:$O,0)))","v":""},{"$f":"IF(B26=\"\",\"\",SUMIF(Scoring!$B$5:$B$24,B26,Scoring!$E$5:$E$24))","v":""},{"$f":"IF($B26=\"\",\"\",SUMPRODUCT(Scoring!$E$5:$E$24,(Scoring!$B$5:$B$24=$B26)*1,Scoring!F$5:F$24))","v":""},{"$f":"IF($B26=\"\",\"\",SUMPRODUCT(Scoring!$E$5:$E$24,(Scoring!$B$5:$B$24=$B26)*1,Scoring!G$5:G$24))","v":""},{"$f":"IF($B26=\"\",\"\",SUMPRODUCT(Scoring!$E$5:$E$24,(Scoring!$B$5:$B$24=$B26)*1,Scoring!H$5:H$24))","v":""},{"$f":"IF($B26=\"\",\"\",SUMPRODUCT(Scoring!$E$5:$E$24,(Scoring!$B$5:$B$24=$B26)*1,Scoring!I$5:I$24))","v":""},{"$f":"IF($B26=\"\",\"\",SUMPRODUCT(Scoring!$E$5:$E$24,(Scoring!$B$5:$B$24=$B26)*1,Scoring!J$5:J$24))","v":""},{"$f":"IF($B26=\"\",\"\",SUMPRODUCT(Scoring!$E$5:$E$24,(Scoring!$B$5:$B$24=$B26)*1,Scoring!K$5:K$24))","v":""},{"$f":"IF($B26=\"\",\"\",SUMPRODUCT(Scoring!$E$5:$E$24,(Scoring!$B$5:$B$24=$B26)*1,Scoring!L$5:L$24))","v":""},{"$f":"IF($B26=\"\",\"\",SUMPRODUCT(Scoring!$E$5:$E$24,(Scoring!$B$5:$B$24=$B26)*1,Scoring!M$5:M$24))","v":""},{"$f":"IF($B26=\"\",\"\",SUMPRODUCT(Scoring!$E$5:$E$24,(Scoring!$B$5:$B$24=$B26)*1,Scoring!N$5:N$24))","v":""},{"$f":"IF($B26=\"\",\"\",SUMPRODUCT(Scoring!$E$5:$E$24,(Scoring!$B$5:$B$24=$B26)*1,Scoring!O$5:O$24))","v":""},{"$f":"IF($B26=\"\",\"\",SUMPRODUCT(Scoring!$E$5:$E$24,(Scoring!$B$5:$B$24=$B26)*1,Scoring!P$5:P$24))","v":""},{"$f":"IF($B26=\"\",\"\",SUMPRODUCT(Scoring!$E$5:$E$24,(Scoring!$B$5:$B$24=$B26)*1,Scoring!Q$5:Q$24))","v":""},{"$f":"IF($B26=\"\",\"\",SUMPRODUCT(Scoring!$E$5:$E$24,(Scoring!$B$5:$B$24=$B26)*1,Scoring!R$5:R$24))","v":""},{"$f":"IF($B26=\"\",\"\",SUMPRODUCT(Scoring!$E$5:$E$24,(Scoring!$B$5:$B$24=$B26)*1,Scoring!S$5:S$24))","v":""},{"$f":"IF($B26=\"\",\"\",SUMPRODUCT(Scoring!$E$5:$E$24,(Scoring!$B$5:$B$24=$B26)*1,Scoring!T$5:T$24))","v":""},{"$f":"IF($B26=\"\",\"\",SUMPRODUCT(Scoring!$E$5:$E$24,(Scoring!$B$5:$B$24=$B26)*1,Scoring!U$5:U$24))","v":""},{"$f":"IF($B26=\"\",\"\",SUMPRODUCT(Scoring!$E$5:$E$24,(Scoring!$B$5:$B$24=$B26)*1,Scoring!V$5:V$24))","v":""},{"$f":"IF($B26=\"\",\"\",SUMPRODUCT(Scoring!$E$5:$E$24,(Scoring!$B$5:$B$24=$B26)*1,Scoring!W$5:W$24))","v":""},{"$f":"IF($B26=\"\",\"\",SUMPRODUCT(Scoring!$E$5:$E$24,(Scoring!$B$5:$B$24=$B26)*1,Scoring!X$5:X$24))","v":""},{"$f":"IF($B26=\"\",\"\",SUMPRODUCT(Scoring!$E$5:$E$24,(Scoring!$B$5:$B$24=$B26)*1,Scoring!Y$5:Y$24))","v":""},{"$f":"IF($B26=\"\",\"\",SUMPRODUCT(Scoring!$E$5:$E$24,(Scoring!$B$5:$B$24=$B26)*1,Scoring!Z$5:Z$24))","v":""}]
[null,{"$f":"IF(ROWS($B$24:$B27)>Criteria!$N$8,\"\",INDEX(Criteria!$B:$B,MATCH(ROWS($B$24:$B27),Criteria!$O:$O,0)))","v":""},{"$f":"IF(B27=\"\",\"\",SUMIF(Scoring!$B$5:$B$24,B27,Scoring!$E$5:$E$24))","v":""},{"$f":"IF($B27=\"\",\"\",SUMPRODUCT(Scoring!$E$5:$E$24,(Scoring!$B$5:$B$24=$B27)*1,Scoring!F$5:F$24))","v":""},{"$f":"IF($B27=\"\",\"\",SUMPRODUCT(Scoring!$E$5:$E$24,(Scoring!$B$5:$B$24=$B27)*1,Scoring!G$5:G$24))","v":""},{"$f":"IF($B27=\"\",\"\",SUMPRODUCT(Scoring!$E$5:$E$24,(Scoring!$B$5:$B$24=$B27)*1,Scoring!H$5:H$24))","v":""},{"$f":"IF($B27=\"\",\"\",SUMPRODUCT(Scoring!$E$5:$E$24,(Scoring!$B$5:$B$24=$B27)*1,Scoring!I$5:I$24))","v":""},{"$f":"IF($B27=\"\",\"\",SUMPRODUCT(Scoring!$E$5:$E$24,(Scoring!$B$5:$B$24=$B27)*1,Scoring!J$5:J$24))","v":""},{"$f":"IF($B27=\"\",\"\",SUMPRODUCT(Scoring!$E$5:$E$24,(Scoring!$B$5:$B$24=$B27)*1,Scoring!K$5:K$24))","v":""},{"$f":"IF($B27=\"\",\"\",SUMPRODUCT(Scoring!$E$5:$E$24,(Scoring!$B$5:$B$24=$B27)*1,Scoring!L$5:L$24))","v":""},{"$f":"IF($B27=\"\",\"\",SUMPRODUCT(Scoring!$E$5:$E$24,(Scoring!$B$5:$B$24=$B27)*1,Scoring!M$5:M$24))","v":""},{"$f":"IF($B27=\"\",\"\",SUMPRODUCT(Scoring!$E$5:$E$24,(Scoring!$B$5:$B$24=$B27)*1,Scoring!N$5:N$24))","v":""},{"$f":"IF($B27=\"\",\"\",SUMPRODUCT(Scoring!$E$5:$E$24,(Scoring!$B$5:$B$24=$B27)*1,Scoring!O$5:O$24))","v":""},{"$f":"IF($B27=\"\",\"\",SUMPRODUCT(Scoring!$E$5:$E$24,(Scoring!$B$5:$B$24=$B27)*1,Scoring!P$5:P$24))","v":""},{"$f":"IF($B27=\"\",\"\",SUMPRODUCT(Scoring!$E$5:$E$24,(Scoring!$B$5:$B$24=$B27)*1,Scoring!Q$5:Q$24))","v":""},{"$f":"IF($B27=\"\",\"\",SUMPRODUCT(Scoring!$E$5:$E$24,(Scoring!$B$5:$B$24=$B27)*1,Scoring!R$5:R$24))","v":""},{"$f":"IF($B27=\"\",\"\",SUMPRODUCT(Scoring!$E$5:$E$24,(Scoring!$B$5:$B$24=$B27)*1,Scoring!S$5:S$24))","v":""},{"$f":"IF($B27=\"\",\"\",SUMPRODUCT(Scoring!$E$5:$E$24,(Scoring!$B$5:$B$24=$B27)*1,Scoring!T$5:T$24))","v":""},{"$f":"IF($B27=\"\",\"\",SUMPRODUCT(Scoring!$E$5:$E$24,(Scoring!$B$5:$B$24=$B27)*1,Scoring!U$5:U$24))","v":""},{"$f":"IF($B27=\"\",\"\",SUMPRODUCT(Scoring!$E$5:$E$24,(Scoring!$B$5:$B$24=$B27)*1,Scoring!V$5:V$24))","v":""},{"$f":"IF($B27=\"\",\"\",SUMPRODUCT(Scoring!$E$5:$E$24,(Scoring!$B$5:$B$24=$B27)*1,Scoring!W$5:W$24))","v":""},{"$f":"IF($B27=\"\",\"\",SUMPRODUCT(Scoring!$E$5:$E$24,(Scoring!$B$5:$B$24=$B27)*1,Scoring!X$5:X$24))","v":""},{"$f":"IF($B27=\"\",\"\",SUMPRODUCT(Scoring!$E$5:$E$24,(Scoring!$B$5:$B$24=$B27)*1,Scoring!Y$5:Y$24))","v":""},{"$f":"IF($B27=\"\",\"\",SUMPRODUCT(Scoring!$E$5:$E$24,(Scoring!$B$5:$B$24=$B27)*1,Scoring!Z$5:Z$24))","v":""}]
[null,{"$f":"IF(ROWS($B$24:$B28)>Criteria!$N$8,\"\",INDEX(Criteria!$B:$B,MATCH(ROWS($B$24:$B28),Criteria!$O:$O,0)))","v":""},{"$f":"IF(B28=\"\",\"\",SUMIF(Scoring!$B$5:$B$24,B28,Scoring!$E$5:$E$24))","v":""},{"$f":"IF($B28=\"\",\"\",SUMPRODUCT(Scoring!$E$5:$E$24,(Scoring!$B$5:$B$24=$B28)*1,Scoring!F$5:F$24))","v":""},{"$f":"IF($B28=\"\",\"\",SUMPRODUCT(Scoring!$E$5:$E$24,(Scoring!$B$5:$B$24=$B28)*1,Scoring!G$5:G$24))","v":""},{"$f":"IF($B28=\"\",\"\",SUMPRODUCT(Scoring!$E$5:$E$24,(Scoring!$B$5:$B$24=$B28)*1,Scoring!H$5:H$24))","v":""},{"$f":"IF($B28=\"\",\"\",SUMPRODUCT(Scoring!$E$5:$E$24,(Scoring!$B$5:$B$24=$B28)*1,Scoring!I$5:I$24))","v":""},{"$f":"IF($B28=\"\",\"\",SUMPRODUCT(Scoring!$E$5:$E$24,(Scoring!$B$5:$B$24=$B28)*1,Scoring!J$5:J$24))","v":""},{"$f":"IF($B28=\"\",\"\",SUMPRODUCT(Scoring!$E$5:$E$24,(Scoring!$B$5:$B$24=$B28)*1,Scoring!K$5:K$24))","v":""},{"$f":"IF($B28=\"\",\"\",SUMPRODUCT(Scoring!$E$5:$E$24,(Scoring!$B$5:$B$24=$B28)*1,Scoring!L$5:L$24))","v":""},{"$f":"IF($B28=\"\",\"\",SUMPRODUCT(Scoring!$E$5:$E$24,(Scoring!$B$5:$B$24=$B28)*1,Scoring!M$5:M$24))","v":""},{"$f":"IF($B28=\"\",\"\",SUMPRODUCT(Scoring!$E$5:$E$24,(Scoring!$B$5:$B$24=$B28)*1,Scoring!N$5:N$24))","v":""},{"$f":"IF($B28=\"\",\"\",SUMPRODUCT(Scoring!$E$5:$E$24,(Scoring!$B$5:$B$24=$B28)*1,Scoring!O$5:O$24))","v":""},{"$f":"IF($B28=\"\",\"\",SUMPRODUCT(Scoring!$E$5:$E$24,(Scoring!$B$5:$B$24=$B28)*1,Scoring!P$5:P$24))","v":""},{"$f":"IF($B28=\"\",\"\",SUMPRODUCT(Scoring!$E$5:$E$24,(Scoring!$B$5:$B$24=$B28)*1,Scoring!Q$5:Q$24))","v":""},{"$f":"IF($B28=\"\",\"\",SUMPRODUCT(Scoring!$E$5:$E$24,(Scoring!$B$5:$B$24=$B28)*1,Scoring!R$5:R$24))","v":""},{"$f":"IF($B28=\"\",\"\",SUMPRODUCT(Scoring!$E$5:$E$24,(Scoring!$B$5:$B$24=$B28)*1,Scoring!S$5:S$24))","v":""},{"$f":"IF($B28=\"\",\"\",SUMPRODUCT(Scoring!$E$5:$E$24,(Scoring!$B$5:$B$24=$B28)*1,Scoring!T$5:T$24))","v":""},{"$f":"IF($B28=\"\",\"\",SUMPRODUCT(Scoring!$E$5:$E$24,(Scoring!$B$5:$B$24=$B28)*1,Scoring!U$5:U$24))","v":""},{"$f":"IF($B28=\"\",\"\",SUMPRODUCT(Scoring!$E$5:$E$24,(Scoring!$B$5:$B$24=$B28)*1,Scoring!V$5:V$24))","v":""},{"$f":"IF($B28=\"\",\"\",SUMPRODUCT(Scoring!$E$5:$E$24,(Scoring!$B$5:$B$24=$B28)*1,Scoring!W$5:W$24))","v":""},{"$f":"IF($B28=\"\",\"\",SUMPRODUCT(Scoring!$E$5:$E$24,(Scoring!$B$5:$B$24=$B28)*1,Scoring!X$5:X$24))","v":""},{"$f":"IF($B28=\"\",\"\",SUMPRODUCT(Scoring!$E$5:$E$24,(Scoring!$B$5:$B$24=$B28)*1,Scoring!Y$5:Y$24))","v":""},{"$f":"IF($B28=\"\",\"\",SUMPRODUCT(Scoring!$E$5:$E$24,(Scoring!$B$5:$B$24=$B28)*1,Scoring!Z$5:Z$24))","v":""}]
[null,null,"Score",{"$f":"SUM(D24:D28)","v":0},{"$f":"SUM(E24:E28)","v":0},0,0,0,0,0,0,0,0,0,0,0,0,0,0,0,0,0,0,0]
[null,null,"Rank",{"$f":"IF(D29<>0,RANK(D29,$D$29:$X$29),\"\")","v":""},{"$f":"IF(E29<>0,RANK(E29,$D$29:$X$29),\"\")","v":""},"","","","","","","","","","","","","","","","","","","",{"$f":"IF(Y29<>0,RANK(Y29,$D$29:$X$29),\"\")","v":""},"","","","","","","",""]

{"sheet":"General Calc","index":11,"n_rows":112,"n_cols":26,"rows_kept":112,"cut":false,"hidden":true,"merged":[[0,0,1,1]]}
["General Calculations and Lists"]
[]
[null,null,null,null,"Weighting Summary Table",null,null,null,null,null,"Criterion",{"$f":"Scoring!$E$4","v":"Rank Sum"},"Adjusted Weighting",null,null,null,"Difference in Weighting"]
[null,"Pairwise List","Yes/ No List",null,"Criterion","Rank Sum","Rank Reciprocal","Rank-Order Centroid","Pairwise Comparison",null,null,null,-0.5,-0.25,0.25,0.5,-0.5,-0.25,0.25,0.5]
[null,"A","Yes",null,{"$f":"IF(INDEX('Selected Criteria'!$E$6:$E$25,ROWS($E$5:$E5))=0,\"\",INDEX('Selected Criteria'!$E$6:$E$25,ROWS($E$5:$E5)))","v":""},{"$f":"IF($E5=\"\",\"\",INDEX(Weighting_Rank_Methods!$E$4:$H$23,MATCH($E5,Weighting_Rank_Methods!$C$4:$C$23,0),MATCH(F$4,Weighting_Rank_Methods!$E$3:$H$3,0)))","v":""},{"$f":"IF($E5=\"\",\"\",INDEX(Weighting_Rank_Methods!$E$4:$H$23,MATCH($E5,Weighting_Rank_Methods!$C$4:$C$23,0),MATCH(G$4,Weighting_Rank_Methods!$E$3:$H$3,0)))","v":""},{"$f":"IF($E5=\"\",\"\",INDEX(Weighting_Rank_Methods!$E$4:$H$23,MATCH($E5,Weighting_Rank_Methods!$C$4:$C$23,0),MATCH(H$4,Weighting_Rank_Methods!$E$3:$H$3,0)))","v":""},{"$f":"IF($E5=\"\",\"\",INDEX('Weighting_Pairwise Comparison'!$Z$7:$Z$26,MATCH($E5,'Weighting_Pairwise Comparison'!$C$7:$C$26,0)))","v":""},null,{"$f":"IF(INDEX('Selected Criteria'!$E$6:$E$25,ROWS($K$5:$K5))=0,\"\",INDEX('Selected Criteria'!$E$6:$E$25,ROWS($K$5:$K5)))","v":""},{"$f":"IF($K5=\"\",\"\",INDEX($F$5:$I$24,MATCH($E27,$E$5:$E$24,0),MATCH($L$3,$F$4:$I$4,0)))","v":""},{"$f":"IF($K5=\"\",\"\",$L5*(1+M$4))","v":""},{"$f":"IF($K5=\"\",\"\",$L5*(1+N$4))","v":""},"","",{"$f":"IF($K5=\"\",\"\",M5-$L5)","v":""},{"$f":"IF($K5=\"\",\"\",N5-$L5)","v":""},{"$f":"IF($K5=\"\",\"\",O5-$L5)","v":""},{"$f":"IF($K5=\"\",\"\",P5-$L5)","v":""}]
[null,"B","No",null,{"$f":"IF(INDEX('Selected Criteria'!$E$6:$E$25,ROWS($E$5:$E6))=0,\"\",INDEX('Selected Criteria'!$E$6:$E$25,ROWS($E$5:$E6)))","v":""},{"$f":"IF($E6=\"\",\"\",INDEX(Weighting_Rank_Methods!$E$4:$H$23,MATCH($E6,Weighting_Rank_Methods!$C$4:$C$23,0),MATCH(F$4,Weighting_Rank_Methods!$E$3:$H$3,0)))","v":""},{"$f":"IF($E6=\"\",\"\",INDEX(Weighting_Rank_Methods!$E$4:$H$23,MATCH($E6,Weighting_Rank_Methods!$C$4:$C$23,0),MATCH(G$4,Weighting_Rank_Methods!$E$3:$H$3,0)))","v":""},{"$f":"IF($E6=\"\",\"\",INDEX(Weighting_Rank_Methods!$E$4:$H$23,MATCH($E6,Weighting_Rank_Methods!$C$4:$C$23,0),MATCH(H$4,Weighting_Rank_Methods!$E$3:$H$3,0)))","v":""},{"$f":"IF($E6=\"\",\"\",INDEX('Weighting_Pairwise Comparison'!$Z$7:$Z$26,MATCH($E6,'Weighting_Pairwise Comparison'!$C$7:$C$26,0)))","v":""},null,{"$f":"IF(INDEX('Selected Criteria'!$E$6:$E$25,ROWS($K$5:$K6))=0,\"\",INDEX('Selected Criteria'!$E$6:$E$25,ROWS($K$5:$K6)))","v":""},{"$f":"IF($K6=\"\",\"\",INDEX($F$5:$I$24,MATCH($E28,$E$5:$E$24,0),MATCH($L$3,$F$4:$I$4,0)))","v":""},"","","","",{"$f":"IF($K6=\"\",\"\",M6-$L6)","v":""},{"$f":"IF($K6=\"\",\"\",N6-$L6)","v":""},{"$f":"IF($K6=\"\",\"\",O6-$L6)","v":""},{"$f":"IF($K6=\"\",\"\",P6-$L6)","v":""}]
[null,"C",null,null,{"$f":"IF(INDEX('Selected Criteria'!$E$6:$E$25,ROWS($E$5:$E7))=0,\"\",INDEX('Selected Criteria'!$E$6:$E$25,ROWS($E$5:$E7)))","v":""},{"$f":"IF($E7=\"\",\"\",INDEX(Weighting_Rank_Methods!$E$4:$H$23,MATCH($E7,Weighting_Rank_Methods!$C$4:$C$23,0),MATCH(F$4,Weighting_Rank_Methods!$E$3:$H$3,0)))","v":""},{"$f":"IF($E7=\"\",\"\",INDEX(Weighting_Rank_Methods!$E$4:$H$23,MATCH($E7,Weighting_Rank_Methods!$C$4:$C$23,0),MATCH(G$4,Weighting_Rank_Methods!$E$3:$H$3,0)))","v":""},{"$f":"IF($E7=\"\",\"\",INDEX(Weighting_Rank_Methods!$E$4:$H$23,MATCH($E7,Weighting_Rank_Methods!$C$4:$C$23,0),MATCH(H$4,Weighting_Rank_Methods!$E$3:$H$3,0)))","v":""},{"$f":"IF($E7=\"\",\"\",INDEX('Weighting_Pairwise Comparison'!$Z$7:$Z$26,MATCH($E7,'Weighting_Pairwise Comparison'!$C$7:$C$26,0)))","v":""},null,{"$f":"IF(INDEX('Selected Criteria'!$E$6:$E$25,ROWS($K$5:$K7))=0,\"\",INDEX('Selected Criteria'!$E$6:$E$25,ROWS($K$5:$K7)))","v":""},"","","","","","","","",""]
[null,"D",null,null,{"$f":"IF(INDEX('Selected Criteria'!$E$6:$E$25,ROWS($E$5:$E8))=0,\"\",INDEX('Selected Criteria'!$E$6:$E$25,ROWS($E$5:$E8)))","v":""},{"$f":"IF($E8=\"\",\"\",INDEX(Weighting_Rank_Methods!$E$4:$H$23,MATCH($E8,Weighting_Rank_Methods!$C$4:$C$23,0),MATCH(F$4,Weighting_Rank_Methods!$E$3:$H$3,0)))","v":""},{"$f":"IF($E8=\"\",\"\",INDEX(Weighting_Rank_Methods!$E$4:$H$23,MATCH($E8,Weighting_Rank_Methods!$C$4:$C$23,0),MATCH(G$4,Weighting_Rank_Methods!$E$3:$H$3,0)))","v":""},{"$f":"IF($E8=\"\",\"\",INDEX(Weighting_Rank_Methods!$E$4:$H$23,MATCH($E8,Weighting_Rank_Methods!$C$4:$C$23,0),MATCH(H$4,Weighting_Rank_Methods!$E$3:$H$3,0)))","v":""},{"$f":"IF($E8=\"\",\"\",INDEX('Weighting_Pairwise Comparison'!$Z$7:$Z$26,MATCH($E8,'Weighting_Pairwise Comparison'!$C$7:$C$26,0)))","v":""},null,{"$f":"IF(INDEX('Selected Criteria'!$E$6:$E$25,ROWS($K$5:$K8))=0,\"\",INDEX('Selected Criteria'!$E$6:$E$25,ROWS($K$5:$K8)))","v":""},"","","","","","","","",""]
[null,"E",null,null,{"$f":"IF(INDEX('Selected Criteria'!$E$6:$E$25,ROWS($E$5:$E9))=0,\"\",INDEX('Selected Criteria'!$E$6:$E$25,ROWS($E$5:$E9)))","v":""},{"$f":"IF($E9=\"\",\"\",INDEX(Weighting_Rank_Methods!$E$4:$H$23,MATCH($E9,Weighting_Rank_Methods!$C$4:$C$23,0),MATCH(F$4,Weighting_Rank_Methods!$E$3:$H$3,0)))","v":""},{"$f":"IF($E9=\"\",\"\",INDEX(Weighting_Rank_Methods!$E$4:$H$23,MATCH($E9,Weighting_Rank_Methods!$C$4:$C$23,0),MATCH(G$4,Weighting_Rank_Methods!$E$3:$H$3,0)))","v":""},{"$f":"IF($E9=\"\",\"\",INDEX(Weighting_Rank_Methods!$E$4:$H$23,MATCH($E9,Weighting_Rank_Methods!$C$4:$C$23,0),MATCH(H$4,Weighting_Rank_Methods!$E$3:$H$3,0)))","v":""},{"$f":"IF($E9=\"\",\"\",INDEX('Weighting_Pairwise Comparison'!$Z$7:$Z$26,MATCH($E9,'Weighting_Pairwise Comparison'!$C$7:$C$26,0)))","v":""},null,{"$f":"IF(INDEX('Selected Criteria'!$E$6:$E$25,ROWS($K$5:$K9))=0,\"\",INDEX('Selected Criteria'!$E$6:$E$25,ROWS($K$5:$K9)))","v":""},"","","","","","","","",""]
[null,"F",null,null,{"$f":"IF(INDEX('Selected Criteria'!$E$6:$E$25,ROWS($E$5:$E10))=0,\"\",INDEX('Selected Criteria'!$E$6:$E$25,ROWS($E$5:$E10)))","v":""},{"$f":"IF($E10=\"\",\"\",INDEX(Weighting_Rank_Methods!$E$4:$H$23,MATCH($E10,Weighting_Rank_Methods!$C$4:$C$23,0),MATCH(F$4,Weighting_Rank_Methods!$E$3:$H$3,0)))","v":""},{"$f":"IF($E10=\"\",\"\",INDEX(Weighting_Rank_Methods!$E$4:$H$23,MATCH($E10,Weighting_Rank_Methods!$C$4:$C$23,0),MATCH(G$4,Weighting_Rank_Methods!$E$3:$H$3,0)))","v":""},{"$f":"IF($E10=\"\",\"\",INDEX(Weighting_Rank_Methods!$E$4:$H$23,MATCH($E10,Weighting_Rank_Methods!$C$4:$C$23,0),MATCH(H$4,Weighting_Rank_Methods!$E$3:$H$3,0)))","v":""},{"$f":"IF($E10=\"\",\"\",INDEX('Weighting_Pairwise Comparison'!$Z$7:$Z$26,MATCH($E10,'Weighting_Pairwise Comparison'!$C$7:$C$26,0)))","v":""},null,{"$f":"IF(INDEX('Selected Criteria'!$E$6:$E$25,ROWS($K$5:$K10))=0,\"\",INDEX('Selected Criteria'!$E$6:$E$25,ROWS($K$5:$K10)))","v":""},"","","","","","","","",""]
[null,"G",null,null,{"$f":"IF(INDEX('Selected Criteria'!$E$6:$E$25,ROWS($E$5:$E11))=0,\"\",INDEX('Selected Criteria'!$E$6:$E$25,ROWS($E$5:$E11)))","v":""},{"$f":"IF($E11=\"\",\"\",INDEX(Weighting_Rank_Methods!$E$4:$H$23,MATCH($E11,Weighting_Rank_Methods!$C$4:$C$23,0),MATCH(F$4,Weighting_Rank_Methods!$E$3:$H$3,0)))","v":""},{"$f":"IF($E11=\"\",\"\",INDEX(Weighting_Rank_Methods!$E$4:$H$23,MATCH($E11,Weighting_Rank_Methods!$C$4:$C$23,0),MATCH(G$4,Weighting_Rank_Methods!$E$3:$H$3,0)))","v":""},{"$f":"IF($E11=\"\",\"\",INDEX(Weighting_Rank_Methods!$E$4:$H$23,MATCH($E11,Weighting_Rank_Methods!$C$4:$C$23,0),MATCH(H$4,Weighting_Rank_Methods!$E$3:$H$3,0)))","v":""},{"$f":"IF($E11=\"\",\"\",INDEX('Weighting_Pairwise Comparison'!$Z$7:$Z$26,MATCH($E11,'Weighting_Pairwise Comparison'!$C$7:$C$26,0)))","v":""},null,{"$f":"IF(INDEX('Selected Criteria'!$E$6:$E$25,ROWS($K$5:$K11))=0,\"\",INDEX('Selected Criteria'!$E$6:$E$25,ROWS($K$5:$K11)))","v":""},"","","","","","","","",""]
[null,"H",null,null,{"$f":"IF(INDEX('Selected Criteria'!$E$6:$E$25,ROWS($E$5:$E12))=0,\"\",INDEX('Selected Criteria'!$E$6:$E$25,ROWS($E$5:$E12)))","v":""},{"$f":"IF($E12=\"\",\"\",INDEX(Weighting_Rank_Methods!$E$4:$H$23,MATCH($E12,Weighting_Rank_Methods!$C$4:$C$23,0),MATCH(F$4,Weighting_Rank_Methods!$E$3:$H$3,0)))","v":""},{"$f":"IF($E12=\"\",\"\",INDEX(Weighting_Rank_Methods!$E$4:$H$23,MATCH($E12,Weighting_Rank_Methods!$C$4:$C$23,0),MATCH(G$4,Weighting_Rank_Methods!$E$3:$H$3,0)))","v":""},{"$f":"IF($E12=\"\",\"\",INDEX(Weighting_Rank_Methods!$E$4:$H$23,MATCH($E12,Weighting_Rank_Methods!$C$4:$C$23,0),MATCH(H$4,Weighting_Rank_Methods!$E$3:$H$3,0)))","v":""},{"$f":"IF($E12=\"\",\"\",INDEX('Weighting_Pairwise Comparison'!$Z$7:$Z$26,MATCH($E12,'Weighting_Pairwise Comparison'!$C$7:$C$26,0)))","v":""},null,{"$f":"IF(INDEX('Selected Criteria'!$E$6:$E$25,ROWS($K$5:$K12))=0,\"\",INDEX('Selected Criteria'!$E$6:$E$25,ROWS($K$5:$K12)))","v":""},"","","","","","","","",""]
[null,"I",null,null,{"$f":"IF(INDEX('Selected Criteria'!$E$6:$E$25,ROWS($E$5:$E13))=0,\"\",INDEX('Selected Criteria'!$E$6:$E$25,ROWS($E$5:$E13)))","v":""},{"$f":"IF($E13=\"\",\"\",INDEX(Weighting_Rank_Methods!$E$4:$H$23,MATCH($E13,Weighting_Rank_Methods!$C$4:$C$23,0),MATCH(F$4,Weighting_Rank_Methods!$E$3:$H$3,0)))","v":""},{"$f":"IF($E13=\"\",\"\",INDEX(Weighting_Rank_Methods!$E$4:$H$23,MATCH($E13,Weighting_Rank_Methods!$C$4:$C$23,0),MATCH(G$4,Weighting_Rank_Methods!$E$3:$H$3,0)))","v":""},{"$f":"IF($E13=\"\",\"\",INDEX(Weighting_Rank_Methods!$E$4:$H$23,MATCH($E13,Weighting_Rank_Methods!$C$4:$C$23,0),MATCH(H$4,Weighting_Rank_Methods!$E$3:$H$3,0)))","v":""},{"$f":"IF($E13=\"\",\"\",INDEX('Weighting_Pairwise Comparison'!$Z$7:$Z$26,MATCH($E13,'Weighting_Pairwise Comparison'!$C$7:$C$26,0)))","v":""},null,{"$f":"IF(INDEX('Selected Criteria'!$E$6:$E$25,ROWS($K$5:$K13))=0,\"\",INDEX('Selected Criteria'!$E$6:$E$25,ROWS($K$5:$K13)))","v":""},"","","","","","","","",""]
[null,"J",null,null,{"$f":"IF(INDEX('Selected Criteria'!$E$6:$E$25,ROWS($E$5:$E14))=0,\"\",INDEX('Selected Criteria'!$E$6:$E$25,ROWS($E$5:$E14)))","v":""},{"$f":"IF($E14=\"\",\"\",INDEX(Weighting_Rank_Methods!$E$4:$H$23,MATCH($E14,Weighting_Rank_Methods!$C$4:$C$23,0),MATCH(F$4,Weighting_Rank_Methods!$E$3:$H$3,0)))","v":""},{"$f":"IF($E14=\"\",\"\",INDEX(Weighting_Rank_Methods!$E$4:$H$23,MATCH($E14,Weighting_Rank_Methods!$C$4:$C$23,0),MATCH(G$4,Weighting_Rank_Methods!$E$3:$H$3,0)))","v":""},{"$f":"IF($E14=\"\",\"\",INDEX(Weighting_Rank_Methods!$E$4:$H$23,MATCH($E14,Weighting_Rank_Methods!$C$4:$C$23,0),MATCH(H$4,Weighting_Rank_Methods!$E$3:$H$3,0)))","v":""},{"$f":"IF($E14=\"\",\"\",INDEX('Weighting_Pairwise Comparison'!$Z$7:$Z$26,MATCH($E14,'Weighting_Pairwise Comparison'!$C$7:$C$26,0)))","v":""},null,{"$f":"IF(INDEX('Selected Criteria'!$E$6:$E$25,ROWS($K$5:$K14))=0,\"\",INDEX('Selected Criteria'!$E$6:$E$25,ROWS($K$5:$K14)))","v":""},"","","","","","","","",""]
[null,"K",null,null,{"$f":"IF(INDEX('Selected Criteria'!$E$6:$E$25,ROWS($E$5:$E15))=0,\"\",INDEX('Selected Criteria'!$E$6:$E$25,ROWS($E$5:$E15)))","v":""},{"$f":"IF($E15=\"\",\"\",INDEX(Weighting_Rank_Methods!$E$4:$H$23,MATCH($E15,Weighting_Rank_Methods!$C$4:$C$23,0),MATCH(F$4,Weighting_Rank_Methods!$E$3:$H$3,0)))","v":""},{"$f":"IF($E15=\"\",\"\",INDEX(Weighting_Rank_Methods!$E$4:$H$23,MATCH($E15,Weighting_Rank_Methods!$C$4:$C$23,0),MATCH(G$4,Weighting_Rank_Methods!$E$3:$H$3,0)))","v":""},{"$f":"IF($E15=\"\",\"\",INDEX(Weighting_Rank_Methods!$E$4:$H$23,MATCH($E15,Weighting_Rank_Methods!$C$4:$C$23,0),MATCH(H$4,Weighting_Rank_Methods!$E$3:$H$3,0)))","v":""},{"$f":"IF($E15=\"\",\"\",INDEX('Weighting_Pairwise Comparison'!$Z$7:$Z$26,MATCH($E15,'Weighting_Pairwise Comparison'!$C$7:$C$26,0)))","v":""},null,{"$f":"IF(INDEX('Selected Criteria'!$E$6:$E$25,ROWS($K$5:$K15))=0,\"\",INDEX('Selected Criteria'!$E$6:$E$25,ROWS($K$5:$K15)))","v":""},"","","","","","","","",""]
[null,"L",null,null,{"$f":"IF(INDEX('Selected Criteria'!$E$6:$E$25,ROWS($E$5:$E16))=0,\"\",INDEX('Selected Criteria'!$E$6:$E$25,ROWS($E$5:$E16)))","v":""},{"$f":"IF($E16=\"\",\"\",INDEX(Weighting_Rank_Methods!$E$4:$H$23,MATCH($E16,Weighting_Rank_Methods!$C$4:$C$23,0),MATCH(F$4,Weighting_Rank_Methods!$E$3:$H$3,0)))","v":""},{"$f":"IF($E16=\"\",\"\",INDEX(Weighting_Rank_Methods!$E$4:$H$23,MATCH($E16,Weighting_Rank_Methods!$C$4:$C$23,0),MATCH(G$4,Weighting_Rank_Methods!$E$3:$H$3,0)))","v":""},{"$f":"IF($E16=\"\",\"\",INDEX(Weighting_Rank_Methods!$E$4:$H$23,MATCH($E16,Weighting_Rank_Methods!$C$4:$C$23,0),MATCH(H$4,Weighting_Rank_Methods!$E$3:$H$3,0)))","v":""},{"$f":"IF($E16=\"\",\"\",INDEX('Weighting_Pairwise Comparison'!$Z$7:$Z$26,MATCH($E16,'Weighting_Pairwise Comparison'!$C$7:$C$26,0)))","v":""},null,{"$f":"IF(INDEX('Selected Criteria'!$E$6:$E$25,ROWS($K$5:$K16))=0,\"\",INDEX('Selected Criteria'!$E$6:$E$25,ROWS($K$5:$K16)))","v":""},"","","","","","","","",""]
[null,"M",null,null,{"$f":"IF(INDEX('Selected Criteria'!$E$6:$E$25,ROWS($E$5:$E17))=0,\"\",INDEX('Selected Criteria'!$E$6:$E$25,ROWS($E$5:$E17)))","v":""},{"$f":"IF($E17=\"\",\"\",INDEX(Weighting_Rank_Methods!$E$4:$H$23,MATCH($E17,Weighting_Rank_Methods!$C$4:$C$23,0),MATCH(F$4,Weighting_Rank_Methods!$E$3:$H$3,0)))","v":""},{"$f":"IF($E17=\"\",\"\",INDEX(Weighting_Rank_Methods!$E$4:$H$23,MATCH($E17,Weighting_Rank_Methods!$C$4:$C$23,0),MATCH(G$4,Weighting_Rank_Methods!$E$3:$H$3,0)))","v":""},{"$f":"IF($E17=\"\",\"\",INDEX(Weighting_Rank_Methods!$E$4:$H$23,MATCH($E17,Weighting_Rank_Methods!$C$4:$C$23,0),MATCH(H$4,Weighting_Rank_Methods!$E$3:$H$3,0)))","v":""},{"$f":"IF($E17=\"\",\"\",INDEX('Weighting_Pairwise Comparison'!$Z$7:$Z$26,MATCH($E17,'Weighting_Pairwise Comparison'!$C$7:$C$26,0)))","v":""},null,{"$f":"IF(INDEX('Selected Criteria'!$E$6:$E$25,ROWS($K$5:$K17))=0,\"\",INDEX('Selected Criteria'!$E$6:$E$25,ROWS($K$5:$K17)))","v":""},"","","","","","","","",""]
[null,"N",null,null,{"$f":"IF(INDEX('Selected Criteria'!$E$6:$E$25,ROWS($E$5:$E18))=0,\"\",INDEX('Selected Criteria'!$E$6:$E$25,ROWS($E$5:$E18)))","v":""},{"$f":"IF($E18=\"\",\"\",INDEX(Weighting_Rank_Methods!$E$4:$H$23,MATCH($E18,Weighting_Rank_Methods!$C$4:$C$23,0),MATCH(F$4,Weighting_Rank_Methods!$E$3:$H$3,0)))","v":""},{"$f":"IF($E18=\"\",\"\",INDEX(Weighting_Rank_Methods!$E$4:$H$23,MATCH($E18,Weighting_Rank_Methods!$C$4:$C$23,0),MATCH(G$4,Weighting_Rank_Methods!$E$3:$H$3,0)))","v":""},{"$f":"IF($E18=\"\",\"\",INDEX(Weighting_Rank_Methods!$E$4:$H$23,MATCH($E18,Weighting_Rank_Methods!$C$4:$C$23,0),MATCH(H$4,Weighting_Rank_Methods!$E$3:$H$3,0)))","v":""},{"$f":"IF($E18=\"\",\"\",INDEX('Weighting_Pairwise Comparison'!$Z$7:$Z$26,MATCH($E18,'Weighting_Pairwise Comparison'!$C$7:$C$26,0)))","v":""},null,{"$f":"IF(INDEX('Selected Criteria'!$E$6:$E$25,ROWS($K$5:$K18))=0,\"\",INDEX('Selected Criteria'!$E$6:$E$25,ROWS($K$5:$K18)))","v":""},"","","","","","","","",""]
[null,"O",null,null,{"$f":"IF(INDEX('Selected Criteria'!$E$6:$E$25,ROWS($E$5:$E19))=0,\"\",INDEX('Selected Criteria'!$E$6:$E$25,ROWS($E$5:$E19)))","v":""},{"$f":"IF($E19=\"\",\"\",INDEX(Weighting_Rank_Methods!$E$4:$H$23,MATCH($E19,Weighting_Rank_Methods!$C$4:$C$23,0),MATCH(F$4,Weighting_Rank_Methods!$E$3:$H$3,0)))","v":""},{"$f":"IF($E19=\"\",\"\",INDEX(Weighting_Rank_Methods!$E$4:$H$23,MATCH($E19,Weighting_Rank_Methods!$C$4:$C$23,0),MATCH(G$4,Weighting_Rank_Methods!$E$3:$H$3,0)))","v":""},{"$f":"IF($E19=\"\",\"\",INDEX(Weighting_Rank_Methods!$E$4:$H$23,MATCH($E19,Weighting_Rank_Methods!$C$4:$C$23,0),MATCH(H$4,Weighting_Rank_Methods!$E$3:$H$3,0)))","v":""},{"$f":"IF($E19=\"\",\"\",INDEX('Weighting_Pairwise Comparison'!$Z$7:$Z$26,MATCH($E19,'Weighting_Pairwise Comparison'!$C$7:$C$26,0)))","v":""},null,{"$f":"IF(INDEX('Selected Criteria'!$E$6:$E$25,ROWS($K$5:$K19))=0,\"\",INDEX('Selected Criteria'!$E$6:$E$25,ROWS($K$5:$K19)))","v":""},"","","","","","","","",""]
[null,"P",null,null,{"$f":"IF(INDEX('Selected Criteria'!$E$6:$E$25,ROWS($E$5:$E20))=0,\"\",INDEX('Selected Criteria'!$E$6:$E$25,ROWS($E$5:$E20)))","v":""},{"$f":"IF($E20=\"\",\"\",INDEX(Weighting_Rank_Methods!$E$4:$H$23,MATCH($E20,Weighting_Rank_Methods!$C$4:$C$23,0),MATCH(F$4,Weighting_Rank_Methods!$E$3:$H$3,0)))","v":""},{"$f":"IF($E20=\"\",\"\",INDEX(Weighting_Rank_Methods!$E$4:$H$23,MATCH($E20,Weighting_Rank_Methods!$C$4:$C$23,0),MATCH(G$4,Weighting_Rank_Methods!$E$3:$H$3,0)))","v":""},{"$f":"IF($E20=\"\",\"\",INDEX(Weighting_Rank_Methods!$E$4:$H$23,MATCH($E20,Weighting_Rank_Methods!$C$4:$C$23,0),MATCH(H$4,Weighting_Rank_Methods!$E$3:$H$3,0)))","v":""},{"$f":"IF($E20=\"\",\"\",INDEX('Weighting_Pairwise Comparison'!$Z$7:$Z$26,MATCH($E20,'Weighting_Pairwise Comparison'!$C$7:$C$26,0)))","v":""},null,{"$f":"IF(INDEX('Selected Criteria'!$E$6:$E$25,ROWS($K$5:$K20))=0,\"\",INDEX('Selected Criteria'!$E$6:$E$25,ROWS($K$5:$K20)))","v":""},"","","","","","","","",""]
[null,"Q",null,null,{"$f":"IF(INDEX('Selected Criteria'!$E$6:$E$25,ROWS($E$5:$E21))=0,\"\",INDEX('Selected Criteria'!$E$6:$E$25,ROWS($E$5:$E21)))","v":""},{"$f":"IF($E21=\"\",\"\",INDEX(Weighting_Rank_Methods!$E$4:$H$23,MATCH($E21,Weighting_Rank_Methods!$C$4:$C$23,0),MATCH(F$4,Weighting_Rank_Methods!$E$3:$H$3,0)))","v":""},{"$f":"IF($E21=\"\",\"\",INDEX(Weighting_Rank_Methods!$E$4:$H$23,MATCH($E21,Weighting_Rank_Methods!$C$4:$C$23,0),MATCH(G$4,Weighting_Rank_Methods!$E$3:$H$3,0)))","v":""},{"$f":"IF($E21=\"\",\"\",INDEX(Weighting_Rank_Methods!$E$4:$H$23,MATCH($E21,Weighting_Rank_Methods!$C$4:$C$23,0),MATCH(H$4,Weighting_Rank_Methods!$E$3:$H$3,0)))","v":""},{"$f":"IF($E21=\"\",\"\",INDEX('Weighting_Pairwise Comparison'!$Z$7:$Z$26,MATCH($E21,'Weighting_Pairwise Comparison'!$C$7:$C$26,0)))","v":""},null,{"$f":"IF(INDEX('Selected Criteria'!$E$6:$E$25,ROWS($K$5:$K21))=0,\"\",INDEX('Selected Criteria'!$E$6:$E$25,ROWS($K$5:$K21)))","v":""},"","",{"$f":"IF($K21=\"\",\"\",$L21*(1+N$4))","v":""},"","","","","",""]
[null,"R",null,null,{"$f":"IF(INDEX('Selected Criteria'!$E$6:$E$25,ROWS($E$5:$E22))=0,\"\",INDEX('Selected Criteria'!$E$6:$E$25,ROWS($E$5:$E22)))","v":""},{"$f":"IF($E22=\"\",\"\",INDEX(Weighting_Rank_Methods!$E$4:$H$23,MATCH($E22,Weighting_Rank_Methods!$C$4:$C$23,0),MATCH(F$4,Weighting_Rank_Methods!$E$3:$H$3,0)))","v":""},{"$f":"IF($E22=\"\",\"\",INDEX(Weighting_Rank_Methods!$E$4:$H$23,MATCH($E22,Weighting_Rank_Methods!$C$4:$C$23,0),MATCH(G$4,Weighting_Rank_Methods!$E$3:$H$3,0)))","v":""},{"$f":"IF($E22=\"\",\"\",INDEX(Weighting_Rank_Methods!$E$4:$H$23,MATCH($E22,Weighting_Rank_Methods!$C$4:$C$23,0),MATCH(H$4,Weighting_Rank_Methods!$E$3:$H$3,0)))","v":""},{"$f":"IF($E22=\"\",\"\",INDEX('Weighting_Pairwise Comparison'!$Z$7:$Z$26,MATCH($E22,'Weighting_Pairwise Comparison'!$C$7:$C$26,0)))","v":""},null,{"$f":"IF(INDEX('Selected Criteria'!$E$6:$E$25,ROWS($K$5:$K22))=0,\"\",INDEX('Selected Criteria'!$E$6:$E$25,ROWS($K$5:$K22)))","v":""},"","","","","","","","",""]
[null,"S",null,null,{"$f":"IF(INDEX('Selected Criteria'!$E$6:$E$25,ROWS($E$5:$E23))=0,\"\",INDEX('Selected Criteria'!$E$6:$E$25,ROWS($E$5:$E23)))","v":""},{"$f":"IF($E23=\"\",\"\",INDEX(Weighting_Rank_Methods!$E$4:$H$23,MATCH($E23,Weighting_Rank_Methods!$C$4:$C$23,0),MATCH(F$4,Weighting_Rank_Methods!$E$3:$H$3,0)))","v":""},{"$f":"IF($E23=\"\",\"\",INDEX(Weighting_Rank_Methods!$E$4:$H$23,MATCH($E23,Weighting_Rank_Methods!$C$4:$C$23,0),MATCH(G$4,Weighting_Rank_Methods!$E$3:$H$3,0)))","v":""},{"$f":"IF($E23=\"\",\"\",INDEX(Weighting_Rank_Methods!$E$4:$H$23,MATCH($E23,Weighting_Rank_Methods!$C$4:$C$23,0),MATCH(H$4,Weighting_Rank_Methods!$E$3:$H$3,0)))","v":""},{"$f":"IF($E23=\"\",\"\",INDEX('Weighting_Pairwise Comparison'!$Z$7:$Z$26,MATCH($E23,'Weighting_Pairwise Comparison'!$C$7:$C$26,0)))","v":""},null,{"$f":"IF(INDEX('Selected Criteria'!$E$6:$E$25,ROWS($K$5:$K23))=0,\"\",INDEX('Selected Criteria'!$E$6:$E$25,ROWS($K$5:$K23)))","v":""},"","","","","","","","",""]
[null,"T",null,null,{"$f":"IF(INDEX('Selected Criteria'!$E$6:$E$25,ROWS($E$5:$E24))=0,\"\",INDEX('Selected Criteria'!$E$6:$E$25,ROWS($E$5:$E24)))","v":""},{"$f":"IF($E24=\"\",\"\",INDEX(Weighting_Rank_Methods!$E$4:$H$23,MATCH($E24,Weighting_Rank_Methods!$C$4:$C$23,0),MATCH(F$4,Weighting_Rank_Methods!$E$3:$H$3,0)))","v":""},{"$f":"IF($E24=\"\",\"\",INDEX(Weighting_Rank_Methods!$E$4:$H$23,MATCH($E24,Weighting_Rank_Methods!$C$4:$C$23,0),MATCH(G$4,Weighting_Rank_Methods!$E$3:$H$3,0)))","v":""},{"$f":"IF($E24=\"\",\"\",INDEX(Weighting_Rank_Methods!$E$4:$H$23,MATCH($E24,Weighting_Rank_Methods!$C$4:$C$23,0),MATCH(H$4,Weighting_Rank_Methods!$E$3:$H$3,0)))","v":""},{"$f":"IF($E24=\"\",\"\",INDEX('Weighting_Pairwise Comparison'!$Z$7:$Z$26,MATCH($E24,'Weighting_Pairwise Comparison'!$C$7:$C$26,0)))","v":""},null,{"$f":"IF(INDEX('Selected Criteria'!$E$6:$E$25,ROWS($K$5:$K24))=0,\"\",INDEX('Selected Criteria'!$E$6:$E$25,ROWS($K$5:$K24)))","v":""},"","","","","","","","",""]
[]
[null,"Ranks","Ranks Remaining",null,-0.5,{"$f":"Scoring!$E$4","v":"Rank Sum"},{"$f":"IF(INDEX('Selected Criteria'!$E$6:$E$25,COLUMNS($G$26:G$26))=0,\"\",INDEX('Selected Criteria'!$E$6:$E$25,COLUMNS($G$26:G$26)))","v":""},{"$f":"IF(INDEX('Selected Criteria'!$E$6:$E$25,COLUMNS($G$26:H$26))=0,\"\",INDEX('Selected Criteria'!$E$6:$E$25,COLUMNS($G$26:H$26)))","v":""},{"$f":"IF(INDEX('Selected Criteria'!$E$6:$E$25,COLUMNS($G$26:I$26))=0,\"\",INDEX('Selected Criteria'!$E$6:$E$25,COLUMNS($G$26:I$26)))","v":""},{"$f":"IF(INDEX('Selected Criteria'!$E$6:$E$25,COLUMNS($G$26:J$26))=0,\"\",INDEX('Selected Criteria'!$E$6:$E$25,COLUMNS($G$26:J$26)))","v":""},{"$f":"IF(INDEX('Selected Criteria'!$E$6:$E$25,COLUMNS($G$26:K$26))=0,\"\",INDEX('Selected Criteria'!$E$6:$E$25,COLUMNS($G$26:K$26)))","v":""},{"$f":"IF(INDEX('Selected Criteria'!$E$6:$E$25,COLUMNS($G$26:L$26))=0,\"\",INDEX('Selected Criteria'!$E$6:$E$25,COLUMNS($G$26:L$26)))","v":""},{"$f":"IF(INDEX('Selected Criteria'!$E$6:$E$25,COLUMNS($G$26:M$26))=0,\"\",INDEX('Selected Criteria'!$E$6:$E$25,COLUMNS($G$26:M$26)))","v":""},{"$f":"IF(INDEX('Selected Criteria'!$E$6:$E$25,COLUMNS($G$26:N$26))=0,\"\",INDEX('Selected Criteria'!$E$6:$E$25,COLUMNS($G$26:N$26)))","v":""},{"$f":"IF(INDEX('Selected Criteria'!$E$6:$E$25,COLUMNS($G$26:O$26))=0,\"\",INDEX('Selected Criteria'!$E$6:$E$25,COLUMNS($G$26:O$26)))","v":""},{"$f":"IF(INDEX('Selected Criteria'!$E$6:$E$25,COLUMNS($G$26:P$26))=0,\"\",INDEX('Selected Criteria'!$E$6:$E$25,COLUMNS($G$26:P$26)))","v":""},{"$f":"IF(INDEX('Selected Criteria'!$E$6:$E$25,COLUMNS($G$26:Q$26))=0,\"\",INDEX('Selected Criteria'!$E$6:$E$25,COLUMNS($G$26:Q$26)))","v":""},{"$f":"IF(INDEX('Selected Criteria'!$E$6:$E$25,COLUMNS($G$26:R$26))=0,\"\",INDEX('Selected Criteria'!$E$6:$E$25,COLUMNS($G$26:R$26)))","v":""},{"$f":"IF(INDEX('Selected Criteria'!$E$6:$E$25,COLUMNS($G$26:S$26))=0,\"\",INDEX('Selected Criteria'!$E$6:$E$25,COLUMNS($G$26:S$26)))","v":""},{"$f":"IF(INDEX('Selected Criteria'!$E$6:$E$25,COLUMNS($G$26:T$26))=0,\"\",INDEX('Selected Criteria'!$E$6:$E$25,COLUMNS($G$26:T$26)))","v":""},{"$f":"IF(INDEX('Selected Criteria'!$E$6:$E$25,COLUMNS($G$26:U$26))=0,\"\",INDEX('Selected Criteria'!$E$6:$E$25,COLUMNS($G$26:U$26)))","v":""},{"$f":"IF(INDEX('Selected Criteria'!$E$6:$E$25,COLUMNS($G$26:V$26))=0,\"\",INDEX('Selected Criteria'!$E$6:$E$25,COLUMNS($G$26:V$26)))","v":""},{"$f":"IF(INDEX('Selected Criteria'!$E$6:$E$25,COLUMNS($G$26:W$26))=0,\"\",INDEX('Selected Criteria'!$E$6:$E$25,COLUMNS($G$26:W$26)))","v":""},{"$f":"IF(INDEX('Selected Criteria'!$E$6:$E$25,COLUMNS($G$26:X$26))=0,\"\",INDEX('Selected Criteria'!$E$6:$E$25,COLUMNS($G$26:X$26)))","v":""},{"$f":"IF(INDEX('Selected Criteria'!$E$6:$E$25,COLUMNS($G$26:Y$26))=0,\"\",INDEX('Selected Criteria'!$E$6:$E$25,COLUMNS($G$26:Y$26)))","v":""},{"$f":"IF(INDEX('Selected Criteria'!$E$6:$E$25,COLUMNS($G$26:Z$26))=0,\"\",INDEX('Selected Criteria'!$E$6:$E$25,COLUMNS($G$26:Z$26)))","v":""}]
[null,1,{"$f":"IF(B27>MAX(Criteria!$M:$M),\"\",IF(ISERROR(MATCH(B27,Weighting_Rank_Methods!$D$4:$D$23,0)),B27,\"\"))","v":""},null,{"$f":"IF(INDEX('Selected Criteria'!$E$6:$E$25,ROWS($E$27:$E27))=0,\"\",INDEX('Selected Criteria'!$E$6:$E$25,ROWS($E$27:$E27)))","v":""},{"$f":"IF($E27=\"\",\"\",INDEX($F$5:$I$24,MATCH($E27,$E$5:$E$24,0),MATCH($F$26,$F$4:$I$4,0)))","v":""},{"$f":"IF(OR($E27=\"\",G$26=\"\"),\"\",IF($E27=G$26,INDEX($M$5:$P$24,MATCH(G$26,$K$5:$K$24,0),MATCH($E$26,$M$4:$P$4,0)),$F27-($F27/(1-INDEX($F$5:$I$24,MATCH(G$26,$E$5:$E$24,0),MATCH($F$26,$F$4:$I$4,0))))*INDEX($Q$5:$T$24,MATCH(G$26,$K$5:$K$24,0),MATCH($E$26,$Q$4:$T$4,0))))","v":""},"","","","","","","","","",{"$f":"IF(OR($E27=\"\",Q$26=\"\"),\"\",IF($E27=Q$26,INDEX($M$5:$P$24,MATCH(Q$26,$K$5:$K$24,0),MATCH($E$26,$M$4:$P$4,0)),$F27-($F27/(1-INDEX($F$5:$I$24,MATCH(Q$26,$E$5:$E$24,0),MATCH($F$26,$F$4:$I$4,0))))*INDEX($Q$5:$T$24,MATCH(Q$26,$K$5:$K$24,0),MATCH($E$26,$Q$4:$T$4,0))))","v":""},"","","","","","","","",""]
[null,2,{"$f":"IF(B28>MAX(Criteria!$M:$M),\"\",IF(ISERROR(MATCH(B28,Weighting_Rank_Methods!$D$4:$D$23,0)),B28,\"\"))","v":""},null,{"$f":"IF(INDEX('Selected Criteria'!$E$6:$E$25,ROWS($E$27:$E28))=0,\"\",INDEX('Selected Criteria'!$E$6:$E$25,ROWS($E$27:$E28)))","v":""},{"$f":"IF($E28=\"\",\"\",INDEX($F$5:$I$24,MATCH($E28,$E$5:$E$24,0),MATCH($F$26,$F$4:$I$4,0)))","v":""},"","","","","","","","","","","","","","","","","","","",""]
[null,3,{"$f":"IF(B29>MAX(Criteria!$M:$M),\"\",IF(ISERROR(MATCH(B29,Weighting_Rank_Methods!$D$4:$D$23,0)),B29,\"\"))","v":""},null,{"$f":"IF(INDEX('Selected Criteria'!$E$6:$E$25,ROWS($E$27:$E29))=0,\"\",INDEX('Selected Criteria'!$E$6:$E$25,ROWS($E$27:$E29)))","v":""},"","","","","","","","","","","","","","","","","","","","",""]
[null,4,{"$f":"IF(B30>MAX(Criteria!$M:$M),\"\",IF(ISERROR(MATCH(B30,Weighting_Rank_Methods!$D$4:$D$23,0)),B30,\"\"))","v":""},null,{"$f":"IF(INDEX('Selected Criteria'!$E$6:$E$25,ROWS($E$27:$E30))=0,\"\",INDEX('Selected Criteria'!$E$6:$E$25,ROWS($E$27:$E30)))","v":""},"","","","","","","","","","","","","","","","","","","","",""]
[null,5,{"$f":"IF(B31>MAX(Criteria!$M:$M),\"\",IF(ISERROR(MATCH(B31,Weighting_Rank_Methods!$D$4:$D$23,0)),B31,\"\"))","v":""},null,{"$f":"IF(INDEX('Selected Criteria'!$E$6:$E$25,ROWS($E$27:$E31))=0,\"\",INDEX('Selected Criteria'!$E$6:$E$25,ROWS($E$27:$E31)))","v":""},"","","","","","","","","","","","","","","","","","","","",""]
[null,6,{"$f":"IF(B32>MAX(Criteria!$M:$M),\"\",IF(ISERROR(MATCH(B32,Weighting_Rank_Methods!$D$4:$D$23,0)),B32,\"\"))","v":""},null,{"$f":"IF(INDEX('Selected Criteria'!$E$6:$E$25,ROWS($E$27:$E32))=0,\"\",INDEX('Selected Criteria'!$E$6:$E$25,ROWS($E$27:$E32)))","v":""},"","","","","","","","","","","","","","","","","","","","",""]
[null,7,{"$f":"IF(B33>MAX(Criteria!$M:$M),\"\",IF(ISERROR(MATCH(B33,Weighting_Rank_Methods!$D$4:$D$23,0)),B33,\"\"))","v":""},null,{"$f":"IF(INDEX('Selected Criteria'!$E$6:$E$25,ROWS($E$27:$E33))=0,\"\",INDEX('Selected Criteria'!$E$6:$E$25,ROWS($E$27:$E33)))","v":""},"","","","","","","","","","","","","","","","","","","","",""]
[null,8,{"$f":"IF(B34>MAX(Criteria!$M:$M),\"\",IF(ISERROR(MATCH(B34,Weighting_Rank_Methods!$D$4:$D$23,0)),B34,\"\"))","v":""},null,{"$f":"IF(INDEX('Selected Criteria'!$E$6:$E$25,ROWS($E$27:$E34))=0,\"\",INDEX('Selected Criteria'!$E$6:$E$25,ROWS($E$27:$E34)))","v":""},"","","","","","","","","","","","","","","","","","","","",""]
[null,9,{"$f":"IF(B35>MAX(Criteria!$M:$M),\"\",IF(ISERROR(MATCH(B35,Weighting_Rank_Methods!$D$4:$D$23,0)),B35,\"\"))","v":""},null,{"$f":"IF(INDEX('Selected Criteria'!$E$6:$E$25,ROWS($E$27:$E35))=0,\"\",INDEX('Selected Criteria'!$E$6:$E$25,ROWS($E$27:$E35)))","v":""},"","","","","","","","","","","","","","","","","","","","",""]
[null,10,{"$f":"IF(B36>MAX(Criteria!$M:$M),\"\",IF(ISERROR(MATCH(B36,Weighting_Rank_Methods!$D$4:$D$23,0)),B36,\"\"))","v":""},null,{"$f":"IF(INDEX('Selected Criteria'!$E$6:$E$25,ROWS($E$27:$E36))=0,\"\",INDEX('Selected Criteria'!$E$6:$E$25,ROWS($E$27:$E36)))","v":""},"","","","","","","","","","","","","","","","","","","","",""]
[null,11,{"$f":"IF(B37>MAX(Criteria!$M:$M),\"\",IF(ISERROR(MATCH(B37,Weighting_Rank_Methods!$D$4:$D$23,0)),B37,\"\"))","v":""},null,{"$f":"IF(INDEX('Selected Criteria'!$E$6:$E$25,ROWS($E$27:$E37))=0,\"\",INDEX('Selected Criteria'!$E$6:$E$25,ROWS($E$27:$E37)))","v":""},"",{"$f":"IF(OR($E37=\"\",G$26=\"\"),\"\",IF($E37=G$26,INDEX($M$5:$P$24,MATCH(G$26,$K$5:$K$24,0),MATCH($E$26,$M$4:$P$4,0)),$F37-($F37/(1-INDEX($F$5:$I$24,MATCH(G$26,$E$5:$E$24,0),MATCH($F$26,$F$4:$I$4,0))))*INDEX($Q$5:$T$24,MATCH(G$26,$K$5:$K$24,0),MATCH($E$26,$Q$4:$T$4,0))))","v":""},"","","","","","","","","",{"$f":"IF(OR($E37=\"\",Q$26=\"\"),\"\",IF($E37=Q$26,INDEX($M$5:$P$24,MATCH(Q$26,$K$5:$K$24,0),MATCH($E$26,$M$4:$P$4,0)),$F37-($F37/(1-INDEX($F$5:$I$24,MATCH(Q$26,$E$5:$E$24,0),MATCH($F$26,$F$4:$I$4,0))))*INDEX($Q$5:$T$24,MATCH(Q$26,$K$5:$K$24,0),MATCH($E$26,$Q$4:$T$4,0))))","v":""},"","","","","","","","",""]
[null,12,{"$f":"IF(B38>MAX(Criteria!$M:$M),\"\",IF(ISERROR(MATCH(B38,Weighting_Rank_Methods!$D$4:$D$23,0)),B38,\"\"))","v":""},null,{"$f":"IF(INDEX('Selected Criteria'!$E$6:$E$25,ROWS($E$27:$E38))=0,\"\",INDEX('Selected Criteria'!$E$6:$E$25,ROWS($E$27:$E38)))","v":""},"","","","","","","","","","","","","","","","","","","","",""]
[null,13,{"$f":"IF(B39>MAX(Criteria!$M:$M),\"\",IF(ISERROR(MATCH(B39,Weighting_Rank_Methods!$D$4:$D$23,0)),B39,\"\"))","v":""},null,{"$f":"IF(INDEX('Selected Criteria'!$E$6:$E$25,ROWS($E$27:$E39))=0,\"\",INDEX('Selected Criteria'!$E$6:$E$25,ROWS($E$27:$E39)))","v":""},"","","","","","","","","","","","","","","","","","","","",""]
[null,14,{"$f":"IF(B40>MAX(Criteria!$M:$M),\"\",IF(ISERROR(MATCH(B40,Weighting_Rank_Methods!$D$4:$D$23,0)),B40,\"\"))","v":""},null,{"$f":"IF(INDEX('Selected Criteria'!$E$6:$E$25,ROWS($E$27:$E40))=0,\"\",INDEX('Selected Criteria'!$E$6:$E$25,ROWS($E$27:$E40)))","v":""},"","","","","","","","","","","","","","","","","","","","",""]
[null,15,{"$f":"IF(B41>MAX(Criteria!$M:$M),\"\",IF(ISERROR(MATCH(B41,Weighting_Rank_Methods!$D$4:$D$23,0)),B41,\"\"))","v":""},null,{"$f":"IF(INDEX('Selected Criteria'!$E$6:$E$25,ROWS($E$27:$E41))=0,\"\",INDEX('Selected Criteria'!$E$6:$E$25,ROWS($E$27:$E41)))","v":""},"","","","","","","","","","","","","","","","","","","","",""]
[null,16,{"$f":"IF(B42>MAX(Criteria!$M:$M),\"\",IF(ISERROR(MATCH(B42,Weighting_Rank_Methods!$D$4:$D$23,0)),B42,\"\"))","v":""},null,{"$f":"IF(INDEX('Selected Criteria'!$E$6:$E$25,ROWS($E$27:$E42))=0,\"\",INDEX('Selected Criteria'!$E$6:$E$25,ROWS($E$27:$E42)))","v":""},"","","","","","","","","","","","","","","","","","","","",""]
[null,17,{"$f":"IF(B43>MAX(Criteria!$M:$M),\"\",IF(ISERROR(MATCH(B43,Weighting_Rank_Methods!$D$4:$D$23,0)),B43,\"\"))","v":""},null,{"$f":"IF(INDEX('Selected Criteria'!$E$6:$E$25,ROWS($E$27:$E43))=0,\"\",INDEX('Selected Criteria'!$E$6:$E$25,ROWS($E$27:$E43)))","v":""},"","","","","","","","","","","","","","","","","","","","",""]
[null,18,{"$f":"IF(B44>MAX(Criteria!$M:$M),\"\",IF(ISERROR(MATCH(B44,Weighting_Rank_Methods!$D$4:$D$23,0)),B44,\"\"))","v":""},null,{"$f":"IF(INDEX('Selected Criteria'!$E$6:$E$25,ROWS($E$27:$E44))=0,\"\",INDEX('Selected Criteria'!$E$6:$E$25,ROWS($E$27:$E44)))","v":""},"","","","","","","","","","","","","","","","","","","","",""]
[null,19,{"$f":"IF(B45>MAX(Criteria!$M:$M),\"\",IF(ISERROR(MATCH(B45,Weighting_Rank_Methods!$D$4:$D$23,0)),B45,\"\"))","v":""},null,{"$f":"IF(INDEX('Selected Criteria'!$E$6:$E$25,ROWS($E$27:$E45))=0,\"\",INDEX('Selected Criteria'!$E$6:$E$25,ROWS($E$27:$E45)))","v":""},"","","","","","","","","","","","","","","","","","","","",""]
[null,20,{"$f":"IF(B46>MAX(Criteria!$M:$M),\"\",IF(ISERROR(MATCH(B46,Weighting_Rank_Methods!$D$4:$D$23,0)),B46,\"\"))","v":""},null,{"$f":"IF(INDEX('Selected Criteria'!$E$6:$E$25,ROWS($E$27:$E46))=0,\"\",INDEX('Selected Criteria'!$E$6:$E$25,ROWS($E$27:$E46)))","v":""},"","","","","","","","","","","","","","","","","","","","",""]
[]
[null,null,null,null,-0.25,{"$f":"Scoring!$E$4","v":"Rank Sum"},{"$f":"IF(INDEX('Selected Criteria'!$E$6:$E$25,COLUMNS($G$48:G$48))=0,\"\",INDEX('Selected Criteria'!$E$6:$E$25,COLUMNS($G$48:G$48)))","v":""},{"$f":"IF(INDEX('Selected Criteria'!$E$6:$E$25,COLUMNS($G$48:H$48))=0,\"\",INDEX('Selected Criteria'!$E$6:$E$25,COLUMNS($G$48:H$48)))","v":""},{"$f":"IF(INDEX('Selected Criteria'!$E$6:$E$25,COLUMNS($G$48:I$48))=0,\"\",INDEX('Selected Criteria'!$E$6:$E$25,COLUMNS($G$48:I$48)))","v":""},{"$f":"IF(INDEX('Selected Criteria'!$E$6:$E$25,COLUMNS($G$48:J$48))=0,\"\",INDEX('Selected Criteria'!$E$6:$E$25,COLUMNS($G$48:J$48)))","v":""},{"$f":"IF(INDEX('Selected Criteria'!$E$6:$E$25,COLUMNS($G$48:K$48))=0,\"\",INDEX('Selected Criteria'!$E$6:$E$25,COLUMNS($G$48:K$48)))","v":""},{"$f":"IF(INDEX('Selected Criteria'!$E$6:$E$25,COLUMNS($G$48:L$48))=0,\"\",INDEX('Selected Criteria'!$E$6:$E$25,COLUMNS($G$48:L$48)))","v":""},{"$f":"IF(INDEX('Selected Criteria'!$E$6:$E$25,COLUMNS($G$48:M$48))=0,\"\",INDEX('Selected Criteria'!$E$6:$E$25,COLUMNS($G$48:M$48)))","v":""},{"$f":"IF(INDEX('Selected Criteria'!$E$6:$E$25,COLUMNS($G$48:N$48))=0,\"\",INDEX('Selected Criteria'!$E$6:$E$25,COLUMNS($G$48:N$48)))","v":""},{"$f":"IF(INDEX('Selected Criteria'!$E$6:$E$25,COLUMNS($G$48:O$48))=0,\"\",INDEX('Selected Criteria'!$E$6:$E$25,COLUMNS($G$48:O$48)))","v":""},{"$f":"IF(INDEX('Selected Criteria'!$E$6:$E$25,COLUMNS($G$48:P$48))=0,\"\",INDEX('Selected Criteria'!$E$6:$E$25,COLUMNS($G$48:P$48)))","v":""},{"$f":"IF(INDEX('Selected Criteria'!$E$6:$E$25,COLUMNS($G$48:Q$48))=0,\"\",INDEX('Selected Criteria'!$E$6:$E$25,COLUMNS($G$48:Q$48)))","v":""},{"$f":"IF(INDEX('Selected Criteria'!$E$6:$E$25,COLUMNS($G$48:R$48))=0,\"\",INDEX('Selected Criteria'!$E$6:$E$25,COLUMNS($G$48:R$48)))","v":""},{"$f":"IF(INDEX('Selected Criteria'!$E$6:$E$25,COLUMNS($G$48:S$48))=0,\"\",INDEX('Selected Criteria'!$E$6:$E$25,COLUMNS($G$48:S$48)))","v":""},{"$f":"IF(INDEX('Selected Criteria'!$E$6:$E$25,COLUMNS($G$48:T$48))=0,\"\",INDEX('Selected Criteria'!$E$6:$E$25,COLUMNS($G$48:T$48)))","v":""},{"$f":"IF(INDEX('Selected Criteria'!$E$6:$E$25,COLUMNS($G$48:U$48))=0,\"\",INDEX('Selected Criteria'!$E$6:$E$25,COLUMNS($G$48:U$48)))","v":""},{"$f":"IF(INDEX('Selected Criteria'!$E$6:$E$25,COLUMNS($G$48:V$48))=0,\"\",INDEX('Selected Criteria'!$E$6:$E$25,COLUMNS($G$48:V$48)))","v":""},{"$f":"IF(INDEX('Selected Criteria'!$E$6:$E$25,COLUMNS($G$48:W$48))=0,\"\",INDEX('Selected Criteria'!$E$6:$E$25,COLUMNS($G$48:W$48)))","v":""},{"$f":"IF(INDEX('Selected Criteria'!$E$6:$E$25,COLUMNS($G$48:X$48))=0,\"\",INDEX('Selected Criteria'!$E$6:$E$25,COLUMNS($G$48:X$48)))","v":""},{"$f":"IF(INDEX('Selected Criteria'!$E$6:$E$25,COLUMNS($G$48:Y$48))=0,\"\",INDEX('Selected Criteria'!$E$6:$E$25,COLUMNS($G$48:Y$48)))","v":""},{"$f":"IF(INDEX('Selected Criteria'!$E$6:$E$25,COLUMNS($G$48:Z$48))=0,\"\",INDEX('Selected Criteria'!$E$6:$E$25,COLUMNS($G$48:Z$48)))","v":""}]
[null,null,null,null,{"$f":"IF(INDEX('Selected Criteria'!$E$6:$E$25,ROWS($E$49:$E49))=0,\"\",INDEX('Selected Criteria'!$E$6:$E$25,ROWS($E$49:$E49)))","v":""},{"$f":"IF($E49=\"\",\"\",INDEX($F$5:$I$24,MATCH($E49,$E$5:$E$24,0),MATCH($F$48,$F$4:$I$4,0)))","v":""},{"$f":"IF(OR($E49=\"\",G$48=\"\"),\"\",IF($E49=G$48,INDEX($M$5:$P$24,MATCH(G$48,$K$5:$K$24,0),MATCH($E$48,$M$4:$P$4,0)),$F49-($F49/(1-INDEX($F$5:$I$24,MATCH(G$48,$E$5:$E$24,0),MATCH($F$48,$F$4:$I$4,0))))*INDEX($Q$5:$T$24,MATCH(G$48,$K$5:$K$24,0),MATCH($E$48,$Q$4:$T$4,0))))","v":""},"","","","","","","","","",{"$f":"IF(OR($E49=\"\",Q$48=\"\"),\"\",IF($E49=Q$48,INDEX($M$5:$P$24,MATCH(Q$48,$K$5:$K$24,0),MATCH($E$48,$M$4:$P$4,0)),$F49-($F49/(1-INDEX($F$5:$I$24,MATCH(Q$48,$E$5:$E$24,0),MATCH($F$48,$F$4:$I$4,0))))*INDEX($Q$5:$T$24,MATCH(Q$48,$K$5:$K$24,0),MATCH($E$48,$Q$4:$T$4,0))))","v":""},"","","","","","","","",""]
[null,null,null,null,{"$f":"IF(INDEX('Selected Criteria'!$E$6:$E$25,ROWS($E$49:$E50))=0,\"\",INDEX('Selected Criteria'!$E$6:$E$25,ROWS($E$49:$E50)))","v":""},"","","","","","","","","","","","","","","","","","","","",""]
[null,null,null,null,{"$f":"IF(INDEX('Selected Criteria'!$E$6:$E$25,ROWS($E$49:$E51))=0,\"\",INDEX('Selected Criteria'!$E$6:$E$25,ROWS($E$49:$E51)))","v":""},"","","","","","","","","","","","","","","","","","","","",""]
[null,null,null,null,{"$f":"IF(INDEX('Selected Criteria'!$E$6:$E$25,ROWS($E$49:$E52))=0,\"\",INDEX('Selected Criteria'!$E$6:$E$25,ROWS($E$49:$E52)))","v":""},"","","","","","","","","","","","","","","","","","","","",""]
[null,null,null,null,{"$f":"IF(INDEX('Selected Criteria'!$E$6:$E$25,ROWS($E$49:$E53))=0,\"\",INDEX('Selected Criteria'!$E$6:$E$25,ROWS($E$49:$E53)))","v":""},"","","","","","","","","","","","","","","","","","","","",""]
[null,null,null,null,{"$f":"IF(INDEX('Selected Criteria'!$E$6:$E$25,ROWS($E$49:$E54))=0,\"\",INDEX('Selected Criteria'!$E$6:$E$25,ROWS($E$49:$E54)))","v":""},"","","","","","","","","","","","","","","","","","","","",""]
[null,null,null,null,{"$f":"IF(INDEX('Selected Criteria'!$E$6:$E$25,ROWS($E$49:$E55))=0,\"\",INDEX('Selected Criteria'!$E$6:$E$25,ROWS($E$49:$E55)))","v":""},"","","","","","","","","","","","","","","","","","","","",""]
[null,null,null,null,{"$f":"IF(INDEX('Selected Criteria'!$E$6:$E$25,ROWS($E$49:$E56))=0,\"\",INDEX('Selected Criteria'!$E$6:$E$25,ROWS($E$49:$E56)))","v":""},"","","","","","","","","","","","","","","","","","","","",""]
[null,null,null,null,{"$f":"IF(INDEX('Selected Criteria'!$E$6:$E$25,ROWS($E$49:$E57))=0,\"\",INDEX('Selected Criteria'!$E$6:$E$25,ROWS($E$49:$E57)))","v":""},"","","","","","","","","","","","","","","","","","","","",""]
[null,null,null,null,{"$f":"IF(INDEX('Selected Criteria'!$E$6:$E$25,ROWS($E$49:$E58))=0,\"\",INDEX('Selected Criteria'!$E$6:$E$25,ROWS($E$49:$E58)))","v":""},"","","","","","","","","","","","","","","","","","","","",""]
[null,null,null,null,{"$f":"IF(INDEX('Selected Criteria'!$E$6:$E$25,ROWS($E$49:$E59))=0,\"\",INDEX('Selected Criteria'!$E$6:$E$25,ROWS($E$49:$E59)))","v":""},"",{"$f":"IF(OR($E59=\"\",G$48=\"\"),\"\",IF($E59=G$48,INDEX($M$5:$P$24,MATCH(G$48,$K$5:$K$24,0),MATCH($E$48,$M$4:$P$4,0)),$F59-($F59/(1-INDEX($F$5:$I$24,MATCH(G$48,$E$5:$E$24,0),MATCH($F$48,$F$4:$I$4,0))))*INDEX($Q$5:$T$24,MATCH(G$48,$K$5:$K$24,0),MATCH($E$48,$Q$4:$T$4,0))))","v":""},"","","","","","","","","",{"$f":"IF(OR($E59=\"\",Q$48=\"\"),\"\",IF($E59=Q$48,INDEX($M$5:$P$24,MATCH(Q$48,$K$5:$K$24,0),MATCH($E$48,$M$4:$P$4,0)),$F59-($F59/(1-INDEX($F$5:$I$24,MATCH(Q$48,$E$5:$E$24,0),MATCH($F$48,$F$4:$I$4,0))))*INDEX($Q$5:$T$24,MATCH(Q$48,$K$5:$K$24,0),MATCH($E$48,$Q$4:$T$4,0))))","v":""},"","","","","","","","",""]
[null,null,null,null,{"$f":"IF(INDEX('Selected Criteria'!$E$6:$E$25,ROWS($E$49:$E60))=0,\"\",INDEX('Selected Criteria'!$E$6:$E$25,ROWS($E$49:$E60)))","v":""},"","","","","","","","","","","","","","","","","","","","",""]
[null,null,null,null,{"$f":"IF(INDEX('Selected Criteria'!$E$6:$E$25,ROWS($E$49:$E61))=0,\"\",INDEX('Selected Criteria'!$E$6:$E$25,ROWS($E$49:$E61)))","v":""},"","","","","","","","","","","","","","","","","","","","",""]
[null,null,null,null,{"$f":"IF(INDEX('Selected Criteria'!$E$6:$E$25,ROWS($E$49:$E62))=0,\"\",INDEX('Selected Criteria'!$E$6:$E$25,ROWS($E$49:$E62)))","v":""},"","","","","","","","","","","","","","","","","","","","",""]
[null,null,null,null,{"$f":"IF(INDEX('Selected Criteria'!$E$6:$E$25,ROWS($E$49:$E63))=0,\"\",INDEX('Selected Criteria'!$E$6:$E$25,ROWS($E$49:$E63)))","v":""},"","","","","","","","","","","","","","","","","","","","",""]
[null,null,null,null,{"$f":"IF(INDEX('Selected Criteria'!$E$6:$E$25,ROWS($E$49:$E64))=0,\"\",INDEX('Selected Criteria'!$E$6:$E$25,ROWS($E$49:$E64)))","v":""},"","","","","","","","","","","","","","","","","","","","",""]
[null,null,null,null,{"$f":"IF(INDEX('Selected Criteria'!$E$6:$E$25,ROWS($E$49:$E65))=0,\"\",INDEX('Selected Criteria'!$E$6:$E$25,ROWS($E$49:$E65)))","v":""},"","","","","","","","","","","","","","","","","","","","",""]
[null,null,null,null,{"$f":"IF(INDEX('Selected Criteria'!$E$6:$E$25,ROWS($E$49:$E66))=0,\"\",INDEX('Selected Criteria'!$E$6:$E$25,ROWS($E$49:$E66)))","v":""},"","","","","","","","","","","","","","","","","","","","",""]
[null,null,null,null,{"$f":"IF(INDEX('Selected Criteria'!$E$6:$E$25,ROWS($E$49:$E67))=0,\"\",INDEX('Selected Criteria'!$E$6:$E$25,ROWS($E$49:$E67)))","v":""},"","","","","","","","","","","","","","","","","","","","",""]
[null,null,null,null,{"$f":"IF(INDEX('Selected Criteria'!$E$6:$E$25,ROWS($E$49:$E68))=0,\"\",INDEX('Selected Criteria'!$E$6:$E$25,ROWS($E$49:$E68)))","v":""},"","","","","","","","","","","","","","","","","","","","",""]
[]
[null,null,null,null,0.25,{"$f":"Scoring!$E$4","v":"Rank Sum"},{"$f":"IF(INDEX('Selected Criteria'!$E$6:$E$25,COLUMNS($G$70:G$70))=0,\"\",INDEX('Selected Criteria'!$E$6:$E$25,COLUMNS($G$70:G$70)))","v":""},{"$f":"IF(INDEX('Selected Criteria'!$E$6:$E$25,COLUMNS($G$70:H$70))=0,\"\",INDEX('Selected Criteria'!$E$6:$E$25,COLUMNS($G$70:H$70)))","v":""},{"$f":"IF(INDEX('Selected Criteria'!$E$6:$E$25,COLUMNS($G$70:I$70))=0,\"\",INDEX('Selected Criteria'!$E$6:$E$25,COLUMNS($G$70:I$70)))","v":""},{"$f":"IF(INDEX('Selected Criteria'!$E$6:$E$25,COLUMNS($G$70:J$70))=0,\"\",INDEX('Selected Criteria'!$E$6:$E$25,COLUMNS($G$70:J$70)))","v":""},{"$f":"IF(INDEX('Selected Criteria'!$E$6:$E$25,COLUMNS($G$70:K$70))=0,\"\",INDEX('Selected Criteria'!$E$6:$E$25,COLUMNS($G$70:K$70)))","v":""},{"$f":"IF(INDEX('Selected Criteria'!$E$6:$E$25,COLUMNS($G$70:L$70))=0,\"\",INDEX('Selected Criteria'!$E$6:$E$25,COLUMNS($G$70:L$70)))","v":""},{"$f":"IF(INDEX('Selected Criteria'!$E$6:$E$25,COLUMNS($G$70:M$70))=0,\"\",INDEX('Selected Criteria'!$E$6:$E$25,COLUMNS($G$70:M$70)))","v":""},{"$f":"IF(INDEX('Selected Criteria'!$E$6:$E$25,COLUMNS($G$70:N$70))=0,\"\",INDEX('Selected Criteria'!$E$6:$E$25,COLUMNS($G$70:N$70)))","v":""},{"$f":"IF(INDEX('Selected Criteria'!$E$6:$E$25,COLUMNS($G$70:O$70))=0,\"\",INDEX('Selected Criteria'!$E$6:$E$25,COLUMNS($G$70:O$70)))","v":""},{"$f":"IF(INDEX('Selected Criteria'!$E$6:$E$25,COLUMNS($G$70:P$70))=0,\"\",INDEX('Selected Criteria'!$E$6:$E$25,COLUMNS($G$70:P$70)))","v":""},{"$f":"IF(INDEX('Selected Criteria'!$E$6:$E$25,COLUMNS($G$70:Q$70))=0,\"\",INDEX('Selected Criteria'!$E$6:$E$25,COLUMNS($G$70:Q$70)))","v":""},{"$f":"IF(INDEX('Selected Criteria'!$E$6:$E$25,COLUMNS($G$70:R$70))=0,\"\",INDEX('Selected Criteria'!$E$6:$E$25,COLUMNS($G$70:R$70)))","v":""},{"$f":"IF(INDEX('Selected Criteria'!$E$6:$E$25,COLUMNS($G$70:S$70))=0,\"\",INDEX('Selected Criteria'!$E$6:$E$25,COLUMNS($G$70:S$70)))","v":""},{"$f":"IF(INDEX('Selected Criteria'!$E$6:$E$25,COLUMNS($G$70:T$70))=0,\"\",INDEX('Selected Criteria'!$E$6:$E$25,COLUMNS($G$70:T$70)))","v":""},{"$f":"IF(INDEX('Selected Criteria'!$E$6:$E$25,COLUMNS($G$70:U$70))=0,\"\",INDEX('Selected Criteria'!$E$6:$E$25,COLUMNS($G$70:U$70)))","v":""},{"$f":"IF(INDEX('Selected Criteria'!$E$6:$E$25,COLUMNS($G$70:V$70))=0,\"\",INDEX('Selected Criteria'!$E$6:$E$25,COLUMNS($G$70:V$70)))","v":""},{"$f":"IF(INDEX('Selected Criteria'!$E$6:$E$25,COLUMNS($G$70:W$70))=0,\"\",INDEX('Selected Criteria'!$E$6:$E$25,COLUMNS($G$70:W$70)))","v":""},{"$f":"IF(INDEX('Selected Criteria'!$E$6:$E$25,COLUMNS($G$70:X$70))=0,\"\",INDEX('Selected Criteria'!$E$6:$E$25,COLUMNS($G$70:X$70)))","v":""},{"$f":"IF(INDEX('Selected Criteria'!$E$6:$E$25,COLUMNS($G$70:Y$70))=0,\"\",INDEX('Selected Criteria'!$E$6:$E$25,COLUMNS($G$70:Y$70)))","v":""},{"$f":"IF(INDEX('Selected Criteria'!$E$6:$E$25,COLUMNS($G$70:Z$70))=0,\"\",INDEX('Selected Criteria'!$E$6:$E$25,COLUMNS($G$70:Z$70)))","v":""}]
[null,null,null,null,{"$f":"IF(INDEX('Selected Criteria'!$E$6:$E$25,ROWS($E$71:$E71))=0,\"\",INDEX('Selected Criteria'!$E$6:$E$25,ROWS($E$71:$E71)))","v":""},{"$f":"IF($E71=\"\",\"\",INDEX($F$5:$I$24,MATCH($E71,$E$5:$E$24,0),MATCH($F$70,$F$4:$I$4,0)))","v":""},{"$f":"IF(OR($E71=\"\",G$70=\"\"),\"\",IF($E71=G$70,INDEX($M$5:$P$24,MATCH(G$70,$K$5:$K$24,0),MATCH($E$70,$M$4:$P$4,0)),$F71-($F71/(1-INDEX($F$5:$I$24,MATCH(G$70,$E$5:$E$24,0),MATCH($F$70,$F$4:$I$4,0))))*INDEX($Q$5:$T$24,MATCH(G$70,$K$5:$K$24,0),MATCH($E$70,$Q$4:$T$4,0))))","v":""},"","","","","","","","","",{"$f":"IF(OR($E71=\"\",Q$70=\"\"),\"\",IF($E71=Q$70,INDEX($M$5:$P$24,MATCH(Q$70,$K$5:$K$24,0),MATCH($E$70,$M$4:$P$4,0)),$F71-($F71/(1-INDEX($F$5:$I$24,MATCH(Q$70,$E$5:$E$24,0),MATCH($F$70,$F$4:$I$4,0))))*INDEX($Q$5:$T$24,MATCH(Q$70,$K$5:$K$24,0),MATCH($E$70,$Q$4:$T$4,0))))","v":""},"","","","","","","","",""]
[null,null,null,null,{"$f":"IF(INDEX('Selected Criteria'!$E$6:$E$25,ROWS($E$71:$E72))=0,\"\",INDEX('Selected Criteria'!$E$6:$E$25,ROWS($E$71:$E72)))","v":""},"","","","","","","","","","","","","","","","","","","","",""]
[null,null,null,null,{"$f":"IF(INDEX('Selected Criteria'!$E$6:$E$25,ROWS($E$71:$E73))=0,\"\",INDEX('Selected Criteria'!$E$6:$E$25,ROWS($E$71:$E73)))","v":""},"","","","","","","","","","","","","","","","","","","","",""]
[null,null,null,null,{"$f":"IF(INDEX('Selected Criteria'!$E$6:$E$25,ROWS($E$71:$E74))=0,\"\",INDEX('Selected Criteria'!$E$6:$E$25,ROWS($E$71:$E74)))","v":""},"","","","","","","","","","","","","","","","","","","","",""]
[null,null,null,null,{"$f":"IF(INDEX('Selected Criteria'!$E$6:$E$25,ROWS($E$71:$E75))=0,\"\",INDEX('Selected Criteria'!$E$6:$E$25,ROWS($E$71:$E75)))","v":""},"","","","","","","","","","","","","","","","","","","","",""]
[null,null,null,null,{"$f":"IF(INDEX('Selected Criteria'!$E$6:$E$25,ROWS($E$71:$E76))=0,\"\",INDEX('Selected Criteria'!$E$6:$E$25,ROWS($E$71:$E76)))","v":""},"","","","","","","","","","","","","","","","","","","","",""]
[null,null,null,null,{"$f":"IF(INDEX('Selected Criteria'!$E$6:$E$25,ROWS($E$71:$E77))=0,\"\",INDEX('Selected Criteria'!$E$6:$E$25,ROWS($E$71:$E77)))","v":""},"","","","","","","","","","","","","","","","","","","","",""]
[null,null,null,null,{"$f":"IF(INDEX('Selected Criteria'!$E$6:$E$25,ROWS($E$71:$E78))=0,\"\",INDEX('Selected Criteria'!$E$6:$E$25,ROWS($E$71:$E78)))","v":""},"","","","","","","","","","","","","","","","","","","","",""]
[null,null,null,null,{"$f":"IF(INDEX('Selected Criteria'!$E$6:$E$25,ROWS($E$71:$E79))=0,\"\",INDEX('Selected Criteria'!$E$6:$E$25,ROWS($E$71:$E79)))","v":""},"","","","","","","","","","","","","","","","","","","","",""]
[null,null,null,null,{"$f":"IF(INDEX('Selected Criteria'!$E$6:$E$25,ROWS($E$71:$E80))=0,\"\",INDEX('Selected Criteria'!$E$6:$E$25,ROWS($E$71:$E80)))","v":""},"","","","","","","","","","","","","","","","","","","","",""]
[null,null,null,null,{"$f":"IF(INDEX('Selected Criteria'!$E$6:$E$25,ROWS($E$71:$E81))=0,\"\",INDEX('Selected Criteria'!$E$6:$E$25,ROWS($E$71:$E81)))","v":""},"",{"$f":"IF(OR($E81=\"\",G$70=\"\"),\"\",IF($E81=G$70,INDEX($M$5:$P$24,MATCH(G$70,$K$5:$K$24,0),MATCH($E$70,$M$4:$P$4,0)),$F81-($F81/(1-INDEX($F$5:$I$24,MATCH(G$70,$E$5:$E$24,0),MATCH($F$70,$F$4:$I$4,0))))*INDEX($Q$5:$T$24,MATCH(G$70,$K$5:$K$24,0),MATCH($E$70,$Q$4:$T$4,0))))","v":""},"","","","","","","","","",{"$f":"IF(OR($E81=\"\",Q$70=\"\"),\"\",IF($E81=Q$70,INDEX($M$5:$P$24,MATCH(Q$70,$K$5:$K$24,0),MATCH($E$70,$M$4:$P$4,0)),$F81-($F81/(1-INDEX($F$5:$I$24,MATCH(Q$70,$E$5:$E$24,0),MATCH($F$70,$F$4:$I$4,0))))*INDEX($Q$5:$T$24,MATCH(Q$70,$K$5:$K$24,0),MATCH($E$70,$Q$4:$T$4,0))))","v":""},"","","","","","","","",""]
[null,null,null,null,{"$f":"IF(INDEX('Selected Criteria'!$E$6:$E$25,ROWS($E$71:$E82))=0,\"\",INDEX('Selected Criteria'!$E$6:$E$25,ROWS($E$71:$E82)))","v":""},"","","","","","","","","","","","","","","","","","","","",""]
[null,null,null,null,{"$f":"IF(INDEX('Selected Criteria'!$E$6:$E$25,ROWS($E$71:$E83))=0,\"\",INDEX('Selected Criteria'!$E$6:$E$25,ROWS($E$71:$E83)))","v":""},"","","","","","","","","","","","","","","","","","","","",""]
[null,null,null,null,{"$f":"IF(INDEX('Selected Criteria'!$E$6:$E$25,ROWS($E$71:$E84))=0,\"\",INDEX('Selected Criteria'!$E$6:$E$25,ROWS($E$71:$E84)))","v":""},"","","","","","","","","","","","","","","","","","","","",""]
[null,null,null,null,{"$f":"IF(INDEX('Selected Criteria'!$E$6:$E$25,ROWS($E$71:$E85))=0,\"\",INDEX('Selected Criteria'!$E$6:$E$25,ROWS($E$71:$E85)))","v":""},"","","","","","","","","","","","","","","","","","","","",""]
[null,null,null,null,{"$f":"IF(INDEX('Selected Criteria'!$E$6:$E$25,ROWS($E$71:$E86))=0,\"\",INDEX('Selected Criteria'!$E$6:$E$25,ROWS($E$71:$E86)))","v":""},"","","","","","","","","","","","","","","","","","","","",""]
[null,null,null,null,{"$f":"IF(INDEX('Selected Criteria'!$E$6:$E$25,ROWS($E$71:$E87))=0,\"\",INDEX('Selected Criteria'!$E$6:$E$25,ROWS($E$71:$E87)))","v":""},"","","","","","","","","","","","","","","","","","","","",""]
[null,null,null,null,{"$f":"IF(INDEX('Selected Criteria'!$E$6:$E$25,ROWS($E$71:$E88))=0,\"\",INDEX('Selected Criteria'!$E$6:$E$25,ROWS($E$71:$E88)))","v":""},"","","","","","","","","","","","","","","","","","","","",""]
[null,null,null,null,{"$f":"IF(INDEX('Selected Criteria'!$E$6:$E$25,ROWS($E$71:$E89))=0,\"\",INDEX('Selected Criteria'!$E$6:$E$25,ROWS($E$71:$E89)))","v":""},"","","","","","","","","","","","","","","","","","","","",""]
[null,null,null,null,{"$f":"IF(INDEX('Selected Criteria'!$E$6:$E$25,ROWS($E$71:$E90))=0,\"\",INDEX('Selected Criteria'!$E$6:$E$25,ROWS($E$71:$E90)))","v":""},"","","","","","","","","","","","","","","","","","","","",""]
[]
[null,null,null,null,0.5,{"$f":"Scoring!$E$4","v":"Rank Sum"},{"$f":"IF(INDEX('Selected Criteria'!$E$6:$E$25,COLUMNS($G$92:G$92))=0,\"\",INDEX('Selected Criteria'!$E$6:$E$25,COLUMNS($G$92:G$92)))","v":""},{"$f":"IF(INDEX('Selected Criteria'!$E$6:$E$25,COLUMNS($G$92:H$92))=0,\"\",INDEX('Selected Criteria'!$E$6:$E$25,COLUMNS($G$92:H$92)))","v":""},{"$f":"IF(INDEX('Selected Criteria'!$E$6:$E$25,COLUMNS($G$92:I$92))=0,\"\",INDEX('Selected Criteria'!$E$6:$E$25,COLUMNS($G$92:I$92)))","v":""},{"$f":"IF(INDEX('Selected Criteria'!$E$6:$E$25,COLUMNS($G$92:J$92))=0,\"\",INDEX('Selected Criteria'!$E$6:$E$25,COLUMNS($G$92:J$92)))","v":""},{"$f":"IF(INDEX('Selected Criteria'!$E$6:$E$25,COLUMNS($G$92:K$92))=0,\"\",INDEX('Selected Criteria'!$E$6:$E$25,COLUMNS($G$92:K$92)))","v":""},{"$f":"IF(INDEX('Selected Criteria'!$E$6:$E$25,COLUMNS($G$92:L$92))=0,\"\",INDEX('Selected Criteria'!$E$6:$E$25,COLUMNS($G$92:L$92)))","v":""},{"$f":"IF(INDEX('Selected Criteria'!$E$6:$E$25,COLUMNS($G$92:M$92))=0,\"\",INDEX('Selected Criteria'!$E$6:$E$25,COLUMNS($G$92:M$92)))","v":""},{"$f":"IF(INDEX('Selected Criteria'!$E$6:$E$25,COLUMNS($G$92:N$92))=0,\"\",INDEX('Selected Criteria'!$E$6:$E$25,COLUMNS($G$92:N$92)))","v":""},{"$f":"IF(INDEX('Selected Criteria'!$E$6:$E$25,COLUMNS($G$92:O$92))=0,\"\",INDEX('Selected Criteria'!$E$6:$E$25,COLUMNS($G$92:O$92)))","v":""},{"$f":"IF(INDEX('Selected Criteria'!$E$6:$E$25,COLUMNS($G$92:P$92))=0,\"\",INDEX('Selected Criteria'!$E$6:$E$25,COLUMNS($G$92:P$92)))","v":""},{"$f":"IF(INDEX('Selected Criteria'!$E$6:$E$25,COLUMNS($G$92:Q$92))=0,\"\",INDEX('Selected Criteria'!$E$6:$E$25,COLUMNS($G$92:Q$92)))","v":""},{"$f":"IF(INDEX('Selected Criteria'!$E$6:$E$25,COLUMNS($G$92:R$92))=0,\"\",INDEX('Selected Criteria'!$E$6:$E$25,COLUMNS($G$92:R$92)))","v":""},{"$f":"IF(INDEX('Selected Criteria'!$E$6:$E$25,COLUMNS($G$92:S$92))=0,\"\",INDEX('Selected Criteria'!$E$6:$E$25,COLUMNS($G$92:S$92)))","v":""},{"$f":"IF(INDEX('Selected Criteria'!$E$6:$E$25,COLUMNS($G$92:T$92))=0,\"\",INDEX('Selected Criteria'!$E$6:$E$25,COLUMNS($G$92:T$92)))","v":""},{"$f":"IF(INDEX('Selected Criteria'!$E$6:$E$25,COLUMNS($G$92:U$92))=0,\"\",INDEX('Selected Criteria'!$E$6:$E$25,COLUMNS($G$92:U$92)))","v":""},{"$f":"IF(INDEX('Selected Criteria'!$E$6:$E$25,COLUMNS($G$92:V$92))=0,\"\",INDEX('Selected Criteria'!$E$6:$E$25,COLUMNS($G$92:V$92)))","v":""},{"$f":"IF(INDEX('Selected Criteria'!$E$6:$E$25,COLUMNS($G$92:W$92))=0,\"\",INDEX('Selected Criteria'!$E$6:$E$25,COLUMNS($G$92:W$92)))","v":""},{"$f":"IF(INDEX('Selected Criteria'!$E$6:$E$25,COLUMNS($G$92:X$92))=0,\"\",INDEX('Selected Criteria'!$E$6:$E$25,COLUMNS($G$92:X$92)))","v":""},{"$f":"IF(INDEX('Selected Criteria'!$E$6:$E$25,COLUMNS($G$92:Y$92))=0,\"\",INDEX('Selected Criteria'!$E$6:$E$25,COLUMNS($G$92:Y$92)))","v":""},{"$f":"IF(INDEX('Selected Criteria'!$E$6:$E$25,COLUMNS($G$92:Z$92))=0,\"\",INDEX('Selected Criteria'!$E$6:$E$25,COLUMNS($G$92:Z$92)))","v":""}]
[null,null,null,null,{"$f":"IF(INDEX('Selected Criteria'!$E$6:$E$25,ROWS($E$49:$E49))=0,\"\",INDEX('Selected Criteria'!$E$6:$E$25,ROWS($E$49:$E49)))","v":""},{"$f":"IF($E93=\"\",\"\",INDEX($F$5:$I$24,MATCH($E93,$E$5:$E$24,0),MATCH($F$92,$F$4:$I$4,0)))","v":""},{"$f":"IF(OR($E93=\"\",G$92=\"\"),\"\",IF($E93=G$92,INDEX($M$5:$P$24,MATCH(G$92,$K$5:$K$24,0),MATCH($E$92,$M$4:$P$4,0)),$F93-($F93/(1-INDEX($F$5:$I$24,MATCH(G$92,$E$5:$E$24,0),MATCH($F$92,$F$4:$I$4,0))))*INDEX($Q$5:$T$24,MATCH(G$92,$K$5:$K$24,0),MATCH($E$92,$Q$4:$T$4,0))))","v":""},"","","","","","","","","",{"$f":"IF(OR($E93=\"\",Q$92=\"\"),\"\",IF($E93=Q$92,INDEX($M$5:$P$24,MATCH(Q$92,$K$5:$K$24,0),MATCH($E$92,$M$4:$P$4,0)),$F93-($F93/(1-INDEX($F$5:$I$24,MATCH(Q$92,$E$5:$E$24,0),MATCH($F$92,$F$4:$I$4,0))))*INDEX($Q$5:$T$24,MATCH(Q$92,$K$5:$K$24,0),MATCH($E$92,$Q$4:$T$4,0))))","v":""},"","","","","","","","",""]
[null,null,null,null,{"$f":"IF(INDEX('Selected Criteria'!$E$6:$E$25,ROWS($E$49:$E50))=0,\"\",INDEX('Selected Criteria'!$E$6:$E$25,ROWS($E$49:$E50)))","v":""},"","","","","","","","","","","","","","","","","","","","",""]
[null,null,null,null,{"$f":"IF(INDEX('Selected Criteria'!$E$6:$E$25,ROWS($E$49:$E51))=0,\"\",INDEX('Selected Criteria'!$E$6:$E$25,ROWS($E$49:$E51)))","v":""},"","","","","","","","","","","","","","","","","","","","",""]
[null,null,null,null,{"$f":"IF(INDEX('Selected Criteria'!$E$6:$E$25,ROWS($E$49:$E52))=0,\"\",INDEX('Selected Criteria'!$E$6:$E$25,ROWS($E$49:$E52)))","v":""},"","","","","","","","","","","","","","","","","","","","",""]
[null,null,null,null,{"$f":"IF(INDEX('Selected Criteria'!$E$6:$E$25,ROWS($E$49:$E53))=0,\"\",INDEX('Selected Criteria'!$E$6:$E$25,ROWS($E$49:$E53)))","v":""},"","","","","","","","","","","","","","","","","","","","",""]
[null,null,null,null,{"$f":"IF(INDEX('Selected Criteria'!$E$6:$E$25,ROWS($E$49:$E54))=0,\"\",INDEX('Selected Criteria'!$E$6:$E$25,ROWS($E$49:$E54)))","v":""},"","","","","","","","","","","","","","","","","","","","",""]
[null,null,null,null,{"$f":"IF(INDEX('Selected Criteria'!$E$6:$E$25,ROWS($E$49:$E55))=0,\"\",INDEX('Selected Criteria'!$E$6:$E$25,ROWS($E$49:$E55)))","v":""},"","","","","","","","","","","","","","","","","","","","",""]
[null,null,null,null,{"$f":"IF(INDEX('Selected Criteria'!$E$6:$E$25,ROWS($E$49:$E56))=0,\"\",INDEX('Selected Criteria'!$E$6:$E$25,ROWS($E$49:$E56)))","v":""},"","","","","","","","","","","","","","","","","","","","",""]
[null,null,null,null,{"$f":"IF(INDEX('Selected Criteria'!$E$6:$E$25,ROWS($E$49:$E57))=0,\"\",INDEX('Selected Criteria'!$E$6:$E$25,ROWS($E$49:$E57)))","v":""},"","","","","","","","","","","","","","","","","","","","",""]
[null,null,null,null,{"$f":"IF(INDEX('Selected Criteria'!$E$6:$E$25,ROWS($E$49:$E58))=0,\"\",INDEX('Selected Criteria'!$E$6:$E$25,ROWS($E$49:$E58)))","v":""},"","","","","","","","","","","","","","","","","","","","",""]
[null,null,null,null,{"$f":"IF(INDEX('Selected Criteria'!$E$6:$E$25,ROWS($E$49:$E59))=0,\"\",INDEX('Selected Criteria'!$E$6:$E$25,ROWS($E$49:$E59)))","v":""},"",{"$f":"IF(OR($E103=\"\",G$92=\"\"),\"\",IF($E103=G$92,INDEX($M$5:$P$24,MATCH(G$92,$K$5:$K$24,0),MATCH($E$92,$M$4:$P$4,0)),$F103-($F103/(1-INDEX($F$5:$I$24,MATCH(G$92,$E$5:$E$24,0),MATCH($F$92,$F$4:$I$4,0))))*INDEX($Q$5:$T$24,MATCH(G$92,$K$5:$K$24,0),MATCH($E$92,$Q$4:$T$4,0))))","v":""},"","","","","","","","","",{"$f":"IF(OR($E103=\"\",Q$92=\"\"),\"\",IF($E103=Q$92,INDEX($M$5:$P$24,MATCH(Q$92,$K$5:$K$24,0),MATCH($E$92,$M$4:$P$4,0)),$F103-($F103/(1-INDEX($F$5:$I$24,MATCH(Q$92,$E$5:$E$24,0),MATCH($F$92,$F$4:$I$4,0))))*INDEX($Q$5:$T$24,MATCH(Q$92,$K$5:$K$24,0),MATCH($E$92,$Q$4:$T$4,0))))","v":""},"","","","","","","","",""]
[null,null,null,null,{"$f":"IF(INDEX('Selected Criteria'!$E$6:$E$25,ROWS($E$49:$E60))=0,\"\",INDEX('Selected Criteria'!$E$6:$E$25,ROWS($E$49:$E60)))","v":""},"","","","","","","","","","","","","","","","","","","","",""]
[null,null,null,null,{"$f":"IF(INDEX('Selected Criteria'!$E$6:$E$25,ROWS($E$49:$E61))=0,\"\",INDEX('Selected Criteria'!$E$6:$E$25,ROWS($E$49:$E61)))","v":""},"","","","","","","","","","","","","","","","","","","","",""]
[null,null,null,null,{"$f":"IF(INDEX('Selected Criteria'!$E$6:$E$25,ROWS($E$49:$E62))=0,\"\",INDEX('Selected Criteria'!$E$6:$E$25,ROWS($E$49:$E62)))","v":""},"","","","","","","","","","","","","","","","","","","","",""]
[null,null,null,null,{"$f":"IF(INDEX('Selected Criteria'!$E$6:$E$25,ROWS($E$49:$E63))=0,\"\",INDEX('Selected Criteria'!$E$6:$E$25,ROWS($E$49:$E63)))","v":""},"","","","","","","","","","","","","","","","","","","","",""]
[null,null,null,null,{"$f":"IF(INDEX('Selected Criteria'!$E$6:$E$25,ROWS($E$49:$E64))=0,\"\",INDEX('Selected Criteria'!$E$6:$E$25,ROWS($E$49:$E64)))","v":""},"","","","","","","","","","","","","","","","","","","","",""]
[null,null,null,null,{"$f":"IF(INDEX('Selected Criteria'!$E$6:$E$25,ROWS($E$49:$E65))=0,\"\",INDEX('Selected Criteria'!$E$6:$E$25,ROWS($E$49:$E65)))","v":""},"","","","","","","","","","","","","","","","","","","","",""]
[null,null,null,null,{"$f":"IF(INDEX('Selected Criteria'!$E$6:$E$25,ROWS($E$49:$E66))=0,\"\",INDEX('Selected Criteria'!$E$6:$E$25,ROWS($E$49:$E66)))","v":""},"","","","","","","","","","","","","","","","","","","","",""]
[null,null,null,null,{"$f":"IF(INDEX('Selected Criteria'!$E$6:$E$25,ROWS($E$49:$E67))=0,\"\",INDEX('Selected Criteria'!$E$6:$E$25,ROWS($E$49:$E67)))","v":""},"","","","","","","","","","","","","","","","","","","","",""]
[null,null,null,null,{"$f":"IF(INDEX('Selected Criteria'!$E$6:$E$25,ROWS($E$49:$E68))=0,\"\",INDEX('Selected Criteria'!$E$6:$E$25,ROWS($E$49:$E68)))","v":""},"","","","","","","","","","","","","","","","","","","","",""]

{"sheet":"Sensitivity Calc","index":12,"n_rows":84,"n_cols":27,"rows_kept":84,"cut":false,"hidden":true,"merged":[[2,26,3,26],[2,25,3,25],[0,1,1,3],[2,4,2,12],[2,3,3,3],[2,2,3,2],[2,1,3,1]]}
[null,"Sensitivity Calculations"]
[]
[null,"Criteria #","Criteria","Proportional Change in Criteria Weighting","Weighted Total Score",null,null,null,null,null,null,null,null,null,null,null,null,null,null,null,null,null,null,null,null,"Lookup","Best Option"]
[null,null,null,null,"Base Case",{"$f":"Scoring!G4","v":""},{"$f":"Scoring!H4","v":""},{"$f":"Scoring!I4","v":""},{"$f":"Scoring!J4","v":""},{"$f":"Scoring!K4","v":""},{"$f":"Scoring!L4","v":""},{"$f":"Scoring!M4","v":""},{"$f":"Scoring!N4","v":""},{"$f":"Scoring!O4","v":""},{"$f":"Scoring!P4","v":""},{"$f":"Scoring!Q4","v":""},{"$f":"Scoring!R4","v":""},{"$f":"Scoring!S4","v":""},{"$f":"Scoring!T4","v":""},{"$f":"Scoring!U4","v":""},{"$f":"Scoring!V4","v":""},{"$f":"Scoring!W4","v":""},{"$f":"Scoring!X4","v":""},{"$f":"Scoring!Y4","v":""},{"$f":"Scoring!Z4","v":""}]
[null,1,{"$f":"IF(INDEX('Selected Criteria'!$E$6:$E$25,$B5)=0,\"\",INDEX('Selected Criteria'!$E$6:$E$25,$B5))","v":""},{"$f":"IF($C5=\"\",\"\",-50%)","v":""},{"$f":"IF($C5=\"\",\"\",SUM(OFFSET('General Calc'!$F$26,MATCH($D5,'General Calc'!$E$26:$E$112,0),MATCH($C5,'General Calc'!$G$26:$Z$26,0),MAX(Criteria!$M:$M),1)*OFFSET(Scoring!$E$4,1,MATCH(E$4,Scoring!$F$4:$Z$4,0),MAX(Criteria!$M:$M),)))","v":""},{"$f":"IF($C5=\"\",\"\",SUM(OFFSET('General Calc'!$F$26,MATCH($D5,'General Calc'!$E$26:$E$112,0),MATCH($C5,'General Calc'!$G$26:$Z$26,0),MAX(Criteria!$M:$M),1)*OFFSET(Scoring!$E$4,1,MATCH(F$4,Scoring!$F$4:$Z$4,0),MAX(Criteria!$M:$M),)))","v":""},{"$f":"IF($C5=\"\",\"\",SUM(OFFSET('General Calc'!$F$26,MATCH($D5,'General Calc'!$E$26:$E$112,0),MATCH($C5,'General Calc'!$G$26:$Z$26,0),MAX(Criteria!$M:$M),1)*OFFSET(Scoring!$E$4,1,MATCH(G$4,Scoring!$F$4:$Z$4,0),MAX(Criteria!$M:$M),)))","v":""},{"$f":"IF($C5=\"\",\"\",SUM(OFFSET('General Calc'!$F$26,MATCH($D5,'General Calc'!$E$26:$E$112,0),MATCH($C5,'General Calc'!$G$26:$Z$26,0),MAX(Criteria!$M:$M),1)*OFFSET(Scoring!$E$4,1,MATCH(H$4,Scoring!$F$4:$Z$4,0),MAX(Criteria!$M:$M),)))","v":""},{"$f":"IF($C5=\"\",\"\",SUM(OFFSET('General Calc'!$F$26,MATCH($D5,'General Calc'!$E$26:$E$112,0),MATCH($C5,'General Calc'!$G$26:$Z$26,0),MAX(Criteria!$M:$M),1)*OFFSET(Scoring!$E$4,1,MATCH(I$4,Scoring!$F$4:$Z$4,0),MAX(Criteria!$M:$M),)))","v":""},{"$f":"IF($C5=\"\",\"\",SUM(OFFSET('General Calc'!$F$26,MATCH($D5,'General Calc'!$E$26:$E$112,0),MATCH($C5,'General Calc'!$G$26:$Z$26,0),MAX(Criteria!$M:$M),1)*OFFSET(Scoring!$E$4,1,MATCH(J$4,Scoring!$F$4:$Z$4,0),MAX(Criteria!$M:$M),)))","v":""},{"$f":"IF($C5=\"\",\"\",SUM(OFFSET('General Calc'!$F$26,MATCH($D5,'General Calc'!$E$26:$E$112,0),MATCH($C5,'General Calc'!$G$26:$Z$26,0),MAX(Criteria!$M:$M),1)*OFFSET(Scoring!$E$4,1,MATCH(K$4,Scoring!$F$4:$Z$4,0),MAX(Criteria!$M:$M),)))","v":""},{"$f":"IF($C5=\"\",\"\",SUM(OFFSET('General Calc'!$F$26,MATCH($D5,'General Calc'!$E$26:$E$112,0),MATCH($C5,'General Calc'!$G$26:$Z$26,0),MAX(Criteria!$M:$M),1)*OFFSET(Scoring!$E$4,1,MATCH(L$4,Scoring!$F$4:$Z$4,0),MAX(Criteria!$M:$M),)))","v":""},{"$f":"IF($C5=\"\",\"\",SUM(OFFSET('General Calc'!$F$26,MATCH($D5,'General Calc'!$E$26:$E$112,0),MATCH($C5,'General Calc'!$G$26:$Z$26,0),MAX(Criteria!$M:$M),1)*OFFSET(Scoring!$E$4,1,MATCH(M$4,Scoring!$F$4:$Z$4,0),MAX(Criteria!$M:$M),)))","v":""},{"$f":"IF($C5=\"\",\"\",SUM(OFFSET('General Calc'!$F$26,MATCH($D5,'General Calc'!$E$26:$E$112,0),MATCH($C5,'General Calc'!$G$26:$Z$26,0),MAX(Criteria!$M:$M),1)*OFFSET(Scoring!$E$4,1,MATCH(N$4,Scoring!$F$4:$Z$4,0),MAX(Criteria!$M:$M),)))","v":""},{"$f":"IF($C5=\"\",\"\",SUM(OFFSET('General Calc'!$F$26,MATCH($D5,'General Calc'!$E$26:$E$112,0),MATCH($C5,'General Calc'!$G$26:$Z$26,0),MAX(Criteria!$M:$M),1)*OFFSET(Scoring!$E$4,1,MATCH(O$4,Scoring!$F$4:$Z$4,0),MAX(Criteria!$M:$M),)))","v":""},{"$f":"IF($C5=\"\",\"\",SUM(OFFSET('General Calc'!$F$26,MATCH($D5,'General Calc'!$E$26:$E$112,0),MATCH($C5,'General Calc'!$G$26:$Z$26,0),MAX(Criteria!$M:$M),1)*OFFSET(Scoring!$E$4,1,MATCH(P$4,Scoring!$F$4:$Z$4,0),MAX(Criteria!$M:$M),)))","v":""},{"$f":"IF($C5=\"\",\"\",SUM(OFFSET('General Calc'!$F$26,MATCH($D5,'General Calc'!$E$26:$E$112,0),MATCH($C5,'General Calc'!$G$26:$Z$26,0),MAX(Criteria!$M:$M),1)*OFFSET(Scoring!$E$4,1,MATCH(Q$4,Scoring!$F$4:$Z$4,0),MAX(Criteria!$M:$M),)))","v":""},{"$f":"IF($C5=\"\",\"\",SUM(OFFSET('General Calc'!$F$26,MATCH($D5,'General Calc'!$E$26:$E$112,0),MATCH($C5,'General Calc'!$G$26:$Z$26,0),MAX(Criteria!$M:$M),1)*OFFSET(Scoring!$E$4,1,MATCH(R$4,Scoring!$F$4:$Z$4,0),MAX(Criteria!$M:$M),)))","v":""},{"$f":"IF($C5=\"\",\"\",SUM(OFFSET('General Calc'!$F$26,MATCH($D5,'General Calc'!$E$26:$E$112,0),MATCH($C5,'General Calc'!$G$26:$Z$26,0),MAX(Criteria!$M:$M),1)*OFFSET(Scoring!$E$4,1,MATCH(S$4,Scoring!$F$4:$Z$4,0),MAX(Criteria!$M:$M),)))","v":""},{"$f":"IF($C5=\"\",\"\",SUM(OFFSET('General Calc'!$F$26,MATCH($D5,'General Calc'!$E$26:$E$112,0),MATCH($C5,'General Calc'!$G$26:$Z$26,0),MAX(Criteria!$M:$M),1)*OFFSET(Scoring!$E$4,1,MATCH(T$4,Scoring!$F$4:$Z$4,0),MAX(Criteria!$M:$M),)))","v":""},{"$f":"IF($C5=\"\",\"\",SUM(OFFSET('General Calc'!$F$26,MATCH($D5,'General Calc'!$E$26:$E$112,0),MATCH($C5,'General Calc'!$G$26:$Z$26,0),MAX(Criteria!$M:$M),1)*OFFSET(Scoring!$E$4,1,MATCH(U$4,Scoring!$F$4:$Z$4,0),MAX(Criteria!$M:$M),)))","v":""},{"$f":"IF($C5=\"\",\"\",SUM(OFFSET('General Calc'!$F$26,MATCH($D5,'General Calc'!$E$26:$E$112,0),MATCH($C5,'General Calc'!$G$26:$Z$26,0),MAX(Criteria!$M:$M),1)*OFFSET(Scoring!$E$4,1,MATCH(V$4,Scoring!$F$4:$Z$4,0),MAX(Criteria!$M:$M),)))","v":""},{"$f":"IF($C5=\"\",\"\",SUM(OFFSET('General Calc'!$F$26,MATCH($D5,'General Calc'!$E$26:$E$112,0),MATCH($C5,'General Calc'!$G$26:$Z$26,0),MAX(Criteria!$M:$M),1)*OFFSET(Scoring!$E$4,1,MATCH(W$4,Scoring!$F$4:$Z$4,0),MAX(Criteria!$M:$M),)))","v":""},{"$f":"IF($C5=\"\",\"\",SUM(OFFSET('General Calc'!$F$26,MATCH($D5,'General Calc'!$E$26:$E$112,0),MATCH($C5,'General Calc'!$G$26:$Z$26,0),MAX(Criteria!$M:$M),1)*OFFSET(Scoring!$E$4,1,MATCH(X$4,Scoring!$F$4:$Z$4,0),MAX(Criteria!$M:$M),)))","v":""},{"$f":"IF($C5=\"\",\"\",SUM(OFFSET('General Calc'!$F$26,MATCH($D5,'General Calc'!$E$26:$E$112,0),MATCH($C5,'General Calc'!$G$26:$Z$26,0),MAX(Criteria!$M:$M),1)*OFFSET(Scoring!$E$4,1,MATCH(Y$4,Scoring!$F$4:$Z$4,0),MAX(Criteria!$M:$M),)))","v":""},{"$f":"C5&D5","v":""},{"$f":"IF($C5=\"\",\"\",INDEX($E$4:$Y$4,MATCH(MAX($E5:$Y5),$E5:$Y5,0)))","v":""}]
[null,2,{"$f":"IF(INDEX('Selected Criteria'!$E$6:$E$25,$B6)=0,\"\",INDEX('Selected Criteria'!$E$6:$E$25,$B6))","v":""},{"$f":"IF($C6=\"\",\"\",-50%)","v":""},{"$f":"IF($C6=\"\",\"\",SUM(OFFSET('General Calc'!$F$26,MATCH($D6,'General Calc'!$E$26:$E$112,0),MATCH($C6,'General Calc'!$G$26:$Z$26,0),MAX(Criteria!$M:$M),1)*OFFSET(Scoring!$E$4,1,MATCH(E$4,Scoring!$F$4:$Z$4,0),MAX(Criteria!$M:$M),)))","v":""},{"$f":"IF($C6=\"\",\"\",SUM(OFFSET('General Calc'!$F$26,MATCH($D6,'General Calc'!$E$26:$E$112,0),MATCH($C6,'General Calc'!$G$26:$Z$26,0),MAX(Criteria!$M:$M),1)*OFFSET(Scoring!$E$4,1,MATCH(F$4,Scoring!$F$4:$Z$4,0),MAX(Criteria!$M:$M),)))","v":""},{"$f":"IF($C6=\"\",\"\",SUM(OFFSET('General Calc'!$F$26,MATCH($D6,'General Calc'!$E$26:$E$112,0),MATCH($C6,'General Calc'!$G$26:$Z$26,0),MAX(Criteria!$M:$M),1)*OFFSET(Scoring!$E$4,1,MATCH(G$4,Scoring!$F$4:$Z$4,0),MAX(Criteria!$M:$M),)))","v":""},{"$f":"IF($C6=\"\",\"\",SUM(OFFSET('General Calc'!$F$26,MATCH($D6,'General Calc'!$E$26:$E$112,0),MATCH($C6,'General Calc'!$G$26:$Z$26,0),MAX(Criteria!$M:$M),1)*OFFSET(Scoring!$E$4,1,MATCH(H$4,Scoring!$F$4:$Z$4,0),MAX(Criteria!$M:$M),)))","v":""},{"$f":"IF($C6=\"\",\"\",SUM(OFFSET('General Calc'!$F$26,MATCH($D6,'General Calc'!$E$26:$E$112,0),MATCH($C6,'General Calc'!$G$26:$Z$26,0),MAX(Criteria!$M:$M),1)*OFFSET(Scoring!$E$4,1,MATCH(I$4,Scoring!$F$4:$Z$4,0),MAX(Criteria!$M:$M),)))","v":""},{"$f":"IF($C6=\"\",\"\",SUM(OFFSET('General Calc'!$F$26,MATCH($D6,'General Calc'!$E$26:$E$112,0),MATCH($C6,'General Calc'!$G$26:$Z$26,0),MAX(Criteria!$M:$M),1)*OFFSET(Scoring!$E$4,1,MATCH(J$4,Scoring!$F$4:$Z$4,0),MAX(Criteria!$M:$M),)))","v":""},{"$f":"IF($C6=\"\",\"\",SUM(OFFSET('General Calc'!$F$26,MATCH($D6,'General Calc'!$E$26:$E$112,0),MATCH($C6,'General Calc'!$G$26:$Z$26,0),MAX(Criteria!$M:$M),1)*OFFSET(Scoring!$E$4,1,MATCH(K$4,Scoring!$F$4:$Z$4,0),MAX(Criteria!$M:$M),)))","v":""},{"$f":"IF($C6=\"\",\"\",SUM(OFFSET('General Calc'!$F$26,MATCH($D6,'General Calc'!$E$26:$E$112,0),MATCH($C6,'General Calc'!$G$26:$Z$26,0),MAX(Criteria!$M:$M),1)*OFFSET(Scoring!$E$4,1,MATCH(L$4,Scoring!$F$4:$Z$4,0),MAX(Criteria!$M:$M),)))","v":""},{"$f":"IF($C6=\"\",\"\",SUM(OFFSET('General Calc'!$F$26,MATCH($D6,'General Calc'!$E$26:$E$112,0),MATCH($C6,'General Calc'!$G$26:$Z$26,0),MAX(Criteria!$M:$M),1)*OFFSET(Scoring!$E$4,1,MATCH(M$4,Scoring!$F$4:$Z$4,0),MAX(Criteria!$M:$M),)))","v":""},{"$f":"IF($C6=\"\",\"\",SUM(OFFSET('General Calc'!$F$26,MATCH($D6,'General Calc'!$E$26:$E$112,0),MATCH($C6,'General Calc'!$G$26:$Z$26,0),MAX(Criteria!$M:$M),1)*OFFSET(Scoring!$E$4,1,MATCH(N$4,Scoring!$F$4:$Z$4,0),MAX(Criteria!$M:$M),)))","v":""},{"$f":"IF($C6=\"\",\"\",SUM(OFFSET('General Calc'!$F$26,MATCH($D6,'General Calc'!$E$26:$E$112,0),MATCH($C6,'General Calc'!$G$26:$Z$26,0),MAX(Criteria!$M:$M),1)*OFFSET(Scoring!$E$4,1,MATCH(O$4,Scoring!$F$4:$Z$4,0),MAX(Criteria!$M:$M),)))","v":""},{"$f":"IF($C6=\"\",\"\",SUM(OFFSET('General Calc'!$F$26,MATCH($D6,'General Calc'!$E$26:$E$112,0),MATCH($C6,'General Calc'!$G$26:$Z$26,0),MAX(Criteria!$M:$M),1)*OFFSET(Scoring!$E$4,1,MATCH(P$4,Scoring!$F$4:$Z$4,0),MAX(Criteria!$M:$M),)))","v":""},{"$f":"IF($C6=\"\",\"\",SUM(OFFSET('General Calc'!$F$26,MATCH($D6,'General Calc'!$E$26:$E$112,0),MATCH($C6,'General Calc'!$G$26:$Z$26,0),MAX(Criteria!$M:$M),1)*OFFSET(Scoring!$E$4,1,MATCH(Q$4,Scoring!$F$4:$Z$4,0),MAX(Criteria!$M:$M),)))","v":""},{"$f":"IF($C6=\"\",\"\",SUM(OFFSET('General Calc'!$F$26,MATCH($D6,'General Calc'!$E$26:$E$112,0),MATCH($C6,'General Calc'!$G$26:$Z$26,0),MAX(Criteria!$M:$M),1)*OFFSET(Scoring!$E$4,1,MATCH(R$4,Scoring!$F$4:$Z$4,0),MAX(Criteria!$M:$M),)))","v":""},{"$f":"IF($C6=\"\",\"\",SUM(OFFSET('General Calc'!$F$26,MATCH($D6,'General Calc'!$E$26:$E$112,0),MATCH($C6,'General Calc'!$G$26:$Z$26,0),MAX(Criteria!$M:$M),1)*OFFSET(Scoring!$E$4,1,MATCH(S$4,Scoring!$F$4:$Z$4,0),MAX(Criteria!$M:$M),)))","v":""},{"$f":"IF($C6=\"\",\"\",SUM(OFFSET('General Calc'!$F$26,MATCH($D6,'General Calc'!$E$26:$E$112,0),MATCH($C6,'General Calc'!$G$26:$Z$26,0),MAX(Criteria!$M:$M),1)*OFFSET(Scoring!$E$4,1,MATCH(T$4,Scoring!$F$4:$Z$4,0),MAX(Criteria!$M:$M),)))","v":""},{"$f":"IF($C6=\"\",\"\",SUM(OFFSET('General Calc'!$F$26,MATCH($D6,'General Calc'!$E$26:$E$112,0),MATCH($C6,'General Calc'!$G$26:$Z$26,0),MAX(Criteria!$M:$M),1)*OFFSET(Scoring!$E$4,1,MATCH(U$4,Scoring!$F$4:$Z$4,0),MAX(Criteria!$M:$M),)))","v":""},{"$f":"IF($C6=\"\",\"\",SUM(OFFSET('General Calc'!$F$26,MATCH($D6,'General Calc'!$E$26:$E$112,0),MATCH($C6,'General Calc'!$G$26:$Z$26,0),MAX(Criteria!$M:$M),1)*OFFSET(Scoring!$E$4,1,MATCH(V$4,Scoring!$F$4:$Z$4,0),MAX(Criteria!$M:$M),)))","v":""},{"$f":"IF($C6=\"\",\"\",SUM(OFFSET('General Calc'!$F$26,MATCH($D6,'General Calc'!$E$26:$E$112,0),MATCH($C6,'General Calc'!$G$26:$Z$26,0),MAX(Criteria!$M:$M),1)*OFFSET(Scoring!$E$4,1,MATCH(W$4,Scoring!$F$4:$Z$4,0),MAX(Criteria!$M:$M),)))","v":""},{"$f":"IF($C6=\"\",\"\",SUM(OFFSET('General Calc'!$F$26,MATCH($D6,'General Calc'!$E$26:$E$112,0),MATCH($C6,'General Calc'!$G$26:$Z$26,0),MAX(Criteria!$M:$M),1)*OFFSET(Scoring!$E$4,1,MATCH(X$4,Scoring!$F$4:$Z$4,0),MAX(Criteria!$M:$M),)))","v":""},{"$f":"IF($C6=\"\",\"\",SUM(OFFSET('General Calc'!$F$26,MATCH($D6,'General Calc'!$E$26:$E$112,0),MATCH($C6,'General Calc'!$G$26:$Z$26,0),MAX(Criteria!$M:$M),1)*OFFSET(Scoring!$E$4,1,MATCH(Y$4,Scoring!$F$4:$Z$4,0),MAX(Criteria!$M:$M),)))","v":""},{"$f":"C6&D6","v":""},{"$f":"IF($C6=\"\",\"\",INDEX($E$4:$Y$4,MATCH(MAX($E6:$Y6),$E6:$Y6,0)))","v":""}]
[null,3,{"$f":"IF(INDEX('Selected Criteria'!$E$6:$E$25,$B7)=0,\"\",INDEX('Selected Criteria'!$E$6:$E$25,$B7))","v":""},"",{"$f":"IF($C7=\"\",\"\",SUM(OFFSET('General Calc'!$F$26,MATCH($D7,'General Calc'!$E$26:$E$112,0),MATCH($C7,'General Calc'!$G$26:$Z$26,0),MAX(Criteria!$M:$M),1)*OFFSET(Scoring!$E$4,1,MATCH(E$4,Scoring!$F$4:$Z$4,0),MAX(Criteria!$M:$M),)))","v":""},{"$f":"IF($C7=\"\",\"\",SUM(OFFSET('General Calc'!$F$26,MATCH($D7,'General Calc'!$E$26:$E$112,0),MATCH($C7,'General Calc'!$G$26:$Z$26,0),MAX(Criteria!$M:$M),1)*OFFSET(Scoring!$E$4,1,MATCH(F$4,Scoring!$F$4:$Z$4,0),MAX(Criteria!$M:$M),)))","v":""},{"$f":"IF($C7=\"\",\"\",SUM(OFFSET('General Calc'!$F$26,MATCH($D7,'General Calc'!$E$26:$E$112,0),MATCH($C7,'General Calc'!$G$26:$Z$26,0),MAX(Criteria!$M:$M),1)*OFFSET(Scoring!$E$4,1,MATCH(G$4,Scoring!$F$4:$Z$4,0),MAX(Criteria!$M:$M),)))","v":""},{"$f":"IF($C7=\"\",\"\",SUM(OFFSET('General Calc'!$F$26,MATCH($D7,'General Calc'!$E$26:$E$112,0),MATCH($C7,'General Calc'!$G$26:$Z$26,0),MAX(Criteria!$M:$M),1)*OFFSET(Scoring!$E$4,1,MATCH(H$4,Scoring!$F$4:$Z$4,0),MAX(Criteria!$M:$M),)))","v":""},{"$f":"IF($C7=\"\",\"\",SUM(OFFSET('General Calc'!$F$26,MATCH($D7,'General Calc'!$E$26:$E$112,0),MATCH($C7,'General Calc'!$G$26:$Z$26,0),MAX(Criteria!$M:$M),1)*OFFSET(Scoring!$E$4,1,MATCH(I$4,Scoring!$F$4:$Z$4,0),MAX(Criteria!$M:$M),)))","v":""},{"$f":"IF($C7=\"\",\"\",SUM(OFFSET('General Calc'!$F$26,MATCH($D7,'General Calc'!$E$26:$E$112,0),MATCH($C7,'General Calc'!$G$26:$Z$26,0),MAX(Criteria!$M:$M),1)*OFFSET(Scoring!$E$4,1,MATCH(J$4,Scoring!$F$4:$Z$4,0),MAX(Criteria!$M:$M),)))","v":""},{"$f":"IF($C7=\"\",\"\",SUM(OFFSET('General Calc'!$F$26,MATCH($D7,'General Calc'!$E$26:$E$112,0),MATCH($C7,'General Calc'!$G$26:$Z$26,0),MAX(Criteria!$M:$M),1)*OFFSET(Scoring!$E$4,1,MATCH(K$4,Scoring!$F$4:$Z$4,0),MAX(Criteria!$M:$M),)))","v":""},{"$f":"IF($C7=\"\",\"\",SUM(OFFSET('General Calc'!$F$26,MATCH($D7,'General Calc'!$E$26:$E$112,0),MATCH($C7,'General Calc'!$G$26:$Z$26,0),MAX(Criteria!$M:$M),1)*OFFSET(Scoring!$E$4,1,MATCH(L$4,Scoring!$F$4:$Z$4,0),MAX(Criteria!$M:$M),)))","v":""},{"$f":"IF($C7=\"\",\"\",SUM(OFFSET('General Calc'!$F$26,MATCH($D7,'General Calc'!$E$26:$E$112,0),MATCH($C7,'General Calc'!$G$26:$Z$26,0),MAX(Criteria!$M:$M),1)*OFFSET(Scoring!$E$4,1,MATCH(M$4,Scoring!$F$4:$Z$4,0),MAX(Criteria!$M:$M),)))","v":""},{"$f":"IF($C7=\"\",\"\",SUM(OFFSET('General Calc'!$F$26,MATCH($D7,'General Calc'!$E$26:$E$112,0),MATCH($C7,'General Calc'!$G$26:$Z$26,0),MAX(Criteria!$M:$M),1)*OFFSET(Scoring!$E$4,1,MATCH(N$4,Scoring!$F$4:$Z$4,0),MAX(Criteria!$M:$M),)))","v":""},{"$f":"IF($C7=\"\",\"\",SUM(OFFSET('General Calc'!$F$26,MATCH($D7,'General Calc'!$E$26:$E$112,0),MATCH($C7,'General Calc'!$G$26:$Z$26,0),MAX(Criteria!$M:$M),1)*OFFSET(Scoring!$E$4,1,MATCH(O$4,Scoring!$F$4:$Z$4,0),MAX(Criteria!$M:$M),)))","v":""},{"$f":"IF($C7=\"\",\"\",SUM(OFFSET('General Calc'!$F$26,MATCH($D7,'General Calc'!$E$26:$E$112,0),MATCH($C7,'General Calc'!$G$26:$Z$26,0),MAX(Criteria!$M:$M),1)*OFFSET(Scoring!$E$4,1,MATCH(P$4,Scoring!$F$4:$Z$4,0),MAX(Criteria!$M:$M),)))","v":""},{"$f":"IF($C7=\"\",\"\",SUM(OFFSET('General Calc'!$F$26,MATCH($D7,'General Calc'!$E$26:$E$112,0),MATCH($C7,'General Calc'!$G$26:$Z$26,0),MAX(Criteria!$M:$M),1)*OFFSET(Scoring!$E$4,1,MATCH(Q$4,Scoring!$F$4:$Z$4,0),MAX(Criteria!$M:$M),)))","v":""},{"$f":"IF($C7=\"\",\"\",SUM(OFFSET('General Calc'!$F$26,MATCH($D7,'General Calc'!$E$26:$E$112,0),MATCH($C7,'General Calc'!$G$26:$Z$26,0),MAX(Criteria!$M:$M),1)*OFFSET(Scoring!$E$4,1,MATCH(R$4,Scoring!$F$4:$Z$4,0),MAX(Criteria!$M:$M),)))","v":""},{"$f":"IF($C7=\"\",\"\",SUM(OFFSET('General Calc'!$F$26,MATCH($D7,'General Calc'!$E$26:$E$112,0),MATCH($C7,'General Calc'!$G$26:$Z$26,0),MAX(Criteria!$M:$M),1)*OFFSET(Scoring!$E$4,1,MATCH(S$4,Scoring!$F$4:$Z$4,0),MAX(Criteria!$M:$M),)))","v":""},{"$f":"IF($C7=\"\",\"\",SUM(OFFSET('General Calc'!$F$26,MATCH($D7,'General Calc'!$E$26:$E$112,0),MATCH($C7,'General Calc'!$G$26:$Z$26,0),MAX(Criteria!$M:$M),1)*OFFSET(Scoring!$E$4,1,MATCH(T$4,Scoring!$F$4:$Z$4,0),MAX(Criteria!$M:$M),)))","v":""},{"$f":"IF($C7=\"\",\"\",SUM(OFFSET('General Calc'!$F$26,MATCH($D7,'General Calc'!$E$26:$E$112,0),MATCH($C7,'General Calc'!$G$26:$Z$26,0),MAX(Criteria!$M:$M),1)*OFFSET(Scoring!$E$4,1,MATCH(U$4,Scoring!$F$4:$Z$4,0),MAX(Criteria!$M:$M),)))","v":""},{"$f":"IF($C7=\"\",\"\",SUM(OFFSET('General Calc'!$F$26,MATCH($D7,'General Calc'!$E$26:$E$112,0),MATCH($C7,'General Calc'!$G$26:$Z$26,0),MAX(Criteria!$M:$M),1)*OFFSET(Scoring!$E$4,1,MATCH(V$4,Scoring!$F$4:$Z$4,0),MAX(Criteria!$M:$M),)))","v":""},{"$f":"IF($C7=\"\",\"\",SUM(OFFSET('General Calc'!$F$26,MATCH($D7,'General Calc'!$E$26:$E$112,0),MATCH($C7,'General Calc'!$G$26:$Z$26,0),MAX(Criteria!$M:$M),1)*OFFSET(Scoring!$E$4,1,MATCH(W$4,Scoring!$F$4:$Z$4,0),MAX(Criteria!$M:$M),)))","v":""},{"$f":"IF($C7=\"\",\"\",SUM(OFFSET('General Calc'!$F$26,MATCH($D7,'General Calc'!$E$26:$E$112,0),MATCH($C7,'General Calc'!$G$26:$Z$26,0),MAX(Criteria!$M:$M),1)*OFFSET(Scoring!$E$4,1,MATCH(X$4,Scoring!$F$4:$Z$4,0),MAX(Criteria!$M:$M),)))","v":""},{"$f":"IF($C7=\"\",\"\",SUM(OFFSET('General Calc'!$F$26,MATCH($D7,'General Calc'!$E$26:$E$112,0),MATCH($C7,'General Calc'!$G$26:$Z$26,0),MAX(Criteria!$M:$M),1)*OFFSET(Scoring!$E$4,1,MATCH(Y$4,Scoring!$F$4:$Z$4,0),MAX(Criteria!$M:$M),)))","v":""},"",""]
[null,4,{"$f":"IF(INDEX('Selected Criteria'!$E$6:$E$25,$B8)=0,\"\",INDEX('Selected Criteria'!$E$6:$E$25,$B8))","v":""},"",{"$f":"IF($C8=\"\",\"\",SUM(OFFSET('General Calc'!$F$26,MATCH($D8,'General Calc'!$E$26:$E$112,0),MATCH($C8,'General Calc'!$G$26:$Z$26,0),MAX(Criteria!$M:$M),1)*OFFSET(Scoring!$E$4,1,MATCH(E$4,Scoring!$F$4:$Z$4,0),MAX(Criteria!$M:$M),)))","v":""},{"$f":"IF($C8=\"\",\"\",SUM(OFFSET('General Calc'!$F$26,MATCH($D8,'General Calc'!$E$26:$E$112,0),MATCH($C8,'General Calc'!$G$26:$Z$26,0),MAX(Criteria!$M:$M),1)*OFFSET(Scoring!$E$4,1,MATCH(F$4,Scoring!$F$4:$Z$4,0),MAX(Criteria!$M:$M),)))","v":""},{"$f":"IF($C8=\"\",\"\",SUM(OFFSET('General Calc'!$F$26,MATCH($D8,'General Calc'!$E$26:$E$112,0),MATCH($C8,'General Calc'!$G$26:$Z$26,0),MAX(Criteria!$M:$M),1)*OFFSET(Scoring!$E$4,1,MATCH(G$4,Scoring!$F$4:$Z$4,0),MAX(Criteria!$M:$M),)))","v":""},{"$f":"IF($C8=\"\",\"\",SUM(OFFSET('General Calc'!$F$26,MATCH($D8,'General Calc'!$E$26:$E$112,0),MATCH($C8,'General Calc'!$G$26:$Z$26,0),MAX(Criteria!$M:$M),1)*OFFSET(Scoring!$E$4,1,MATCH(H$4,Scoring!$F$4:$Z$4,0),MAX(Criteria!$M:$M),)))","v":""},{"$f":"IF($C8=\"\",\"\",SUM(OFFSET('General Calc'!$F$26,MATCH($D8,'General Calc'!$E$26:$E$112,0),MATCH($C8,'General Calc'!$G$26:$Z$26,0),MAX(Criteria!$M:$M),1)*OFFSET(Scoring!$E$4,1,MATCH(I$4,Scoring!$F$4:$Z$4,0),MAX(Criteria!$M:$M),)))","v":""},{"$f":"IF($C8=\"\",\"\",SUM(OFFSET('General Calc'!$F$26,MATCH($D8,'General Calc'!$E$26:$E$112,0),MATCH($C8,'General Calc'!$G$26:$Z$26,0),MAX(Criteria!$M:$M),1)*OFFSET(Scoring!$E$4,1,MATCH(J$4,Scoring!$F$4:$Z$4,0),MAX(Criteria!$M:$M),)))","v":""},{"$f":"IF($C8=\"\",\"\",SUM(OFFSET('General Calc'!$F$26,MATCH($D8,'General Calc'!$E$26:$E$112,0),MATCH($C8,'General Calc'!$G$26:$Z$26,0),MAX(Criteria!$M:$M),1)*OFFSET(Scoring!$E$4,1,MATCH(K$4,Scoring!$F$4:$Z$4,0),MAX(Criteria!$M:$M),)))","v":""},{"$f":"IF($C8=\"\",\"\",SUM(OFFSET('General Calc'!$F$26,MATCH($D8,'General Calc'!$E$26:$E$112,0),MATCH($C8,'General Calc'!$G$26:$Z$26,0),MAX(Criteria!$M:$M),1)*OFFSET(Scoring!$E$4,1,MATCH(L$4,Scoring!$F$4:$Z$4,0),MAX(Criteria!$M:$M),)))","v":""},{"$f":"IF($C8=\"\",\"\",SUM(OFFSET('General Calc'!$F$26,MATCH($D8,'General Calc'!$E$26:$E$112,0),MATCH($C8,'General Calc'!$G$26:$Z$26,0),MAX(Criteria!$M:$M),1)*OFFSET(Scoring!$E$4,1,MATCH(M$4,Scoring!$F$4:$Z$4,0),MAX(Criteria!$M:$M),)))","v":""},{"$f":"IF($C8=\"\",\"\",SUM(OFFSET('General Calc'!$F$26,MATCH($D8,'General Calc'!$E$26:$E$112,0),MATCH($C8,'General Calc'!$G$26:$Z$26,0),MAX(Criteria!$M:$M),1)*OFFSET(Scoring!$E$4,1,MATCH(N$4,Scoring!$F$4:$Z$4,0),MAX(Criteria!$M:$M),)))","v":""},{"$f":"IF($C8=\"\",\"\",SUM(OFFSET('General Calc'!$F$26,MATCH($D8,'General Calc'!$E$26:$E$112,0),MATCH($C8,'General Calc'!$G$26:$Z$26,0),MAX(Criteria!$M:$M),1)*OFFSET(Scoring!$E$4,1,MATCH(O$4,Scoring!$F$4:$Z$4,0),MAX(Criteria!$M:$M),)))","v":""},{"$f":"IF($C8=\"\",\"\",SUM(OFFSET('General Calc'!$F$26,MATCH($D8,'General Calc'!$E$26:$E$112,0),MATCH($C8,'General Calc'!$G$26:$Z$26,0),MAX(Criteria!$M:$M),1)*OFFSET(Scoring!$E$4,1,MATCH(P$4,Scoring!$F$4:$Z$4,0),MAX(Criteria!$M:$M),)))","v":""},{"$f":"IF($C8=\"\",\"\",SUM(OFFSET('General Calc'!$F$26,MATCH($D8,'General Calc'!$E$26:$E$112,0),MATCH($C8,'General Calc'!$G$26:$Z$26,0),MAX(Criteria!$M:$M),1)*OFFSET(Scoring!$E$4,1,MATCH(Q$4,Scoring!$F$4:$Z$4,0),MAX(Criteria!$M:$M),)))","v":""},{"$f":"IF($C8=\"\",\"\",SUM(OFFSET('General Calc'!$F$26,MATCH($D8,'General Calc'!$E$26:$E$112,0),MATCH($C8,'General Calc'!$G$26:$Z$26,0),MAX(Criteria!$M:$M),1)*OFFSET(Scoring!$E$4,1,MATCH(R$4,Scoring!$F$4:$Z$4,0),MAX(Criteria!$M:$M),)))","v":""},{"$f":"IF($C8=\"\",\"\",SUM(OFFSET('General Calc'!$F$26,MATCH($D8,'General Calc'!$E$26:$E$112,0),MATCH($C8,'General Calc'!$G$26:$Z$26,0),MAX(Criteria!$M:$M),1)*OFFSET(Scoring!$E$4,1,MATCH(S$4,Scoring!$F$4:$Z$4,0),MAX(Criteria!$M:$M),)))","v":""},{"$f":"IF($C8=\"\",\"\",SUM(OFFSET('General Calc'!$F$26,MATCH($D8,'General Calc'!$E$26:$E$112,0),MATCH($C8,'General Calc'!$G$26:$Z$26,0),MAX(Criteria!$M:$M),1)*OFFSET(Scoring!$E$4,1,MATCH(T$4,Scoring!$F$4:$Z$4,0),MAX(Criteria!$M:$M),)))","v":""},{"$f":"IF($C8=\"\",\"\",SUM(OFFSET('General Calc'!$F$26,MATCH($D8,'General Calc'!$E$26:$E$112,0),MATCH($C8,'General Calc'!$G$26:$Z$26,0),MAX(Criteria!$M:$M),1)*OFFSET(Scoring!$E$4,1,MATCH(U$4,Scoring!$F$4:$Z$4,0),MAX(Criteria!$M:$M),)))","v":""},{"$f":"IF($C8=\"\",\"\",SUM(OFFSET('General Calc'!$F$26,MATCH($D8,'General Calc'!$E$26:$E$112,0),MATCH($C8,'General Calc'!$G$26:$Z$26,0),MAX(Criteria!$M:$M),1)*OFFSET(Scoring!$E$4,1,MATCH(V$4,Scoring!$F$4:$Z$4,0),MAX(Criteria!$M:$M),)))","v":""},{"$f":"IF($C8=\"\",\"\",SUM(OFFSET('General Calc'!$F$26,MATCH($D8,'General Calc'!$E$26:$E$112,0),MATCH($C8,'General Calc'!$G$26:$Z$26,0),MAX(Criteria!$M:$M),1)*OFFSET(Scoring!$E$4,1,MATCH(W$4,Scoring!$F$4:$Z$4,0),MAX(Criteria!$M:$M),)))","v":""},{"$f":"IF($C8=\"\",\"\",SUM(OFFSET('General Calc'!$F$26,MATCH($D8,'General Calc'!$E$26:$E$112,0),MATCH($C8,'General Calc'!$G$26:$Z$26,0),MAX(Criteria!$M:$M),1)*OFFSET(Scoring!$E$4,1,MATCH(X$4,Scoring!$F$4:$Z$4,0),MAX(Criteria!$M:$M),)))","v":""},{"$f":"IF($C8=\"\",\"\",SUM(OFFSET('General Calc'!$F$26,MATCH($D8,'General Calc'!$E$26:$E$112,0),MATCH($C8,'General Calc'!$G$26:$Z$26,0),MAX(Criteria!$M:$M),1)*OFFSET(Scoring!$E$4,1,MATCH(Y$4,Scoring!$F$4:$Z$4,0),MAX(Criteria!$M:$M),)))","v":""},"",""]
[null,5,{"$f":"IF(INDEX('Selected Criteria'!$E$6:$E$25,$B9)=0,\"\",INDEX('Selected Criteria'!$E$6:$E$25,$B9))","v":""},"",{"$f":"IF($C9=\"\",\"\",SUM(OFFSET('General Calc'!$F$26,MATCH($D9,'General Calc'!$E$26:$E$112,0),MATCH($C9,'General Calc'!$G$26:$Z$26,0),MAX(Criteria!$M:$M),1)*OFFSET(Scoring!$E$4,1,MATCH(E$4,Scoring!$F$4:$Z$4,0),MAX(Criteria!$M:$M),)))","v":""},{"$f":"IF($C9=\"\",\"\",SUM(OFFSET('General Calc'!$F$26,MATCH($D9,'General Calc'!$E$26:$E$112,0),MATCH($C9,'General Calc'!$G$26:$Z$26,0),MAX(Criteria!$M:$M),1)*OFFSET(Scoring!$E$4,1,MATCH(F$4,Scoring!$F$4:$Z$4,0),MAX(Criteria!$M:$M),)))","v":""},{"$f":"IF($C9=\"\",\"\",SUM(OFFSET('General Calc'!$F$26,MATCH($D9,'General Calc'!$E$26:$E$112,0),MATCH($C9,'General Calc'!$G$26:$Z$26,0),MAX(Criteria!$M:$M),1)*OFFSET(Scoring!$E$4,1,MATCH(G$4,Scoring!$F$4:$Z$4,0),MAX(Criteria!$M:$M),)))","v":""},{"$f":"IF($C9=\"\",\"\",SUM(OFFSET('General Calc'!$F$26,MATCH($D9,'General Calc'!$E$26:$E$112,0),MATCH($C9,'General Calc'!$G$26:$Z$26,0),MAX(Criteria!$M:$M),1)*OFFSET(Scoring!$E$4,1,MATCH(H$4,Scoring!$F$4:$Z$4,0),MAX(Criteria!$M:$M),)))","v":""},{"$f":"IF($C9=\"\",\"\",SUM(OFFSET('General Calc'!$F$26,MATCH($D9,'General Calc'!$E$26:$E$112,0),MATCH($C9,'General Calc'!$G$26:$Z$26,0),MAX(Criteria!$M:$M),1)*OFFSET(Scoring!$E$4,1,MATCH(I$4,Scoring!$F$4:$Z$4,0),MAX(Criteria!$M:$M),)))","v":""},{"$f":"IF($C9=\"\",\"\",SUM(OFFSET('General Calc'!$F$26,MATCH($D9,'General Calc'!$E$26:$E$112,0),MATCH($C9,'General Calc'!$G$26:$Z$26,0),MAX(Criteria!$M:$M),1)*OFFSET(Scoring!$E$4,1,MATCH(J$4,Scoring!$F$4:$Z$4,0),MAX(Criteria!$M:$M),)))","v":""},{"$f":"IF($C9=\"\",\"\",SUM(OFFSET('General Calc'!$F$26,MATCH($D9,'General Calc'!$E$26:$E$112,0),MATCH($C9,'General Calc'!$G$26:$Z$26,0),MAX(Criteria!$M:$M),1)*OFFSET(Scoring!$E$4,1,MATCH(K$4,Scoring!$F$4:$Z$4,0),MAX(Criteria!$M:$M),)))","v":""},{"$f":"IF($C9=\"\",\"\",SUM(OFFSET('General Calc'!$F$26,MATCH($D9,'General Calc'!$E$26:$E$112,0),MATCH($C9,'General Calc'!$G$26:$Z$26,0),MAX(Criteria!$M:$M),1)*OFFSET(Scoring!$E$4,1,MATCH(L$4,Scoring!$F$4:$Z$4,0),MAX(Criteria!$M:$M),)))","v":""},{"$f":"IF($C9=\"\",\"\",SUM(OFFSET('General Calc'!$F$26,MATCH($D9,'General Calc'!$E$26:$E$112,0),MATCH($C9,'General Calc'!$G$26:$Z$26,0),MAX(Criteria!$M:$M),1)*OFFSET(Scoring!$E$4,1,MATCH(M$4,Scoring!$F$4:$Z$4,0),MAX(Criteria!$M:$M),)))","v":""},{"$f":"IF($C9=\"\",\"\",SUM(OFFSET('General Calc'!$F$26,MATCH($D9,'General Calc'!$E$26:$E$112,0),MATCH($C9,'General Calc'!$G$26:$Z$26,0),MAX(Criteria!$M:$M),1)*OFFSET(Scoring!$E$4,1,MATCH(N$4,Scoring!$F$4:$Z$4,0),MAX(Criteria!$M:$M),)))","v":""},{"$f":"IF($C9=\"\",\"\",SUM(OFFSET('General Calc'!$F$26,MATCH($D9,'General Calc'!$E$26:$E$112,0),MATCH($C9,'General Calc'!$G$26:$Z$26,0),MAX(Criteria!$M:$M),1)*OFFSET(Scoring!$E$4,1,MATCH(O$4,Scoring!$F$4:$Z$4,0),MAX(Criteria!$M:$M),)))","v":""},{"$f":"IF($C9=\"\",\"\",SUM(OFFSET('General Calc'!$F$26,MATCH($D9,'General Calc'!$E$26:$E$112,0),MATCH($C9,'General Calc'!$G$26:$Z$26,0),MAX(Criteria!$M:$M),1)*OFFSET(Scoring!$E$4,1,MATCH(P$4,Scoring!$F$4:$Z$4,0),MAX(Criteria!$M:$M),)))","v":""},{"$f":"IF($C9=\"\",\"\",SUM(OFFSET('General Calc'!$F$26,MATCH($D9,'General Calc'!$E$26:$E$112,0),MATCH($C9,'General Calc'!$G$26:$Z$26,0),MAX(Criteria!$M:$M),1)*OFFSET(Scoring!$E$4,1,MATCH(Q$4,Scoring!$F$4:$Z$4,0),MAX(Criteria!$M:$M),)))","v":""},{"$f":"IF($C9=\"\",\"\",SUM(OFFSET('General Calc'!$F$26,MATCH($D9,'General Calc'!$E$26:$E$112,0),MATCH($C9,'General Calc'!$G$26:$Z$26,0),MAX(Criteria!$M:$M),1)*OFFSET(Scoring!$E$4,1,MATCH(R$4,Scoring!$F$4:$Z$4,0),MAX(Criteria!$M:$M),)))","v":""},{"$f":"IF($C9=\"\",\"\",SUM(OFFSET('General Calc'!$F$26,MATCH($D9,'General Calc'!$E$26:$E$112,0),MATCH($C9,'General Calc'!$G$26:$Z$26,0),MAX(Criteria!$M:$M),1)*OFFSET(Scoring!$E$4,1,MATCH(S$4,Scoring!$F$4:$Z$4,0),MAX(Criteria!$M:$M),)))","v":""},{"$f":"IF($C9=\"\",\"\",SUM(OFFSET('General Calc'!$F$26,MATCH($D9,'General Calc'!$E$26:$E$112,0),MATCH($C9,'General Calc'!$G$26:$Z$26,0),MAX(Criteria!$M:$M),1)*OFFSET(Scoring!$E$4,1,MATCH(T$4,Scoring!$F$4:$Z$4,0),MAX(Criteria!$M:$M),)))","v":""},{"$f":"IF($C9=\"\",\"\",SUM(OFFSET('General Calc'!$F$26,MATCH($D9,'General Calc'!$E$26:$E$112,0),MATCH($C9,'General Calc'!$G$26:$Z$26,0),MAX(Criteria!$M:$M),1)*OFFSET(Scoring!$E$4,1,MATCH(U$4,Scoring!$F$4:$Z$4,0),MAX(Criteria!$M:$M),)))","v":""},{"$f":"IF($C9=\"\",\"\",SUM(OFFSET('General Calc'!$F$26,MATCH($D9,'General Calc'!$E$26:$E$112,0),MATCH($C9,'General Calc'!$G$26:$Z$26,0),MAX(Criteria!$M:$M),1)*OFFSET(Scoring!$E$4,1,MATCH(V$4,Scoring!$F$4:$Z$4,0),MAX(Criteria!$M:$M),)))","v":""},{"$f":"IF($C9=\"\",\"\",SUM(OFFSET('General Calc'!$F$26,MATCH($D9,'General Calc'!$E$26:$E$112,0),MATCH($C9,'General Calc'!$G$26:$Z$26,0),MAX(Criteria!$M:$M),1)*OFFSET(Scoring!$E$4,1,MATCH(W$4,Scoring!$F$4:$Z$4,0),MAX(Criteria!$M:$M),)))","v":""},{"$f":"IF($C9=\"\",\"\",SUM(OFFSET('General Calc'!$F$26,MATCH($D9,'General Calc'!$E$26:$E$112,0),MATCH($C9,'General Calc'!$G$26:$Z$26,0),MAX(Criteria!$M:$M),1)*OFFSET(Scoring!$E$4,1,MATCH(X$4,Scoring!$F$4:$Z$4,0),MAX(Criteria!$M:$M),)))","v":""},{"$f":"IF($C9=\"\",\"\",SUM(OFFSET('General Calc'!$F$26,MATCH($D9,'General Calc'!$E$26:$E$112,0),MATCH($C9,'General Calc'!$G$26:$Z$26,0),MAX(Criteria!$M:$M),1)*OFFSET(Scoring!$E$4,1,MATCH(Y$4,Scoring!$F$4:$Z$4,0),MAX(Criteria!$M:$M),)))","v":""},"",""]
[null,6,{"$f":"IF(INDEX('Selected Criteria'!$E$6:$E$25,$B10)=0,\"\",INDEX('Selected Criteria'!$E$6:$E$25,$B10))","v":""},"",{"$f":"IF($C10=\"\",\"\",SUM(OFFSET('General Calc'!$F$26,MATCH($D10,'General Calc'!$E$26:$E$112,0),MATCH($C10,'General Calc'!$G$26:$Z$26,0),MAX(Criteria!$M:$M),1)*OFFSET(Scoring!$E$4,1,MATCH(E$4,Scoring!$F$4:$Z$4,0),MAX(Criteria!$M:$M),)))","v":""},{"$f":"IF($C10=\"\",\"\",SUM(OFFSET('General Calc'!$F$26,MATCH($D10,'General Calc'!$E$26:$E$112,0),MATCH($C10,'General Calc'!$G$26:$Z$26,0),MAX(Criteria!$M:$M),1)*OFFSET(Scoring!$E$4,1,MATCH(F$4,Scoring!$F$4:$Z$4,0),MAX(Criteria!$M:$M),)))","v":""},{"$f":"IF($C10=\"\",\"\",SUM(OFFSET('General Calc'!$F$26,MATCH($D10,'General Calc'!$E$26:$E$112,0),MATCH($C10,'General Calc'!$G$26:$Z$26,0),MAX(Criteria!$M:$M),1)*OFFSET(Scoring!$E$4,1,MATCH(G$4,Scoring!$F$4:$Z$4,0),MAX(Criteria!$M:$M),)))","v":""},{"$f":"IF($C10=\"\",\"\",SUM(OFFSET('General Calc'!$F$26,MATCH($D10,'General Calc'!$E$26:$E$112,0),MATCH($C10,'General Calc'!$G$26:$Z$26,0),MAX(Criteria!$M:$M),1)*OFFSET(Scoring!$E$4,1,MATCH(H$4,Scoring!$F$4:$Z$4,0),MAX(Criteria!$M:$M),)))","v":""},{"$f":"IF($C10=\"\",\"\",SUM(OFFSET('General Calc'!$F$26,MATCH($D10,'General Calc'!$E$26:$E$112,0),MATCH($C10,'General Calc'!$G$26:$Z$26,0),MAX(Criteria!$M:$M),1)*OFFSET(Scoring!$E$4,1,MATCH(I$4,Scoring!$F$4:$Z$4,0),MAX(Criteria!$M:$M),)))","v":""},{"$f":"IF($C10=\"\",\"\",SUM(OFFSET('General Calc'!$F$26,MATCH($D10,'General Calc'!$E$26:$E$112,0),MATCH($C10,'General Calc'!$G$26:$Z$26,0),MAX(Criteria!$M:$M),1)*OFFSET(Scoring!$E$4,1,MATCH(J$4,Scoring!$F$4:$Z$4,0),MAX(Criteria!$M:$M),)))","v":""},{"$f":"IF($C10=\"\",\"\",SUM(OFFSET('General Calc'!$F$26,MATCH($D10,'General Calc'!$E$26:$E$112,0),MATCH($C10,'General Calc'!$G$26:$Z$26,0),MAX(Criteria!$M:$M),1)*OFFSET(Scoring!$E$4,1,MATCH(K$4,Scoring!$F$4:$Z$4,0),MAX(Criteria!$M:$M),)))","v":""},{"$f":"IF($C10=\"\",\"\",SUM(OFFSET('General Calc'!$F$26,MATCH($D10,'General Calc'!$E$26:$E$112,0),MATCH($C10,'General Calc'!$G$26:$Z$26,0),MAX(Criteria!$M:$M),1)*OFFSET(Scoring!$E$4,1,MATCH(L$4,Scoring!$F$4:$Z$4,0),MAX(Criteria!$M:$M),)))","v":""},{"$f":"IF($C10=\"\",\"\",SUM(OFFSET('General Calc'!$F$26,MATCH($D10,'General Calc'!$E$26:$E$112,0),MATCH($C10,'General Calc'!$G$26:$Z$26,0),MAX(Criteria!$M:$M),1)*OFFSET(Scoring!$E$4,1,MATCH(M$4,Scoring!$F$4:$Z$4,0),MAX(Criteria!$M:$M),)))","v":""},{"$f":"IF($C10=\"\",\"\",SUM(OFFSET('General Calc'!$F$26,MATCH($D10,'General Calc'!$E$26:$E$112,0),MATCH($C10,'General Calc'!$G$26:$Z$26,0),MAX(Criteria!$M:$M),1)*OFFSET(Scoring!$E$4,1,MATCH(N$4,Scoring!$F$4:$Z$4,0),MAX(Criteria!$M:$M),)))","v":""},{"$f":"IF($C10=\"\",\"\",SUM(OFFSET('General Calc'!$F$26,MATCH($D10,'General Calc'!$E$26:$E$112,0),MATCH($C10,'General Calc'!$G$26:$Z$26,0),MAX(Criteria!$M:$M),1)*OFFSET(Scoring!$E$4,1,MATCH(O$4,Scoring!$F$4:$Z$4,0),MAX(Criteria!$M:$M),)))","v":""},{"$f":"IF($C10=\"\",\"\",SUM(OFFSET('General Calc'!$F$26,MATCH($D10,'General Calc'!$E$26:$E$112,0),MATCH($C10,'General Calc'!$G$26:$Z$26,0),MAX(Criteria!$M:$M),1)*OFFSET(Scoring!$E$4,1,MATCH(P$4,Scoring!$F$4:$Z$4,0),MAX(Criteria!$M:$M),)))","v":""},{"$f":"IF($C10=\"\",\"\",SUM(OFFSET('General Calc'!$F$26,MATCH($D10,'General Calc'!$E$26:$E$112,0),MATCH($C10,'General Calc'!$G$26:$Z$26,0),MAX(Criteria!$M:$M),1)*OFFSET(Scoring!$E$4,1,MATCH(Q$4,Scoring!$F$4:$Z$4,0),MAX(Criteria!$M:$M),)))","v":""},{"$f":"IF($C10=\"\",\"\",SUM(OFFSET('General Calc'!$F$26,MATCH($D10,'General Calc'!$E$26:$E$112,0),MATCH($C10,'General Calc'!$G$26:$Z$26,0),MAX(Criteria!$M:$M),1)*OFFSET(Scoring!$E$4,1,MATCH(R$4,Scoring!$F$4:$Z$4,0),MAX(Criteria!$M:$M),)))","v":""},{"$f":"IF($C10=\"\",\"\",SUM(OFFSET('General Calc'!$F$26,MATCH($D10,'General Calc'!$E$26:$E$112,0),MATCH($C10,'General Calc'!$G$26:$Z$26,0),MAX(Criteria!$M:$M),1)*OFFSET(Scoring!$E$4,1,MATCH(S$4,Scoring!$F$4:$Z$4,0),MAX(Criteria!$M:$M),)))","v":""},{"$f":"IF($C10=\"\",\"\",SUM(OFFSET('General Calc'!$F$26,MATCH($D10,'General Calc'!$E$26:$E$112,0),MATCH($C10,'General Calc'!$G$26:$Z$26,0),MAX(Criteria!$M:$M),1)*OFFSET(Scoring!$E$4,1,MATCH(T$4,Scoring!$F$4:$Z$4,0),MAX(Criteria!$M:$M),)))","v":""},{"$f":"IF($C10=\"\",\"\",SUM(OFFSET('General Calc'!$F$26,MATCH($D10,'General Calc'!$E$26:$E$112,0),MATCH($C10,'General Calc'!$G$26:$Z$26,0),MAX(Criteria!$M:$M),1)*OFFSET(Scoring!$E$4,1,MATCH(U$4,Scoring!$F$4:$Z$4,0),MAX(Criteria!$M:$M),)))","v":""},{"$f":"IF($C10=\"\",\"\",SUM(OFFSET('General Calc'!$F$26,MATCH($D10,'General Calc'!$E$26:$E$112,0),MATCH($C10,'General Calc'!$G$26:$Z$26,0),MAX(Criteria!$M:$M),1)*OFFSET(Scoring!$E$4,1,MATCH(V$4,Scoring!$F$4:$Z$4,0),MAX(Criteria!$M:$M),)))","v":""},{"$f":"IF($C10=\"\",\"\",SUM(OFFSET('General Calc'!$F$26,MATCH($D10,'General Calc'!$E$26:$E$112,0),MATCH($C10,'General Calc'!$G$26:$Z$26,0),MAX(Criteria!$M:$M),1)*OFFSET(Scoring!$E$4,1,MATCH(W$4,Scoring!$F$4:$Z$4,0),MAX(Criteria!$M:$M),)))","v":""},{"$f":"IF($C10=\"\",\"\",SUM(OFFSET('General Calc'!$F$26,MATCH($D10,'General Calc'!$E$26:$E$112,0),MATCH($C10,'General Calc'!$G$26:$Z$26,0),MAX(Criteria!$M:$M),1)*OFFSET(Scoring!$E$4,1,MATCH(X$4,Scoring!$F$4:$Z$4,0),MAX(Criteria!$M:$M),)))","v":""},{"$f":"IF($C10=\"\",\"\",SUM(OFFSET('General Calc'!$F$26,MATCH($D10,'General Calc'!$E$26:$E$112,0),MATCH($C10,'General Calc'!$G$26:$Z$26,0),MAX(Criteria!$M:$M),1)*OFFSET(Scoring!$E$4,1,MATCH(Y$4,Scoring!$F$4:$Z$4,0),MAX(Criteria!$M:$M),)))","v":""},"",""]
[null,7,{"$f":"IF(INDEX('Selected Criteria'!$E$6:$E$25,$B11)=0,\"\",INDEX('Selected Criteria'!$E$6:$E$25,$B11))","v":""},"",{"$f":"IF($C11=\"\",\"\",SUM(OFFSET('General Calc'!$F$26,MATCH($D11,'General Calc'!$E$26:$E$112,0),MATCH($C11,'General Calc'!$G$26:$Z$26,0),MAX(Criteria!$M:$M),1)*OFFSET(Scoring!$E$4,1,MATCH(E$4,Scoring!$F$4:$Z$4,0),MAX(Criteria!$M:$M),)))","v":""},{"$f":"IF($C11=\"\",\"\",SUM(OFFSET('General Calc'!$F$26,MATCH($D11,'General Calc'!$E$26:$E$112,0),MATCH($C11,'General Calc'!$G$26:$Z$26,0),MAX(Criteria!$M:$M),1)*OFFSET(Scoring!$E$4,1,MATCH(F$4,Scoring!$F$4:$Z$4,0),MAX(Criteria!$M:$M),)))","v":""},{"$f":"IF($C11=\"\",\"\",SUM(OFFSET('General Calc'!$F$26,MATCH($D11,'General Calc'!$E$26:$E$112,0),MATCH($C11,'General Calc'!$G$26:$Z$26,0),MAX(Criteria!$M:$M),1)*OFFSET(Scoring!$E$4,1,MATCH(G$4,Scoring!$F$4:$Z$4,0),MAX(Criteria!$M:$M),)))","v":""},{"$f":"IF($C11=\"\",\"\",SUM(OFFSET('General Calc'!$F$26,MATCH($D11,'General Calc'!$E$26:$E$112,0),MATCH($C11,'General Calc'!$G$26:$Z$26,0),MAX(Criteria!$M:$M),1)*OFFSET(Scoring!$E$4,1,MATCH(H$4,Scoring!$F$4:$Z$4,0),MAX(Criteria!$M:$M),)))","v":""},{"$f":"IF($C11=\"\",\"\",SUM(OFFSET('General Calc'!$F$26,MATCH($D11,'General Calc'!$E$26:$E$112,0),MATCH($C11,'General Calc'!$G$26:$Z$26,0),MAX(Criteria!$M:$M),1)*OFFSET(Scoring!$E$4,1,MATCH(I$4,Scoring!$F$4:$Z$4,0),MAX(Criteria!$M:$M),)))","v":""},{"$f":"IF($C11=\"\",\"\",SUM(OFFSET('General Calc'!$F$26,MATCH($D11,'General Calc'!$E$26:$E$112,0),MATCH($C11,'General Calc'!$G$26:$Z$26,0),MAX(Criteria!$M:$M),1)*OFFSET(Scoring!$E$4,1,MATCH(J$4,Scoring!$F$4:$Z$4,0),MAX(Criteria!$M:$M),)))","v":""},{"$f":"IF($C11=\"\",\"\",SUM(OFFSET('General Calc'!$F$26,MATCH($D11,'General Calc'!$E$26:$E$112,0),MATCH($C11,'General Calc'!$G$26:$Z$26,0),MAX(Criteria!$M:$M),1)*OFFSET(Scoring!$E$4,1,MATCH(K$4,Scoring!$F$4:$Z$4,0),MAX(Criteria!$M:$M),)))","v":""},{"$f":"IF($C11=\"\",\"\",SUM(OFFSET('General Calc'!$F$26,MATCH($D11,'General Calc'!$E$26:$E$112,0),MATCH($C11,'General Calc'!$G$26:$Z$26,0),MAX(Criteria!$M:$M),1)*OFFSET(Scoring!$E$4,1,MATCH(L$4,Scoring!$F$4:$Z$4,0),MAX(Criteria!$M:$M),)))","v":""},{"$f":"IF($C11=\"\",\"\",SUM(OFFSET('General Calc'!$F$26,MATCH($D11,'General Calc'!$E$26:$E$112,0),MATCH($C11,'General Calc'!$G$26:$Z$26,0),MAX(Criteria!$M:$M),1)*OFFSET(Scoring!$E$4,1,MATCH(M$4,Scoring!$F$4:$Z$4,0),MAX(Criteria!$M:$M),)))","v":""},{"$f":"IF($C11=\"\",\"\",SUM(OFFSET('General Calc'!$F$26,MATCH($D11,'General Calc'!$E$26:$E$112,0),MATCH($C11,'General Calc'!$G$26:$Z$26,0),MAX(Criteria!$M:$M),1)*OFFSET(Scoring!$E$4,1,MATCH(N$4,Scoring!$F$4:$Z$4,0),MAX(Criteria!$M:$M),)))","v":""},{"$f":"IF($C11=\"\",\"\",SUM(OFFSET('General Calc'!$F$26,MATCH($D11,'General Calc'!$E$26:$E$112,0),MATCH($C11,'General Calc'!$G$26:$Z$26,0),MAX(Criteria!$M:$M),1)*OFFSET(Scoring!$E$4,1,MATCH(O$4,Scoring!$F$4:$Z$4,0),MAX(Criteria!$M:$M),)))","v":""},{"$f":"IF($C11=\"\",\"\",SUM(OFFSET('General Calc'!$F$26,MATCH($D11,'General Calc'!$E$26:$E$112,0),MATCH($C11,'General Calc'!$G$26:$Z$26,0),MAX(Criteria!$M:$M),1)*OFFSET(Scoring!$E$4,1,MATCH(P$4,Scoring!$F$4:$Z$4,0),MAX(Criteria!$M:$M),)))","v":""},{"$f":"IF($C11=\"\",\"\",SUM(OFFSET('General Calc'!$F$26,MATCH($D11,'General Calc'!$E$26:$E$112,0),MATCH($C11,'General Calc'!$G$26:$Z$26,0),MAX(Criteria!$M:$M),1)*OFFSET(Scoring!$E$4,1,MATCH(Q$4,Scoring!$F$4:$Z$4,0),MAX(Criteria!$M:$M),)))","v":""},{"$f":"IF($C11=\"\",\"\",SUM(OFFSET('General Calc'!$F$26,MATCH($D11,'General Calc'!$E$26:$E$112,0),MATCH($C11,'General Calc'!$G$26:$Z$26,0),MAX(Criteria!$M:$M),1)*OFFSET(Scoring!$E$4,1,MATCH(R$4,Scoring!$F$4:$Z$4,0),MAX(Criteria!$M:$M),)))","v":""},{"$f":"IF($C11=\"\",\"\",SUM(OFFSET('General Calc'!$F$26,MATCH($D11,'General Calc'!$E$26:$E$112,0),MATCH($C11,'General Calc'!$G$26:$Z$26,0),MAX(Criteria!$M:$M),1)*OFFSET(Scoring!$E$4,1,MATCH(S$4,Scoring!$F$4:$Z$4,0),MAX(Criteria!$M:$M),)))","v":""},{"$f":"IF($C11=\"\",\"\",SUM(OFFSET('General Calc'!$F$26,MATCH($D11,'General Calc'!$E$26:$E$112,0),MATCH($C11,'General Calc'!$G$26:$Z$26,0),MAX(Criteria!$M:$M),1)*OFFSET(Scoring!$E$4,1,MATCH(T$4,Scoring!$F$4:$Z$4,0),MAX(Criteria!$M:$M),)))","v":""},{"$f":"IF($C11=\"\",\"\",SUM(OFFSET('General Calc'!$F$26,MATCH($D11,'General Calc'!$E$26:$E$112,0),MATCH($C11,'General Calc'!$G$26:$Z$26,0),MAX(Criteria!$M:$M),1)*OFFSET(Scoring!$E$4,1,MATCH(U$4,Scoring!$F$4:$Z$4,0),MAX(Criteria!$M:$M),)))","v":""},{"$f":"IF($C11=\"\",\"\",SUM(OFFSET('General Calc'!$F$26,MATCH($D11,'General Calc'!$E$26:$E$112,0),MATCH($C11,'General Calc'!$G$26:$Z$26,0),MAX(Criteria!$M:$M),1)*OFFSET(Scoring!$E$4,1,MATCH(V$4,Scoring!$F$4:$Z$4,0),MAX(Criteria!$M:$M),)))","v":""},{"$f":"IF($C11=\"\",\"\",SUM(OFFSET('General Calc'!$F$26,MATCH($D11,'General Calc'!$E$26:$E$112,0),MATCH($C11,'General Calc'!$G$26:$Z$26,0),MAX(Criteria!$M:$M),1)*OFFSET(Scoring!$E$4,1,MATCH(W$4,Scoring!$F$4:$Z$4,0),MAX(Criteria!$M:$M),)))","v":""},{"$f":"IF($C11=\"\",\"\",SUM(OFFSET('General Calc'!$F$26,MATCH($D11,'General Calc'!$E$26:$E$112,0),MATCH($C11,'General Calc'!$G$26:$Z$26,0),MAX(Criteria!$M:$M),1)*OFFSET(Scoring!$E$4,1,MATCH(X$4,Scoring!$F$4:$Z$4,0),MAX(Criteria!$M:$M),)))","v":""},{"$f":"IF($C11=\"\",\"\",SUM(OFFSET('General Calc'!$F$26,MATCH($D11,'General Calc'!$E$26:$E$112,0),MATCH($C11,'General Calc'!$G$26:$Z$26,0),MAX(Criteria!$M:$M),1)*OFFSET(Scoring!$E$4,1,MATCH(Y$4,Scoring!$F$4:$Z$4,0),MAX(Criteria!$M:$M),)))","v":""},"",""]
[null,8,{"$f":"IF(INDEX('Selected Criteria'!$E$6:$E$25,$B12)=0,\"\",INDEX('Selected Criteria'!$E$6:$E$25,$B12))","v":""},"",{"$f":"IF($C12=\"\",\"\",SUM(OFFSET('General Calc'!$F$26,MATCH($D12,'General Calc'!$E$26:$E$112,0),MATCH($C12,'General Calc'!$G$26:$Z$26,0),MAX(Criteria!$M:$M),1)*OFFSET(Scoring!$E$4,1,MATCH(E$4,Scoring!$F$4:$Z$4,0),MAX(Criteria!$M:$M),)))","v":""},{"$f":"IF($C12=\"\",\"\",SUM(OFFSET('General Calc'!$F$26,MATCH($D12,'General Calc'!$E$26:$E$112,0),MATCH($C12,'General Calc'!$G$26:$Z$26,0),MAX(Criteria!$M:$M),1)*OFFSET(Scoring!$E$4,1,MATCH(F$4,Scoring!$F$4:$Z$4,0),MAX(Criteria!$M:$M),)))","v":""},{"$f":"IF($C12=\"\",\"\",SUM(OFFSET('General Calc'!$F$26,MATCH($D12,'General Calc'!$E$26:$E$112,0),MATCH($C12,'General Calc'!$G$26:$Z$26,0),MAX(Criteria!$M:$M),1)*OFFSET(Scoring!$E$4,1,MATCH(G$4,Scoring!$F$4:$Z$4,0),MAX(Criteria!$M:$M),)))","v":""},{"$f":"IF($C12=\"\",\"\",SUM(OFFSET('General Calc'!$F$26,MATCH($D12,'General Calc'!$E$26:$E$112,0),MATCH($C12,'General Calc'!$G$26:$Z$26,0),MAX(Criteria!$M:$M),1)*OFFSET(Scoring!$E$4,1,MATCH(H$4,Scoring!$F$4:$Z$4,0),MAX(Criteria!$M:$M),)))","v":""},{"$f":"IF($C12=\"\",\"\",SUM(OFFSET('General Calc'!$F$26,MATCH($D12,'General Calc'!$E$26:$E$112,0),MATCH($C12,'General Calc'!$G$26:$Z$26,0),MAX(Criteria!$M:$M),1)*OFFSET(Scoring!$E$4,1,MATCH(I$4,Scoring!$F$4:$Z$4,0),MAX(Criteria!$M:$M),)))","v":""},{"$f":"IF($C12=\"\",\"\",SUM(OFFSET('General Calc'!$F$26,MATCH($D12,'General Calc'!$E$26:$E$112,0),MATCH($C12,'General Calc'!$G$26:$Z$26,0),MAX(Criteria!$M:$M),1)*OFFSET(Scoring!$E$4,1,MATCH(J$4,Scoring!$F$4:$Z$4,0),MAX(Criteria!$M:$M),)))","v":""},{"$f":"IF($C12=\"\",\"\",SUM(OFFSET('General Calc'!$F$26,MATCH($D12,'General Calc'!$E$26:$E$112,0),MATCH($C12,'General Calc'!$G$26:$Z$26,0),MAX(Criteria!$M:$M),1)*OFFSET(Scoring!$E$4,1,MATCH(K$4,Scoring!$F$4:$Z$4,0),MAX(Criteria!$M:$M),)))","v":""},{"$f":"IF($C12=\"\",\"\",SUM(OFFSET('General Calc'!$F$26,MATCH($D12,'General Calc'!$E$26:$E$112,0),MATCH($C12,'General Calc'!$G$26:$Z$26,0),MAX(Criteria!$M:$M),1)*OFFSET(Scoring!$E$4,1,MATCH(L$4,Scoring!$F$4:$Z$4,0),MAX(Criteria!$M:$M),)))","v":""},{"$f":"IF($C12=\"\",\"\",SUM(OFFSET('General Calc'!$F$26,MATCH($D12,'General Calc'!$E$26:$E$112,0),MATCH($C12,'General Calc'!$G$26:$Z$26,0),MAX(Criteria!$M:$M),1)*OFFSET(Scoring!$E$4,1,MATCH(M$4,Scoring!$F$4:$Z$4,0),MAX(Criteria!$M:$M),)))","v":""},{"$f":"IF($C12=\"\",\"\",SUM(OFFSET('General Calc'!$F$26,MATCH($D12,'General Calc'!$E$26:$E$112,0),MATCH($C12,'General Calc'!$G$26:$Z$26,0),MAX(Criteria!$M:$M),1)*OFFSET(Scoring!$E$4,1,MATCH(N$4,Scoring!$F$4:$Z$4,0),MAX(Criteria!$M:$M),)))","v":""},{"$f":"IF($C12=\"\",\"\",SUM(OFFSET('General Calc'!$F$26,MATCH($D12,'General Calc'!$E$26:$E$112,0),MATCH($C12,'General Calc'!$G$26:$Z$26,0),MAX(Criteria!$M:$M),1)*OFFSET(Scoring!$E$4,1,MATCH(O$4,Scoring!$F$4:$Z$4,0),MAX(Criteria!$M:$M),)))","v":""},{"$f":"IF($C12=\"\",\"\",SUM(OFFSET('General Calc'!$F$26,MATCH($D12,'General Calc'!$E$26:$E$112,0),MATCH($C12,'General Calc'!$G$26:$Z$26,0),MAX(Criteria!$M:$M),1)*OFFSET(Scoring!$E$4,1,MATCH(P$4,Scoring!$F$4:$Z$4,0),MAX(Criteria!$M:$M),)))","v":""},{"$f":"IF($C12=\"\",\"\",SUM(OFFSET('General Calc'!$F$26,MATCH($D12,'General Calc'!$E$26:$E$112,0),MATCH($C12,'General Calc'!$G$26:$Z$26,0),MAX(Criteria!$M:$M),1)*OFFSET(Scoring!$E$4,1,MATCH(Q$4,Scoring!$F$4:$Z$4,0),MAX(Criteria!$M:$M),)))","v":""},{"$f":"IF($C12=\"\",\"\",SUM(OFFSET('General Calc'!$F$26,MATCH($D12,'General Calc'!$E$26:$E$112,0),MATCH($C12,'General Calc'!$G$26:$Z$26,0),MAX(Criteria!$M:$M),1)*OFFSET(Scoring!$E$4,1,MATCH(R$4,Scoring!$F$4:$Z$4,0),MAX(Criteria!$M:$M),)))","v":""},{"$f":"IF($C12=\"\",\"\",SUM(OFFSET('General Calc'!$F$26,MATCH($D12,'General Calc'!$E$26:$E$112,0),MATCH($C12,'General Calc'!$G$26:$Z$26,0),MAX(Criteria!$M:$M),1)*OFFSET(Scoring!$E$4,1,MATCH(S$4,Scoring!$F$4:$Z$4,0),MAX(Criteria!$M:$M),)))","v":""},{"$f":"IF($C12=\"\",\"\",SUM(OFFSET('General Calc'!$F$26,MATCH($D12,'General Calc'!$E$26:$E$112,0),MATCH($C12,'General Calc'!$G$26:$Z$26,0),MAX(Criteria!$M:$M),1)*OFFSET(Scoring!$E$4,1,MATCH(T$4,Scoring!$F$4:$Z$4,0),MAX(Criteria!$M:$M),)))","v":""},{"$f":"IF($C12=\"\",\"\",SUM(OFFSET('General Calc'!$F$26,MATCH($D12,'General Calc'!$E$26:$E$112,0),MATCH($C12,'General Calc'!$G$26:$Z$26,0),MAX(Criteria!$M:$M),1)*OFFSET(Scoring!$E$4,1,MATCH(U$4,Scoring!$F$4:$Z$4,0),MAX(Criteria!$M:$M),)))","v":""},{"$f":"IF($C12=\"\",\"\",SUM(OFFSET('General Calc'!$F$26,MATCH($D12,'General Calc'!$E$26:$E$112,0),MATCH($C12,'General Calc'!$G$26:$Z$26,0),MAX(Criteria!$M:$M),1)*OFFSET(Scoring!$E$4,1,MATCH(V$4,Scoring!$F$4:$Z$4,0),MAX(Criteria!$M:$M),)))","v":""},{"$f":"IF($C12=\"\",\"\",SUM(OFFSET('General Calc'!$F$26,MATCH($D12,'General Calc'!$E$26:$E$112,0),MATCH($C12,'General Calc'!$G$26:$Z$26,0),MAX(Criteria!$M:$M),1)*OFFSET(Scoring!$E$4,1,MATCH(W$4,Scoring!$F$4:$Z$4,0),MAX(Criteria!$M:$M),)))","v":""},{"$f":"IF($C12=\"\",\"\",SUM(OFFSET('General Calc'!$F$26,MATCH($D12,'General Calc'!$E$26:$E$112,0),MATCH($C12,'General Calc'!$G$26:$Z$26,0),MAX(Criteria!$M:$M),1)*OFFSET(Scoring!$E$4,1,MATCH(X$4,Scoring!$F$4:$Z$4,0),MAX(Criteria!$M:$M),)))","v":""},{"$f":"IF($C12=\"\",\"\",SUM(OFFSET('General Calc'!$F$26,MATCH($D12,'General Calc'!$E$26:$E$112,0),MATCH($C12,'General Calc'!$G$26:$Z$26,0),MAX(Criteria!$M:$M),1)*OFFSET(Scoring!$E$4,1,MATCH(Y$4,Scoring!$F$4:$Z$4,0),MAX(Criteria!$M:$M),)))","v":""},"",""]
[null,9,{"$f":"IF(INDEX('Selected Criteria'!$E$6:$E$25,$B13)=0,\"\",INDEX('Selected Criteria'!$E$6:$E$25,$B13))","v":""},"",{"$f":"IF($C13=\"\",\"\",SUM(OFFSET('General Calc'!$F$26,MATCH($D13,'General Calc'!$E$26:$E$112,0),MATCH($C13,'General Calc'!$G$26:$Z$26,0),MAX(Criteria!$M:$M),1)*OFFSET(Scoring!$E$4,1,MATCH(E$4,Scoring!$F$4:$Z$4,0),MAX(Criteria!$M:$M),)))","v":""},{"$f":"IF($C13=\"\",\"\",SUM(OFFSET('General Calc'!$F$26,MATCH($D13,'General Calc'!$E$26:$E$112,0),MATCH($C13,'General Calc'!$G$26:$Z$26,0),MAX(Criteria!$M:$M),1)*OFFSET(Scoring!$E$4,1,MATCH(F$4,Scoring!$F$4:$Z$4,0),MAX(Criteria!$M:$M),)))","v":""},{"$f":"IF($C13=\"\",\"\",SUM(OFFSET('General Calc'!$F$26,MATCH($D13,'General Calc'!$E$26:$E$112,0),MATCH($C13,'General Calc'!$G$26:$Z$26,0),MAX(Criteria!$M:$M),1)*OFFSET(Scoring!$E$4,1,MATCH(G$4,Scoring!$F$4:$Z$4,0),MAX(Criteria!$M:$M),)))","v":""},{"$f":"IF($C13=\"\",\"\",SUM(OFFSET('General Calc'!$F$26,MATCH($D13,'General Calc'!$E$26:$E$112,0),MATCH($C13,'General Calc'!$G$26:$Z$26,0),MAX(Criteria!$M:$M),1)*OFFSET(Scoring!$E$4,1,MATCH(H$4,Scoring!$F$4:$Z$4,0),MAX(Criteria!$M:$M),)))","v":""},{"$f":"IF($C13=\"\",\"\",SUM(OFFSET('General Calc'!$F$26,MATCH($D13,'General Calc'!$E$26:$E$112,0),MATCH($C13,'General Calc'!$G$26:$Z$26,0),MAX(Criteria!$M:$M),1)*OFFSET(Scoring!$E$4,1,MATCH(I$4,Scoring!$F$4:$Z$4,0),MAX(Criteria!$M:$M),)))","v":""},{"$f":"IF($C13=\"\",\"\",SUM(OFFSET('General Calc'!$F$26,MATCH($D13,'General Calc'!$E$26:$E$112,0),MATCH($C13,'General Calc'!$G$26:$Z$26,0),MAX(Criteria!$M:$M),1)*OFFSET(Scoring!$E$4,1,MATCH(J$4,Scoring!$F$4:$Z$4,0),MAX(Criteria!$M:$M),)))","v":""},{"$f":"IF($C13=\"\",\"\",SUM(OFFSET('General Calc'!$F$26,MATCH($D13,'General Calc'!$E$26:$E$112,0),MATCH($C13,'General Calc'!$G$26:$Z$26,0),MAX(Criteria!$M:$M),1)*OFFSET(Scoring!$E$4,1,MATCH(K$4,Scoring!$F$4:$Z$4,0),MAX(Criteria!$M:$M),)))","v":""},{"$f":"IF($C13=\"\",\"\",SUM(OFFSET('General Calc'!$F$26,MATCH($D13,'General Calc'!$E$26:$E$112,0),MATCH($C13,'General Calc'!$G$26:$Z$26,0),MAX(Criteria!$M:$M),1)*OFFSET(Scoring!$E$4,1,MATCH(L$4,Scoring!$F$4:$Z$4,0),MAX(Criteria!$M:$M),)))","v":""},{"$f":"IF($C13=\"\",\"\",SUM(OFFSET('General Calc'!$F$26,MATCH($D13,'General Calc'!$E$26:$E$112,0),MATCH($C13,'General Calc'!$G$26:$Z$26,0),MAX(Criteria!$M:$M),1)*OFFSET(Scoring!$E$4,1,MATCH(M$4,Scoring!$F$4:$Z$4,0),MAX(Criteria!$M:$M),)))","v":""},{"$f":"IF($C13=\"\",\"\",SUM(OFFSET('General Calc'!$F$26,MATCH($D13,'General Calc'!$E$26:$E$112,0),MATCH($C13,'General Calc'!$G$26:$Z$26,0),MAX(Criteria!$M:$M),1)*OFFSET(Scoring!$E$4,1,MATCH(N$4,Scoring!$F$4:$Z$4,0),MAX(Criteria!$M:$M),)))","v":""},{"$f":"IF($C13=\"\",\"\",SUM(OFFSET('General Calc'!$F$26,MATCH($D13,'General Calc'!$E$26:$E$112,0),MATCH($C13,'General Calc'!$G$26:$Z$26,0),MAX(Criteria!$M:$M),1)*OFFSET(Scoring!$E$4,1,MATCH(O$4,Scoring!$F$4:$Z$4,0),MAX(Criteria!$M:$M),)))","v":""},{"$f":"IF($C13=\"\",\"\",SUM(OFFSET('General Calc'!$F$26,MATCH($D13,'General Calc'!$E$26:$E$112,0),MATCH($C13,'General Calc'!$G$26:$Z$26,0),MAX(Criteria!$M:$M),1)*OFFSET(Scoring!$E$4,1,MATCH(P$4,Scoring!$F$4:$Z$4,0),MAX(Criteria!$M:$M),)))","v":""},{"$f":"IF($C13=\"\",\"\",SUM(OFFSET('General Calc'!$F$26,MATCH($D13,'General Calc'!$E$26:$E$112,0),MATCH($C13,'General Calc'!$G$26:$Z$26,0),MAX(Criteria!$M:$M),1)*OFFSET(Scoring!$E$4,1,MATCH(Q$4,Scoring!$F$4:$Z$4,0),MAX(Criteria!$M:$M),)))","v":""},{"$f":"IF($C13=\"\",\"\",SUM(OFFSET('General Calc'!$F$26,MATCH($D13,'General Calc'!$E$26:$E$112,0),MATCH($C13,'General Calc'!$G$26:$Z$26,0),MAX(Criteria!$M:$M),1)*OFFSET(Scoring!$E$4,1,MATCH(R$4,Scoring!$F$4:$Z$4,0),MAX(Criteria!$M:$M),)))","v":""},{"$f":"IF($C13=\"\",\"\",SUM(OFFSET('General Calc'!$F$26,MATCH($D13,'General Calc'!$E$26:$E$112,0),MATCH($C13,'General Calc'!$G$26:$Z$26,0),MAX(Criteria!$M:$M),1)*OFFSET(Scoring!$E$4,1,MATCH(S$4,Scoring!$F$4:$Z$4,0),MAX(Criteria!$M:$M),)))","v":""},{"$f":"IF($C13=\"\",\"\",SUM(OFFSET('General Calc'!$F$26,MATCH($D13,'General Calc'!$E$26:$E$112,0),MATCH($C13,'General Calc'!$G$26:$Z$26,0),MAX(Criteria!$M:$M),1)*OFFSET(Scoring!$E$4,1,MATCH(T$4,Scoring!$F$4:$Z$4,0),MAX(Criteria!$M:$M),)))","v":""},{"$f":"IF($C13=\"\",\"\",SUM(OFFSET('General Calc'!$F$26,MATCH($D13,'General Calc'!$E$26:$E$112,0),MATCH($C13,'General Calc'!$G$26:$Z$26,0),MAX(Criteria!$M:$M),1)*OFFSET(Scoring!$E$4,1,MATCH(U$4,Scoring!$F$4:$Z$4,0),MAX(Criteria!$M:$M),)))","v":""},{"$f":"IF($C13=\"\",\"\",SUM(OFFSET('General Calc'!$F$26,MATCH($D13,'General Calc'!$E$26:$E$112,0),MATCH($C13,'General Calc'!$G$26:$Z$26,0),MAX(Criteria!$M:$M),1)*OFFSET(Scoring!$E$4,1,MATCH(V$4,Scoring!$F$4:$Z$4,0),MAX(Criteria!$M:$M),)))","v":""},{"$f":"IF($C13=\"\",\"\",SUM(OFFSET('General Calc'!$F$26,MATCH($D13,'General Calc'!$E$26:$E$112,0),MATCH($C13,'General Calc'!$G$26:$Z$26,0),MAX(Criteria!$M:$M),1)*OFFSET(Scoring!$E$4,1,MATCH(W$4,Scoring!$F$4:$Z$4,0),MAX(Criteria!$M:$M),)))","v":""},{"$f":"IF($C13=\"\",\"\",SUM(OFFSET('General Calc'!$F$26,MATCH($D13,'General Calc'!$E$26:$E$112,0),MATCH($C13,'General Calc'!$G$26:$Z$26,0),MAX(Criteria!$M:$M),1)*OFFSET(Scoring!$E$4,1,MATCH(X$4,Scoring!$F$4:$Z$4,0),MAX(Criteria!$M:$M),)))","v":""},{"$f":"IF($C13=\"\",\"\",SUM(OFFSET('General Calc'!$F$26,MATCH($D13,'General Calc'!$E$26:$E$112,0),MATCH($C13,'General Calc'!$G$26:$Z$26,0),MAX(Criteria!$M:$M),1)*OFFSET(Scoring!$E$4,1,MATCH(Y$4,Scoring!$F$4:$Z$4,0),MAX(Criteria!$M:$M),)))","v":""},"",""]
[null,10,{"$f":"IF(INDEX('Selected Criteria'!$E$6:$E$25,$B14)=0,\"\",INDEX('Selected Criteria'!$E$6:$E$25,$B14))","v":""},"",{"$f":"IF($C14=\"\",\"\",SUM(OFFSET('General Calc'!$F$26,MATCH($D14,'General Calc'!$E$26:$E$112,0),MATCH($C14,'General Calc'!$G$26:$Z$26,0),MAX(Criteria!$M:$M),1)*OFFSET(Scoring!$E$4,1,MATCH(E$4,Scoring!$F$4:$N$4,0),MAX(Criteria!$M:$M),)))","v":""},{"$f":"IF($C14=\"\",\"\",SUM(OFFSET('General Calc'!$F$26,MATCH($D14,'General Calc'!$E$26:$E$112,0),MATCH($C14,'General Calc'!$G$26:$Z$26,0),MAX(Criteria!$M:$M),1)*OFFSET(Scoring!$E$4,1,MATCH(F$4,Scoring!$F$4:$Z$4,0),MAX(Criteria!$M:$M),)))","v":""},{"$f":"IF($C14=\"\",\"\",SUM(OFFSET('General Calc'!$F$26,MATCH($D14,'General Calc'!$E$26:$E$112,0),MATCH($C14,'General Calc'!$G$26:$Z$26,0),MAX(Criteria!$M:$M),1)*OFFSET(Scoring!$E$4,1,MATCH(G$4,Scoring!$F$4:$N$4,0),MAX(Criteria!$M:$M),)))","v":""},{"$f":"IF($C14=\"\",\"\",SUM(OFFSET('General Calc'!$F$26,MATCH($D14,'General Calc'!$E$26:$E$112,0),MATCH($C14,'General Calc'!$G$26:$Z$26,0),MAX(Criteria!$M:$M),1)*OFFSET(Scoring!$E$4,1,MATCH(H$4,Scoring!$F$4:$N$4,0),MAX(Criteria!$M:$M),)))","v":""},{"$f":"IF($C14=\"\",\"\",SUM(OFFSET('General Calc'!$F$26,MATCH($D14,'General Calc'!$E$26:$E$112,0),MATCH($C14,'General Calc'!$G$26:$Z$26,0),MAX(Criteria!$M:$M),1)*OFFSET(Scoring!$E$4,1,MATCH(I$4,Scoring!$F$4:$N$4,0),MAX(Criteria!$M:$M),)))","v":""},{"$f":"IF($C14=\"\",\"\",SUM(OFFSET('General Calc'!$F$26,MATCH($D14,'General Calc'!$E$26:$E$112,0),MATCH($C14,'General Calc'!$G$26:$Z$26,0),MAX(Criteria!$M:$M),1)*OFFSET(Scoring!$E$4,1,MATCH(J$4,Scoring!$F$4:$N$4,0),MAX(Criteria!$M:$M),)))","v":""},{"$f":"IF($C14=\"\",\"\",SUM(OFFSET('General Calc'!$F$26,MATCH($D14,'General Calc'!$E$26:$E$112,0),MATCH($C14,'General Calc'!$G$26:$Z$26,0),MAX(Criteria!$M:$M),1)*OFFSET(Scoring!$E$4,1,MATCH(K$4,Scoring!$F$4:$N$4,0),MAX(Criteria!$M:$M),)))","v":""},{"$f":"IF($C14=\"\",\"\",SUM(OFFSET('General Calc'!$F$26,MATCH($D14,'General Calc'!$E$26:$E$112,0),MATCH($C14,'General Calc'!$G$26:$Z$26,0),MAX(Criteria!$M:$M),1)*OFFSET(Scoring!$E$4,1,MATCH(L$4,Scoring!$F$4:$N$4,0),MAX(Criteria!$M:$M),)))","v":""},{"$f":"IF($C14=\"\",\"\",SUM(OFFSET('General Calc'!$F$26,MATCH($D14,'General Calc'!$E$26:$E$112,0),MATCH($C14,'General Calc'!$G$26:$Z$26,0),MAX(Criteria!$M:$M),1)*OFFSET(Scoring!$E$4,1,MATCH(M$4,Scoring!$F$4:$N$4,0),MAX(Criteria!$M:$M),)))","v":""},{"$f":"IF($C14=\"\",\"\",SUM(OFFSET('General Calc'!$F$26,MATCH($D14,'General Calc'!$E$26:$E$112,0),MATCH($C14,'General Calc'!$G$26:$Z$26,0),MAX(Criteria!$M:$M),1)*OFFSET(Scoring!$E$4,1,MATCH(N$4,Scoring!$F$4:$Z$4,0),MAX(Criteria!$M:$M),)))","v":""},{"$f":"IF($C14=\"\",\"\",SUM(OFFSET('General Calc'!$F$26,MATCH($D14,'General Calc'!$E$26:$E$112,0),MATCH($C14,'General Calc'!$G$26:$Z$26,0),MAX(Criteria!$M:$M),1)*OFFSET(Scoring!$E$4,1,MATCH(O$4,Scoring!$F$4:$Z$4,0),MAX(Criteria!$M:$M),)))","v":""},{"$f":"IF($C14=\"\",\"\",SUM(OFFSET('General Calc'!$F$26,MATCH($D14,'General Calc'!$E$26:$E$112,0),MATCH($C14,'General Calc'!$G$26:$Z$26,0),MAX(Criteria!$M:$M),1)*OFFSET(Scoring!$E$4,1,MATCH(P$4,Scoring!$F$4:$Z$4,0),MAX(Criteria!$M:$M),)))","v":""},{"$f":"IF($C14=\"\",\"\",SUM(OFFSET('General Calc'!$F$26,MATCH($D14,'General Calc'!$E$26:$E$112,0),MATCH($C14,'General Calc'!$G$26:$Z$26,0),MAX(Criteria!$M:$M),1)*OFFSET(Scoring!$E$4,1,MATCH(Q$4,Scoring!$F$4:$Z$4,0),MAX(Criteria!$M:$M),)))","v":""},{"$f":"IF($C14=\"\",\"\",SUM(OFFSET('General Calc'!$F$26,MATCH($D14,'General Calc'!$E$26:$E$112,0),MATCH($C14,'General Calc'!$G$26:$Z$26,0),MAX(Criteria!$M:$M),1)*OFFSET(Scoring!$E$4,1,MATCH(R$4,Scoring!$F$4:$Z$4,0),MAX(Criteria!$M:$M),)))","v":""},{"$f":"IF($C14=\"\",\"\",SUM(OFFSET('General Calc'!$F$26,MATCH($D14,'General Calc'!$E$26:$E$112,0),MATCH($C14,'General Calc'!$G$26:$Z$26,0),MAX(Criteria!$M:$M),1)*OFFSET(Scoring!$E$4,1,MATCH(S$4,Scoring!$F$4:$Z$4,0),MAX(Criteria!$M:$M),)))","v":""},{"$f":"IF($C14=\"\",\"\",SUM(OFFSET('General Calc'!$F$26,MATCH($D14,'General Calc'!$E$26:$E$112,0),MATCH($C14,'General Calc'!$G$26:$Z$26,0),MAX(Criteria!$M:$M),1)*OFFSET(Scoring!$E$4,1,MATCH(T$4,Scoring!$F$4:$Z$4,0),MAX(Criteria!$M:$M),)))","v":""},{"$f":"IF($C14=\"\",\"\",SUM(OFFSET('General Calc'!$F$26,MATCH($D14,'General Calc'!$E$26:$E$112,0),MATCH($C14,'General Calc'!$G$26:$Z$26,0),MAX(Criteria!$M:$M),1)*OFFSET(Scoring!$E$4,1,MATCH(U$4,Scoring!$F$4:$Z$4,0),MAX(Criteria!$M:$M),)))","v":""},{"$f":"IF($C14=\"\",\"\",SUM(OFFSET('General Calc'!$F$26,MATCH($D14,'General Calc'!$E$26:$E$112,0),MATCH($C14,'General Calc'!$G$26:$Z$26,0),MAX(Criteria!$M:$M),1)*OFFSET(Scoring!$E$4,1,MATCH(V$4,Scoring!$F$4:$Z$4,0),MAX(Criteria!$M:$M),)))","v":""},{"$f":"IF($C14=\"\",\"\",SUM(OFFSET('General Calc'!$F$26,MATCH($D14,'General Calc'!$E$26:$E$112,0),MATCH($C14,'General Calc'!$G$26:$Z$26,0),MAX(Criteria!$M:$M),1)*OFFSET(Scoring!$E$4,1,MATCH(W$4,Scoring!$F$4:$Z$4,0),MAX(Criteria!$M:$M),)))","v":""},{"$f":"IF($C14=\"\",\"\",SUM(OFFSET('General Calc'!$F$26,MATCH($D14,'General Calc'!$E$26:$E$112,0),MATCH($C14,'General Calc'!$G$26:$Z$26,0),MAX(Criteria!$M:$M),1)*OFFSET(Scoring!$E$4,1,MATCH(X$4,Scoring!$F$4:$Z$4,0),MAX(Criteria!$M:$M),)))","v":""},{"$f":"IF($C14=\"\",\"\",SUM(OFFSET('General Calc'!$F$26,MATCH($D14,'General Calc'!$E$26:$E$112,0),MATCH($C14,'General Calc'!$G$26:$Z$26,0),MAX(Criteria!$M:$M),1)*OFFSET(Scoring!$E$4,1,MATCH(Y$4,Scoring!$F$4:$Z$4,0),MAX(Criteria!$M:$M),)))","v":""},"",{"$f":"IF($C14=\"\",\"\",INDEX($E$4:$M$4,MATCH(MAX($E14:$M14),$E14:$M14,0)))","v":""}]
[null,11,{"$f":"IF(INDEX('Selected Criteria'!$E$6:$E$25,$B15)=0,\"\",INDEX('Selected Criteria'!$E$6:$E$25,$B15))","v":""},"",{"$f":"IF($C15=\"\",\"\",SUM(OFFSET('General Calc'!$F$26,MATCH($D15,'General Calc'!$E$26:$E$112,0),MATCH($C15,'General Calc'!$G$26:$Z$26,0),MAX(Criteria!$M:$M),1)*OFFSET(Scoring!$E$4,1,MATCH(E$4,Scoring!$F$4:$N$4,0),MAX(Criteria!$M:$M),)))","v":""},{"$f":"IF($C15=\"\",\"\",SUM(OFFSET('General Calc'!$F$26,MATCH($D15,'General Calc'!$E$26:$E$112,0),MATCH($C15,'General Calc'!$G$26:$Z$26,0),MAX(Criteria!$M:$M),1)*OFFSET(Scoring!$E$4,1,MATCH(F$4,Scoring!$F$4:$Z$4,0),MAX(Criteria!$M:$M),)))","v":""},{"$f":"IF($C15=\"\",\"\",SUM(OFFSET('General Calc'!$F$26,MATCH($D15,'General Calc'!$E$26:$E$112,0),MATCH($C15,'General Calc'!$G$26:$Z$26,0),MAX(Criteria!$M:$M),1)*OFFSET(Scoring!$E$4,1,MATCH(G$4,Scoring!$F$4:$N$4,0),MAX(Criteria!$M:$M),)))","v":""},{"$f":"IF($C15=\"\",\"\",SUM(OFFSET('General Calc'!$F$26,MATCH($D15,'General Calc'!$E$26:$E$112,0),MATCH($C15,'General Calc'!$G$26:$Z$26,0),MAX(Criteria!$M:$M),1)*OFFSET(Scoring!$E$4,1,MATCH(H$4,Scoring!$F$4:$N$4,0),MAX(Criteria!$M:$M),)))","v":""},{"$f":"IF($C15=\"\",\"\",SUM(OFFSET('General Calc'!$F$26,MATCH($D15,'General Calc'!$E$26:$E$112,0),MATCH($C15,'General Calc'!$G$26:$Z$26,0),MAX(Criteria!$M:$M),1)*OFFSET(Scoring!$E$4,1,MATCH(I$4,Scoring!$F$4:$N$4,0),MAX(Criteria!$M:$M),)))","v":""},{"$f":"IF($C15=\"\",\"\",SUM(OFFSET('General Calc'!$F$26,MATCH($D15,'General Calc'!$E$26:$E$112,0),MATCH($C15,'General Calc'!$G$26:$Z$26,0),MAX(Criteria!$M:$M),1)*OFFSET(Scoring!$E$4,1,MATCH(J$4,Scoring!$F$4:$N$4,0),MAX(Criteria!$M:$M),)))","v":""},{"$f":"IF($C15=\"\",\"\",SUM(OFFSET('General Calc'!$F$26,MATCH($D15,'General Calc'!$E$26:$E$112,0),MATCH($C15,'General Calc'!$G$26:$Z$26,0),MAX(Criteria!$M:$M),1)*OFFSET(Scoring!$E$4,1,MATCH(K$4,Scoring!$F$4:$N$4,0),MAX(Criteria!$M:$M),)))","v":""},{"$f":"IF($C15=\"\",\"\",SUM(OFFSET('General Calc'!$F$26,MATCH($D15,'General Calc'!$E$26:$E$112,0),MATCH($C15,'General Calc'!$G$26:$Z$26,0),MAX(Criteria!$M:$M),1)*OFFSET(Scoring!$E$4,1,MATCH(L$4,Scoring!$F$4:$N$4,0),MAX(Criteria!$M:$M),)))","v":""},{"$f":"IF($C15=\"\",\"\",SUM(OFFSET('General Calc'!$F$26,MATCH($D15,'General Calc'!$E$26:$E$112,0),MATCH($C15,'General Calc'!$G$26:$Z$26,0),MAX(Criteria!$M:$M),1)*OFFSET(Scoring!$E$4,1,MATCH(M$4,Scoring!$F$4:$N$4,0),MAX(Criteria!$M:$M),)))","v":""},{"$f":"IF($C15=\"\",\"\",SUM(OFFSET('General Calc'!$F$26,MATCH($D15,'General Calc'!$E$26:$E$112,0),MATCH($C15,'General Calc'!$G$26:$Z$26,0),MAX(Criteria!$M:$M),1)*OFFSET(Scoring!$E$4,1,MATCH(N$4,Scoring!$F$4:$Z$4,0),MAX(Criteria!$M:$M),)))","v":""},{"$f":"IF($C15=\"\",\"\",SUM(OFFSET('General Calc'!$F$26,MATCH($D15,'General Calc'!$E$26:$E$112,0),MATCH($C15,'General Calc'!$G$26:$Z$26,0),MAX(Criteria!$M:$M),1)*OFFSET(Scoring!$E$4,1,MATCH(O$4,Scoring!$F$4:$Z$4,0),MAX(Criteria!$M:$M),)))","v":""},{"$f":"IF($C15=\"\",\"\",SUM(OFFSET('General Calc'!$F$26,MATCH($D15,'General Calc'!$E$26:$E$112,0),MATCH($C15,'General Calc'!$G$26:$Z$26,0),MAX(Criteria!$M:$M),1)*OFFSET(Scoring!$E$4,1,MATCH(P$4,Scoring!$F$4:$Z$4,0),MAX(Criteria!$M:$M),)))","v":""},{"$f":"IF($C15=\"\",\"\",SUM(OFFSET('General Calc'!$F$26,MATCH($D15,'General Calc'!$E$26:$E$112,0),MATCH($C15,'General Calc'!$G$26:$Z$26,0),MAX(Criteria!$M:$M),1)*OFFSET(Scoring!$E$4,1,MATCH(Q$4,Scoring!$F$4:$Z$4,0),MAX(Criteria!$M:$M),)))","v":""},{"$f":"IF($C15=\"\",\"\",SUM(OFFSET('General Calc'!$F$26,MATCH($D15,'General Calc'!$E$26:$E$112,0),MATCH($C15,'General Calc'!$G$26:$Z$26,0),MAX(Criteria!$M:$M),1)*OFFSET(Scoring!$E$4,1,MATCH(R$4,Scoring!$F$4:$Z$4,0),MAX(Criteria!$M:$M),)))","v":""},{"$f":"IF($C15=\"\",\"\",SUM(OFFSET('General Calc'!$F$26,MATCH($D15,'General Calc'!$E$26:$E$112,0),MATCH($C15,'General Calc'!$G$26:$Z$26,0),MAX(Criteria!$M:$M),1)*OFFSET(Scoring!$E$4,1,MATCH(S$4,Scoring!$F$4:$Z$4,0),MAX(Criteria!$M:$M),)))","v":""},{"$f":"IF($C15=\"\",\"\",SUM(OFFSET('General Calc'!$F$26,MATCH($D15,'General Calc'!$E$26:$E$112,0),MATCH($C15,'General Calc'!$G$26:$Z$26,0),MAX(Criteria!$M:$M),1)*OFFSET(Scoring!$E$4,1,MATCH(T$4,Scoring!$F$4:$Z$4,0),MAX(Criteria!$M:$M),)))","v":""},{"$f":"IF($C15=\"\",\"\",SUM(OFFSET('General Calc'!$F$26,MATCH($D15,'General Calc'!$E$26:$E$112,0),MATCH($C15,'General Calc'!$G$26:$Z$26,0),MAX(Criteria!$M:$M),1)*OFFSET(Scoring!$E$4,1,MATCH(U$4,Scoring!$F$4:$Z$4,0),MAX(Criteria!$M:$M),)))","v":""},{"$f":"IF($C15=\"\",\"\",SUM(OFFSET('General Calc'!$F$26,MATCH($D15,'General Calc'!$E$26:$E$112,0),MATCH($C15,'General Calc'!$G$26:$Z$26,0),MAX(Criteria!$M:$M),1)*OFFSET(Scoring!$E$4,1,MATCH(V$4,Scoring!$F$4:$Z$4,0),MAX(Criteria!$M:$M),)))","v":""},{"$f":"IF($C15=\"\",\"\",SUM(OFFSET('General Calc'!$F$26,MATCH($D15,'General Calc'!$E$26:$E$112,0),MATCH($C15,'General Calc'!$G$26:$Z$26,0),MAX(Criteria!$M:$M),1)*OFFSET(Scoring!$E$4,1,MATCH(W$4,Scoring!$F$4:$Z$4,0),MAX(Criteria!$M:$M),)))","v":""},{"$f":"IF($C15=\"\",\"\",SUM(OFFSET('General Calc'!$F$26,MATCH($D15,'General Calc'!$E$26:$E$112,0),MATCH($C15,'General Calc'!$G$26:$Z$26,0),MAX(Criteria!$M:$M),1)*OFFSET(Scoring!$E$4,1,MATCH(X$4,Scoring!$F$4:$Z$4,0),MAX(Criteria!$M:$M),)))","v":""},{"$f":"IF($C15=\"\",\"\",SUM(OFFSET('General Calc'!$F$26,MATCH($D15,'General Calc'!$E$26:$E$112,0),MATCH($C15,'General Calc'!$G$26:$Z$26,0),MAX(Criteria!$M:$M),1)*OFFSET(Scoring!$E$4,1,MATCH(Y$4,Scoring!$F$4:$Z$4,0),MAX(Criteria!$M:$M),)))","v":""},"",""]
[null,12,{"$f":"IF(INDEX('Selected Criteria'!$E$6:$E$25,$B16)=0,\"\",INDEX('Selected Criteria'!$E$6:$E$25,$B16))","v":""},"",{"$f":"IF($C16=\"\",\"\",SUM(OFFSET('General Calc'!$F$26,MATCH($D16,'General Calc'!$E$26:$E$112,0),MATCH($C16,'General Calc'!$G$26:$Z$26,0),MAX(Criteria!$M:$M),1)*OFFSET(Scoring!$E$4,1,MATCH(E$4,Scoring!$F$4:$N$4,0),MAX(Criteria!$M:$M),)))","v":""},{"$f":"IF($C16=\"\",\"\",SUM(OFFSET('General Calc'!$F$26,MATCH($D16,'General Calc'!$E$26:$E$112,0),MATCH($C16,'General Calc'!$G$26:$Z$26,0),MAX(Criteria!$M:$M),1)*OFFSET(Scoring!$E$4,1,MATCH(F$4,Scoring!$F$4:$Z$4,0),MAX(Criteria!$M:$M),)))","v":""},{"$f":"IF($C16=\"\",\"\",SUM(OFFSET('General Calc'!$F$26,MATCH($D16,'General Calc'!$E$26:$E$112,0),MATCH($C16,'General Calc'!$G$26:$Z$26,0),MAX(Criteria!$M:$M),1)*OFFSET(Scoring!$E$4,1,MATCH(G$4,Scoring!$F$4:$N$4,0),MAX(Criteria!$M:$M),)))","v":""},{"$f":"IF($C16=\"\",\"\",SUM(OFFSET('General Calc'!$F$26,MATCH($D16,'General Calc'!$E$26:$E$112,0),MATCH($C16,'General Calc'!$G$26:$Z$26,0),MAX(Criteria!$M:$M),1)*OFFSET(Scoring!$E$4,1,MATCH(H$4,Scoring!$F$4:$N$4,0),MAX(Criteria!$M:$M),)))","v":""},{"$f":"IF($C16=\"\",\"\",SUM(OFFSET('General Calc'!$F$26,MATCH($D16,'General Calc'!$E$26:$E$112,0),MATCH($C16,'General Calc'!$G$26:$Z$26,0),MAX(Criteria!$M:$M),1)*OFFSET(Scoring!$E$4,1,MATCH(I$4,Scoring!$F$4:$N$4,0),MAX(Criteria!$M:$M),)))","v":""},{"$f":"IF($C16=\"\",\"\",SUM(OFFSET('General Calc'!$F$26,MATCH($D16,'General Calc'!$E$26:$E$112,0),MATCH($C16,'General Calc'!$G$26:$Z$26,0),MAX(Criteria!$M:$M),1)*OFFSET(Scoring!$E$4,1,MATCH(J$4,Scoring!$F$4:$N$4,0),MAX(Criteria!$M:$M),)))","v":""},{"$f":"IF($C16=\"\",\"\",SUM(OFFSET('General Calc'!$F$26,MATCH($D16,'General Calc'!$E$26:$E$112,0),MATCH($C16,'General Calc'!$G$26:$Z$26,0),MAX(Criteria!$M:$M),1)*OFFSET(Scoring!$E$4,1,MATCH(K$4,Scoring!$F$4:$N$4,0),MAX(Criteria!$M:$M),)))","v":""},{"$f":"IF($C16=\"\",\"\",SUM(OFFSET('General Calc'!$F$26,MATCH($D16,'General Calc'!$E$26:$E$112,0),MATCH($C16,'General Calc'!$G$26:$Z$26,0),MAX(Criteria!$M:$M),1)*OFFSET(Scoring!$E$4,1,MATCH(L$4,Scoring!$F$4:$N$4,0),MAX(Criteria!$M:$M),)))","v":""},{"$f":"IF($C16=\"\",\"\",SUM(OFFSET('General Calc'!$F$26,MATCH($D16,'General Calc'!$E$26:$E$112,0),MATCH($C16,'General Calc'!$G$26:$Z$26,0),MAX(Criteria!$M:$M),1)*OFFSET(Scoring!$E$4,1,MATCH(M$4,Scoring!$F$4:$N$4,0),MAX(Criteria!$M:$M),)))","v":""},{"$f":"IF($C16=\"\",\"\",SUM(OFFSET('General Calc'!$F$26,MATCH($D16,'General Calc'!$E$26:$E$112,0),MATCH($C16,'General Calc'!$G$26:$Z$26,0),MAX(Criteria!$M:$M),1)*OFFSET(Scoring!$E$4,1,MATCH(N$4,Scoring!$F$4:$Z$4,0),MAX(Criteria!$M:$M),)))","v":""},{"$f":"IF($C16=\"\",\"\",SUM(OFFSET('General Calc'!$F$26,MATCH($D16,'General Calc'!$E$26:$E$112,0),MATCH($C16,'General Calc'!$G$26:$Z$26,0),MAX(Criteria!$M:$M),1)*OFFSET(Scoring!$E$4,1,MATCH(O$4,Scoring!$F$4:$Z$4,0),MAX(Criteria!$M:$M),)))","v":""},{"$f":"IF($C16=\"\",\"\",SUM(OFFSET('General Calc'!$F$26,MATCH($D16,'General Calc'!$E$26:$E$112,0),MATCH($C16,'General Calc'!$G$26:$Z$26,0),MAX(Criteria!$M:$M),1)*OFFSET(Scoring!$E$4,1,MATCH(P$4,Scoring!$F$4:$Z$4,0),MAX(Criteria!$M:$M),)))","v":""},{"$f":"IF($C16=\"\",\"\",SUM(OFFSET('General Calc'!$F$26,MATCH($D16,'General Calc'!$E$26:$E$112,0),MATCH($C16,'General Calc'!$G$26:$Z$26,0),MAX(Criteria!$M:$M),1)*OFFSET(Scoring!$E$4,1,MATCH(Q$4,Scoring!$F$4:$Z$4,0),MAX(Criteria!$M:$M),)))","v":""},{"$f":"IF($C16=\"\",\"\",SUM(OFFSET('General Calc'!$F$26,MATCH($D16,'General Calc'!$E$26:$E$112,0),MATCH($C16,'General Calc'!$G$26:$Z$26,0),MAX(Criteria!$M:$M),1)*OFFSET(Scoring!$E$4,1,MATCH(R$4,Scoring!$F$4:$Z$4,0),MAX(Criteria!$M:$M),)))","v":""},{"$f":"IF($C16=\"\",\"\",SUM(OFFSET('General Calc'!$F$26,MATCH($D16,'General Calc'!$E$26:$E$112,0),MATCH($C16,'General Calc'!$G$26:$Z$26,0),MAX(Criteria!$M:$M),1)*OFFSET(Scoring!$E$4,1,MATCH(S$4,Scoring!$F$4:$Z$4,0),MAX(Criteria!$M:$M),)))","v":""},{"$f":"IF($C16=\"\",\"\",SUM(OFFSET('General Calc'!$F$26,MATCH($D16,'General Calc'!$E$26:$E$112,0),MATCH($C16,'General Calc'!$G$26:$Z$26,0),MAX(Criteria!$M:$M),1)*OFFSET(Scoring!$E$4,1,MATCH(T$4,Scoring!$F$4:$Z$4,0),MAX(Criteria!$M:$M),)))","v":""},{"$f":"IF($C16=\"\",\"\",SUM(OFFSET('General Calc'!$F$26,MATCH($D16,'General Calc'!$E$26:$E$112,0),MATCH($C16,'General Calc'!$G$26:$Z$26,0),MAX(Criteria!$M:$M),1)*OFFSET(Scoring!$E$4,1,MATCH(U$4,Scoring!$F$4:$Z$4,0),MAX(Criteria!$M:$M),)))","v":""},{"$f":"IF($C16=\"\",\"\",SUM(OFFSET('General Calc'!$F$26,MATCH($D16,'General Calc'!$E$26:$E$112,0),MATCH($C16,'General Calc'!$G$26:$Z$26,0),MAX(Criteria!$M:$M),1)*OFFSET(Scoring!$E$4,1,MATCH(V$4,Scoring!$F$4:$Z$4,0),MAX(Criteria!$M:$M),)))","v":""},{"$f":"IF($C16=\"\",\"\",SUM(OFFSET('General Calc'!$F$26,MATCH($D16,'General Calc'!$E$26:$E$112,0),MATCH($C16,'General Calc'!$G$26:$Z$26,0),MAX(Criteria!$M:$M),1)*OFFSET(Scoring!$E$4,1,MATCH(W$4,Scoring!$F$4:$Z$4,0),MAX(Criteria!$M:$M),)))","v":""},{"$f":"IF($C16=\"\",\"\",SUM(OFFSET('General Calc'!$F$26,MATCH($D16,'General Calc'!$E$26:$E$112,0),MATCH($C16,'General Calc'!$G$26:$Z$26,0),MAX(Criteria!$M:$M),1)*OFFSET(Scoring!$E$4,1,MATCH(X$4,Scoring!$F$4:$Z$4,0),MAX(Criteria!$M:$M),)))","v":""},{"$f":"IF($C16=\"\",\"\",SUM(OFFSET('General Calc'!$F$26,MATCH($D16,'General Calc'!$E$26:$E$112,0),MATCH($C16,'General Calc'!$G$26:$Z$26,0),MAX(Criteria!$M:$M),1)*OFFSET(Scoring!$E$4,1,MATCH(Y$4,Scoring!$F$4:$Z$4,0),MAX(Criteria!$M:$M),)))","v":""},"",""]
[null,13,{"$f":"IF(INDEX('Selected Criteria'!$E$6:$E$25,$B17)=0,\"\",INDEX('Selected Criteria'!$E$6:$E$25,$B17))","v":""},"",{"$f":"IF($C17=\"\",\"\",SUM(OFFSET('General Calc'!$F$26,MATCH($D17,'General Calc'!$E$26:$E$112,0),MATCH($C17,'General Calc'!$G$26:$Z$26,0),MAX(Criteria!$M:$M),1)*OFFSET(Scoring!$E$4,1,MATCH(E$4,Scoring!$F$4:$N$4,0),MAX(Criteria!$M:$M),)))","v":""},{"$f":"IF($C17=\"\",\"\",SUM(OFFSET('General Calc'!$F$26,MATCH($D17,'General Calc'!$E$26:$E$112,0),MATCH($C17,'General Calc'!$G$26:$Z$26,0),MAX(Criteria!$M:$M),1)*OFFSET(Scoring!$E$4,1,MATCH(F$4,Scoring!$F$4:$Z$4,0),MAX(Criteria!$M:$M),)))","v":""},{"$f":"IF($C17=\"\",\"\",SUM(OFFSET('General Calc'!$F$26,MATCH($D17,'General Calc'!$E$26:$E$112,0),MATCH($C17,'General Calc'!$G$26:$Z$26,0),MAX(Criteria!$M:$M),1)*OFFSET(Scoring!$E$4,1,MATCH(G$4,Scoring!$F$4:$N$4,0),MAX(Criteria!$M:$M),)))","v":""},{"$f":"IF($C17=\"\",\"\",SUM(OFFSET('General Calc'!$F$26,MATCH($D17,'General Calc'!$E$26:$E$112,0),MATCH($C17,'General Calc'!$G$26:$Z$26,0),MAX(Criteria!$M:$M),1)*OFFSET(Scoring!$E$4,1,MATCH(H$4,Scoring!$F$4:$N$4,0),MAX(Criteria!$M:$M),)))","v":""},{"$f":"IF($C17=\"\",\"\",SUM(OFFSET('General Calc'!$F$26,MATCH($D17,'General Calc'!$E$26:$E$112,0),MATCH($C17,'General Calc'!$G$26:$Z$26,0),MAX(Criteria!$M:$M),1)*OFFSET(Scoring!$E$4,1,MATCH(I$4,Scoring!$F$4:$N$4,0),MAX(Criteria!$M:$M),)))","v":""},{"$f":"IF($C17=\"\",\"\",SUM(OFFSET('General Calc'!$F$26,MATCH($D17,'General Calc'!$E$26:$E$112,0),MATCH($C17,'General Calc'!$G$26:$Z$26,0),MAX(Criteria!$M:$M),1)*OFFSET(Scoring!$E$4,1,MATCH(J$4,Scoring!$F$4:$N$4,0),MAX(Criteria!$M:$M),)))","v":""},{"$f":"IF($C17=\"\",\"\",SUM(OFFSET('General Calc'!$F$26,MATCH($D17,'General Calc'!$E$26:$E$112,0),MATCH($C17,'General Calc'!$G$26:$Z$26,0),MAX(Criteria!$M:$M),1)*OFFSET(Scoring!$E$4,1,MATCH(K$4,Scoring!$F$4:$N$4,0),MAX(Criteria!$M:$M),)))","v":""},{"$f":"IF($C17=\"\",\"\",SUM(OFFSET('General Calc'!$F$26,MATCH($D17,'General Calc'!$E$26:$E$112,0),MATCH($C17,'General Calc'!$G$26:$Z$26,0),MAX(Criteria!$M:$M),1)*OFFSET(Scoring!$E$4,1,MATCH(L$4,Scoring!$F$4:$N$4,0),MAX(Criteria!$M:$M),)))","v":""},{"$f":"IF($C17=\"\",\"\",SUM(OFFSET('General Calc'!$F$26,MATCH($D17,'General Calc'!$E$26:$E$112,0),MATCH($C17,'General Calc'!$G$26:$Z$26,0),MAX(Criteria!$M:$M),1)*OFFSET(Scoring!$E$4,1,MATCH(M$4,Scoring!$F$4:$N$4,0),MAX(Criteria!$M:$M),)))","v":""},{"$f":"IF($C17=\"\",\"\",SUM(OFFSET('General Calc'!$F$26,MATCH($D17,'General Calc'!$E$26:$E$112,0),MATCH($C17,'General Calc'!$G$26:$Z$26,0),MAX(Criteria!$M:$M),1)*OFFSET(Scoring!$E$4,1,MATCH(N$4,Scoring!$F$4:$Z$4,0),MAX(Criteria!$M:$M),)))","v":""},{"$f":"IF($C17=\"\",\"\",SUM(OFFSET('General Calc'!$F$26,MATCH($D17,'General Calc'!$E$26:$E$112,0),MATCH($C17,'General Calc'!$G$26:$Z$26,0),MAX(Criteria!$M:$M),1)*OFFSET(Scoring!$E$4,1,MATCH(O$4,Scoring!$F$4:$Z$4,0),MAX(Criteria!$M:$M),)))","v":""},{"$f":"IF($C17=\"\",\"\",SUM(OFFSET('General Calc'!$F$26,MATCH($D17,'General Calc'!$E$26:$E$112,0),MATCH($C17,'General Calc'!$G$26:$Z$26,0),MAX(Criteria!$M:$M),1)*OFFSET(Scoring!$E$4,1,MATCH(P$4,Scoring!$F$4:$Z$4,0),MAX(Criteria!$M:$M),)))","v":""},{"$f":"IF($C17=\"\",\"\",SUM(OFFSET('General Calc'!$F$26,MATCH($D17,'General Calc'!$E$26:$E$112,0),MATCH($C17,'General Calc'!$G$26:$Z$26,0),MAX(Criteria!$M:$M),1)*OFFSET(Scoring!$E$4,1,MATCH(Q$4,Scoring!$F$4:$Z$4,0),MAX(Criteria!$M:$M),)))","v":""},{"$f":"IF($C17=\"\",\"\",SUM(OFFSET('General Calc'!$F$26,MATCH($D17,'General Calc'!$E$26:$E$112,0),MATCH($C17,'General Calc'!$G$26:$Z$26,0),MAX(Criteria!$M:$M),1)*OFFSET(Scoring!$E$4,1,MATCH(R$4,Scoring!$F$4:$Z$4,0),MAX(Criteria!$M:$M),)))","v":""},{"$f":"IF($C17=\"\",\"\",SUM(OFFSET('General Calc'!$F$26,MATCH($D17,'General Calc'!$E$26:$E$112,0),MATCH($C17,'General Calc'!$G$26:$Z$26,0),MAX(Criteria!$M:$M),1)*OFFSET(Scoring!$E$4,1,MATCH(S$4,Scoring!$F$4:$Z$4,0),MAX(Criteria!$M:$M),)))","v":""},{"$f":"IF($C17=\"\",\"\",SUM(OFFSET('General Calc'!$F$26,MATCH($D17,'General Calc'!$E$26:$E$112,0),MATCH($C17,'General Calc'!$G$26:$Z$26,0),MAX(Criteria!$M:$M),1)*OFFSET(Scoring!$E$4,1,MATCH(T$4,Scoring!$F$4:$Z$4,0),MAX(Criteria!$M:$M),)))","v":""},{"$f":"IF($C17=\"\",\"\",SUM(OFFSET('General Calc'!$F$26,MATCH($D17,'General Calc'!$E$26:$E$112,0),MATCH($C17,'General Calc'!$G$26:$Z$26,0),MAX(Criteria!$M:$M),1)*OFFSET(Scoring!$E$4,1,MATCH(U$4,Scoring!$F$4:$Z$4,0),MAX(Criteria!$M:$M),)))","v":""},{"$f":"IF($C17=\"\",\"\",SUM(OFFSET('General Calc'!$F$26,MATCH($D17,'General Calc'!$E$26:$E$112,0),MATCH($C17,'General Calc'!$G$26:$Z$26,0),MAX(Criteria!$M:$M),1)*OFFSET(Scoring!$E$4,1,MATCH(V$4,Scoring!$F$4:$Z$4,0),MAX(Criteria!$M:$M),)))","v":""},{"$f":"IF($C17=\"\",\"\",SUM(OFFSET('General Calc'!$F$26,MATCH($D17,'General Calc'!$E$26:$E$112,0),MATCH($C17,'General Calc'!$G$26:$Z$26,0),MAX(Criteria!$M:$M),1)*OFFSET(Scoring!$E$4,1,MATCH(W$4,Scoring!$F$4:$Z$4,0),MAX(Criteria!$M:$M),)))","v":""},{"$f":"IF($C17=\"\",\"\",SUM(OFFSET('General Calc'!$F$26,MATCH($D17,'General Calc'!$E$26:$E$112,0),MATCH($C17,'General Calc'!$G$26:$Z$26,0),MAX(Criteria!$M:$M),1)*OFFSET(Scoring!$E$4,1,MATCH(X$4,Scoring!$F$4:$Z$4,0),MAX(Criteria!$M:$M),)))","v":""},{"$f":"IF($C17=\"\",\"\",SUM(OFFSET('General Calc'!$F$26,MATCH($D17,'General Calc'!$E$26:$E$112,0),MATCH($C17,'General Calc'!$G$26:$Z$26,0),MAX(Criteria!$M:$M),1)*OFFSET(Scoring!$E$4,1,MATCH(Y$4,Scoring!$F$4:$Z$4,0),MAX(Criteria!$M:$M),)))","v":""},"",""]
[null,14,{"$f":"IF(INDEX('Selected Criteria'!$E$6:$E$25,$B18)=0,\"\",INDEX('Selected Criteria'!$E$6:$E$25,$B18))","v":""},"",{"$f":"IF($C18=\"\",\"\",SUM(OFFSET('General Calc'!$F$26,MATCH($D18,'General Calc'!$E$26:$E$112,0),MATCH($C18,'General Calc'!$G$26:$Z$26,0),MAX(Criteria!$M:$M),1)*OFFSET(Scoring!$E$4,1,MATCH(E$4,Scoring!$F$4:$N$4,0),MAX(Criteria!$M:$M),)))","v":""},{"$f":"IF($C18=\"\",\"\",SUM(OFFSET('General Calc'!$F$26,MATCH($D18,'General Calc'!$E$26:$E$112,0),MATCH($C18,'General Calc'!$G$26:$Z$26,0),MAX(Criteria!$M:$M),1)*OFFSET(Scoring!$E$4,1,MATCH(F$4,Scoring!$F$4:$Z$4,0),MAX(Criteria!$M:$M),)))","v":""},{"$f":"IF($C18=\"\",\"\",SUM(OFFSET('General Calc'!$F$26,MATCH($D18,'General Calc'!$E$26:$E$112,0),MATCH($C18,'General Calc'!$G$26:$Z$26,0),MAX(Criteria!$M:$M),1)*OFFSET(Scoring!$E$4,1,MATCH(G$4,Scoring!$F$4:$N$4,0),MAX(Criteria!$M:$M),)))","v":""},{"$f":"IF($C18=\"\",\"\",SUM(OFFSET('General Calc'!$F$26,MATCH($D18,'General Calc'!$E$26:$E$112,0),MATCH($C18,'General Calc'!$G$26:$Z$26,0),MAX(Criteria!$M:$M),1)*OFFSET(Scoring!$E$4,1,MATCH(H$4,Scoring!$F$4:$N$4,0),MAX(Criteria!$M:$M),)))","v":""},{"$f":"IF($C18=\"\",\"\",SUM(OFFSET('General Calc'!$F$26,MATCH($D18,'General Calc'!$E$26:$E$112,0),MATCH($C18,'General Calc'!$G$26:$Z$26,0),MAX(Criteria!$M:$M),1)*OFFSET(Scoring!$E$4,1,MATCH(I$4,Scoring!$F$4:$N$4,0),MAX(Criteria!$M:$M),)))","v":""},{"$f":"IF($C18=\"\",\"\",SUM(OFFSET('General Calc'!$F$26,MATCH($D18,'General Calc'!$E$26:$E$112,0),MATCH($C18,'General Calc'!$G$26:$Z$26,0),MAX(Criteria!$M:$M),1)*OFFSET(Scoring!$E$4,1,MATCH(J$4,Scoring!$F$4:$N$4,0),MAX(Criteria!$M:$M),)))","v":""},{"$f":"IF($C18=\"\",\"\",SUM(OFFSET('General Calc'!$F$26,MATCH($D18,'General Calc'!$E$26:$E$112,0),MATCH($C18,'General Calc'!$G$26:$Z$26,0),MAX(Criteria!$M:$M),1)*OFFSET(Scoring!$E$4,1,MATCH(K$4,Scoring!$F$4:$N$4,0),MAX(Criteria!$M:$M),)))","v":""},{"$f":"IF($C18=\"\",\"\",SUM(OFFSET('General Calc'!$F$26,MATCH($D18,'General Calc'!$E$26:$E$112,0),MATCH($C18,'General Calc'!$G$26:$Z$26,0),MAX(Criteria!$M:$M),1)*OFFSET(Scoring!$E$4,1,MATCH(L$4,Scoring!$F$4:$N$4,0),MAX(Criteria!$M:$M),)))","v":""},{"$f":"IF($C18=\"\",\"\",SUM(OFFSET('General Calc'!$F$26,MATCH($D18,'General Calc'!$E$26:$E$112,0),MATCH($C18,'General Calc'!$G$26:$Z$26,0),MAX(Criteria!$M:$M),1)*OFFSET(Scoring!$E$4,1,MATCH(M$4,Scoring!$F$4:$N$4,0),MAX(Criteria!$M:$M),)))","v":""},{"$f":"IF($C18=\"\",\"\",SUM(OFFSET('General Calc'!$F$26,MATCH($D18,'General Calc'!$E$26:$E$112,0),MATCH($C18,'General Calc'!$G$26:$Z$26,0),MAX(Criteria!$M:$M),1)*OFFSET(Scoring!$E$4,1,MATCH(N$4,Scoring!$F$4:$Z$4,0),MAX(Criteria!$M:$M),)))","v":""},{"$f":"IF($C18=\"\",\"\",SUM(OFFSET('General Calc'!$F$26,MATCH($D18,'General Calc'!$E$26:$E$112,0),MATCH($C18,'General Calc'!$G$26:$Z$26,0),MAX(Criteria!$M:$M),1)*OFFSET(Scoring!$E$4,1,MATCH(O$4,Scoring!$F$4:$Z$4,0),MAX(Criteria!$M:$M),)))","v":""},{"$f":"IF($C18=\"\",\"\",SUM(OFFSET('General Calc'!$F$26,MATCH($D18,'General Calc'!$E$26:$E$112,0),MATCH($C18,'General Calc'!$G$26:$Z$26,0),MAX(Criteria!$M:$M),1)*OFFSET(Scoring!$E$4,1,MATCH(P$4,Scoring!$F$4:$Z$4,0),MAX(Criteria!$M:$M),)))","v":""},{"$f":"IF($C18=\"\",\"\",SUM(OFFSET('General Calc'!$F$26,MATCH($D18,'General Calc'!$E$26:$E$112,0),MATCH($C18,'General Calc'!$G$26:$Z$26,0),MAX(Criteria!$M:$M),1)*OFFSET(Scoring!$E$4,1,MATCH(Q$4,Scoring!$F$4:$Z$4,0),MAX(Criteria!$M:$M),)))","v":""},{"$f":"IF($C18=\"\",\"\",SUM(OFFSET('General Calc'!$F$26,MATCH($D18,'General Calc'!$E$26:$E$112,0),MATCH($C18,'General Calc'!$G$26:$Z$26,0),MAX(Criteria!$M:$M),1)*OFFSET(Scoring!$E$4,1,MATCH(R$4,Scoring!$F$4:$Z$4,0),MAX(Criteria!$M:$M),)))","v":""},{"$f":"IF($C18=\"\",\"\",SUM(OFFSET('General Calc'!$F$26,MATCH($D18,'General Calc'!$E$26:$E$112,0),MATCH($C18,'General Calc'!$G$26:$Z$26,0),MAX(Criteria!$M:$M),1)*OFFSET(Scoring!$E$4,1,MATCH(S$4,Scoring!$F$4:$Z$4,0),MAX(Criteria!$M:$M),)))","v":""},{"$f":"IF($C18=\"\",\"\",SUM(OFFSET('General Calc'!$F$26,MATCH($D18,'General Calc'!$E$26:$E$112,0),MATCH($C18,'General Calc'!$G$26:$Z$26,0),MAX(Criteria!$M:$M),1)*OFFSET(Scoring!$E$4,1,MATCH(T$4,Scoring!$F$4:$Z$4,0),MAX(Criteria!$M:$M),)))","v":""},{"$f":"IF($C18=\"\",\"\",SUM(OFFSET('General Calc'!$F$26,MATCH($D18,'General Calc'!$E$26:$E$112,0),MATCH($C18,'General Calc'!$G$26:$Z$26,0),MAX(Criteria!$M:$M),1)*OFFSET(Scoring!$E$4,1,MATCH(U$4,Scoring!$F$4:$Z$4,0),MAX(Criteria!$M:$M),)))","v":""},{"$f":"IF($C18=\"\",\"\",SUM(OFFSET('General Calc'!$F$26,MATCH($D18,'General Calc'!$E$26:$E$112,0),MATCH($C18,'General Calc'!$G$26:$Z$26,0),MAX(Criteria!$M:$M),1)*OFFSET(Scoring!$E$4,1,MATCH(V$4,Scoring!$F$4:$Z$4,0),MAX(Criteria!$M:$M),)))","v":""},{"$f":"IF($C18=\"\",\"\",SUM(OFFSET('General Calc'!$F$26,MATCH($D18,'General Calc'!$E$26:$E$112,0),MATCH($C18,'General Calc'!$G$26:$Z$26,0),MAX(Criteria!$M:$M),1)*OFFSET(Scoring!$E$4,1,MATCH(W$4,Scoring!$F$4:$Z$4,0),MAX(Criteria!$M:$M),)))","v":""},{"$f":"IF($C18=\"\",\"\",SUM(OFFSET('General Calc'!$F$26,MATCH($D18,'General Calc'!$E$26:$E$112,0),MATCH($C18,'General Calc'!$G$26:$Z$26,0),MAX(Criteria!$M:$M),1)*OFFSET(Scoring!$E$4,1,MATCH(X$4,Scoring!$F$4:$Z$4,0),MAX(Criteria!$M:$M),)))","v":""},{"$f":"IF($C18=\"\",\"\",SUM(OFFSET('General Calc'!$F$26,MATCH($D18,'General Calc'!$E$26:$E$112,0),MATCH($C18,'General Calc'!$G$26:$Z$26,0),MAX(Criteria!$M:$M),1)*OFFSET(Scoring!$E$4,1,MATCH(Y$4,Scoring!$F$4:$Z$4,0),MAX(Criteria!$M:$M),)))","v":""},"",""]
[null,15,{"$f":"IF(INDEX('Selected Criteria'!$E$6:$E$25,$B19)=0,\"\",INDEX('Selected Criteria'!$E$6:$E$25,$B19))","v":""},"",{"$f":"IF($C19=\"\",\"\",SUM(OFFSET('General Calc'!$F$26,MATCH($D19,'General Calc'!$E$26:$E$112,0),MATCH($C19,'General Calc'!$G$26:$Z$26,0),MAX(Criteria!$M:$M),1)*OFFSET(Scoring!$E$4,1,MATCH(E$4,Scoring!$F$4:$N$4,0),MAX(Criteria!$M:$M),)))","v":""},{"$f":"IF($C19=\"\",\"\",SUM(OFFSET('General Calc'!$F$26,MATCH($D19,'General Calc'!$E$26:$E$112,0),MATCH($C19,'General Calc'!$G$26:$Z$26,0),MAX(Criteria!$M:$M),1)*OFFSET(Scoring!$E$4,1,MATCH(F$4,Scoring!$F$4:$Z$4,0),MAX(Criteria!$M:$M),)))","v":""},{"$f":"IF($C19=\"\",\"\",SUM(OFFSET('General Calc'!$F$26,MATCH($D19,'General Calc'!$E$26:$E$112,0),MATCH($C19,'General Calc'!$G$26:$Z$26,0),MAX(Criteria!$M:$M),1)*OFFSET(Scoring!$E$4,1,MATCH(G$4,Scoring!$F$4:$N$4,0),MAX(Criteria!$M:$M),)))","v":""},{"$f":"IF($C19=\"\",\"\",SUM(OFFSET('General Calc'!$F$26,MATCH($D19,'General Calc'!$E$26:$E$112,0),MATCH($C19,'General Calc'!$G$26:$Z$26,0),MAX(Criteria!$M:$M),1)*OFFSET(Scoring!$E$4,1,MATCH(H$4,Scoring!$F$4:$N$4,0),MAX(Criteria!$M:$M),)))","v":""},{"$f":"IF($C19=\"\",\"\",SUM(OFFSET('General Calc'!$F$26,MATCH($D19,'General Calc'!$E$26:$E$112,0),MATCH($C19,'General Calc'!$G$26:$Z$26,0),MAX(Criteria!$M:$M),1)*OFFSET(Scoring!$E$4,1,MATCH(I$4,Scoring!$F$4:$N$4,0),MAX(Criteria!$M:$M),)))","v":""},{"$f":"IF($C19=\"\",\"\",SUM(OFFSET('General Calc'!$F$26,MATCH($D19,'General Calc'!$E$26:$E$112,0),MATCH($C19,'General Calc'!$G$26:$Z$26,0),MAX(Criteria!$M:$M),1)*OFFSET(Scoring!$E$4,1,MATCH(J$4,Scoring!$F$4:$N$4,0),MAX(Criteria!$M:$M),)))","v":""},{"$f":"IF($C19=\"\",\"\",SUM(OFFSET('General Calc'!$F$26,MATCH($D19,'General Calc'!$E$26:$E$112,0),MATCH($C19,'General Calc'!$G$26:$Z$26,0),MAX(Criteria!$M:$M),1)*OFFSET(Scoring!$E$4,1,MATCH(K$4,Scoring!$F$4:$N$4,0),MAX(Criteria!$M:$M),)))","v":""},{"$f":"IF($C19=\"\",\"\",SUM(OFFSET('General Calc'!$F$26,MATCH($D19,'General Calc'!$E$26:$E$112,0),MATCH($C19,'General Calc'!$G$26:$Z$26,0),MAX(Criteria!$M:$M),1)*OFFSET(Scoring!$E$4,1,MATCH(L$4,Scoring!$F$4:$N$4,0),MAX(Criteria!$M:$M),)))","v":""},{"$f":"IF($C19=\"\",\"\",SUM(OFFSET('General Calc'!$F$26,MATCH($D19,'General Calc'!$E$26:$E$112,0),MATCH($C19,'General Calc'!$G$26:$Z$26,0),MAX(Criteria!$M:$M),1)*OFFSET(Scoring!$E$4,1,MATCH(M$4,Scoring!$F$4:$N$4,0),MAX(Criteria!$M:$M),)))","v":""},{"$f":"IF($C19=\"\",\"\",SUM(OFFSET('General Calc'!$F$26,MATCH($D19,'General Calc'!$E$26:$E$112,0),MATCH($C19,'General Calc'!$G$26:$Z$26,0),MAX(Criteria!$M:$M),1)*OFFSET(Scoring!$E$4,1,MATCH(N$4,Scoring!$F$4:$Z$4,0),MAX(Criteria!$M:$M),)))","v":""},{"$f":"IF($C19=\"\",\"\",SUM(OFFSET('General Calc'!$F$26,MATCH($D19,'General Calc'!$E$26:$E$112,0),MATCH($C19,'General Calc'!$G$26:$Z$26,0),MAX(Criteria!$M:$M),1)*OFFSET(Scoring!$E$4,1,MATCH(O$4,Scoring!$F$4:$Z$4,0),MAX(Criteria!$M:$M),)))","v":""},{"$f":"IF($C19=\"\",\"\",SUM(OFFSET('General Calc'!$F$26,MATCH($D19,'General Calc'!$E$26:$E$112,0),MATCH($C19,'General Calc'!$G$26:$Z$26,0),MAX(Criteria!$M:$M),1)*OFFSET(Scoring!$E$4,1,MATCH(P$4,Scoring!$F$4:$Z$4,0),MAX(Criteria!$M:$M),)))","v":""},{"$f":"IF($C19=\"\",\"\",SUM(OFFSET('General Calc'!$F$26,MATCH($D19,'General Calc'!$E$26:$E$112,0),MATCH($C19,'General Calc'!$G$26:$Z$26,0),MAX(Criteria!$M:$M),1)*OFFSET(Scoring!$E$4,1,MATCH(Q$4,Scoring!$F$4:$Z$4,0),MAX(Criteria!$M:$M),)))","v":""},{"$f":"IF($C19=\"\",\"\",SUM(OFFSET('General Calc'!$F$26,MATCH($D19,'General Calc'!$E$26:$E$112,0),MATCH($C19,'General Calc'!$G$26:$Z$26,0),MAX(Criteria!$M:$M),1)*OFFSET(Scoring!$E$4,1,MATCH(R$4,Scoring!$F$4:$Z$4,0),MAX(Criteria!$M:$M),)))","v":""},{"$f":"IF($C19=\"\",\"\",SUM(OFFSET('General Calc'!$F$26,MATCH($D19,'General Calc'!$E$26:$E$112,0),MATCH($C19,'General Calc'!$G$26:$Z$26,0),MAX(Criteria!$M:$M),1)*OFFSET(Scoring!$E$4,1,MATCH(S$4,Scoring!$F$4:$Z$4,0),MAX(Criteria!$M:$M),)))","v":""},{"$f":"IF($C19=\"\",\"\",SUM(OFFSET('General Calc'!$F$26,MATCH($D19,'General Calc'!$E$26:$E$112,0),MATCH($C19,'General Calc'!$G$26:$Z$26,0),MAX(Criteria!$M:$M),1)*OFFSET(Scoring!$E$4,1,MATCH(T$4,Scoring!$F$4:$Z$4,0),MAX(Criteria!$M:$M),)))","v":""},{"$f":"IF($C19=\"\",\"\",SUM(OFFSET('General Calc'!$F$26,MATCH($D19,'General Calc'!$E$26:$E$112,0),MATCH($C19,'General Calc'!$G$26:$Z$26,0),MAX(Criteria!$M:$M),1)*OFFSET(Scoring!$E$4,1,MATCH(U$4,Scoring!$F$4:$Z$4,0),MAX(Criteria!$M:$M),)))","v":""},{"$f":"IF($C19=\"\",\"\",SUM(OFFSET('General Calc'!$F$26,MATCH($D19,'General Calc'!$E$26:$E$112,0),MATCH($C19,'General Calc'!$G$26:$Z$26,0),MAX(Criteria!$M:$M),1)*OFFSET(Scoring!$E$4,1,MATCH(V$4,Scoring!$F$4:$Z$4,0),MAX(Criteria!$M:$M),)))","v":""},{"$f":"IF($C19=\"\",\"\",SUM(OFFSET('General Calc'!$F$26,MATCH($D19,'General Calc'!$E$26:$E$112,0),MATCH($C19,'General Calc'!$G$26:$Z$26,0),MAX(Criteria!$M:$M),1)*OFFSET(Scoring!$E$4,1,MATCH(W$4,Scoring!$F$4:$Z$4,0),MAX(Criteria!$M:$M),)))","v":""},{"$f":"IF($C19=\"\",\"\",SUM(OFFSET('General Calc'!$F$26,MATCH($D19,'General Calc'!$E$26:$E$112,0),MATCH($C19,'General Calc'!$G$26:$Z$26,0),MAX(Criteria!$M:$M),1)*OFFSET(Scoring!$E$4,1,MATCH(X$4,Scoring!$F$4:$Z$4,0),MAX(Criteria!$M:$M),)))","v":""},{"$f":"IF($C19=\"\",\"\",SUM(OFFSET('General Calc'!$F$26,MATCH($D19,'General Calc'!$E$26:$E$112,0),MATCH($C19,'General Calc'!$G$26:$Z$26,0),MAX(Criteria!$M:$M),1)*OFFSET(Scoring!$E$4,1,MATCH(Y$4,Scoring!$F$4:$Z$4,0),MAX(Criteria!$M:$M),)))","v":""},"",""]
[null,16,{"$f":"IF(INDEX('Selected Criteria'!$E$6:$E$25,$B20)=0,\"\",INDEX('Selected Criteria'!$E$6:$E$25,$B20))","v":""},"",{"$f":"IF($C20=\"\",\"\",SUM(OFFSET('General Calc'!$F$26,MATCH($D20,'General Calc'!$E$26:$E$112,0),MATCH($C20,'General Calc'!$G$26:$Z$26,0),MAX(Criteria!$M:$M),1)*OFFSET(Scoring!$E$4,1,MATCH(E$4,Scoring!$F$4:$N$4,0),MAX(Criteria!$M:$M),)))","v":""},{"$f":"IF($C20=\"\",\"\",SUM(OFFSET('General Calc'!$F$26,MATCH($D20,'General Calc'!$E$26:$E$112,0),MATCH($C20,'General Calc'!$G$26:$Z$26,0),MAX(Criteria!$M:$M),1)*OFFSET(Scoring!$E$4,1,MATCH(F$4,Scoring!$F$4:$Z$4,0),MAX(Criteria!$M:$M),)))","v":""},{"$f":"IF($C20=\"\",\"\",SUM(OFFSET('General Calc'!$F$26,MATCH($D20,'General Calc'!$E$26:$E$112,0),MATCH($C20,'General Calc'!$G$26:$Z$26,0),MAX(Criteria!$M:$M),1)*OFFSET(Scoring!$E$4,1,MATCH(G$4,Scoring!$F$4:$N$4,0),MAX(Criteria!$M:$M),)))","v":""},{"$f":"IF($C20=\"\",\"\",SUM(OFFSET('General Calc'!$F$26,MATCH($D20,'General Calc'!$E$26:$E$112,0),MATCH($C20,'General Calc'!$G$26:$Z$26,0),MAX(Criteria!$M:$M),1)*OFFSET(Scoring!$E$4,1,MATCH(H$4,Scoring!$F$4:$N$4,0),MAX(Criteria!$M:$M),)))","v":""},{"$f":"IF($C20=\"\",\"\",SUM(OFFSET('General Calc'!$F$26,MATCH($D20,'General Calc'!$E$26:$E$112,0),MATCH($C20,'General Calc'!$G$26:$Z$26,0),MAX(Criteria!$M:$M),1)*OFFSET(Scoring!$E$4,1,MATCH(I$4,Scoring!$F$4:$N$4,0),MAX(Criteria!$M:$M),)))","v":""},{"$f":"IF($C20=\"\",\"\",SUM(OFFSET('General Calc'!$F$26,MATCH($D20,'General Calc'!$E$26:$E$112,0),MATCH($C20,'General Calc'!$G$26:$Z$26,0),MAX(Criteria!$M:$M),1)*OFFSET(Scoring!$E$4,1,MATCH(J$4,Scoring!$F$4:$N$4,0),MAX(Criteria!$M:$M),)))","v":""},{"$f":"IF($C20=\"\",\"\",SUM(OFFSET('General Calc'!$F$26,MATCH($D20,'General Calc'!$E$26:$E$112,0),MATCH($C20,'General Calc'!$G$26:$Z$26,0),MAX(Criteria!$M:$M),1)*OFFSET(Scoring!$E$4,1,MATCH(K$4,Scoring!$F$4:$N$4,0),MAX(Criteria!$M:$M),)))","v":""},{"$f":"IF($C20=\"\",\"\",SUM(OFFSET('General Calc'!$F$26,MATCH($D20,'General Calc'!$E$26:$E$112,0),MATCH($C20,'General Calc'!$G$26:$Z$26,0),MAX(Criteria!$M:$M),1)*OFFSET(Scoring!$E$4,1,MATCH(L$4,Scoring!$F$4:$N$4,0),MAX(Criteria!$M:$M),)))","v":""},{"$f":"IF($C20=\"\",\"\",SUM(OFFSET('General Calc'!$F$26,MATCH($D20,'General Calc'!$E$26:$E$112,0),MATCH($C20,'General Calc'!$G$26:$Z$26,0),MAX(Criteria!$M:$M),1)*OFFSET(Scoring!$E$4,1,MATCH(M$4,Scoring!$F$4:$N$4,0),MAX(Criteria!$M:$M),)))","v":""},{"$f":"IF($C20=\"\",\"\",SUM(OFFSET('General Calc'!$F$26,MATCH($D20,'General Calc'!$E$26:$E$112,0),MATCH($C20,'General Calc'!$G$26:$Z$26,0),MAX(Criteria!$M:$M),1)*OFFSET(Scoring!$E$4,1,MATCH(N$4,Scoring!$F$4:$Z$4,0),MAX(Criteria!$M:$M),)))","v":""},{"$f":"IF($C20=\"\",\"\",SUM(OFFSET('General Calc'!$F$26,MATCH($D20,'General Calc'!$E$26:$E$112,0),MATCH($C20,'General Calc'!$G$26:$Z$26,0),MAX(Criteria!$M:$M),1)*OFFSET(Scoring!$E$4,1,MATCH(O$4,Scoring!$F$4:$Z$4,0),MAX(Criteria!$M:$M),)))","v":""},{"$f":"IF($C20=\"\",\"\",SUM(OFFSET('General Calc'!$F$26,MATCH($D20,'General Calc'!$E$26:$E$112,0),MATCH($C20,'General Calc'!$G$26:$Z$26,0),MAX(Criteria!$M:$M),1)*OFFSET(Scoring!$E$4,1,MATCH(P$4,Scoring!$F$4:$Z$4,0),MAX(Criteria!$M:$M),)))","v":""},{"$f":"IF($C20=\"\",\"\",SUM(OFFSET('General Calc'!$F$26,MATCH($D20,'General Calc'!$E$26:$E$112,0),MATCH($C20,'General Calc'!$G$26:$Z$26,0),MAX(Criteria!$M:$M),1)*OFFSET(Scoring!$E$4,1,MATCH(Q$4,Scoring!$F$4:$Z$4,0),MAX(Criteria!$M:$M),)))","v":""},{"$f":"IF($C20=\"\",\"\",SUM(OFFSET('General Calc'!$F$26,MATCH($D20,'General Calc'!$E$26:$E$112,0),MATCH($C20,'General Calc'!$G$26:$Z$26,0),MAX(Criteria!$M:$M),1)*OFFSET(Scoring!$E$4,1,MATCH(R$4,Scoring!$F$4:$Z$4,0),MAX(Criteria!$M:$M),)))","v":""},{"$f":"IF($C20=\"\",\"\",SUM(OFFSET('General Calc'!$F$26,MATCH($D20,'General Calc'!$E$26:$E$112,0),MATCH($C20,'General Calc'!$G$26:$Z$26,0),MAX(Criteria!$M:$M),1)*OFFSET(Scoring!$E$4,1,MATCH(S$4,Scoring!$F$4:$Z$4,0),MAX(Criteria!$M:$M),)))","v":""},{"$f":"IF($C20=\"\",\"\",SUM(OFFSET('General Calc'!$F$26,MATCH($D20,'General Calc'!$E$26:$E$112,0),MATCH($C20,'General Calc'!$G$26:$Z$26,0),MAX(Criteria!$M:$M),1)*OFFSET(Scoring!$E$4,1,MATCH(T$4,Scoring!$F$4:$Z$4,0),MAX(Criteria!$M:$M),)))","v":""},{"$f":"IF($C20=\"\",\"\",SUM(OFFSET('General Calc'!$F$26,MATCH($D20,'General Calc'!$E$26:$E$112,0),MATCH($C20,'General Calc'!$G$26:$Z$26,0),MAX(Criteria!$M:$M),1)*OFFSET(Scoring!$E$4,1,MATCH(U$4,Scoring!$F$4:$Z$4,0),MAX(Criteria!$M:$M),)))","v":""},{"$f":"IF($C20=\"\",\"\",SUM(OFFSET('General Calc'!$F$26,MATCH($D20,'General Calc'!$E$26:$E$112,0),MATCH($C20,'General Calc'!$G$26:$Z$26,0),MAX(Criteria!$M:$M),1)*OFFSET(Scoring!$E$4,1,MATCH(V$4,Scoring!$F$4:$Z$4,0),MAX(Criteria!$M:$M),)))","v":""},{"$f":"IF($C20=\"\",\"\",SUM(OFFSET('General Calc'!$F$26,MATCH($D20,'General Calc'!$E$26:$E$112,0),MATCH($C20,'General Calc'!$G$26:$Z$26,0),MAX(Criteria!$M:$M),1)*OFFSET(Scoring!$E$4,1,MATCH(W$4,Scoring!$F$4:$Z$4,0),MAX(Criteria!$M:$M),)))","v":""},{"$f":"IF($C20=\"\",\"\",SUM(OFFSET('General Calc'!$F$26,MATCH($D20,'General Calc'!$E$26:$E$112,0),MATCH($C20,'General Calc'!$G$26:$Z$26,0),MAX(Criteria!$M:$M),1)*OFFSET(Scoring!$E$4,1,MATCH(X$4,Scoring!$F$4:$Z$4,0),MAX(Criteria!$M:$M),)))","v":""},{"$f":"IF($C20=\"\",\"\",SUM(OFFSET('General Calc'!$F$26,MATCH($D20,'General Calc'!$E$26:$E$112,0),MATCH($C20,'General Calc'!$G$26:$Z$26,0),MAX(Criteria!$M:$M),1)*OFFSET(Scoring!$E$4,1,MATCH(Y$4,Scoring!$F$4:$Z$4,0),MAX(Criteria!$M:$M),)))","v":""},"",""]
[null,17,{"$f":"IF(INDEX('Selected Criteria'!$E$6:$E$25,$B21)=0,\"\",INDEX('Selected Criteria'!$E$6:$E$25,$B21))","v":""},"",{"$f":"IF($C21=\"\",\"\",SUM(OFFSET('General Calc'!$F$26,MATCH($D21,'General Calc'!$E$26:$E$112,0),MATCH($C21,'General Calc'!$G$26:$Z$26,0),MAX(Criteria!$M:$M),1)*OFFSET(Scoring!$E$4,1,MATCH(E$4,Scoring!$F$4:$N$4,0),MAX(Criteria!$M:$M),)))","v":""},{"$f":"IF($C21=\"\",\"\",SUM(OFFSET('General Calc'!$F$26,MATCH($D21,'General Calc'!$E$26:$E$112,0),MATCH($C21,'General Calc'!$G$26:$Z$26,0),MAX(Criteria!$M:$M),1)*OFFSET(Scoring!$E$4,1,MATCH(F$4,Scoring!$F$4:$Z$4,0),MAX(Criteria!$M:$M),)))","v":""},{"$f":"IF($C21=\"\",\"\",SUM(OFFSET('General Calc'!$F$26,MATCH($D21,'General Calc'!$E$26:$E$112,0),MATCH($C21,'General Calc'!$G$26:$Z$26,0),MAX(Criteria!$M:$M),1)*OFFSET(Scoring!$E$4,1,MATCH(G$4,Scoring!$F$4:$N$4,0),MAX(Criteria!$M:$M),)))","v":""},{"$f":"IF($C21=\"\",\"\",SUM(OFFSET('General Calc'!$F$26,MATCH($D21,'General Calc'!$E$26:$E$112,0),MATCH($C21,'General Calc'!$G$26:$Z$26,0),MAX(Criteria!$M:$M),1)*OFFSET(Scoring!$E$4,1,MATCH(H$4,Scoring!$F$4:$N$4,0),MAX(Criteria!$M:$M),)))","v":""},{"$f":"IF($C21=\"\",\"\",SUM(OFFSET('General Calc'!$F$26,MATCH($D21,'General Calc'!$E$26:$E$112,0),MATCH($C21,'General Calc'!$G$26:$Z$26,0),MAX(Criteria!$M:$M),1)*OFFSET(Scoring!$E$4,1,MATCH(I$4,Scoring!$F$4:$N$4,0),MAX(Criteria!$M:$M),)))","v":""},{"$f":"IF($C21=\"\",\"\",SUM(OFFSET('General Calc'!$F$26,MATCH($D21,'General Calc'!$E$26:$E$112,0),MATCH($C21,'General Calc'!$G$26:$Z$26,0),MAX(Criteria!$M:$M),1)*OFFSET(Scoring!$E$4,1,MATCH(J$4,Scoring!$F$4:$N$4,0),MAX(Criteria!$M:$M),)))","v":""},{"$f":"IF($C21=\"\",\"\",SUM(OFFSET('General Calc'!$F$26,MATCH($D21,'General Calc'!$E$26:$E$112,0),MATCH($C21,'General Calc'!$G$26:$Z$26,0),MAX(Criteria!$M:$M),1)*OFFSET(Scoring!$E$4,1,MATCH(K$4,Scoring!$F$4:$N$4,0),MAX(Criteria!$M:$M),)))","v":""},{"$f":"IF($C21=\"\",\"\",SUM(OFFSET('General Calc'!$F$26,MATCH($D21,'General Calc'!$E$26:$E$112,0),MATCH($C21,'General Calc'!$G$26:$Z$26,0),MAX(Criteria!$M:$M),1)*OFFSET(Scoring!$E$4,1,MATCH(L$4,Scoring!$F$4:$N$4,0),MAX(Criteria!$M:$M),)))","v":""},{"$f":"IF($C21=\"\",\"\",SUM(OFFSET('General Calc'!$F$26,MATCH($D21,'General Calc'!$E$26:$E$112,0),MATCH($C21,'General Calc'!$G$26:$Z$26,0),MAX(Criteria!$M:$M),1)*OFFSET(Scoring!$E$4,1,MATCH(M$4,Scoring!$F$4:$N$4,0),MAX(Criteria!$M:$M),)))","v":""},{"$f":"IF($C21=\"\",\"\",SUM(OFFSET('General Calc'!$F$26,MATCH($D21,'General Calc'!$E$26:$E$112,0),MATCH($C21,'General Calc'!$G$26:$Z$26,0),MAX(Criteria!$M:$M),1)*OFFSET(Scoring!$E$4,1,MATCH(N$4,Scoring!$F$4:$Z$4,0),MAX(Criteria!$M:$M),)))","v":""},{"$f":"IF($C21=\"\",\"\",SUM(OFFSET('General Calc'!$F$26,MATCH($D21,'General Calc'!$E$26:$E$112,0),MATCH($C21,'General Calc'!$G$26:$Z$26,0),MAX(Criteria!$M:$M),1)*OFFSET(Scoring!$E$4,1,MATCH(O$4,Scoring!$F$4:$Z$4,0),MAX(Criteria!$M:$M),)))","v":""},{"$f":"IF($C21=\"\",\"\",SUM(OFFSET('General Calc'!$F$26,MATCH($D21,'General Calc'!$E$26:$E$112,0),MATCH($C21,'General Calc'!$G$26:$Z$26,0),MAX(Criteria!$M:$M),1)*OFFSET(Scoring!$E$4,1,MATCH(P$4,Scoring!$F$4:$Z$4,0),MAX(Criteria!$M:$M),)))","v":""},{"$f":"IF($C21=\"\",\"\",SUM(OFFSET('General Calc'!$F$26,MATCH($D21,'General Calc'!$E$26:$E$112,0),MATCH($C21,'General Calc'!$G$26:$Z$26,0),MAX(Criteria!$M:$M),1)*OFFSET(Scoring!$E$4,1,MATCH(Q$4,Scoring!$F$4:$Z$4,0),MAX(Criteria!$M:$M),)))","v":""},{"$f":"IF($C21=\"\",\"\",SUM(OFFSET('General Calc'!$F$26,MATCH($D21,'General Calc'!$E$26:$E$112,0),MATCH($C21,'General Calc'!$G$26:$Z$26,0),MAX(Criteria!$M:$M),1)*OFFSET(Scoring!$E$4,1,MATCH(R$4,Scoring!$F$4:$Z$4,0),MAX(Criteria!$M:$M),)))","v":""},{"$f":"IF($C21=\"\",\"\",SUM(OFFSET('General Calc'!$F$26,MATCH($D21,'General Calc'!$E$26:$E$112,0),MATCH($C21,'General Calc'!$G$26:$Z$26,0),MAX(Criteria!$M:$M),1)*OFFSET(Scoring!$E$4,1,MATCH(S$4,Scoring!$F$4:$Z$4,0),MAX(Criteria!$M:$M),)))","v":""},{"$f":"IF($C21=\"\",\"\",SUM(OFFSET('General Calc'!$F$26,MATCH($D21,'General Calc'!$E$26:$E$112,0),MATCH($C21,'General Calc'!$G$26:$Z$26,0),MAX(Criteria!$M:$M),1)*OFFSET(Scoring!$E$4,1,MATCH(T$4,Scoring!$F$4:$Z$4,0),MAX(Criteria!$M:$M),)))","v":""},{"$f":"IF($C21=\"\",\"\",SUM(OFFSET('General Calc'!$F$26,MATCH($D21,'General Calc'!$E$26:$E$112,0),MATCH($C21,'General Calc'!$G$26:$Z$26,0),MAX(Criteria!$M:$M),1)*OFFSET(Scoring!$E$4,1,MATCH(U$4,Scoring!$F$4:$Z$4,0),MAX(Criteria!$M:$M),)))","v":""},{"$f":"IF($C21=\"\",\"\",SUM(OFFSET('General Calc'!$F$26,MATCH($D21,'General Calc'!$E$26:$E$112,0),MATCH($C21,'General Calc'!$G$26:$Z$26,0),MAX(Criteria!$M:$M),1)*OFFSET(Scoring!$E$4,1,MATCH(V$4,Scoring!$F$4:$Z$4,0),MAX(Criteria!$M:$M),)))","v":""},{"$f":"IF($C21=\"\",\"\",SUM(OFFSET('General Calc'!$F$26,MATCH($D21,'General Calc'!$E$26:$E$112,0),MATCH($C21,'General Calc'!$G$26:$Z$26,0),MAX(Criteria!$M:$M),1)*OFFSET(Scoring!$E$4,1,MATCH(W$4,Scoring!$F$4:$Z$4,0),MAX(Criteria!$M:$M),)))","v":""},{"$f":"IF($C21=\"\",\"\",SUM(OFFSET('General Calc'!$F$26,MATCH($D21,'General Calc'!$E$26:$E$112,0),MATCH($C21,'General Calc'!$G$26:$Z$26,0),MAX(Criteria!$M:$M),1)*OFFSET(Scoring!$E$4,1,MATCH(X$4,Scoring!$F$4:$Z$4,0),MAX(Criteria!$M:$M),)))","v":""},{"$f":"IF($C21=\"\",\"\",SUM(OFFSET('General Calc'!$F$26,MATCH($D21,'General Calc'!$E$26:$E$112,0),MATCH($C21,'General Calc'!$G$26:$Z$26,0),MAX(Criteria!$M:$M),1)*OFFSET(Scoring!$E$4,1,MATCH(Y$4,Scoring!$F$4:$Z$4,0),MAX(Criteria!$M:$M),)))","v":""},"",""]
[null,18,{"$f":"IF(INDEX('Selected Criteria'!$E$6:$E$25,$B22)=0,\"\",INDEX('Selected Criteria'!$E$6:$E$25,$B22))","v":""},"",{"$f":"IF($C22=\"\",\"\",SUM(OFFSET('General Calc'!$F$26,MATCH($D22,'General Calc'!$E$26:$E$112,0),MATCH($C22,'General Calc'!$G$26:$Z$26,0),MAX(Criteria!$M:$M),1)*OFFSET(Scoring!$E$4,1,MATCH(E$4,Scoring!$F$4:$N$4,0),MAX(Criteria!$M:$M),)))","v":""},{"$f":"IF($C22=\"\",\"\",SUM(OFFSET('General Calc'!$F$26,MATCH($D22,'General Calc'!$E$26:$E$112,0),MATCH($C22,'General Calc'!$G$26:$Z$26,0),MAX(Criteria!$M:$M),1)*OFFSET(Scoring!$E$4,1,MATCH(F$4,Scoring!$F$4:$Z$4,0),MAX(Criteria!$M:$M),)))","v":""},{"$f":"IF($C22=\"\",\"\",SUM(OFFSET('General Calc'!$F$26,MATCH($D22,'General Calc'!$E$26:$E$112,0),MATCH($C22,'General Calc'!$G$26:$Z$26,0),MAX(Criteria!$M:$M),1)*OFFSET(Scoring!$E$4,1,MATCH(G$4,Scoring!$F$4:$N$4,0),MAX(Criteria!$M:$M),)))","v":""},{"$f":"IF($C22=\"\",\"\",SUM(OFFSET('General Calc'!$F$26,MATCH($D22,'General Calc'!$E$26:$E$112,0),MATCH($C22,'General Calc'!$G$26:$Z$26,0),MAX(Criteria!$M:$M),1)*OFFSET(Scoring!$E$4,1,MATCH(H$4,Scoring!$F$4:$N$4,0),MAX(Criteria!$M:$M),)))","v":""},{"$f":"IF($C22=\"\",\"\",SUM(OFFSET('General Calc'!$F$26,MATCH($D22,'General Calc'!$E$26:$E$112,0),MATCH($C22,'General Calc'!$G$26:$Z$26,0),MAX(Criteria!$M:$M),1)*OFFSET(Scoring!$E$4,1,MATCH(I$4,Scoring!$F$4:$N$4,0),MAX(Criteria!$M:$M),)))","v":""},{"$f":"IF($C22=\"\",\"\",SUM(OFFSET('General Calc'!$F$26,MATCH($D22,'General Calc'!$E$26:$E$112,0),MATCH($C22,'General Calc'!$G$26:$Z$26,0),MAX(Criteria!$M:$M),1)*OFFSET(Scoring!$E$4,1,MATCH(J$4,Scoring!$F$4:$N$4,0),MAX(Criteria!$M:$M),)))","v":""},{"$f":"IF($C22=\"\",\"\",SUM(OFFSET('General Calc'!$F$26,MATCH($D22,'General Calc'!$E$26:$E$112,0),MATCH($C22,'General Calc'!$G$26:$Z$26,0),MAX(Criteria!$M:$M),1)*OFFSET(Scoring!$E$4,1,MATCH(K$4,Scoring!$F$4:$N$4,0),MAX(Criteria!$M:$M),)))","v":""},{"$f":"IF($C22=\"\",\"\",SUM(OFFSET('General Calc'!$F$26,MATCH($D22,'General Calc'!$E$26:$E$112,0),MATCH($C22,'General Calc'!$G$26:$Z$26,0),MAX(Criteria!$M:$M),1)*OFFSET(Scoring!$E$4,1,MATCH(L$4,Scoring!$F$4:$N$4,0),MAX(Criteria!$M:$M),)))","v":""},{"$f":"IF($C22=\"\",\"\",SUM(OFFSET('General Calc'!$F$26,MATCH($D22,'General Calc'!$E$26:$E$112,0),MATCH($C22,'General Calc'!$G$26:$Z$26,0),MAX(Criteria!$M:$M),1)*OFFSET(Scoring!$E$4,1,MATCH(M$4,Scoring!$F$4:$N$4,0),MAX(Criteria!$M:$M),)))","v":""},{"$f":"IF($C22=\"\",\"\",SUM(OFFSET('General Calc'!$F$26,MATCH($D22,'General Calc'!$E$26:$E$112,0),MATCH($C22,'General Calc'!$G$26:$Z$26,0),MAX(Criteria!$M:$M),1)*OFFSET(Scoring!$E$4,1,MATCH(N$4,Scoring!$F$4:$Z$4,0),MAX(Criteria!$M:$M),)))","v":""},{"$f":"IF($C22=\"\",\"\",SUM(OFFSET('General Calc'!$F$26,MATCH($D22,'General Calc'!$E$26:$E$112,0),MATCH($C22,'General Calc'!$G$26:$Z$26,0),MAX(Criteria!$M:$M),1)*OFFSET(Scoring!$E$4,1,MATCH(O$4,Scoring!$F$4:$Z$4,0),MAX(Criteria!$M:$M),)))","v":""},{"$f":"IF($C22=\"\",\"\",SUM(OFFSET('General Calc'!$F$26,MATCH($D22,'General Calc'!$E$26:$E$112,0),MATCH($C22,'General Calc'!$G$26:$Z$26,0),MAX(Criteria!$M:$M),1)*OFFSET(Scoring!$E$4,1,MATCH(P$4,Scoring!$F$4:$Z$4,0),MAX(Criteria!$M:$M),)))","v":""},{"$f":"IF($C22=\"\",\"\",SUM(OFFSET('General Calc'!$F$26,MATCH($D22,'General Calc'!$E$26:$E$112,0),MATCH($C22,'General Calc'!$G$26:$Z$26,0),MAX(Criteria!$M:$M),1)*OFFSET(Scoring!$E$4,1,MATCH(Q$4,Scoring!$F$4:$Z$4,0),MAX(Criteria!$M:$M),)))","v":""},{"$f":"IF($C22=\"\",\"\",SUM(OFFSET('General Calc'!$F$26,MATCH($D22,'General Calc'!$E$26:$E$112,0),MATCH($C22,'General Calc'!$G$26:$Z$26,0),MAX(Criteria!$M:$M),1)*OFFSET(Scoring!$E$4,1,MATCH(R$4,Scoring!$F$4:$Z$4,0),MAX(Criteria!$M:$M),)))","v":""},{"$f":"IF($C22=\"\",\"\",SUM(OFFSET('General Calc'!$F$26,MATCH($D22,'General Calc'!$E$26:$E$112,0),MATCH($C22,'General Calc'!$G$26:$Z$26,0),MAX(Criteria!$M:$M),1)*OFFSET(Scoring!$E$4,1,MATCH(S$4,Scoring!$F$4:$Z$4,0),MAX(Criteria!$M:$M),)))","v":""},{"$f":"IF($C22=\"\",\"\",SUM(OFFSET('General Calc'!$F$26,MATCH($D22,'General Calc'!$E$26:$E$112,0),MATCH($C22,'General Calc'!$G$26:$Z$26,0),MAX(Criteria!$M:$M),1)*OFFSET(Scoring!$E$4,1,MATCH(T$4,Scoring!$F$4:$Z$4,0),MAX(Criteria!$M:$M),)))","v":""},{"$f":"IF($C22=\"\",\"\",SUM(OFFSET('General Calc'!$F$26,MATCH($D22,'General Calc'!$E$26:$E$112,0),MATCH($C22,'General Calc'!$G$26:$Z$26,0),MAX(Criteria!$M:$M),1)*OFFSET(Scoring!$E$4,1,MATCH(U$4,Scoring!$F$4:$Z$4,0),MAX(Criteria!$M:$M),)))","v":""},{"$f":"IF($C22=\"\",\"\",SUM(OFFSET('General Calc'!$F$26,MATCH($D22,'General Calc'!$E$26:$E$112,0),MATCH($C22,'General Calc'!$G$26:$Z$26,0),MAX(Criteria!$M:$M),1)*OFFSET(Scoring!$E$4,1,MATCH(V$4,Scoring!$F$4:$Z$4,0),MAX(Criteria!$M:$M),)))","v":""},{"$f":"IF($C22=\"\",\"\",SUM(OFFSET('General Calc'!$F$26,MATCH($D22,'General Calc'!$E$26:$E$112,0),MATCH($C22,'General Calc'!$G$26:$Z$26,0),MAX(Criteria!$M:$M),1)*OFFSET(Scoring!$E$4,1,MATCH(W$4,Scoring!$F$4:$Z$4,0),MAX(Criteria!$M:$M),)))","v":""},{"$f":"IF($C22=\"\",\"\",SUM(OFFSET('General Calc'!$F$26,MATCH($D22,'General Calc'!$E$26:$E$112,0),MATCH($C22,'General Calc'!$G$26:$Z$26,0),MAX(Criteria!$M:$M),1)*OFFSET(Scoring!$E$4,1,MATCH(X$4,Scoring!$F$4:$Z$4,0),MAX(Criteria!$M:$M),)))","v":""},{"$f":"IF($C22=\"\",\"\",SUM(OFFSET('General Calc'!$F$26,MATCH($D22,'General Calc'!$E$26:$E$112,0),MATCH($C22,'General Calc'!$G$26:$Z$26,0),MAX(Criteria!$M:$M),1)*OFFSET(Scoring!$E$4,1,MATCH(Y$4,Scoring!$F$4:$Z$4,0),MAX(Criteria!$M:$M),)))","v":""},"",""]
[null,19,{"$f":"IF(INDEX('Selected Criteria'!$E$6:$E$25,$B23)=0,\"\",INDEX('Selected Criteria'!$E$6:$E$25,$B23))","v":""},"",{"$f":"IF($C23=\"\",\"\",SUM(OFFSET('General Calc'!$F$26,MATCH($D23,'General Calc'!$E$26:$E$112,0),MATCH($C23,'General Calc'!$G$26:$Z$26,0),MAX(Criteria!$M:$M),1)*OFFSET(Scoring!$E$4,1,MATCH(E$4,Scoring!$F$4:$N$4,0),MAX(Criteria!$M:$M),)))","v":""},{"$f":"IF($C23=\"\",\"\",SUM(OFFSET('General Calc'!$F$26,MATCH($D23,'General Calc'!$E$26:$E$112,0),MATCH($C23,'General Calc'!$G$26:$Z$26,0),MAX(Criteria!$M:$M),1)*OFFSET(Scoring!$E$4,1,MATCH(F$4,Scoring!$F$4:$Z$4,0),MAX(Criteria!$M:$M),)))","v":""},{"$f":"IF($C23=\"\",\"\",SUM(OFFSET('General Calc'!$F$26,MATCH($D23,'General Calc'!$E$26:$E$112,0),MATCH($C23,'General Calc'!$G$26:$Z$26,0),MAX(Criteria!$M:$M),1)*OFFSET(Scoring!$E$4,1,MATCH(G$4,Scoring!$F$4:$N$4,0),MAX(Criteria!$M:$M),)))","v":""},{"$f":"IF($C23=\"\",\"\",SUM(OFFSET('General Calc'!$F$26,MATCH($D23,'General Calc'!$E$26:$E$112,0),MATCH($C23,'General Calc'!$G$26:$Z$26,0),MAX(Criteria!$M:$M),1)*OFFSET(Scoring!$E$4,1,MATCH(H$4,Scoring!$F$4:$N$4,0),MAX(Criteria!$M:$M),)))","v":""},{"$f":"IF($C23=\"\",\"\",SUM(OFFSET('General Calc'!$F$26,MATCH($D23,'General Calc'!$E$26:$E$112,0),MATCH($C23,'General Calc'!$G$26:$Z$26,0),MAX(Criteria!$M:$M),1)*OFFSET(Scoring!$E$4,1,MATCH(I$4,Scoring!$F$4:$N$4,0),MAX(Criteria!$M:$M),)))","v":""},{"$f":"IF($C23=\"\",\"\",SUM(OFFSET('General Calc'!$F$26,MATCH($D23,'General Calc'!$E$26:$E$112,0),MATCH($C23,'General Calc'!$G$26:$Z$26,0),MAX(Criteria!$M:$M),1)*OFFSET(Scoring!$E$4,1,MATCH(J$4,Scoring!$F$4:$N$4,0),MAX(Criteria!$M:$M),)))","v":""},{"$f":"IF($C23=\"\",\"\",SUM(OFFSET('General Calc'!$F$26,MATCH($D23,'General Calc'!$E$26:$E$112,0),MATCH($C23,'General Calc'!$G$26:$Z$26,0),MAX(Criteria!$M:$M),1)*OFFSET(Scoring!$E$4,1,MATCH(K$4,Scoring!$F$4:$N$4,0),MAX(Criteria!$M:$M),)))","v":""},{"$f":"IF($C23=\"\",\"\",SUM(OFFSET('General Calc'!$F$26,MATCH($D23,'General Calc'!$E$26:$E$112,0),MATCH($C23,'General Calc'!$G$26:$Z$26,0),MAX(Criteria!$M:$M),1)*OFFSET(Scoring!$E$4,1,MATCH(L$4,Scoring!$F$4:$N$4,0),MAX(Criteria!$M:$M),)))","v":""},{"$f":"IF($C23=\"\",\"\",SUM(OFFSET('General Calc'!$F$26,MATCH($D23,'General Calc'!$E$26:$E$112,0),MATCH($C23,'General Calc'!$G$26:$Z$26,0),MAX(Criteria!$M:$M),1)*OFFSET(Scoring!$E$4,1,MATCH(M$4,Scoring!$F$4:$N$4,0),MAX(Criteria!$M:$M),)))","v":""},{"$f":"IF($C23=\"\",\"\",SUM(OFFSET('General Calc'!$F$26,MATCH($D23,'General Calc'!$E$26:$E$112,0),MATCH($C23,'General Calc'!$G$26:$Z$26,0),MAX(Criteria!$M:$M),1)*OFFSET(Scoring!$E$4,1,MATCH(N$4,Scoring!$F$4:$Z$4,0),MAX(Criteria!$M:$M),)))","v":""},{"$f":"IF($C23=\"\",\"\",SUM(OFFSET('General Calc'!$F$26,MATCH($D23,'General Calc'!$E$26:$E$112,0),MATCH($C23,'General Calc'!$G$26:$Z$26,0),MAX(Criteria!$M:$M),1)*OFFSET(Scoring!$E$4,1,MATCH(O$4,Scoring!$F$4:$Z$4,0),MAX(Criteria!$M:$M),)))","v":""},{"$f":"IF($C23=\"\",\"\",SUM(OFFSET('General Calc'!$F$26,MATCH($D23,'General Calc'!$E$26:$E$112,0),MATCH($C23,'General Calc'!$G$26:$Z$26,0),MAX(Criteria!$M:$M),1)*OFFSET(Scoring!$E$4,1,MATCH(P$4,Scoring!$F$4:$Z$4,0),MAX(Criteria!$M:$M),)))","v":""},{"$f":"IF($C23=\"\",\"\",SUM(OFFSET('General Calc'!$F$26,MATCH($D23,'General Calc'!$E$26:$E$112,0),MATCH($C23,'General Calc'!$G$26:$Z$26,0),MAX(Criteria!$M:$M),1)*OFFSET(Scoring!$E$4,1,MATCH(Q$4,Scoring!$F$4:$Z$4,0),MAX(Criteria!$M:$M),)))","v":""},{"$f":"IF($C23=\"\",\"\",SUM(OFFSET('General Calc'!$F$26,MATCH($D23,'General Calc'!$E$26:$E$112,0),MATCH($C23,'General Calc'!$G$26:$Z$26,0),MAX(Criteria!$M:$M),1)*OFFSET(Scoring!$E$4,1,MATCH(R$4,Scoring!$F$4:$Z$4,0),MAX(Criteria!$M:$M),)))","v":""},{"$f":"IF($C23=\"\",\"\",SUM(OFFSET('General Calc'!$F$26,MATCH($D23,'General Calc'!$E$26:$E$112,0),MATCH($C23,'General Calc'!$G$26:$Z$26,0),MAX(Criteria!$M:$M),1)*OFFSET(Scoring!$E$4,1,MATCH(S$4,Scoring!$F$4:$Z$4,0),MAX(Criteria!$M:$M),)))","v":""},{"$f":"IF($C23=\"\",\"\",SUM(OFFSET('General Calc'!$F$26,MATCH($D23,'General Calc'!$E$26:$E$112,0),MATCH($C23,'General Calc'!$G$26:$Z$26,0),MAX(Criteria!$M:$M),1)*OFFSET(Scoring!$E$4,1,MATCH(T$4,Scoring!$F$4:$Z$4,0),MAX(Criteria!$M:$M),)))","v":""},{"$f":"IF($C23=\"\",\"\",SUM(OFFSET('General Calc'!$F$26,MATCH($D23,'General Calc'!$E$26:$E$112,0),MATCH($C23,'General Calc'!$G$26:$Z$26,0),MAX(Criteria!$M:$M),1)*OFFSET(Scoring!$E$4,1,MATCH(U$4,Scoring!$F$4:$Z$4,0),MAX(Criteria!$M:$M),)))","v":""},{"$f":"IF($C23=\"\",\"\",SUM(OFFSET('General Calc'!$F$26,MATCH($D23,'General Calc'!$E$26:$E$112,0),MATCH($C23,'General Calc'!$G$26:$Z$26,0),MAX(Criteria!$M:$M),1)*OFFSET(Scoring!$E$4,1,MATCH(V$4,Scoring!$F$4:$Z$4,0),MAX(Criteria!$M:$M),)))","v":""},{"$f":"IF($C23=\"\",\"\",SUM(OFFSET('General Calc'!$F$26,MATCH($D23,'General Calc'!$E$26:$E$112,0),MATCH($C23,'General Calc'!$G$26:$Z$26,0),MAX(Criteria!$M:$M),1)*OFFSET(Scoring!$E$4,1,MATCH(W$4,Scoring!$F$4:$Z$4,0),MAX(Criteria!$M:$M),)))","v":""},{"$f":"IF($C23=\"\",\"\",SUM(OFFSET('General Calc'!$F$26,MATCH($D23,'General Calc'!$E$26:$E$112,0),MATCH($C23,'General Calc'!$G$26:$Z$26,0),MAX(Criteria!$M:$M),1)*OFFSET(Scoring!$E$4,1,MATCH(X$4,Scoring!$F$4:$Z$4,0),MAX(Criteria!$M:$M),)))","v":""},{"$f":"IF($C23=\"\",\"\",SUM(OFFSET('General Calc'!$F$26,MATCH($D23,'General Calc'!$E$26:$E$112,0),MATCH($C23,'General Calc'!$G$26:$Z$26,0),MAX(Criteria!$M:$M),1)*OFFSET(Scoring!$E$4,1,MATCH(Y$4,Scoring!$F$4:$Z$4,0),MAX(Criteria!$M:$M),)))","v":""},"",""]
[null,20,{"$f":"IF(INDEX('Selected Criteria'!$E$6:$E$25,$B24)=0,\"\",INDEX('Selected Criteria'!$E$6:$E$25,$B24))","v":""},"",{"$f":"IF($C24=\"\",\"\",SUM(OFFSET('General Calc'!$F$26,MATCH($D24,'General Calc'!$E$26:$E$112,0),MATCH($C24,'General Calc'!$G$26:$Z$26,0),MAX(Criteria!$M:$M),1)*OFFSET(Scoring!$E$4,1,MATCH(E$4,Scoring!$F$4:$N$4,0),MAX(Criteria!$M:$M),)))","v":""},{"$f":"IF($C24=\"\",\"\",SUM(OFFSET('General Calc'!$F$26,MATCH($D24,'General Calc'!$E$26:$E$112,0),MATCH($C24,'General Calc'!$G$26:$Z$26,0),MAX(Criteria!$M:$M),1)*OFFSET(Scoring!$E$4,1,MATCH(F$4,Scoring!$F$4:$Z$4,0),MAX(Criteria!$M:$M),)))","v":""},{"$f":"IF($C24=\"\",\"\",SUM(OFFSET('General Calc'!$F$26,MATCH($D24,'General Calc'!$E$26:$E$112,0),MATCH($C24,'General Calc'!$G$26:$Z$26,0),MAX(Criteria!$M:$M),1)*OFFSET(Scoring!$E$4,1,MATCH(G$4,Scoring!$F$4:$N$4,0),MAX(Criteria!$M:$M),)))","v":""},{"$f":"IF($C24=\"\",\"\",SUM(OFFSET('General Calc'!$F$26,MATCH($D24,'General Calc'!$E$26:$E$112,0),MATCH($C24,'General Calc'!$G$26:$Z$26,0),MAX(Criteria!$M:$M),1)*OFFSET(Scoring!$E$4,1,MATCH(H$4,Scoring!$F$4:$N$4,0),MAX(Criteria!$M:$M),)))","v":""},{"$f":"IF($C24=\"\",\"\",SUM(OFFSET('General Calc'!$F$26,MATCH($D24,'General Calc'!$E$26:$E$112,0),MATCH($C24,'General Calc'!$G$26:$Z$26,0),MAX(Criteria!$M:$M),1)*OFFSET(Scoring!$E$4,1,MATCH(I$4,Scoring!$F$4:$N$4,0),MAX(Criteria!$M:$M),)))","v":""},{"$f":"IF($C24=\"\",\"\",SUM(OFFSET('General Calc'!$F$26,MATCH($D24,'General Calc'!$E$26:$E$112,0),MATCH($C24,'General Calc'!$G$26:$Z$26,0),MAX(Criteria!$M:$M),1)*OFFSET(Scoring!$E$4,1,MATCH(J$4,Scoring!$F$4:$N$4,0),MAX(Criteria!$M:$M),)))","v":""},{"$f":"IF($C24=\"\",\"\",SUM(OFFSET('General Calc'!$F$26,MATCH($D24,'General Calc'!$E$26:$E$112,0),MATCH($C24,'General Calc'!$G$26:$Z$26,0),MAX(Criteria!$M:$M),1)*OFFSET(Scoring!$E$4,1,MATCH(K$4,Scoring!$F$4:$N$4,0),MAX(Criteria!$M:$M),)))","v":""},{"$f":"IF($C24=\"\",\"\",SUM(OFFSET('General Calc'!$F$26,MATCH($D24,'General Calc'!$E$26:$E$112,0),MATCH($C24,'General Calc'!$G$26:$Z$26,0),MAX(Criteria!$M:$M),1)*OFFSET(Scoring!$E$4,1,MATCH(L$4,Scoring!$F$4:$N$4,0),MAX(Criteria!$M:$M),)))","v":""},{"$f":"IF($C24=\"\",\"\",SUM(OFFSET('General Calc'!$F$26,MATCH($D24,'General Calc'!$E$26:$E$112,0),MATCH($C24,'General Calc'!$G$26:$Z$26,0),MAX(Criteria!$M:$M),1)*OFFSET(Scoring!$E$4,1,MATCH(M$4,Scoring!$F$4:$N$4,0),MAX(Criteria!$M:$M),)))","v":""},{"$f":"IF($C24=\"\",\"\",SUM(OFFSET('General Calc'!$F$26,MATCH($D24,'General Calc'!$E$26:$E$112,0),MATCH($C24,'General Calc'!$G$26:$Z$26,0),MAX(Criteria!$M:$M),1)*OFFSET(Scoring!$E$4,1,MATCH(N$4,Scoring!$F$4:$Z$4,0),MAX(Criteria!$M:$M),)))","v":""},{"$f":"IF($C24=\"\",\"\",SUM(OFFSET('General Calc'!$F$26,MATCH($D24,'General Calc'!$E$26:$E$112,0),MATCH($C24,'General Calc'!$G$26:$Z$26,0),MAX(Criteria!$M:$M),1)*OFFSET(Scoring!$E$4,1,MATCH(O$4,Scoring!$F$4:$Z$4,0),MAX(Criteria!$M:$M),)))","v":""},{"$f":"IF($C24=\"\",\"\",SUM(OFFSET('General Calc'!$F$26,MATCH($D24,'General Calc'!$E$26:$E$112,0),MATCH($C24,'General Calc'!$G$26:$Z$26,0),MAX(Criteria!$M:$M),1)*OFFSET(Scoring!$E$4,1,MATCH(P$4,Scoring!$F$4:$Z$4,0),MAX(Criteria!$M:$M),)))","v":""},{"$f":"IF($C24=\"\",\"\",SUM(OFFSET('General Calc'!$F$26,MATCH($D24,'General Calc'!$E$26:$E$112,0),MATCH($C24,'General Calc'!$G$26:$Z$26,0),MAX(Criteria!$M:$M),1)*OFFSET(Scoring!$E$4,1,MATCH(Q$4,Scoring!$F$4:$Z$4,0),MAX(Criteria!$M:$M),)))","v":""},{"$f":"IF($C24=\"\",\"\",SUM(OFFSET('General Calc'!$F$26,MATCH($D24,'General Calc'!$E$26:$E$112,0),MATCH($C24,'General Calc'!$G$26:$Z$26,0),MAX(Criteria!$M:$M),1)*OFFSET(Scoring!$E$4,1,MATCH(R$4,Scoring!$F$4:$Z$4,0),MAX(Criteria!$M:$M),)))","v":""},{"$f":"IF($C24=\"\",\"\",SUM(OFFSET('General Calc'!$F$26,MATCH($D24,'General Calc'!$E$26:$E$112,0),MATCH($C24,'General Calc'!$G$26:$Z$26,0),MAX(Criteria!$M:$M),1)*OFFSET(Scoring!$E$4,1,MATCH(S$4,Scoring!$F$4:$Z$4,0),MAX(Criteria!$M:$M),)))","v":""},{"$f":"IF($C24=\"\",\"\",SUM(OFFSET('General Calc'!$F$26,MATCH($D24,'General Calc'!$E$26:$E$112,0),MATCH($C24,'General Calc'!$G$26:$Z$26,0),MAX(Criteria!$M:$M),1)*OFFSET(Scoring!$E$4,1,MATCH(T$4,Scoring!$F$4:$Z$4,0),MAX(Criteria!$M:$M),)))","v":""},{"$f":"IF($C24=\"\",\"\",SUM(OFFSET('General Calc'!$F$26,MATCH($D24,'General Calc'!$E$26:$E$112,0),MATCH($C24,'General Calc'!$G$26:$Z$26,0),MAX(Criteria!$M:$M),1)*OFFSET(Scoring!$E$4,1,MATCH(U$4,Scoring!$F$4:$Z$4,0),MAX(Criteria!$M:$M),)))","v":""},{"$f":"IF($C24=\"\",\"\",SUM(OFFSET('General Calc'!$F$26,MATCH($D24,'General Calc'!$E$26:$E$112,0),MATCH($C24,'General Calc'!$G$26:$Z$26,0),MAX(Criteria!$M:$M),1)*OFFSET(Scoring!$E$4,1,MATCH(V$4,Scoring!$F$4:$Z$4,0),MAX(Criteria!$M:$M),)))","v":""},{"$f":"IF($C24=\"\",\"\",SUM(OFFSET('General Calc'!$F$26,MATCH($D24,'General Calc'!$E$26:$E$112,0),MATCH($C24,'General Calc'!$G$26:$Z$26,0),MAX(Criteria!$M:$M),1)*OFFSET(Scoring!$E$4,1,MATCH(W$4,Scoring!$F$4:$Z$4,0),MAX(Criteria!$M:$M),)))","v":""},{"$f":"IF($C24=\"\",\"\",SUM(OFFSET('General Calc'!$F$26,MATCH($D24,'General Calc'!$E$26:$E$112,0),MATCH($C24,'General Calc'!$G$26:$Z$26,0),MAX(Criteria!$M:$M),1)*OFFSET(Scoring!$E$4,1,MATCH(X$4,Scoring!$F$4:$Z$4,0),MAX(Criteria!$M:$M),)))","v":""},{"$f":"IF($C24=\"\",\"\",SUM(OFFSET('General Calc'!$F$26,MATCH($D24,'General Calc'!$E$26:$E$112,0),MATCH($C24,'General Calc'!$G$26:$Z$26,0),MAX(Criteria!$M:$M),1)*OFFSET(Scoring!$E$4,1,MATCH(Y$4,Scoring!$F$4:$Z$4,0),MAX(Criteria!$M:$M),)))","v":""},"",""]
[null,1,{"$f":"IF(INDEX('Selected Criteria'!$E$6:$E$25,$B25)=0,\"\",INDEX('Selected Criteria'!$E$6:$E$25,$B25))","v":""},{"$f":"IF($C25=\"\",\"\",-25%)","v":""},{"$f":"IF($C25=\"\",\"\",SUM(OFFSET('General Calc'!$F$26,MATCH($D25,'General Calc'!$E$26:$E$112,0),MATCH($C25,'General Calc'!$G$26:$Z$26,0),MAX(Criteria!$M:$M),1)*OFFSET(Scoring!$E$4,1,MATCH(E$4,Scoring!$F$4:$Z$4,0),MAX(Criteria!$M:$M),)))","v":""},{"$f":"IF($C25=\"\",\"\",SUM(OFFSET('General Calc'!$F$26,MATCH($D25,'General Calc'!$E$26:$E$112,0),MATCH($C25,'General Calc'!$G$26:$Z$26,0),MAX(Criteria!$M:$M),1)*OFFSET(Scoring!$E$4,1,MATCH(F$4,Scoring!$F$4:$Z$4,0),MAX(Criteria!$M:$M),)))","v":""},{"$f":"IF($C25=\"\",\"\",SUM(OFFSET('General Calc'!$F$26,MATCH($D25,'General Calc'!$E$26:$E$112,0),MATCH($C25,'General Calc'!$G$26:$Z$26,0),MAX(Criteria!$M:$M),1)*OFFSET(Scoring!$E$4,1,MATCH(G$4,Scoring!$F$4:$Z$4,0),MAX(Criteria!$M:$M),)))","v":""},{"$f":"IF($C25=\"\",\"\",SUM(OFFSET('General Calc'!$F$26,MATCH($D25,'General Calc'!$E$26:$E$112,0),MATCH($C25,'General Calc'!$G$26:$Z$26,0),MAX(Criteria!$M:$M),1)*OFFSET(Scoring!$E$4,1,MATCH(H$4,Scoring!$F$4:$Z$4,0),MAX(Criteria!$M:$M),)))","v":""},{"$f":"IF($C25=\"\",\"\",SUM(OFFSET('General Calc'!$F$26,MATCH($D25,'General Calc'!$E$26:$E$112,0),MATCH($C25,'General Calc'!$G$26:$Z$26,0),MAX(Criteria!$M:$M),1)*OFFSET(Scoring!$E$4,1,MATCH(I$4,Scoring!$F$4:$Z$4,0),MAX(Criteria!$M:$M),)))","v":""},{"$f":"IF($C25=\"\",\"\",SUM(OFFSET('General Calc'!$F$26,MATCH($D25,'General Calc'!$E$26:$E$112,0),MATCH($C25,'General Calc'!$G$26:$Z$26,0),MAX(Criteria!$M:$M),1)*OFFSET(Scoring!$E$4,1,MATCH(J$4,Scoring!$F$4:$Z$4,0),MAX(Criteria!$M:$M),)))","v":""},{"$f":"IF($C25=\"\",\"\",SUM(OFFSET('General Calc'!$F$26,MATCH($D25,'General Calc'!$E$26:$E$112,0),MATCH($C25,'General Calc'!$G$26:$Z$26,0),MAX(Criteria!$M:$M),1)*OFFSET(Scoring!$E$4,1,MATCH(K$4,Scoring!$F$4:$Z$4,0),MAX(Criteria!$M:$M),)))","v":""},{"$f":"IF($C25=\"\",\"\",SUM(OFFSET('General Calc'!$F$26,MATCH($D25,'General Calc'!$E$26:$E$112,0),MATCH($C25,'General Calc'!$G$26:$Z$26,0),MAX(Criteria!$M:$M),1)*OFFSET(Scoring!$E$4,1,MATCH(L$4,Scoring!$F$4:$Z$4,0),MAX(Criteria!$M:$M),)))","v":""},{"$f":"IF($C25=\"\",\"\",SUM(OFFSET('General Calc'!$F$26,MATCH($D25,'General Calc'!$E$26:$E$112,0),MATCH($C25,'General Calc'!$G$26:$Z$26,0),MAX(Criteria!$M:$M),1)*OFFSET(Scoring!$E$4,1,MATCH(M$4,Scoring!$F$4:$Z$4,0),MAX(Criteria!$M:$M),)))","v":""},{"$f":"IF($C25=\"\",\"\",SUM(OFFSET('General Calc'!$F$26,MATCH($D25,'General Calc'!$E$26:$E$112,0),MATCH($C25,'General Calc'!$G$26:$Z$26,0),MAX(Criteria!$M:$M),1)*OFFSET(Scoring!$E$4,1,MATCH(N$4,Scoring!$F$4:$Z$4,0),MAX(Criteria!$M:$M),)))","v":""},{"$f":"IF($C25=\"\",\"\",SUM(OFFSET('General Calc'!$F$26,MATCH($D25,'General Calc'!$E$26:$E$112,0),MATCH($C25,'General Calc'!$G$26:$Z$26,0),MAX(Criteria!$M:$M),1)*OFFSET(Scoring!$E$4,1,MATCH(O$4,Scoring!$F$4:$Z$4,0),MAX(Criteria!$M:$M),)))","v":""},{"$f":"IF($C25=\"\",\"\",SUM(OFFSET('General Calc'!$F$26,MATCH($D25,'General Calc'!$E$26:$E$112,0),MATCH($C25,'General Calc'!$G$26:$Z$26,0),MAX(Criteria!$M:$M),1)*OFFSET(Scoring!$E$4,1,MATCH(P$4,Scoring!$F$4:$Z$4,0),MAX(Criteria!$M:$M),)))","v":""},{"$f":"IF($C25=\"\",\"\",SUM(OFFSET('General Calc'!$F$26,MATCH($D25,'General Calc'!$E$26:$E$112,0),MATCH($C25,'General Calc'!$G$26:$Z$26,0),MAX(Criteria!$M:$M),1)*OFFSET(Scoring!$E$4,1,MATCH(Q$4,Scoring!$F$4:$Z$4,0),MAX(Criteria!$M:$M),)))","v":""},{"$f":"IF($C25=\"\",\"\",SUM(OFFSET('General Calc'!$F$26,MATCH($D25,'General Calc'!$E$26:$E$112,0),MATCH($C25,'General Calc'!$G$26:$Z$26,0),MAX(Criteria!$M:$M),1)*OFFSET(Scoring!$E$4,1,MATCH(R$4,Scoring!$F$4:$Z$4,0),MAX(Criteria!$M:$M),)))","v":""},{"$f":"IF($C25=\"\",\"\",SUM(OFFSET('General Calc'!$F$26,MATCH($D25,'General Calc'!$E$26:$E$112,0),MATCH($C25,'General Calc'!$G$26:$Z$26,0),MAX(Criteria!$M:$M),1)*OFFSET(Scoring!$E$4,1,MATCH(S$4,Scoring!$F$4:$Z$4,0),MAX(Criteria!$M:$M),)))","v":""},{"$f":"IF($C25=\"\",\"\",SUM(OFFSET('General Calc'!$F$26,MATCH($D25,'General Calc'!$E$26:$E$112,0),MATCH($C25,'General Calc'!$G$26:$Z$26,0),MAX(Criteria!$M:$M),1)*OFFSET(Scoring!$E$4,1,MATCH(T$4,Scoring!$F$4:$Z$4,0),MAX(Criteria!$M:$M),)))","v":""},{"$f":"IF($C25=\"\",\"\",SUM(OFFSET('General Calc'!$F$26,MATCH($D25,'General Calc'!$E$26:$E$112,0),MATCH($C25,'General Calc'!$G$26:$Z$26,0),MAX(Criteria!$M:$M),1)*OFFSET(Scoring!$E$4,1,MATCH(U$4,Scoring!$F$4:$Z$4,0),MAX(Criteria!$M:$M),)))","v":""},{"$f":"IF($C25=\"\",\"\",SUM(OFFSET('General Calc'!$F$26,MATCH($D25,'General Calc'!$E$26:$E$112,0),MATCH($C25,'General Calc'!$G$26:$Z$26,0),MAX(Criteria!$M:$M),1)*OFFSET(Scoring!$E$4,1,MATCH(V$4,Scoring!$F$4:$Z$4,0),MAX(Criteria!$M:$M),)))","v":""},{"$f":"IF($C25=\"\",\"\",SUM(OFFSET('General Calc'!$F$26,MATCH($D25,'General Calc'!$E$26:$E$112,0),MATCH($C25,'General Calc'!$G$26:$Z$26,0),MAX(Criteria!$M:$M),1)*OFFSET(Scoring!$E$4,1,MATCH(W$4,Scoring!$F$4:$Z$4,0),MAX(Criteria!$M:$M),)))","v":""},{"$f":"IF($C25=\"\",\"\",SUM(OFFSET('General Calc'!$F$26,MATCH($D25,'General Calc'!$E$26:$E$112,0),MATCH($C25,'General Calc'!$G$26:$Z$26,0),MAX(Criteria!$M:$M),1)*OFFSET(Scoring!$E$4,1,MATCH(X$4,Scoring!$F$4:$Z$4,0),MAX(Criteria!$M:$M),)))","v":""},{"$f":"IF($C25=\"\",\"\",SUM(OFFSET('General Calc'!$F$26,MATCH($D25,'General Calc'!$E$26:$E$112,0),MATCH($C25,'General Calc'!$G$26:$Z$26,0),MAX(Criteria!$M:$M),1)*OFFSET(Scoring!$E$4,1,MATCH(Y$4,Scoring!$F$4:$Z$4,0),MAX(Criteria!$M:$M),)))","v":""},"",{"$f":"IF($C25=\"\",\"\",INDEX($E$4:$Y$4,MATCH(MAX($E25:$Y25),$E25:$Y25,0)))","v":""}]
[null,2,{"$f":"IF(INDEX('Selected Criteria'!$E$6:$E$25,$B26)=0,\"\",INDEX('Selected Criteria'!$E$6:$E$25,$B26))","v":""},"",{"$f":"IF($C26=\"\",\"\",SUM(OFFSET('General Calc'!$F$26,MATCH($D26,'General Calc'!$E$26:$E$112,0),MATCH($C26,'General Calc'!$G$26:$Z$26,0),MAX(Criteria!$M:$M),1)*OFFSET(Scoring!$E$4,1,MATCH(E$4,Scoring!$F$4:$Z$4,0),MAX(Criteria!$M:$M),)))","v":""},{"$f":"IF($C26=\"\",\"\",SUM(OFFSET('General Calc'!$F$26,MATCH($D26,'General Calc'!$E$26:$E$112,0),MATCH($C26,'General Calc'!$G$26:$Z$26,0),MAX(Criteria!$M:$M),1)*OFFSET(Scoring!$E$4,1,MATCH(F$4,Scoring!$F$4:$Z$4,0),MAX(Criteria!$M:$M),)))","v":""},{"$f":"IF($C26=\"\",\"\",SUM(OFFSET('General Calc'!$F$26,MATCH($D26,'General Calc'!$E$26:$E$112,0),MATCH($C26,'General Calc'!$G$26:$Z$26,0),MAX(Criteria!$M:$M),1)*OFFSET(Scoring!$E$4,1,MATCH(G$4,Scoring!$F$4:$Z$4,0),MAX(Criteria!$M:$M),)))","v":""},{"$f":"IF($C26=\"\",\"\",SUM(OFFSET('General Calc'!$F$26,MATCH($D26,'General Calc'!$E$26:$E$112,0),MATCH($C26,'General Calc'!$G$26:$Z$26,0),MAX(Criteria!$M:$M),1)*OFFSET(Scoring!$E$4,1,MATCH(H$4,Scoring!$F$4:$Z$4,0),MAX(Criteria!$M:$M),)))","v":""},{"$f":"IF($C26=\"\",\"\",SUM(OFFSET('General Calc'!$F$26,MATCH($D26,'General Calc'!$E$26:$E$112,0),MATCH($C26,'General Calc'!$G$26:$Z$26,0),MAX(Criteria!$M:$M),1)*OFFSET(Scoring!$E$4,1,MATCH(I$4,Scoring!$F$4:$Z$4,0),MAX(Criteria!$M:$M),)))","v":""},{"$f":"IF($C26=\"\",\"\",SUM(OFFSET('General Calc'!$F$26,MATCH($D26,'General Calc'!$E$26:$E$112,0),MATCH($C26,'General Calc'!$G$26:$Z$26,0),MAX(Criteria!$M:$M),1)*OFFSET(Scoring!$E$4,1,MATCH(J$4,Scoring!$F$4:$Z$4,0),MAX(Criteria!$M:$M),)))","v":""},{"$f":"IF($C26=\"\",\"\",SUM(OFFSET('General Calc'!$F$26,MATCH($D26,'General Calc'!$E$26:$E$112,0),MATCH($C26,'General Calc'!$G$26:$Z$26,0),MAX(Criteria!$M:$M),1)*OFFSET(Scoring!$E$4,1,MATCH(K$4,Scoring!$F$4:$Z$4,0),MAX(Criteria!$M:$M),)))","v":""},{"$f":"IF($C26=\"\",\"\",SUM(OFFSET('General Calc'!$F$26,MATCH($D26,'General Calc'!$E$26:$E$112,0),MATCH($C26,'General Calc'!$G$26:$Z$26,0),MAX(Criteria!$M:$M),1)*OFFSET(Scoring!$E$4,1,MATCH(L$4,Scoring!$F$4:$Z$4,0),MAX(Criteria!$M:$M),)))","v":""},{"$f":"IF($C26=\"\",\"\",SUM(OFFSET('General Calc'!$F$26,MATCH($D26,'General Calc'!$E$26:$E$112,0),MATCH($C26,'General Calc'!$G$26:$Z$26,0),MAX(Criteria!$M:$M),1)*OFFSET(Scoring!$E$4,1,MATCH(M$4,Scoring!$F$4:$Z$4,0),MAX(Criteria!$M:$M),)))","v":""},{"$f":"IF($C26=\"\",\"\",SUM(OFFSET('General Calc'!$F$26,MATCH($D26,'General Calc'!$E$26:$E$112,0),MATCH($C26,'General Calc'!$G$26:$Z$26,0),MAX(Criteria!$M:$M),1)*OFFSET(Scoring!$E$4,1,MATCH(N$4,Scoring!$F$4:$Z$4,0),MAX(Criteria!$M:$M),)))","v":""},{"$f":"IF($C26=\"\",\"\",SUM(OFFSET('General Calc'!$F$26,MATCH($D26,'General Calc'!$E$26:$E$112,0),MATCH($C26,'General Calc'!$G$26:$Z$26,0),MAX(Criteria!$M:$M),1)*OFFSET(Scoring!$E$4,1,MATCH(O$4,Scoring!$F$4:$Z$4,0),MAX(Criteria!$M:$M),)))","v":""},{"$f":"IF($C26=\"\",\"\",SUM(OFFSET('General Calc'!$F$26,MATCH($D26,'General Calc'!$E$26:$E$112,0),MATCH($C26,'General Calc'!$G$26:$Z$26,0),MAX(Criteria!$M:$M),1)*OFFSET(Scoring!$E$4,1,MATCH(P$4,Scoring!$F$4:$Z$4,0),MAX(Criteria!$M:$M),)))","v":""},{"$f":"IF($C26=\"\",\"\",SUM(OFFSET('General Calc'!$F$26,MATCH($D26,'General Calc'!$E$26:$E$112,0),MATCH($C26,'General Calc'!$G$26:$Z$26,0),MAX(Criteria!$M:$M),1)*OFFSET(Scoring!$E$4,1,MATCH(Q$4,Scoring!$F$4:$Z$4,0),MAX(Criteria!$M:$M),)))","v":""},{"$f":"IF($C26=\"\",\"\",SUM(OFFSET('General Calc'!$F$26,MATCH($D26,'General Calc'!$E$26:$E$112,0),MATCH($C26,'General Calc'!$G$26:$Z$26,0),MAX(Criteria!$M:$M),1)*OFFSET(Scoring!$E$4,1,MATCH(R$4,Scoring!$F$4:$Z$4,0),MAX(Criteria!$M:$M),)))","v":""},{"$f":"IF($C26=\"\",\"\",SUM(OFFSET('General Calc'!$F$26,MATCH($D26,'General Calc'!$E$26:$E$112,0),MATCH($C26,'General Calc'!$G$26:$Z$26,0),MAX(Criteria!$M:$M),1)*OFFSET(Scoring!$E$4,1,MATCH(S$4,Scoring!$F$4:$Z$4,0),MAX(Criteria!$M:$M),)))","v":""},{"$f":"IF($C26=\"\",\"\",SUM(OFFSET('General Calc'!$F$26,MATCH($D26,'General Calc'!$E$26:$E$112,0),MATCH($C26,'General Calc'!$G$26:$Z$26,0),MAX(Criteria!$M:$M),1)*OFFSET(Scoring!$E$4,1,MATCH(T$4,Scoring!$F$4:$Z$4,0),MAX(Criteria!$M:$M),)))","v":""},{"$f":"IF($C26=\"\",\"\",SUM(OFFSET('General Calc'!$F$26,MATCH($D26,'General Calc'!$E$26:$E$112,0),MATCH($C26,'General Calc'!$G$26:$Z$26,0),MAX(Criteria!$M:$M),1)*OFFSET(Scoring!$E$4,1,MATCH(U$4,Scoring!$F$4:$Z$4,0),MAX(Criteria!$M:$M),)))","v":""},{"$f":"IF($C26=\"\",\"\",SUM(OFFSET('General Calc'!$F$26,MATCH($D26,'General Calc'!$E$26:$E$112,0),MATCH($C26,'General Calc'!$G$26:$Z$26,0),MAX(Criteria!$M:$M),1)*OFFSET(Scoring!$E$4,1,MATCH(V$4,Scoring!$F$4:$Z$4,0),MAX(Criteria!$M:$M),)))","v":""},{"$f":"IF($C26=\"\",\"\",SUM(OFFSET('General Calc'!$F$26,MATCH($D26,'General Calc'!$E$26:$E$112,0),MATCH($C26,'General Calc'!$G$26:$Z$26,0),MAX(Criteria!$M:$M),1)*OFFSET(Scoring!$E$4,1,MATCH(W$4,Scoring!$F$4:$Z$4,0),MAX(Criteria!$M:$M),)))","v":""},{"$f":"IF($C26=\"\",\"\",SUM(OFFSET('General Calc'!$F$26,MATCH($D26,'General Calc'!$E$26:$E$112,0),MATCH($C26,'General Calc'!$G$26:$Z$26,0),MAX(Criteria!$M:$M),1)*OFFSET(Scoring!$E$4,1,MATCH(X$4,Scoring!$F$4:$Z$4,0),MAX(Criteria!$M:$M),)))","v":""},{"$f":"IF($C26=\"\",\"\",SUM(OFFSET('General Calc'!$F$26,MATCH($D26,'General Calc'!$E$26:$E$112,0),MATCH($C26,'General Calc'!$G$26:$Z$26,0),MAX(Criteria!$M:$M),1)*OFFSET(Scoring!$E$4,1,MATCH(Y$4,Scoring!$F$4:$Z$4,0),MAX(Criteria!$M:$M),)))","v":""},"",{"$f":"IF($C26=\"\",\"\",INDEX($E$4:$Y$4,MATCH(MAX($E26:$Y26),$E26:$Y26,0)))","v":""}]
[null,3,{"$f":"IF(INDEX('Selected Criteria'!$E$6:$E$25,$B27)=0,\"\",INDEX('Selected Criteria'!$E$6:$E$25,$B27))","v":""},"",{"$f":"IF($C27=\"\",\"\",SUM(OFFSET('General Calc'!$F$26,MATCH($D27,'General Calc'!$E$26:$E$112,0),MATCH($C27,'General Calc'!$G$26:$Z$26,0),MAX(Criteria!$M:$M),1)*OFFSET(Scoring!$E$4,1,MATCH(E$4,Scoring!$F$4:$Z$4,0),MAX(Criteria!$M:$M),)))","v":""},{"$f":"IF($C27=\"\",\"\",SUM(OFFSET('General Calc'!$F$26,MATCH($D27,'General Calc'!$E$26:$E$112,0),MATCH($C27,'General Calc'!$G$26:$Z$26,0),MAX(Criteria!$M:$M),1)*OFFSET(Scoring!$E$4,1,MATCH(F$4,Scoring!$F$4:$Z$4,0),MAX(Criteria!$M:$M),)))","v":""},{"$f":"IF($C27=\"\",\"\",SUM(OFFSET('General Calc'!$F$26,MATCH($D27,'General Calc'!$E$26:$E$112,0),MATCH($C27,'General Calc'!$G$26:$Z$26,0),MAX(Criteria!$M:$M),1)*OFFSET(Scoring!$E$4,1,MATCH(G$4,Scoring!$F$4:$Z$4,0),MAX(Criteria!$M:$M),)))","v":""},{"$f":"IF($C27=\"\",\"\",SUM(OFFSET('General Calc'!$F$26,MATCH($D27,'General Calc'!$E$26:$E$112,0),MATCH($C27,'General Calc'!$G$26:$Z$26,0),MAX(Criteria!$M:$M),1)*OFFSET(Scoring!$E$4,1,MATCH(H$4,Scoring!$F$4:$Z$4,0),MAX(Criteria!$M:$M),)))","v":""},{"$f":"IF($C27=\"\",\"\",SUM(OFFSET('General Calc'!$F$26,MATCH($D27,'General Calc'!$E$26:$E$112,0),MATCH($C27,'General Calc'!$G$26:$Z$26,0),MAX(Criteria!$M:$M),1)*OFFSET(Scoring!$E$4,1,MATCH(I$4,Scoring!$F$4:$Z$4,0),MAX(Criteria!$M:$M),)))","v":""},{"$f":"IF($C27=\"\",\"\",SUM(OFFSET('General Calc'!$F$26,MATCH($D27,'General Calc'!$E$26:$E$112,0),MATCH($C27,'General Calc'!$G$26:$Z$26,0),MAX(Criteria!$M:$M),1)*OFFSET(Scoring!$E$4,1,MATCH(J$4,Scoring!$F$4:$Z$4,0),MAX(Criteria!$M:$M),)))","v":""},{"$f":"IF($C27=\"\",\"\",SUM(OFFSET('General Calc'!$F$26,MATCH($D27,'General Calc'!$E$26:$E$112,0),MATCH($C27,'General Calc'!$G$26:$Z$26,0),MAX(Criteria!$M:$M),1)*OFFSET(Scoring!$E$4,1,MATCH(K$4,Scoring!$F$4:$Z$4,0),MAX(Criteria!$M:$M),)))","v":""},{"$f":"IF($C27=\"\",\"\",SUM(OFFSET('General Calc'!$F$26,MATCH($D27,'General Calc'!$E$26:$E$112,0),MATCH($C27,'General Calc'!$G$26:$Z$26,0),MAX(Criteria!$M:$M),1)*OFFSET(Scoring!$E$4,1,MATCH(L$4,Scoring!$F$4:$Z$4,0),MAX(Criteria!$M:$M),)))","v":""},{"$f":"IF($C27=\"\",\"\",SUM(OFFSET('General Calc'!$F$26,MATCH($D27,'General Calc'!$E$26:$E$112,0),MATCH($C27,'General Calc'!$G$26:$Z$26,0),MAX(Criteria!$M:$M),1)*OFFSET(Scoring!$E$4,1,MATCH(M$4,Scoring!$F$4:$Z$4,0),MAX(Criteria!$M:$M),)))","v":""},{"$f":"IF($C27=\"\",\"\",SUM(OFFSET('General Calc'!$F$26,MATCH($D27,'General Calc'!$E$26:$E$112,0),MATCH($C27,'General Calc'!$G$26:$Z$26,0),MAX(Criteria!$M:$M),1)*OFFSET(Scoring!$E$4,1,MATCH(N$4,Scoring!$F$4:$Z$4,0),MAX(Criteria!$M:$M),)))","v":""},{"$f":"IF($C27=\"\",\"\",SUM(OFFSET('General Calc'!$F$26,MATCH($D27,'General Calc'!$E$26:$E$112,0),MATCH($C27,'General Calc'!$G$26:$Z$26,0),MAX(Criteria!$M:$M),1)*OFFSET(Scoring!$E$4,1,MATCH(O$4,Scoring!$F$4:$Z$4,0),MAX(Criteria!$M:$M),)))","v":""},{"$f":"IF($C27=\"\",\"\",SUM(OFFSET('General Calc'!$F$26,MATCH($D27,'General Calc'!$E$26:$E$112,0),MATCH($C27,'General Calc'!$G$26:$Z$26,0),MAX(Criteria!$M:$M),1)*OFFSET(Scoring!$E$4,1,MATCH(P$4,Scoring!$F$4:$Z$4,0),MAX(Criteria!$M:$M),)))","v":""},{"$f":"IF($C27=\"\",\"\",SUM(OFFSET('General Calc'!$F$26,MATCH($D27,'General Calc'!$E$26:$E$112,0),MATCH($C27,'General Calc'!$G$26:$Z$26,0),MAX(Criteria!$M:$M),1)*OFFSET(Scoring!$E$4,1,MATCH(Q$4,Scoring!$F$4:$Z$4,0),MAX(Criteria!$M:$M),)))","v":""},{"$f":"IF($C27=\"\",\"\",SUM(OFFSET('General Calc'!$F$26,MATCH($D27,'General Calc'!$E$26:$E$112,0),MATCH($C27,'General Calc'!$G$26:$Z$26,0),MAX(Criteria!$M:$M),1)*OFFSET(Scoring!$E$4,1,MATCH(R$4,Scoring!$F$4:$Z$4,0),MAX(Criteria!$M:$M),)))","v":""},{"$f":"IF($C27=\"\",\"\",SUM(OFFSET('General Calc'!$F$26,MATCH($D27,'General Calc'!$E$26:$E$112,0),MATCH($C27,'General Calc'!$G$26:$Z$26,0),MAX(Criteria!$M:$M),1)*OFFSET(Scoring!$E$4,1,MATCH(S$4,Scoring!$F$4:$Z$4,0),MAX(Criteria!$M:$M),)))","v":""},{"$f":"IF($C27=\"\",\"\",SUM(OFFSET('General Calc'!$F$26,MATCH($D27,'General Calc'!$E$26:$E$112,0),MATCH($C27,'General Calc'!$G$26:$Z$26,0),MAX(Criteria!$M:$M),1)*OFFSET(Scoring!$E$4,1,MATCH(T$4,Scoring!$F$4:$Z$4,0),MAX(Criteria!$M:$M),)))","v":""},{"$f":"IF($C27=\"\",\"\",SUM(OFFSET('General Calc'!$F$26,MATCH($D27,'General Calc'!$E$26:$E$112,0),MATCH($C27,'General Calc'!$G$26:$Z$26,0),MAX(Criteria!$M:$M),1)*OFFSET(Scoring!$E$4,1,MATCH(U$4,Scoring!$F$4:$Z$4,0),MAX(Criteria!$M:$M),)))","v":""},{"$f":"IF($C27=\"\",\"\",SUM(OFFSET('General Calc'!$F$26,MATCH($D27,'General Calc'!$E$26:$E$112,0),MATCH($C27,'General Calc'!$G$26:$Z$26,0),MAX(Criteria!$M:$M),1)*OFFSET(Scoring!$E$4,1,MATCH(V$4,Scoring!$F$4:$Z$4,0),MAX(Criteria!$M:$M),)))","v":""},{"$f":"IF($C27=\"\",\"\",SUM(OFFSET('General Calc'!$F$26,MATCH($D27,'General Calc'!$E$26:$E$112,0),MATCH($C27,'General Calc'!$G$26:$Z$26,0),MAX(Criteria!$M:$M),1)*OFFSET(Scoring!$E$4,1,MATCH(W$4,Scoring!$F$4:$Z$4,0),MAX(Criteria!$M:$M),)))","v":""},{"$f":"IF($C27=\"\",\"\",SUM(OFFSET('General Calc'!$F$26,MATCH($D27,'General Calc'!$E$26:$E$112,0),MATCH($C27,'General Calc'!$G$26:$Z$26,0),MAX(Criteria!$M:$M),1)*OFFSET(Scoring!$E$4,1,MATCH(X$4,Scoring!$F$4:$Z$4,0),MAX(Criteria!$M:$M),)))","v":""},{"$f":"IF($C27=\"\",\"\",SUM(OFFSET('General Calc'!$F$26,MATCH($D27,'General Calc'!$E$26:$E$112,0),MATCH($C27,'General Calc'!$G$26:$Z$26,0),MAX(Criteria!$M:$M),1)*OFFSET(Scoring!$E$4,1,MATCH(Y$4,Scoring!$F$4:$Z$4,0),MAX(Criteria!$M:$M),)))","v":""},"",""]
[null,4,{"$f":"IF(INDEX('Selected Criteria'!$E$6:$E$25,$B28)=0,\"\",INDEX('Selected Criteria'!$E$6:$E$25,$B28))","v":""},"",{"$f":"IF($C28=\"\",\"\",SUM(OFFSET('General Calc'!$F$26,MATCH($D28,'General Calc'!$E$26:$E$112,0),MATCH($C28,'General Calc'!$G$26:$Z$26,0),MAX(Criteria!$M:$M),1)*OFFSET(Scoring!$E$4,1,MATCH(E$4,Scoring!$F$4:$Z$4,0),MAX(Criteria!$M:$M),)))","v":""},{"$f":"IF($C28=\"\",\"\",SUM(OFFSET('General Calc'!$F$26,MATCH($D28,'General Calc'!$E$26:$E$112,0),MATCH($C28,'General Calc'!$G$26:$Z$26,0),MAX(Criteria!$M:$M),1)*OFFSET(Scoring!$E$4,1,MATCH(F$4,Scoring!$F$4:$Z$4,0),MAX(Criteria!$M:$M),)))","v":""},{"$f":"IF($C28=\"\",\"\",SUM(OFFSET('General Calc'!$F$26,MATCH($D28,'General Calc'!$E$26:$E$112,0),MATCH($C28,'General Calc'!$G$26:$Z$26,0),MAX(Criteria!$M:$M),1)*OFFSET(Scoring!$E$4,1,MATCH(G$4,Scoring!$F$4:$Z$4,0),MAX(Criteria!$M:$M),)))","v":""},{"$f":"IF($C28=\"\",\"\",SUM(OFFSET('General Calc'!$F$26,MATCH($D28,'General Calc'!$E$26:$E$112,0),MATCH($C28,'General Calc'!$G$26:$Z$26,0),MAX(Criteria!$M:$M),1)*OFFSET(Scoring!$E$4,1,MATCH(H$4,Scoring!$F$4:$Z$4,0),MAX(Criteria!$M:$M),)))","v":""},{"$f":"IF($C28=\"\",\"\",SUM(OFFSET('General Calc'!$F$26,MATCH($D28,'General Calc'!$E$26:$E$112,0),MATCH($C28,'General Calc'!$G$26:$Z$26,0),MAX(Criteria!$M:$M),1)*OFFSET(Scoring!$E$4,1,MATCH(I$4,Scoring!$F$4:$Z$4,0),MAX(Criteria!$M:$M),)))","v":""},{"$f":"IF($C28=\"\",\"\",SUM(OFFSET('General Calc'!$F$26,MATCH($D28,'General Calc'!$E$26:$E$112,0),MATCH($C28,'General Calc'!$G$26:$Z$26,0),MAX(Criteria!$M:$M),1)*OFFSET(Scoring!$E$4,1,MATCH(J$4,Scoring!$F$4:$Z$4,0),MAX(Criteria!$M:$M),)))","v":""},{"$f":"IF($C28=\"\",\"\",SUM(OFFSET('General Calc'!$F$26,MATCH($D28,'General Calc'!$E$26:$E$112,0),MATCH($C28,'General Calc'!$G$26:$Z$26,0),MAX(Criteria!$M:$M),1)*OFFSET(Scoring!$E$4,1,MATCH(K$4,Scoring!$F$4:$Z$4,0),MAX(Criteria!$M:$M),)))","v":""},{"$f":"IF($C28=\"\",\"\",SUM(OFFSET('General Calc'!$F$26,MATCH($D28,'General Calc'!$E$26:$E$112,0),MATCH($C28,'General Calc'!$G$26:$Z$26,0),MAX(Criteria!$M:$M),1)*OFFSET(Scoring!$E$4,1,MATCH(L$4,Scoring!$F$4:$Z$4,0),MAX(Criteria!$M:$M),)))","v":""},{"$f":"IF($C28=\"\",\"\",SUM(OFFSET('General Calc'!$F$26,MATCH($D28,'General Calc'!$E$26:$E$112,0),MATCH($C28,'General Calc'!$G$26:$Z$26,0),MAX(Criteria!$M:$M),1)*OFFSET(Scoring!$E$4,1,MATCH(M$4,Scoring!$F$4:$Z$4,0),MAX(Criteria!$M:$M),)))","v":""},{"$f":"IF($C28=\"\",\"\",SUM(OFFSET('General Calc'!$F$26,MATCH($D28,'General Calc'!$E$26:$E$112,0),MATCH($C28,'General Calc'!$G$26:$Z$26,0),MAX(Criteria!$M:$M),1)*OFFSET(Scoring!$E$4,1,MATCH(N$4,Scoring!$F$4:$Z$4,0),MAX(Criteria!$M:$M),)))","v":""},{"$f":"IF($C28=\"\",\"\",SUM(OFFSET('General Calc'!$F$26,MATCH($D28,'General Calc'!$E$26:$E$112,0),MATCH($C28,'General Calc'!$G$26:$Z$26,0),MAX(Criteria!$M:$M),1)*OFFSET(Scoring!$E$4,1,MATCH(O$4,Scoring!$F$4:$Z$4,0),MAX(Criteria!$M:$M),)))","v":""},{"$f":"IF($C28=\"\",\"\",SUM(OFFSET('General Calc'!$F$26,MATCH($D28,'General Calc'!$E$26:$E$112,0),MATCH($C28,'General Calc'!$G$26:$Z$26,0),MAX(Criteria!$M:$M),1)*OFFSET(Scoring!$E$4,1,MATCH(P$4,Scoring!$F$4:$Z$4,0),MAX(Criteria!$M:$M),)))","v":""},{"$f":"IF($C28=\"\",\"\",SUM(OFFSET('General Calc'!$F$26,MATCH($D28,'General Calc'!$E$26:$E$112,0),MATCH($C28,'General Calc'!$G$26:$Z$26,0),MAX(Criteria!$M:$M),1)*OFFSET(Scoring!$E$4,1,MATCH(Q$4,Scoring!$F$4:$Z$4,0),MAX(Criteria!$M:$M),)))","v":""},{"$f":"IF($C28=\"\",\"\",SUM(OFFSET('General Calc'!$F$26,MATCH($D28,'General Calc'!$E$26:$E$112,0),MATCH($C28,'General Calc'!$G$26:$Z$26,0),MAX(Criteria!$M:$M),1)*OFFSET(Scoring!$E$4,1,MATCH(R$4,Scoring!$F$4:$Z$4,0),MAX(Criteria!$M:$M),)))","v":""},{"$f":"IF($C28=\"\",\"\",SUM(OFFSET('General Calc'!$F$26,MATCH($D28,'General Calc'!$E$26:$E$112,0),MATCH($C28,'General Calc'!$G$26:$Z$26,0),MAX(Criteria!$M:$M),1)*OFFSET(Scoring!$E$4,1,MATCH(S$4,Scoring!$F$4:$Z$4,0),MAX(Criteria!$M:$M),)))","v":""},{"$f":"IF($C28=\"\",\"\",SUM(OFFSET('General Calc'!$F$26,MATCH($D28,'General Calc'!$E$26:$E$112,0),MATCH($C28,'General Calc'!$G$26:$Z$26,0),MAX(Criteria!$M:$M),1)*OFFSET(Scoring!$E$4,1,MATCH(T$4,Scoring!$F$4:$Z$4,0),MAX(Criteria!$M:$M),)))","v":""},{"$f":"IF($C28=\"\",\"\",SUM(OFFSET('General Calc'!$F$26,MATCH($D28,'General Calc'!$E$26:$E$112,0),MATCH($C28,'General Calc'!$G$26:$Z$26,0),MAX(Criteria!$M:$M),1)*OFFSET(Scoring!$E$4,1,MATCH(U$4,Scoring!$F$4:$Z$4,0),MAX(Criteria!$M:$M),)))","v":""},{"$f":"IF($C28=\"\",\"\",SUM(OFFSET('General Calc'!$F$26,MATCH($D28,'General Calc'!$E$26:$E$112,0),MATCH($C28,'General Calc'!$G$26:$Z$26,0),MAX(Criteria!$M:$M),1)*OFFSET(Scoring!$E$4,1,MATCH(V$4,Scoring!$F$4:$Z$4,0),MAX(Criteria!$M:$M),)))","v":""},{"$f":"IF($C28=\"\",\"\",SUM(OFFSET('General Calc'!$F$26,MATCH($D28,'General Calc'!$E$26:$E$112,0),MATCH($C28,'General Calc'!$G$26:$Z$26,0),MAX(Criteria!$M:$M),1)*OFFSET(Scoring!$E$4,1,MATCH(W$4,Scoring!$F$4:$Z$4,0),MAX(Criteria!$M:$M),)))","v":""},{"$f":"IF($C28=\"\",\"\",SUM(OFFSET('General Calc'!$F$26,MATCH($D28,'General Calc'!$E$26:$E$112,0),MATCH($C28,'General Calc'!$G$26:$Z$26,0),MAX(Criteria!$M:$M),1)*OFFSET(Scoring!$E$4,1,MATCH(X$4,Scoring!$F$4:$Z$4,0),MAX(Criteria!$M:$M),)))","v":""},{"$f":"IF($C28=\"\",\"\",SUM(OFFSET('General Calc'!$F$26,MATCH($D28,'General Calc'!$E$26:$E$112,0),MATCH($C28,'General Calc'!$G$26:$Z$26,0),MAX(Criteria!$M:$M),1)*OFFSET(Scoring!$E$4,1,MATCH(Y$4,Scoring!$F$4:$Z$4,0),MAX(Criteria!$M:$M),)))","v":""},"",""]
[null,5,{"$f":"IF(INDEX('Selected Criteria'!$E$6:$E$25,$B29)=0,\"\",INDEX('Selected Criteria'!$E$6:$E$25,$B29))","v":""},"",{"$f":"IF($C29=\"\",\"\",SUM(OFFSET('General Calc'!$F$26,MATCH($D29,'General Calc'!$E$26:$E$112,0),MATCH($C29,'General Calc'!$G$26:$Z$26,0),MAX(Criteria!$M:$M),1)*OFFSET(Scoring!$E$4,1,MATCH(E$4,Scoring!$F$4:$Z$4,0),MAX(Criteria!$M:$M),)))","v":""},{"$f":"IF($C29=\"\",\"\",SUM(OFFSET('General Calc'!$F$26,MATCH($D29,'General Calc'!$E$26:$E$112,0),MATCH($C29,'General Calc'!$G$26:$Z$26,0),MAX(Criteria!$M:$M),1)*OFFSET(Scoring!$E$4,1,MATCH(F$4,Scoring!$F$4:$Z$4,0),MAX(Criteria!$M:$M),)))","v":""},{"$f":"IF($C29=\"\",\"\",SUM(OFFSET('General Calc'!$F$26,MATCH($D29,'General Calc'!$E$26:$E$112,0),MATCH($C29,'General Calc'!$G$26:$Z$26,0),MAX(Criteria!$M:$M),1)*OFFSET(Scoring!$E$4,1,MATCH(G$4,Scoring!$F$4:$Z$4,0),MAX(Criteria!$M:$M),)))","v":""},{"$f":"IF($C29=\"\",\"\",SUM(OFFSET('General Calc'!$F$26,MATCH($D29,'General Calc'!$E$26:$E$112,0),MATCH($C29,'General Calc'!$G$26:$Z$26,0),MAX(Criteria!$M:$M),1)*OFFSET(Scoring!$E$4,1,MATCH(H$4,Scoring!$F$4:$Z$4,0),MAX(Criteria!$M:$M),)))","v":""},{"$f":"IF($C29=\"\",\"\",SUM(OFFSET('General Calc'!$F$26,MATCH($D29,'General Calc'!$E$26:$E$112,0),MATCH($C29,'General Calc'!$G$26:$Z$26,0),MAX(Criteria!$M:$M),1)*OFFSET(Scoring!$E$4,1,MATCH(I$4,Scoring!$F$4:$Z$4,0),MAX(Criteria!$M:$M),)))","v":""},{"$f":"IF($C29=\"\",\"\",SUM(OFFSET('General Calc'!$F$26,MATCH($D29,'General Calc'!$E$26:$E$112,0),MATCH($C29,'General Calc'!$G$26:$Z$26,0),MAX(Criteria!$M:$M),1)*OFFSET(Scoring!$E$4,1,MATCH(J$4,Scoring!$F$4:$Z$4,0),MAX(Criteria!$M:$M),)))","v":""},{"$f":"IF($C29=\"\",\"\",SUM(OFFSET('General Calc'!$F$26,MATCH($D29,'General Calc'!$E$26:$E$112,0),MATCH($C29,'General Calc'!$G$26:$Z$26,0),MAX(Criteria!$M:$M),1)*OFFSET(Scoring!$E$4,1,MATCH(K$4,Scoring!$F$4:$Z$4,0),MAX(Criteria!$M:$M),)))","v":""},{"$f":"IF($C29=\"\",\"\",SUM(OFFSET('General Calc'!$F$26,MATCH($D29,'General Calc'!$E$26:$E$112,0),MATCH($C29,'General Calc'!$G$26:$Z$26,0),MAX(Criteria!$M:$M),1)*OFFSET(Scoring!$E$4,1,MATCH(L$4,Scoring!$F$4:$Z$4,0),MAX(Criteria!$M:$M),)))","v":""},{"$f":"IF($C29=\"\",\"\",SUM(OFFSET('General Calc'!$F$26,MATCH($D29,'General Calc'!$E$26:$E$112,0),MATCH($C29,'General Calc'!$G$26:$Z$26,0),MAX(Criteria!$M:$M),1)*OFFSET(Scoring!$E$4,1,MATCH(M$4,Scoring!$F$4:$Z$4,0),MAX(Criteria!$M:$M),)))","v":""},{"$f":"IF($C29=\"\",\"\",SUM(OFFSET('General Calc'!$F$26,MATCH($D29,'General Calc'!$E$26:$E$112,0),MATCH($C29,'General Calc'!$G$26:$Z$26,0),MAX(Criteria!$M:$M),1)*OFFSET(Scoring!$E$4,1,MATCH(N$4,Scoring!$F$4:$Z$4,0),MAX(Criteria!$M:$M),)))","v":""},{"$f":"IF($C29=\"\",\"\",SUM(OFFSET('General Calc'!$F$26,MATCH($D29,'General Calc'!$E$26:$E$112,0),MATCH($C29,'General Calc'!$G$26:$Z$26,0),MAX(Criteria!$M:$M),1)*OFFSET(Scoring!$E$4,1,MATCH(O$4,Scoring!$F$4:$Z$4,0),MAX(Criteria!$M:$M),)))","v":""},{"$f":"IF($C29=\"\",\"\",SUM(OFFSET('General Calc'!$F$26,MATCH($D29,'General Calc'!$E$26:$E$112,0),MATCH($C29,'General Calc'!$G$26:$Z$26,0),MAX(Criteria!$M:$M),1)*OFFSET(Scoring!$E$4,1,MATCH(P$4,Scoring!$F$4:$Z$4,0),MAX(Criteria!$M:$M),)))","v":""},{"$f":"IF($C29=\"\",\"\",SUM(OFFSET('General Calc'!$F$26,MATCH($D29,'General Calc'!$E$26:$E$112,0),MATCH($C29,'General Calc'!$G$26:$Z$26,0),MAX(Criteria!$M:$M),1)*OFFSET(Scoring!$E$4,1,MATCH(Q$4,Scoring!$F$4:$Z$4,0),MAX(Criteria!$M:$M),)))","v":""},{"$f":"IF($C29=\"\",\"\",SUM(OFFSET('General Calc'!$F$26,MATCH($D29,'General Calc'!$E$26:$E$112,0),MATCH($C29,'General Calc'!$G$26:$Z$26,0),MAX(Criteria!$M:$M),1)*OFFSET(Scoring!$E$4,1,MATCH(R$4,Scoring!$F$4:$Z$4,0),MAX(Criteria!$M:$M),)))","v":""},{"$f":"IF($C29=\"\",\"\",SUM(OFFSET('General Calc'!$F$26,MATCH($D29,'General Calc'!$E$26:$E$112,0),MATCH($C29,'General Calc'!$G$26:$Z$26,0),MAX(Criteria!$M:$M),1)*OFFSET(Scoring!$E$4,1,MATCH(S$4,Scoring!$F$4:$Z$4,0),MAX(Criteria!$M:$M),)))","v":""},{"$f":"IF($C29=\"\",\"\",SUM(OFFSET('General Calc'!$F$26,MATCH($D29,'General Calc'!$E$26:$E$112,0),MATCH($C29,'General Calc'!$G$26:$Z$26,0),MAX(Criteria!$M:$M),1)*OFFSET(Scoring!$E$4,1,MATCH(T$4,Scoring!$F$4:$Z$4,0),MAX(Criteria!$M:$M),)))","v":""},{"$f":"IF($C29=\"\",\"\",SUM(OFFSET('General Calc'!$F$26,MATCH($D29,'General Calc'!$E$26:$E$112,0),MATCH($C29,'General Calc'!$G$26:$Z$26,0),MAX(Criteria!$M:$M),1)*OFFSET(Scoring!$E$4,1,MATCH(U$4,Scoring!$F$4:$Z$4,0),MAX(Criteria!$M:$M),)))","v":""},{"$f":"IF($C29=\"\",\"\",SUM(OFFSET('General Calc'!$F$26,MATCH($D29,'General Calc'!$E$26:$E$112,0),MATCH($C29,'General Calc'!$G$26:$Z$26,0),MAX(Criteria!$M:$M),1)*OFFSET(Scoring!$E$4,1,MATCH(V$4,Scoring!$F$4:$Z$4,0),MAX(Criteria!$M:$M),)))","v":""},{"$f":"IF($C29=\"\",\"\",SUM(OFFSET('General Calc'!$F$26,MATCH($D29,'General Calc'!$E$26:$E$112,0),MATCH($C29,'General Calc'!$G$26:$Z$26,0),MAX(Criteria!$M:$M),1)*OFFSET(Scoring!$E$4,1,MATCH(W$4,Scoring!$F$4:$Z$4,0),MAX(Criteria!$M:$M),)))","v":""},{"$f":"IF($C29=\"\",\"\",SUM(OFFSET('General Calc'!$F$26,MATCH($D29,'General Calc'!$E$26:$E$112,0),MATCH($C29,'General Calc'!$G$26:$Z$26,0),MAX(Criteria!$M:$M),1)*OFFSET(Scoring!$E$4,1,MATCH(X$4,Scoring!$F$4:$Z$4,0),MAX(Criteria!$M:$M),)))","v":""},{"$f":"IF($C29=\"\",\"\",SUM(OFFSET('General Calc'!$F$26,MATCH($D29,'General Calc'!$E$26:$E$112,0),MATCH($C29,'General Calc'!$G$26:$Z$26,0),MAX(Criteria!$M:$M),1)*OFFSET(Scoring!$E$4,1,MATCH(Y$4,Scoring!$F$4:$Z$4,0),MAX(Criteria!$M:$M),)))","v":""},"",""]
[null,6,{"$f":"IF(INDEX('Selected Criteria'!$E$6:$E$25,$B30)=0,\"\",INDEX('Selected Criteria'!$E$6:$E$25,$B30))","v":""},"",{"$f":"IF($C30=\"\",\"\",SUM(OFFSET('General Calc'!$F$26,MATCH($D30,'General Calc'!$E$26:$E$112,0),MATCH($C30,'General Calc'!$G$26:$Z$26,0),MAX(Criteria!$M:$M),1)*OFFSET(Scoring!$E$4,1,MATCH(E$4,Scoring!$F$4:$Z$4,0),MAX(Criteria!$M:$M),)))","v":""},{"$f":"IF($C30=\"\",\"\",SUM(OFFSET('General Calc'!$F$26,MATCH($D30,'General Calc'!$E$26:$E$112,0),MATCH($C30,'General Calc'!$G$26:$Z$26,0),MAX(Criteria!$M:$M),1)*OFFSET(Scoring!$E$4,1,MATCH(F$4,Scoring!$F$4:$Z$4,0),MAX(Criteria!$M:$M),)))","v":""},{"$f":"IF($C30=\"\",\"\",SUM(OFFSET('General Calc'!$F$26,MATCH($D30,'General Calc'!$E$26:$E$112,0),MATCH($C30,'General Calc'!$G$26:$Z$26,0),MAX(Criteria!$M:$M),1)*OFFSET(Scoring!$E$4,1,MATCH(G$4,Scoring!$F$4:$Z$4,0),MAX(Criteria!$M:$M),)))","v":""},{"$f":"IF($C30=\"\",\"\",SUM(OFFSET('General Calc'!$F$26,MATCH($D30,'General Calc'!$E$26:$E$112,0),MATCH($C30,'General Calc'!$G$26:$Z$26,0),MAX(Criteria!$M:$M),1)*OFFSET(Scoring!$E$4,1,MATCH(H$4,Scoring!$F$4:$Z$4,0),MAX(Criteria!$M:$M),)))","v":""},{"$f":"IF($C30=\"\",\"\",SUM(OFFSET('General Calc'!$F$26,MATCH($D30,'General Calc'!$E$26:$E$112,0),MATCH($C30,'General Calc'!$G$26:$Z$26,0),MAX(Criteria!$M:$M),1)*OFFSET(Scoring!$E$4,1,MATCH(I$4,Scoring!$F$4:$Z$4,0),MAX(Criteria!$M:$M),)))","v":""},{"$f":"IF($C30=\"\",\"\",SUM(OFFSET('General Calc'!$F$26,MATCH($D30,'General Calc'!$E$26:$E$112,0),MATCH($C30,'General Calc'!$G$26:$Z$26,0),MAX(Criteria!$M:$M),1)*OFFSET(Scoring!$E$4,1,MATCH(J$4,Scoring!$F$4:$Z$4,0),MAX(Criteria!$M:$M),)))","v":""},{"$f":"IF($C30=\"\",\"\",SUM(OFFSET('General Calc'!$F$26,MATCH($D30,'General Calc'!$E$26:$E$112,0),MATCH($C30,'General Calc'!$G$26:$Z$26,0),MAX(Criteria!$M:$M),1)*OFFSET(Scoring!$E$4,1,MATCH(K$4,Scoring!$F$4:$Z$4,0),MAX(Criteria!$M:$M),)))","v":""},{"$f":"IF($C30=\"\",\"\",SUM(OFFSET('General Calc'!$F$26,MATCH($D30,'General Calc'!$E$26:$E$112,0),MATCH($C30,'General Calc'!$G$26:$Z$26,0),MAX(Criteria!$M:$M),1)*OFFSET(Scoring!$E$4,1,MATCH(L$4,Scoring!$F$4:$Z$4,0),MAX(Criteria!$M:$M),)))","v":""},{"$f":"IF($C30=\"\",\"\",SUM(OFFSET('General Calc'!$F$26,MATCH($D30,'General Calc'!$E$26:$E$112,0),MATCH($C30,'General Calc'!$G$26:$Z$26,0),MAX(Criteria!$M:$M),1)*OFFSET(Scoring!$E$4,1,MATCH(M$4,Scoring!$F$4:$Z$4,0),MAX(Criteria!$M:$M),)))","v":""},{"$f":"IF($C30=\"\",\"\",SUM(OFFSET('General Calc'!$F$26,MATCH($D30,'General Calc'!$E$26:$E$112,0),MATCH($C30,'General Calc'!$G$26:$Z$26,0),MAX(Criteria!$M:$M),1)*OFFSET(Scoring!$E$4,1,MATCH(N$4,Scoring!$F$4:$Z$4,0),MAX(Criteria!$M:$M),)))","v":""},{"$f":"IF($C30=\"\",\"\",SUM(OFFSET('General Calc'!$F$26,MATCH($D30,'General Calc'!$E$26:$E$112,0),MATCH($C30,'General Calc'!$G$26:$Z$26,0),MAX(Criteria!$M:$M),1)*OFFSET(Scoring!$E$4,1,MATCH(O$4,Scoring!$F$4:$Z$4,0),MAX(Criteria!$M:$M),)))","v":""},{"$f":"IF($C30=\"\",\"\",SUM(OFFSET('General Calc'!$F$26,MATCH($D30,'General Calc'!$E$26:$E$112,0),MATCH($C30,'General Calc'!$G$26:$Z$26,0),MAX(Criteria!$M:$M),1)*OFFSET(Scoring!$E$4,1,MATCH(P$4,Scoring!$F$4:$Z$4,0),MAX(Criteria!$M:$M),)))","v":""},{"$f":"IF($C30=\"\",\"\",SUM(OFFSET('General Calc'!$F$26,MATCH($D30,'General Calc'!$E$26:$E$112,0),MATCH($C30,'General Calc'!$G$26:$Z$26,0),MAX(Criteria!$M:$M),1)*OFFSET(Scoring!$E$4,1,MATCH(Q$4,Scoring!$F$4:$Z$4,0),MAX(Criteria!$M:$M),)))","v":""},{"$f":"IF($C30=\"\",\"\",SUM(OFFSET('General Calc'!$F$26,MATCH($D30,'General Calc'!$E$26:$E$112,0),MATCH($C30,'General Calc'!$G$26:$Z$26,0),MAX(Criteria!$M:$M),1)*OFFSET(Scoring!$E$4,1,MATCH(R$4,Scoring!$F$4:$Z$4,0),MAX(Criteria!$M:$M),)))","v":""},{"$f":"IF($C30=\"\",\"\",SUM(OFFSET('General Calc'!$F$26,MATCH($D30,'General Calc'!$E$26:$E$112,0),MATCH($C30,'General Calc'!$G$26:$Z$26,0),MAX(Criteria!$M:$M),1)*OFFSET(Scoring!$E$4,1,MATCH(S$4,Scoring!$F$4:$Z$4,0),MAX(Criteria!$M:$M),)))","v":""},{"$f":"IF($C30=\"\",\"\",SUM(OFFSET('General Calc'!$F$26,MATCH($D30,'General Calc'!$E$26:$E$112,0),MATCH($C30,'General Calc'!$G$26:$Z$26,0),MAX(Criteria!$M:$M),1)*OFFSET(Scoring!$E$4,1,MATCH(T$4,Scoring!$F$4:$Z$4,0),MAX(Criteria!$M:$M),)))","v":""},{"$f":"IF($C30=\"\",\"\",SUM(OFFSET('General Calc'!$F$26,MATCH($D30,'General Calc'!$E$26:$E$112,0),MATCH($C30,'General Calc'!$G$26:$Z$26,0),MAX(Criteria!$M:$M),1)*OFFSET(Scoring!$E$4,1,MATCH(U$4,Scoring!$F$4:$Z$4,0),MAX(Criteria!$M:$M),)))","v":""},{"$f":"IF($C30=\"\",\"\",SUM(OFFSET('General Calc'!$F$26,MATCH($D30,'General Calc'!$E$26:$E$112,0),MATCH($C30,'General Calc'!$G$26:$Z$26,0),MAX(Criteria!$M:$M),1)*OFFSET(Scoring!$E$4,1,MATCH(V$4,Scoring!$F$4:$Z$4,0),MAX(Criteria!$M:$M),)))","v":""},{"$f":"IF($C30=\"\",\"\",SUM(OFFSET('General Calc'!$F$26,MATCH($D30,'General Calc'!$E$26:$E$112,0),MATCH($C30,'General Calc'!$G$26:$Z$26,0),MAX(Criteria!$M:$M),1)*OFFSET(Scoring!$E$4,1,MATCH(W$4,Scoring!$F$4:$Z$4,0),MAX(Criteria!$M:$M),)))","v":""},{"$f":"IF($C30=\"\",\"\",SUM(OFFSET('General Calc'!$F$26,MATCH($D30,'General Calc'!$E$26:$E$112,0),MATCH($C30,'General Calc'!$G$26:$Z$26,0),MAX(Criteria!$M:$M),1)*OFFSET(Scoring!$E$4,1,MATCH(X$4,Scoring!$F$4:$Z$4,0),MAX(Criteria!$M:$M),)))","v":""},{"$f":"IF($C30=\"\",\"\",SUM(OFFSET('General Calc'!$F$26,MATCH($D30,'General Calc'!$E$26:$E$112,0),MATCH($C30,'General Calc'!$G$26:$Z$26,0),MAX(Criteria!$M:$M),1)*OFFSET(Scoring!$E$4,1,MATCH(Y$4,Scoring!$F$4:$Z$4,0),MAX(Criteria!$M:$M),)))","v":""},"",""]
[null,7,{"$f":"IF(INDEX('Selected Criteria'!$E$6:$E$25,$B31)=0,\"\",INDEX('Selected Criteria'!$E$6:$E$25,$B31))","v":""},"",{"$f":"IF($C31=\"\",\"\",SUM(OFFSET('General Calc'!$F$26,MATCH($D31,'General Calc'!$E$26:$E$112,0),MATCH($C31,'General Calc'!$G$26:$Z$26,0),MAX(Criteria!$M:$M),1)*OFFSET(Scoring!$E$4,1,MATCH(E$4,Scoring!$F$4:$Z$4,0),MAX(Criteria!$M:$M),)))","v":""},{"$f":"IF($C31=\"\",\"\",SUM(OFFSET('General Calc'!$F$26,MATCH($D31,'General Calc'!$E$26:$E$112,0),MATCH($C31,'General Calc'!$G$26:$Z$26,0),MAX(Criteria!$M:$M),1)*OFFSET(Scoring!$E$4,1,MATCH(F$4,Scoring!$F$4:$Z$4,0),MAX(Criteria!$M:$M),)))","v":""},{"$f":"IF($C31=\"\",\"\",SUM(OFFSET('General Calc'!$F$26,MATCH($D31,'General Calc'!$E$26:$E$112,0),MATCH($C31,'General Calc'!$G$26:$Z$26,0),MAX(Criteria!$M:$M),1)*OFFSET(Scoring!$E$4,1,MATCH(G$4,Scoring!$F$4:$Z$4,0),MAX(Criteria!$M:$M),)))","v":""},{"$f":"IF($C31=\"\",\"\",SUM(OFFSET('General Calc'!$F$26,MATCH($D31,'General Calc'!$E$26:$E$112,0),MATCH($C31,'General Calc'!$G$26:$Z$26,0),MAX(Criteria!$M:$M),1)*OFFSET(Scoring!$E$4,1,MATCH(H$4,Scoring!$F$4:$Z$4,0),MAX(Criteria!$M:$M),)))","v":""},{"$f":"IF($C31=\"\",\"\",SUM(OFFSET('General Calc'!$F$26,MATCH($D31,'General Calc'!$E$26:$E$112,0),MATCH($C31,'General Calc'!$G$26:$Z$26,0),MAX(Criteria!$M:$M),1)*OFFSET(Scoring!$E$4,1,MATCH(I$4,Scoring!$F$4:$Z$4,0),MAX(Criteria!$M:$M),)))","v":""},{"$f":"IF($C31=\"\",\"\",SUM(OFFSET('General Calc'!$F$26,MATCH($D31,'General Calc'!$E$26:$E$112,0),MATCH($C31,'General Calc'!$G$26:$Z$26,0),MAX(Criteria!$M:$M),1)*OFFSET(Scoring!$E$4,1,MATCH(J$4,Scoring!$F$4:$Z$4,0),MAX(Criteria!$M:$M),)))","v":""},{"$f":"IF($C31=\"\",\"\",SUM(OFFSET('General Calc'!$F$26,MATCH($D31,'General Calc'!$E$26:$E$112,0),MATCH($C31,'General Calc'!$G$26:$Z$26,0),MAX(Criteria!$M:$M),1)*OFFSET(Scoring!$E$4,1,MATCH(K$4,Scoring!$F$4:$Z$4,0),MAX(Criteria!$M:$M),)))","v":""},{"$f":"IF($C31=\"\",\"\",SUM(OFFSET('General Calc'!$F$26,MATCH($D31,'General Calc'!$E$26:$E$112,0),MATCH($C31,'General Calc'!$G$26:$Z$26,0),MAX(Criteria!$M:$M),1)*OFFSET(Scoring!$E$4,1,MATCH(L$4,Scoring!$F$4:$Z$4,0),MAX(Criteria!$M:$M),)))","v":""},{"$f":"IF($C31=\"\",\"\",SUM(OFFSET('General Calc'!$F$26,MATCH($D31,'General Calc'!$E$26:$E$112,0),MATCH($C31,'General Calc'!$G$26:$Z$26,0),MAX(Criteria!$M:$M),1)*OFFSET(Scoring!$E$4,1,MATCH(M$4,Scoring!$F$4:$Z$4,0),MAX(Criteria!$M:$M),)))","v":""},{"$f":"IF($C31=\"\",\"\",SUM(OFFSET('General Calc'!$F$26,MATCH($D31,'General Calc'!$E$26:$E$112,0),MATCH($C31,'General Calc'!$G$26:$Z$26,0),MAX(Criteria!$M:$M),1)*OFFSET(Scoring!$E$4,1,MATCH(N$4,Scoring!$F$4:$Z$4,0),MAX(Criteria!$M:$M),)))","v":""},{"$f":"IF($C31=\"\",\"\",SUM(OFFSET('General Calc'!$F$26,MATCH($D31,'General Calc'!$E$26:$E$112,0),MATCH($C31,'General Calc'!$G$26:$Z$26,0),MAX(Criteria!$M:$M),1)*OFFSET(Scoring!$E$4,1,MATCH(O$4,Scoring!$F$4:$Z$4,0),MAX(Criteria!$M:$M),)))","v":""},{"$f":"IF($C31=\"\",\"\",SUM(OFFSET('General Calc'!$F$26,MATCH($D31,'General Calc'!$E$26:$E$112,0),MATCH($C31,'General Calc'!$G$26:$Z$26,0),MAX(Criteria!$M:$M),1)*OFFSET(Scoring!$E$4,1,MATCH(P$4,Scoring!$F$4:$Z$4,0),MAX(Criteria!$M:$M),)))","v":""},{"$f":"IF($C31=\"\",\"\",SUM(OFFSET('General Calc'!$F$26,MATCH($D31,'General Calc'!$E$26:$E$112,0),MATCH($C31,'General Calc'!$G$26:$Z$26,0),MAX(Criteria!$M:$M),1)*OFFSET(Scoring!$E$4,1,MATCH(Q$4,Scoring!$F$4:$Z$4,0),MAX(Criteria!$M:$M),)))","v":""},{"$f":"IF($C31=\"\",\"\",SUM(OFFSET('General Calc'!$F$26,MATCH($D31,'General Calc'!$E$26:$E$112,0),MATCH($C31,'General Calc'!$G$26:$Z$26,0),MAX(Criteria!$M:$M),1)*OFFSET(Scoring!$E$4,1,MATCH(R$4,Scoring!$F$4:$Z$4,0),MAX(Criteria!$M:$M),)))","v":""},{"$f":"IF($C31=\"\",\"\",SUM(OFFSET('General Calc'!$F$26,MATCH($D31,'General Calc'!$E$26:$E$112,0),MATCH($C31,'General Calc'!$G$26:$Z$26,0),MAX(Criteria!$M:$M),1)*OFFSET(Scoring!$E$4,1,MATCH(S$4,Scoring!$F$4:$Z$4,0),MAX(Criteria!$M:$M),)))","v":""},{"$f":"IF($C31=\"\",\"\",SUM(OFFSET('General Calc'!$F$26,MATCH($D31,'General Calc'!$E$26:$E$112,0),MATCH($C31,'General Calc'!$G$26:$Z$26,0),MAX(Criteria!$M:$M),1)*OFFSET(Scoring!$E$4,1,MATCH(T$4,Scoring!$F$4:$Z$4,0),MAX(Criteria!$M:$M),)))","v":""},{"$f":"IF($C31=\"\",\"\",SUM(OFFSET('General Calc'!$F$26,MATCH($D31,'General Calc'!$E$26:$E$112,0),MATCH($C31,'General Calc'!$G$26:$Z$26,0),MAX(Criteria!$M:$M),1)*OFFSET(Scoring!$E$4,1,MATCH(U$4,Scoring!$F$4:$Z$4,0),MAX(Criteria!$M:$M),)))","v":""},{"$f":"IF($C31=\"\",\"\",SUM(OFFSET('General Calc'!$F$26,MATCH($D31,'General Calc'!$E$26:$E$112,0),MATCH($C31,'General Calc'!$G$26:$Z$26,0),MAX(Criteria!$M:$M),1)*OFFSET(Scoring!$E$4,1,MATCH(V$4,Scoring!$F$4:$Z$4,0),MAX(Criteria!$M:$M),)))","v":""},{"$f":"IF($C31=\"\",\"\",SUM(OFFSET('General Calc'!$F$26,MATCH($D31,'General Calc'!$E$26:$E$112,0),MATCH($C31,'General Calc'!$G$26:$Z$26,0),MAX(Criteria!$M:$M),1)*OFFSET(Scoring!$E$4,1,MATCH(W$4,Scoring!$F$4:$Z$4,0),MAX(Criteria!$M:$M),)))","v":""},{"$f":"IF($C31=\"\",\"\",SUM(OFFSET('General Calc'!$F$26,MATCH($D31,'General Calc'!$E$26:$E$112,0),MATCH($C31,'General Calc'!$G$26:$Z$26,0),MAX(Criteria!$M:$M),1)*OFFSET(Scoring!$E$4,1,MATCH(X$4,Scoring!$F$4:$Z$4,0),MAX(Criteria!$M:$M),)))","v":""},{"$f":"IF($C31=\"\",\"\",SUM(OFFSET('General Calc'!$F$26,MATCH($D31,'General Calc'!$E$26:$E$112,0),MATCH($C31,'General Calc'!$G$26:$Z$26,0),MAX(Criteria!$M:$M),1)*OFFSET(Scoring!$E$4,1,MATCH(Y$4,Scoring!$F$4:$Z$4,0),MAX(Criteria!$M:$M),)))","v":""},"",""]
[null,8,{"$f":"IF(INDEX('Selected Criteria'!$E$6:$E$25,$B32)=0,\"\",INDEX('Selected Criteria'!$E$6:$E$25,$B32))","v":""},"",{"$f":"IF($C32=\"\",\"\",SUM(OFFSET('General Calc'!$F$26,MATCH($D32,'General Calc'!$E$26:$E$112,0),MATCH($C32,'General Calc'!$G$26:$Z$26,0),MAX(Criteria!$M:$M),1)*OFFSET(Scoring!$E$4,1,MATCH(E$4,Scoring!$F$4:$Z$4,0),MAX(Criteria!$M:$M),)))","v":""},{"$f":"IF($C32=\"\",\"\",SUM(OFFSET('General Calc'!$F$26,MATCH($D32,'General Calc'!$E$26:$E$112,0),MATCH($C32,'General Calc'!$G$26:$Z$26,0),MAX(Criteria!$M:$M),1)*OFFSET(Scoring!$E$4,1,MATCH(F$4,Scoring!$F$4:$Z$4,0),MAX(Criteria!$M:$M),)))","v":""},{"$f":"IF($C32=\"\",\"\",SUM(OFFSET('General Calc'!$F$26,MATCH($D32,'General Calc'!$E$26:$E$112,0),MATCH($C32,'General Calc'!$G$26:$Z$26,0),MAX(Criteria!$M:$M),1)*OFFSET(Scoring!$E$4,1,MATCH(G$4,Scoring!$F$4:$Z$4,0),MAX(Criteria!$M:$M),)))","v":""},{"$f":"IF($C32=\"\",\"\",SUM(OFFSET('General Calc'!$F$26,MATCH($D32,'General Calc'!$E$26:$E$112,0),MATCH($C32,'General Calc'!$G$26:$Z$26,0),MAX(Criteria!$M:$M),1)*OFFSET(Scoring!$E$4,1,MATCH(H$4,Scoring!$F$4:$Z$4,0),MAX(Criteria!$M:$M),)))","v":""},{"$f":"IF($C32=\"\",\"\",SUM(OFFSET('General Calc'!$F$26,MATCH($D32,'General Calc'!$E$26:$E$112,0),MATCH($C32,'General Calc'!$G$26:$Z$26,0),MAX(Criteria!$M:$M),1)*OFFSET(Scoring!$E$4,1,MATCH(I$4,Scoring!$F$4:$Z$4,0),MAX(Criteria!$M:$M),)))","v":""},{"$f":"IF($C32=\"\",\"\",SUM(OFFSET('General Calc'!$F$26,MATCH($D32,'General Calc'!$E$26:$E$112,0),MATCH($C32,'General Calc'!$G$26:$Z$26,0),MAX(Criteria!$M:$M),1)*OFFSET(Scoring!$E$4,1,MATCH(J$4,Scoring!$F$4:$Z$4,0),MAX(Criteria!$M:$M),)))","v":""},{"$f":"IF($C32=\"\",\"\",SUM(OFFSET('General Calc'!$F$26,MATCH($D32,'General Calc'!$E$26:$E$112,0),MATCH($C32,'General Calc'!$G$26:$Z$26,0),MAX(Criteria!$M:$M),1)*OFFSET(Scoring!$E$4,1,MATCH(K$4,Scoring!$F$4:$Z$4,0),MAX(Criteria!$M:$M),)))","v":""},{"$f":"IF($C32=\"\",\"\",SUM(OFFSET('General Calc'!$F$26,MATCH($D32,'General Calc'!$E$26:$E$112,0),MATCH($C32,'General Calc'!$G$26:$Z$26,0),MAX(Criteria!$M:$M),1)*OFFSET(Scoring!$E$4,1,MATCH(L$4,Scoring!$F$4:$Z$4,0),MAX(Criteria!$M:$M),)))","v":""},{"$f":"IF($C32=\"\",\"\",SUM(OFFSET('General Calc'!$F$26,MATCH($D32,'General Calc'!$E$26:$E$112,0),MATCH($C32,'General Calc'!$G$26:$Z$26,0),MAX(Criteria!$M:$M),1)*OFFSET(Scoring!$E$4,1,MATCH(M$4,Scoring!$F$4:$Z$4,0),MAX(Criteria!$M:$M),)))","v":""},{"$f":"IF($C32=\"\",\"\",SUM(OFFSET('General Calc'!$F$26,MATCH($D32,'General Calc'!$E$26:$E$112,0),MATCH($C32,'General Calc'!$G$26:$Z$26,0),MAX(Criteria!$M:$M),1)*OFFSET(Scoring!$E$4,1,MATCH(N$4,Scoring!$F$4:$Z$4,0),MAX(Criteria!$M:$M),)))","v":""},{"$f":"IF($C32=\"\",\"\",SUM(OFFSET('General Calc'!$F$26,MATCH($D32,'General Calc'!$E$26:$E$112,0),MATCH($C32,'General Calc'!$G$26:$Z$26,0),MAX(Criteria!$M:$M),1)*OFFSET(Scoring!$E$4,1,MATCH(O$4,Scoring!$F$4:$Z$4,0),MAX(Criteria!$M:$M),)))","v":""},{"$f":"IF($C32=\"\",\"\",SUM(OFFSET('General Calc'!$F$26,MATCH($D32,'General Calc'!$E$26:$E$112,0),MATCH($C32,'General Calc'!$G$26:$Z$26,0),MAX(Criteria!$M:$M),1)*OFFSET(Scoring!$E$4,1,MATCH(P$4,Scoring!$F$4:$Z$4,0),MAX(Criteria!$M:$M),)))","v":""},{"$f":"IF($C32=\"\",\"\",SUM(OFFSET('General Calc'!$F$26,MATCH($D32,'General Calc'!$E$26:$E$112,0),MATCH($C32,'General Calc'!$G$26:$Z$26,0),MAX(Criteria!$M:$M),1)*OFFSET(Scoring!$E$4,1,MATCH(Q$4,Scoring!$F$4:$Z$4,0),MAX(Criteria!$M:$M),)))","v":""},{"$f":"IF($C32=\"\",\"\",SUM(OFFSET('General Calc'!$F$26,MATCH($D32,'General Calc'!$E$26:$E$112,0),MATCH($C32,'General Calc'!$G$26:$Z$26,0),MAX(Criteria!$M:$M),1)*OFFSET(Scoring!$E$4,1,MATCH(R$4,Scoring!$F$4:$Z$4,0),MAX(Criteria!$M:$M),)))","v":""},{"$f":"IF($C32=\"\",\"\",SUM(OFFSET('General Calc'!$F$26,MATCH($D32,'General Calc'!$E$26:$E$112,0),MATCH($C32,'General Calc'!$G$26:$Z$26,0),MAX(Criteria!$M:$M),1)*OFFSET(Scoring!$E$4,1,MATCH(S$4,Scoring!$F$4:$Z$4,0),MAX(Criteria!$M:$M),)))","v":""},{"$f":"IF($C32=\"\",\"\",SUM(OFFSET('General Calc'!$F$26,MATCH($D32,'General Calc'!$E$26:$E$112,0),MATCH($C32,'General Calc'!$G$26:$Z$26,0),MAX(Criteria!$M:$M),1)*OFFSET(Scoring!$E$4,1,MATCH(T$4,Scoring!$F$4:$Z$4,0),MAX(Criteria!$M:$M),)))","v":""},{"$f":"IF($C32=\"\",\"\",SUM(OFFSET('General Calc'!$F$26,MATCH($D32,'General Calc'!$E$26:$E$112,0),MATCH($C32,'General Calc'!$G$26:$Z$26,0),MAX(Criteria!$M:$M),1)*OFFSET(Scoring!$E$4,1,MATCH(U$4,Scoring!$F$4:$Z$4,0),MAX(Criteria!$M:$M),)))","v":""},{"$f":"IF($C32=\"\",\"\",SUM(OFFSET('General Calc'!$F$26,MATCH($D32,'General Calc'!$E$26:$E$112,0),MATCH($C32,'General Calc'!$G$26:$Z$26,0),MAX(Criteria!$M:$M),1)*OFFSET(Scoring!$E$4,1,MATCH(V$4,Scoring!$F$4:$Z$4,0),MAX(Criteria!$M:$M),)))","v":""},{"$f":"IF($C32=\"\",\"\",SUM(OFFSET('General Calc'!$F$26,MATCH($D32,'General Calc'!$E$26:$E$112,0),MATCH($C32,'General Calc'!$G$26:$Z$26,0),MAX(Criteria!$M:$M),1)*OFFSET(Scoring!$E$4,1,MATCH(W$4,Scoring!$F$4:$Z$4,0),MAX(Criteria!$M:$M),)))","v":""},{"$f":"IF($C32=\"\",\"\",SUM(OFFSET('General Calc'!$F$26,MATCH($D32,'General Calc'!$E$26:$E$112,0),MATCH($C32,'General Calc'!$G$26:$Z$26,0),MAX(Criteria!$M:$M),1)*OFFSET(Scoring!$E$4,1,MATCH(X$4,Scoring!$F$4:$Z$4,0),MAX(Criteria!$M:$M),)))","v":""},{"$f":"IF($C32=\"\",\"\",SUM(OFFSET('General Calc'!$F$26,MATCH($D32,'General Calc'!$E$26:$E$112,0),MATCH($C32,'General Calc'!$G$26:$Z$26,0),MAX(Criteria!$M:$M),1)*OFFSET(Scoring!$E$4,1,MATCH(Y$4,Scoring!$F$4:$Z$4,0),MAX(Criteria!$M:$M),)))","v":""},"",""]
[null,9,{"$f":"IF(INDEX('Selected Criteria'!$E$6:$E$25,$B33)=0,\"\",INDEX('Selected Criteria'!$E$6:$E$25,$B33))","v":""},"",{"$f":"IF($C33=\"\",\"\",SUM(OFFSET('General Calc'!$F$26,MATCH($D33,'General Calc'!$E$26:$E$112,0),MATCH($C33,'General Calc'!$G$26:$Z$26,0),MAX(Criteria!$M:$M),1)*OFFSET(Scoring!$E$4,1,MATCH(E$4,Scoring!$F$4:$Z$4,0),MAX(Criteria!$M:$M),)))","v":""},{"$f":"IF($C33=\"\",\"\",SUM(OFFSET('General Calc'!$F$26,MATCH($D33,'General Calc'!$E$26:$E$112,0),MATCH($C33,'General Calc'!$G$26:$Z$26,0),MAX(Criteria!$M:$M),1)*OFFSET(Scoring!$E$4,1,MATCH(F$4,Scoring!$F$4:$Z$4,0),MAX(Criteria!$M:$M),)))","v":""},{"$f":"IF($C33=\"\",\"\",SUM(OFFSET('General Calc'!$F$26,MATCH($D33,'General Calc'!$E$26:$E$112,0),MATCH($C33,'General Calc'!$G$26:$Z$26,0),MAX(Criteria!$M:$M),1)*OFFSET(Scoring!$E$4,1,MATCH(G$4,Scoring!$F$4:$Z$4,0),MAX(Criteria!$M:$M),)))","v":""},{"$f":"IF($C33=\"\",\"\",SUM(OFFSET('General Calc'!$F$26,MATCH($D33,'General Calc'!$E$26:$E$112,0),MATCH($C33,'General Calc'!$G$26:$Z$26,0),MAX(Criteria!$M:$M),1)*OFFSET(Scoring!$E$4,1,MATCH(H$4,Scoring!$F$4:$Z$4,0),MAX(Criteria!$M:$M),)))","v":""},{"$f":"IF($C33=\"\",\"\",SUM(OFFSET('General Calc'!$F$26,MATCH($D33,'General Calc'!$E$26:$E$112,0),MATCH($C33,'General Calc'!$G$26:$Z$26,0),MAX(Criteria!$M:$M),1)*OFFSET(Scoring!$E$4,1,MATCH(I$4,Scoring!$F$4:$Z$4,0),MAX(Criteria!$M:$M),)))","v":""},{"$f":"IF($C33=\"\",\"\",SUM(OFFSET('General Calc'!$F$26,MATCH($D33,'General Calc'!$E$26:$E$112,0),MATCH($C33,'General Calc'!$G$26:$Z$26,0),MAX(Criteria!$M:$M),1)*OFFSET(Scoring!$E$4,1,MATCH(J$4,Scoring!$F$4:$Z$4,0),MAX(Criteria!$M:$M),)))","v":""},{"$f":"IF($C33=\"\",\"\",SUM(OFFSET('General Calc'!$F$26,MATCH($D33,'General Calc'!$E$26:$E$112,0),MATCH($C33,'General Calc'!$G$26:$Z$26,0),MAX(Criteria!$M:$M),1)*OFFSET(Scoring!$E$4,1,MATCH(K$4,Scoring!$F$4:$Z$4,0),MAX(Criteria!$M:$M),)))","v":""},{"$f":"IF($C33=\"\",\"\",SUM(OFFSET('General Calc'!$F$26,MATCH($D33,'General Calc'!$E$26:$E$112,0),MATCH($C33,'General Calc'!$G$26:$Z$26,0),MAX(Criteria!$M:$M),1)*OFFSET(Scoring!$E$4,1,MATCH(L$4,Scoring!$F$4:$Z$4,0),MAX(Criteria!$M:$M),)))","v":""},{"$f":"IF($C33=\"\",\"\",SUM(OFFSET('General Calc'!$F$26,MATCH($D33,'General Calc'!$E$26:$E$112,0),MATCH($C33,'General Calc'!$G$26:$Z$26,0),MAX(Criteria!$M:$M),1)*OFFSET(Scoring!$E$4,1,MATCH(M$4,Scoring!$F$4:$Z$4,0),MAX(Criteria!$M:$M),)))","v":""},{"$f":"IF($C33=\"\",\"\",SUM(OFFSET('General Calc'!$F$26,MATCH($D33,'General Calc'!$E$26:$E$112,0),MATCH($C33,'General Calc'!$G$26:$Z$26,0),MAX(Criteria!$M:$M),1)*OFFSET(Scoring!$E$4,1,MATCH(N$4,Scoring!$F$4:$Z$4,0),MAX(Criteria!$M:$M),)))","v":""},{"$f":"IF($C33=\"\",\"\",SUM(OFFSET('General Calc'!$F$26,MATCH($D33,'General Calc'!$E$26:$E$112,0),MATCH($C33,'General Calc'!$G$26:$Z$26,0),MAX(Criteria!$M:$M),1)*OFFSET(Scoring!$E$4,1,MATCH(O$4,Scoring!$F$4:$Z$4,0),MAX(Criteria!$M:$M),)))","v":""},{"$f":"IF($C33=\"\",\"\",SUM(OFFSET('General Calc'!$F$26,MATCH($D33,'General Calc'!$E$26:$E$112,0),MATCH($C33,'General Calc'!$G$26:$Z$26,0),MAX(Criteria!$M:$M),1)*OFFSET(Scoring!$E$4,1,MATCH(P$4,Scoring!$F$4:$Z$4,0),MAX(Criteria!$M:$M),)))","v":""},{"$f":"IF($C33=\"\",\"\",SUM(OFFSET('General Calc'!$F$26,MATCH($D33,'General Calc'!$E$26:$E$112,0),MATCH($C33,'General Calc'!$G$26:$Z$26,0),MAX(Criteria!$M:$M),1)*OFFSET(Scoring!$E$4,1,MATCH(Q$4,Scoring!$F$4:$Z$4,0),MAX(Criteria!$M:$M),)))","v":""},{"$f":"IF($C33=\"\",\"\",SUM(OFFSET('General Calc'!$F$26,MATCH($D33,'General Calc'!$E$26:$E$112,0),MATCH($C33,'General Calc'!$G$26:$Z$26,0),MAX(Criteria!$M:$M),1)*OFFSET(Scoring!$E$4,1,MATCH(R$4,Scoring!$F$4:$Z$4,0),MAX(Criteria!$M:$M),)))","v":""},{"$f":"IF($C33=\"\",\"\",SUM(OFFSET('General Calc'!$F$26,MATCH($D33,'General Calc'!$E$26:$E$112,0),MATCH($C33,'General Calc'!$G$26:$Z$26,0),MAX(Criteria!$M:$M),1)*OFFSET(Scoring!$E$4,1,MATCH(S$4,Scoring!$F$4:$Z$4,0),MAX(Criteria!$M:$M),)))","v":""},{"$f":"IF($C33=\"\",\"\",SUM(OFFSET('General Calc'!$F$26,MATCH($D33,'General Calc'!$E$26:$E$112,0),MATCH($C33,'General Calc'!$G$26:$Z$26,0),MAX(Criteria!$M:$M),1)*OFFSET(Scoring!$E$4,1,MATCH(T$4,Scoring!$F$4:$Z$4,0),MAX(Criteria!$M:$M),)))","v":""},{"$f":"IF($C33=\"\",\"\",SUM(OFFSET('General Calc'!$F$26,MATCH($D33,'General Calc'!$E$26:$E$112,0),MATCH($C33,'General Calc'!$G$26:$Z$26,0),MAX(Criteria!$M:$M),1)*OFFSET(Scoring!$E$4,1,MATCH(U$4,Scoring!$F$4:$Z$4,0),MAX(Criteria!$M:$M),)))","v":""},{"$f":"IF($C33=\"\",\"\",SUM(OFFSET('General Calc'!$F$26,MATCH($D33,'General Calc'!$E$26:$E$112,0),MATCH($C33,'General Calc'!$G$26:$Z$26,0),MAX(Criteria!$M:$M),1)*OFFSET(Scoring!$E$4,1,MATCH(V$4,Scoring!$F$4:$Z$4,0),MAX(Criteria!$M:$M),)))","v":""},{"$f":"IF($C33=\"\",\"\",SUM(OFFSET('General Calc'!$F$26,MATCH($D33,'General Calc'!$E$26:$E$112,0),MATCH($C33,'General Calc'!$G$26:$Z$26,0),MAX(Criteria!$M:$M),1)*OFFSET(Scoring!$E$4,1,MATCH(W$4,Scoring!$F$4:$Z$4,0),MAX(Criteria!$M:$M),)))","v":""},{"$f":"IF($C33=\"\",\"\",SUM(OFFSET('General Calc'!$F$26,MATCH($D33,'General Calc'!$E$26:$E$112,0),MATCH($C33,'General Calc'!$G$26:$Z$26,0),MAX(Criteria!$M:$M),1)*OFFSET(Scoring!$E$4,1,MATCH(X$4,Scoring!$F$4:$Z$4,0),MAX(Criteria!$M:$M),)))","v":""},{"$f":"IF($C33=\"\",\"\",SUM(OFFSET('General Calc'!$F$26,MATCH($D33,'General Calc'!$E$26:$E$112,0),MATCH($C33,'General Calc'!$G$26:$Z$26,0),MAX(Criteria!$M:$M),1)*OFFSET(Scoring!$E$4,1,MATCH(Y$4,Scoring!$F$4:$Z$4,0),MAX(Criteria!$M:$M),)))","v":""},"",""]
[null,10,{"$f":"IF(INDEX('Selected Criteria'!$E$6:$E$25,$B34)=0,\"\",INDEX('Selected Criteria'!$E$6:$E$25,$B34))","v":""},"",{"$f":"IF($C34=\"\",\"\",SUM(OFFSET('General Calc'!$F$26,MATCH($D34,'General Calc'!$E$26:$E$112,0),MATCH($C34,'General Calc'!$G$26:$Z$26,0),MAX(Criteria!$M:$M),1)*OFFSET(Scoring!$E$4,1,MATCH(E$4,Scoring!$F$4:$N$4,0),MAX(Criteria!$M:$M),)))","v":""},{"$f":"IF($C34=\"\",\"\",SUM(OFFSET('General Calc'!$F$26,MATCH($D34,'General Calc'!$E$26:$E$112,0),MATCH($C34,'General Calc'!$G$26:$Z$26,0),MAX(Criteria!$M:$M),1)*OFFSET(Scoring!$E$4,1,MATCH(F$4,Scoring!$F$4:$Z$4,0),MAX(Criteria!$M:$M),)))","v":""},{"$f":"IF($C34=\"\",\"\",SUM(OFFSET('General Calc'!$F$26,MATCH($D34,'General Calc'!$E$26:$E$112,0),MATCH($C34,'General Calc'!$G$26:$Z$26,0),MAX(Criteria!$M:$M),1)*OFFSET(Scoring!$E$4,1,MATCH(G$4,Scoring!$F$4:$N$4,0),MAX(Criteria!$M:$M),)))","v":""},{"$f":"IF($C34=\"\",\"\",SUM(OFFSET('General Calc'!$F$26,MATCH($D34,'General Calc'!$E$26:$E$112,0),MATCH($C34,'General Calc'!$G$26:$Z$26,0),MAX(Criteria!$M:$M),1)*OFFSET(Scoring!$E$4,1,MATCH(H$4,Scoring!$F$4:$N$4,0),MAX(Criteria!$M:$M),)))","v":""},{"$f":"IF($C34=\"\",\"\",SUM(OFFSET('General Calc'!$F$26,MATCH($D34,'General Calc'!$E$26:$E$112,0),MATCH($C34,'General Calc'!$G$26:$Z$26,0),MAX(Criteria!$M:$M),1)*OFFSET(Scoring!$E$4,1,MATCH(I$4,Scoring!$F$4:$N$4,0),MAX(Criteria!$M:$M),)))","v":""},{"$f":"IF($C34=\"\",\"\",SUM(OFFSET('General Calc'!$F$26,MATCH($D34,'General Calc'!$E$26:$E$112,0),MATCH($C34,'General Calc'!$G$26:$Z$26,0),MAX(Criteria!$M:$M),1)*OFFSET(Scoring!$E$4,1,MATCH(J$4,Scoring!$F$4:$N$4,0),MAX(Criteria!$M:$M),)))","v":""},{"$f":"IF($C34=\"\",\"\",SUM(OFFSET('General Calc'!$F$26,MATCH($D34,'General Calc'!$E$26:$E$112,0),MATCH($C34,'General Calc'!$G$26:$Z$26,0),MAX(Criteria!$M:$M),1)*OFFSET(Scoring!$E$4,1,MATCH(K$4,Scoring!$F$4:$N$4,0),MAX(Criteria!$M:$M),)))","v":""},{"$f":"IF($C34=\"\",\"\",SUM(OFFSET('General Calc'!$F$26,MATCH($D34,'General Calc'!$E$26:$E$112,0),MATCH($C34,'General Calc'!$G$26:$Z$26,0),MAX(Criteria!$M:$M),1)*OFFSET(Scoring!$E$4,1,MATCH(L$4,Scoring!$F$4:$N$4,0),MAX(Criteria!$M:$M),)))","v":""},{"$f":"IF($C34=\"\",\"\",SUM(OFFSET('General Calc'!$F$26,MATCH($D34,'General Calc'!$E$26:$E$112,0),MATCH($C34,'General Calc'!$G$26:$Z$26,0),MAX(Criteria!$M:$M),1)*OFFSET(Scoring!$E$4,1,MATCH(M$4,Scoring!$F$4:$N$4,0),MAX(Criteria!$M:$M),)))","v":""},{"$f":"IF($C34=\"\",\"\",SUM(OFFSET('General Calc'!$F$26,MATCH($D34,'General Calc'!$E$26:$E$112,0),MATCH($C34,'General Calc'!$G$26:$Z$26,0),MAX(Criteria!$M:$M),1)*OFFSET(Scoring!$E$4,1,MATCH(N$4,Scoring!$F$4:$Z$4,0),MAX(Criteria!$M:$M),)))","v":""},{"$f":"IF($C34=\"\",\"\",SUM(OFFSET('General Calc'!$F$26,MATCH($D34,'General Calc'!$E$26:$E$112,0),MATCH($C34,'General Calc'!$G$26:$Z$26,0),MAX(Criteria!$M:$M),1)*OFFSET(Scoring!$E$4,1,MATCH(O$4,Scoring!$F$4:$Z$4,0),MAX(Criteria!$M:$M),)))","v":""},{"$f":"IF($C34=\"\",\"\",SUM(OFFSET('General Calc'!$F$26,MATCH($D34,'General Calc'!$E$26:$E$112,0),MATCH($C34,'General Calc'!$G$26:$Z$26,0),MAX(Criteria!$M:$M),1)*OFFSET(Scoring!$E$4,1,MATCH(P$4,Scoring!$F$4:$Z$4,0),MAX(Criteria!$M:$M),)))","v":""},{"$f":"IF($C34=\"\",\"\",SUM(OFFSET('General Calc'!$F$26,MATCH($D34,'General Calc'!$E$26:$E$112,0),MATCH($C34,'General Calc'!$G$26:$Z$26,0),MAX(Criteria!$M:$M),1)*OFFSET(Scoring!$E$4,1,MATCH(Q$4,Scoring!$F$4:$Z$4,0),MAX(Criteria!$M:$M),)))","v":""},{"$f":"IF($C34=\"\",\"\",SUM(OFFSET('General Calc'!$F$26,MATCH($D34,'General Calc'!$E$26:$E$112,0),MATCH($C34,'General Calc'!$G$26:$Z$26,0),MAX(Criteria!$M:$M),1)*OFFSET(Scoring!$E$4,1,MATCH(R$4,Scoring!$F$4:$Z$4,0),MAX(Criteria!$M:$M),)))","v":""},{"$f":"IF($C34=\"\",\"\",SUM(OFFSET('General Calc'!$F$26,MATCH($D34,'General Calc'!$E$26:$E$112,0),MATCH($C34,'General Calc'!$G$26:$Z$26,0),MAX(Criteria!$M:$M),1)*OFFSET(Scoring!$E$4,1,MATCH(S$4,Scoring!$F$4:$Z$4,0),MAX(Criteria!$M:$M),)))","v":""},{"$f":"IF($C34=\"\",\"\",SUM(OFFSET('General Calc'!$F$26,MATCH($D34,'General Calc'!$E$26:$E$112,0),MATCH($C34,'General Calc'!$G$26:$Z$26,0),MAX(Criteria!$M:$M),1)*OFFSET(Scoring!$E$4,1,MATCH(T$4,Scoring!$F$4:$Z$4,0),MAX(Criteria!$M:$M),)))","v":""},{"$f":"IF($C34=\"\",\"\",SUM(OFFSET('General Calc'!$F$26,MATCH($D34,'General Calc'!$E$26:$E$112,0),MATCH($C34,'General Calc'!$G$26:$Z$26,0),MAX(Criteria!$M:$M),1)*OFFSET(Scoring!$E$4,1,MATCH(U$4,Scoring!$F$4:$Z$4,0),MAX(Criteria!$M:$M),)))","v":""},{"$f":"IF($C34=\"\",\"\",SUM(OFFSET('General Calc'!$F$26,MATCH($D34,'General Calc'!$E$26:$E$112,0),MATCH($C34,'General Calc'!$G$26:$Z$26,0),MAX(Criteria!$M:$M),1)*OFFSET(Scoring!$E$4,1,MATCH(V$4,Scoring!$F$4:$Z$4,0),MAX(Criteria!$M:$M),)))","v":""},{"$f":"IF($C34=\"\",\"\",SUM(OFFSET('General Calc'!$F$26,MATCH($D34,'General Calc'!$E$26:$E$112,0),MATCH($C34,'General Calc'!$G$26:$Z$26,0),MAX(Criteria!$M:$M),1)*OFFSET(Scoring!$E$4,1,MATCH(W$4,Scoring!$F$4:$Z$4,0),MAX(Criteria!$M:$M),)))","v":""},{"$f":"IF($C34=\"\",\"\",SUM(OFFSET('General Calc'!$F$26,MATCH($D34,'General Calc'!$E$26:$E$112,0),MATCH($C34,'General Calc'!$G$26:$Z$26,0),MAX(Criteria!$M:$M),1)*OFFSET(Scoring!$E$4,1,MATCH(X$4,Scoring!$F$4:$Z$4,0),MAX(Criteria!$M:$M),)))","v":""},{"$f":"IF($C34=\"\",\"\",SUM(OFFSET('General Calc'!$F$26,MATCH($D34,'General Calc'!$E$26:$E$112,0),MATCH($C34,'General Calc'!$G$26:$Z$26,0),MAX(Criteria!$M:$M),1)*OFFSET(Scoring!$E$4,1,MATCH(Y$4,Scoring!$F$4:$Z$4,0),MAX(Criteria!$M:$M),)))","v":""},"",{"$f":"IF($C34=\"\",\"\",INDEX($E$4:$M$4,MATCH(MAX($E34:$M34),$E34:$M34,0)))","v":""}]
[null,11,{"$f":"IF(INDEX('Selected Criteria'!$E$6:$E$25,$B35)=0,\"\",INDEX('Selected Criteria'!$E$6:$E$25,$B35))","v":""},"",{"$f":"IF($C35=\"\",\"\",SUM(OFFSET('General Calc'!$F$26,MATCH($D35,'General Calc'!$E$26:$E$112,0),MATCH($C35,'General Calc'!$G$26:$Z$26,0),MAX(Criteria!$M:$M),1)*OFFSET(Scoring!$E$4,1,MATCH(E$4,Scoring!$F$4:$N$4,0),MAX(Criteria!$M:$M),)))","v":""},{"$f":"IF($C35=\"\",\"\",SUM(OFFSET('General Calc'!$F$26,MATCH($D35,'General Calc'!$E$26:$E$112,0),MATCH($C35,'General Calc'!$G$26:$Z$26,0),MAX(Criteria!$M:$M),1)*OFFSET(Scoring!$E$4,1,MATCH(F$4,Scoring!$F$4:$Z$4,0),MAX(Criteria!$M:$M),)))","v":""},{"$f":"IF($C35=\"\",\"\",SUM(OFFSET('General Calc'!$F$26,MATCH($D35,'General Calc'!$E$26:$E$112,0),MATCH($C35,'General Calc'!$G$26:$Z$26,0),MAX(Criteria!$M:$M),1)*OFFSET(Scoring!$E$4,1,MATCH(G$4,Scoring!$F$4:$N$4,0),MAX(Criteria!$M:$M),)))","v":""},{"$f":"IF($C35=\"\",\"\",SUM(OFFSET('General Calc'!$F$26,MATCH($D35,'General Calc'!$E$26:$E$112,0),MATCH($C35,'General Calc'!$G$26:$Z$26,0),MAX(Criteria!$M:$M),1)*OFFSET(Scoring!$E$4,1,MATCH(H$4,Scoring!$F$4:$N$4,0),MAX(Criteria!$M:$M),)))","v":""},{"$f":"IF($C35=\"\",\"\",SUM(OFFSET('General Calc'!$F$26,MATCH($D35,'General Calc'!$E$26:$E$112,0),MATCH($C35,'General Calc'!$G$26:$Z$26,0),MAX(Criteria!$M:$M),1)*OFFSET(Scoring!$E$4,1,MATCH(I$4,Scoring!$F$4:$N$4,0),MAX(Criteria!$M:$M),)))","v":""},{"$f":"IF($C35=\"\",\"\",SUM(OFFSET('General Calc'!$F$26,MATCH($D35,'General Calc'!$E$26:$E$112,0),MATCH($C35,'General Calc'!$G$26:$Z$26,0),MAX(Criteria!$M:$M),1)*OFFSET(Scoring!$E$4,1,MATCH(J$4,Scoring!$F$4:$N$4,0),MAX(Criteria!$M:$M),)))","v":""},{"$f":"IF($C35=\"\",\"\",SUM(OFFSET('General Calc'!$F$26,MATCH($D35,'General Calc'!$E$26:$E$112,0),MATCH($C35,'General Calc'!$G$26:$Z$26,0),MAX(Criteria!$M:$M),1)*OFFSET(Scoring!$E$4,1,MATCH(K$4,Scoring!$F$4:$N$4,0),MAX(Criteria!$M:$M),)))","v":""},{"$f":"IF($C35=\"\",\"\",SUM(OFFSET('General Calc'!$F$26,MATCH($D35,'General Calc'!$E$26:$E$112,0),MATCH($C35,'General Calc'!$G$26:$Z$26,0),MAX(Criteria!$M:$M),1)*OFFSET(Scoring!$E$4,1,MATCH(L$4,Scoring!$F$4:$N$4,0),MAX(Criteria!$M:$M),)))","v":""},{"$f":"IF($C35=\"\",\"\",SUM(OFFSET('General Calc'!$F$26,MATCH($D35,'General Calc'!$E$26:$E$112,0),MATCH($C35,'General Calc'!$G$26:$Z$26,0),MAX(Criteria!$M:$M),1)*OFFSET(Scoring!$E$4,1,MATCH(M$4,Scoring!$F$4:$N$4,0),MAX(Criteria!$M:$M),)))","v":""},{"$f":"IF($C35=\"\",\"\",SUM(OFFSET('General Calc'!$F$26,MATCH($D35,'General Calc'!$E$26:$E$112,0),MATCH($C35,'General Calc'!$G$26:$Z$26,0),MAX(Criteria!$M:$M),1)*OFFSET(Scoring!$E$4,1,MATCH(N$4,Scoring!$F$4:$Z$4,0),MAX(Criteria!$M:$M),)))","v":""},{"$f":"IF($C35=\"\",\"\",SUM(OFFSET('General Calc'!$F$26,MATCH($D35,'General Calc'!$E$26:$E$112,0),MATCH($C35,'General Calc'!$G$26:$Z$26,0),MAX(Criteria!$M:$M),1)*OFFSET(Scoring!$E$4,1,MATCH(O$4,Scoring!$F$4:$Z$4,0),MAX(Criteria!$M:$M),)))","v":""},{"$f":"IF($C35=\"\",\"\",SUM(OFFSET('General Calc'!$F$26,MATCH($D35,'General Calc'!$E$26:$E$112,0),MATCH($C35,'General Calc'!$G$26:$Z$26,0),MAX(Criteria!$M:$M),1)*OFFSET(Scoring!$E$4,1,MATCH(P$4,Scoring!$F$4:$Z$4,0),MAX(Criteria!$M:$M),)))","v":""},{"$f":"IF($C35=\"\",\"\",SUM(OFFSET('General Calc'!$F$26,MATCH($D35,'General Calc'!$E$26:$E$112,0),MATCH($C35,'General Calc'!$G$26:$Z$26,0),MAX(Criteria!$M:$M),1)*OFFSET(Scoring!$E$4,1,MATCH(Q$4,Scoring!$F$4:$Z$4,0),MAX(Criteria!$M:$M),)))","v":""},{"$f":"IF($C35=\"\",\"\",SUM(OFFSET('General Calc'!$F$26,MATCH($D35,'General Calc'!$E$26:$E$112,0),MATCH($C35,'General Calc'!$G$26:$Z$26,0),MAX(Criteria!$M:$M),1)*OFFSET(Scoring!$E$4,1,MATCH(R$4,Scoring!$F$4:$Z$4,0),MAX(Criteria!$M:$M),)))","v":""},{"$f":"IF($C35=\"\",\"\",SUM(OFFSET('General Calc'!$F$26,MATCH($D35,'General Calc'!$E$26:$E$112,0),MATCH($C35,'General Calc'!$G$26:$Z$26,0),MAX(Criteria!$M:$M),1)*OFFSET(Scoring!$E$4,1,MATCH(S$4,Scoring!$F$4:$Z$4,0),MAX(Criteria!$M:$M),)))","v":""},{"$f":"IF($C35=\"\",\"\",SUM(OFFSET('General Calc'!$F$26,MATCH($D35,'General Calc'!$E$26:$E$112,0),MATCH($C35,'General Calc'!$G$26:$Z$26,0),MAX(Criteria!$M:$M),1)*OFFSET(Scoring!$E$4,1,MATCH(T$4,Scoring!$F$4:$Z$4,0),MAX(Criteria!$M:$M),)))","v":""},{"$f":"IF($C35=\"\",\"\",SUM(OFFSET('General Calc'!$F$26,MATCH($D35,'General Calc'!$E$26:$E$112,0),MATCH($C35,'General Calc'!$G$26:$Z$26,0),MAX(Criteria!$M:$M),1)*OFFSET(Scoring!$E$4,1,MATCH(U$4,Scoring!$F$4:$Z$4,0),MAX(Criteria!$M:$M),)))","v":""},{"$f":"IF($C35=\"\",\"\",SUM(OFFSET('General Calc'!$F$26,MATCH($D35,'General Calc'!$E$26:$E$112,0),MATCH($C35,'General Calc'!$G$26:$Z$26,0),MAX(Criteria!$M:$M),1)*OFFSET(Scoring!$E$4,1,MATCH(V$4,Scoring!$F$4:$Z$4,0),MAX(Criteria!$M:$M),)))","v":""},{"$f":"IF($C35=\"\",\"\",SUM(OFFSET('General Calc'!$F$26,MATCH($D35,'General Calc'!$E$26:$E$112,0),MATCH($C35,'General Calc'!$G$26:$Z$26,0),MAX(Criteria!$M:$M),1)*OFFSET(Scoring!$E$4,1,MATCH(W$4,Scoring!$F$4:$Z$4,0),MAX(Criteria!$M:$M),)))","v":""},{"$f":"IF($C35=\"\",\"\",SUM(OFFSET('General Calc'!$F$26,MATCH($D35,'General Calc'!$E$26:$E$112,0),MATCH($C35,'General Calc'!$G$26:$Z$26,0),MAX(Criteria!$M:$M),1)*OFFSET(Scoring!$E$4,1,MATCH(X$4,Scoring!$F$4:$Z$4,0),MAX(Criteria!$M:$M),)))","v":""},{"$f":"IF($C35=\"\",\"\",SUM(OFFSET('General Calc'!$F$26,MATCH($D35,'General Calc'!$E$26:$E$112,0),MATCH($C35,'General Calc'!$G$26:$Z$26,0),MAX(Criteria!$M:$M),1)*OFFSET(Scoring!$E$4,1,MATCH(Y$4,Scoring!$F$4:$Z$4,0),MAX(Criteria!$M:$M),)))","v":""},"",{"$f":"IF($C35=\"\",\"\",INDEX($E$4:$M$4,MATCH(MAX($E35:$M35),$E35:$M35,0)))","v":""}]
[null,12,{"$f":"IF(INDEX('Selected Criteria'!$E$6:$E$25,$B36)=0,\"\",INDEX('Selected Criteria'!$E$6:$E$25,$B36))","v":""},"",{"$f":"IF($C36=\"\",\"\",SUM(OFFSET('General Calc'!$F$26,MATCH($D36,'General Calc'!$E$26:$E$112,0),MATCH($C36,'General Calc'!$G$26:$Z$26,0),MAX(Criteria!$M:$M),1)*OFFSET(Scoring!$E$4,1,MATCH(E$4,Scoring!$F$4:$N$4,0),MAX(Criteria!$M:$M),)))","v":""},{"$f":"IF($C36=\"\",\"\",SUM(OFFSET('General Calc'!$F$26,MATCH($D36,'General Calc'!$E$26:$E$112,0),MATCH($C36,'General Calc'!$G$26:$Z$26,0),MAX(Criteria!$M:$M),1)*OFFSET(Scoring!$E$4,1,MATCH(F$4,Scoring!$F$4:$Z$4,0),MAX(Criteria!$M:$M),)))","v":""},{"$f":"IF($C36=\"\",\"\",SUM(OFFSET('General Calc'!$F$26,MATCH($D36,'General Calc'!$E$26:$E$112,0),MATCH($C36,'General Calc'!$G$26:$Z$26,0),MAX(Criteria!$M:$M),1)*OFFSET(Scoring!$E$4,1,MATCH(G$4,Scoring!$F$4:$N$4,0),MAX(Criteria!$M:$M),)))","v":""},{"$f":"IF($C36=\"\",\"\",SUM(OFFSET('General Calc'!$F$26,MATCH($D36,'General Calc'!$E$26:$E$112,0),MATCH($C36,'General Calc'!$G$26:$Z$26,0),MAX(Criteria!$M:$M),1)*OFFSET(Scoring!$E$4,1,MATCH(H$4,Scoring!$F$4:$N$4,0),MAX(Criteria!$M:$M),)))","v":""},{"$f":"IF($C36=\"\",\"\",SUM(OFFSET('General Calc'!$F$26,MATCH($D36,'General Calc'!$E$26:$E$112,0),MATCH($C36,'General Calc'!$G$26:$Z$26,0),MAX(Criteria!$M:$M),1)*OFFSET(Scoring!$E$4,1,MATCH(I$4,Scoring!$F$4:$N$4,0),MAX(Criteria!$M:$M),)))","v":""},{"$f":"IF($C36=\"\",\"\",SUM(OFFSET('General Calc'!$F$26,MATCH($D36,'General Calc'!$E$26:$E$112,0),MATCH($C36,'General Calc'!$G$26:$Z$26,0),MAX(Criteria!$M:$M),1)*OFFSET(Scoring!$E$4,1,MATCH(J$4,Scoring!$F$4:$N$4,0),MAX(Criteria!$M:$M),)))","v":""},{"$f":"IF($C36=\"\",\"\",SUM(OFFSET('General Calc'!$F$26,MATCH($D36,'General Calc'!$E$26:$E$112,0),MATCH($C36,'General Calc'!$G$26:$Z$26,0),MAX(Criteria!$M:$M),1)*OFFSET(Scoring!$E$4,1,MATCH(K$4,Scoring!$F$4:$N$4,0),MAX(Criteria!$M:$M),)))","v":""},{"$f":"IF($C36=\"\",\"\",SUM(OFFSET('General Calc'!$F$26,MATCH($D36,'General Calc'!$E$26:$E$112,0),MATCH($C36,'General Calc'!$G$26:$Z$26,0),MAX(Criteria!$M:$M),1)*OFFSET(Scoring!$E$4,1,MATCH(L$4,Scoring!$F$4:$N$4,0),MAX(Criteria!$M:$M),)))","v":""},{"$f":"IF($C36=\"\",\"\",SUM(OFFSET('General Calc'!$F$26,MATCH($D36,'General Calc'!$E$26:$E$112,0),MATCH($C36,'General Calc'!$G$26:$Z$26,0),MAX(Criteria!$M:$M),1)*OFFSET(Scoring!$E$4,1,MATCH(M$4,Scoring!$F$4:$N$4,0),MAX(Criteria!$M:$M),)))","v":""},{"$f":"IF($C36=\"\",\"\",SUM(OFFSET('General Calc'!$F$26,MATCH($D36,'General Calc'!$E$26:$E$112,0),MATCH($C36,'General Calc'!$G$26:$Z$26,0),MAX(Criteria!$M:$M),1)*OFFSET(Scoring!$E$4,1,MATCH(N$4,Scoring!$F$4:$Z$4,0),MAX(Criteria!$M:$M),)))","v":""},{"$f":"IF($C36=\"\",\"\",SUM(OFFSET('General Calc'!$F$26,MATCH($D36,'General Calc'!$E$26:$E$112,0),MATCH($C36,'General Calc'!$G$26:$Z$26,0),MAX(Criteria!$M:$M),1)*OFFSET(Scoring!$E$4,1,MATCH(O$4,Scoring!$F$4:$Z$4,0),MAX(Criteria!$M:$M),)))","v":""},{"$f":"IF($C36=\"\",\"\",SUM(OFFSET('General Calc'!$F$26,MATCH($D36,'General Calc'!$E$26:$E$112,0),MATCH($C36,'General Calc'!$G$26:$Z$26,0),MAX(Criteria!$M:$M),1)*OFFSET(Scoring!$E$4,1,MATCH(P$4,Scoring!$F$4:$Z$4,0),MAX(Criteria!$M:$M),)))","v":""},{"$f":"IF($C36=\"\",\"\",SUM(OFFSET('General Calc'!$F$26,MATCH($D36,'General Calc'!$E$26:$E$112,0),MATCH($C36,'General Calc'!$G$26:$Z$26,0),MAX(Criteria!$M:$M),1)*OFFSET(Scoring!$E$4,1,MATCH(Q$4,Scoring!$F$4:$Z$4,0),MAX(Criteria!$M:$M),)))","v":""},{"$f":"IF($C36=\"\",\"\",SUM(OFFSET('General Calc'!$F$26,MATCH($D36,'General Calc'!$E$26:$E$112,0),MATCH($C36,'General Calc'!$G$26:$Z$26,0),MAX(Criteria!$M:$M),1)*OFFSET(Scoring!$E$4,1,MATCH(R$4,Scoring!$F$4:$Z$4,0),MAX(Criteria!$M:$M),)))","v":""},{"$f":"IF($C36=\"\",\"\",SUM(OFFSET('General Calc'!$F$26,MATCH($D36,'General Calc'!$E$26:$E$112,0),MATCH($C36,'General Calc'!$G$26:$Z$26,0),MAX(Criteria!$M:$M),1)*OFFSET(Scoring!$E$4,1,MATCH(S$4,Scoring!$F$4:$Z$4,0),MAX(Criteria!$M:$M),)))","v":""},{"$f":"IF($C36=\"\",\"\",SUM(OFFSET('General Calc'!$F$26,MATCH($D36,'General Calc'!$E$26:$E$112,0),MATCH($C36,'General Calc'!$G$26:$Z$26,0),MAX(Criteria!$M:$M),1)*OFFSET(Scoring!$E$4,1,MATCH(T$4,Scoring!$F$4:$Z$4,0),MAX(Criteria!$M:$M),)))","v":""},{"$f":"IF($C36=\"\",\"\",SUM(OFFSET('General Calc'!$F$26,MATCH($D36,'General Calc'!$E$26:$E$112,0),MATCH($C36,'General Calc'!$G$26:$Z$26,0),MAX(Criteria!$M:$M),1)*OFFSET(Scoring!$E$4,1,MATCH(U$4,Scoring!$F$4:$Z$4,0),MAX(Criteria!$M:$M),)))","v":""},{"$f":"IF($C36=\"\",\"\",SUM(OFFSET('General Calc'!$F$26,MATCH($D36,'General Calc'!$E$26:$E$112,0),MATCH($C36,'General Calc'!$G$26:$Z$26,0),MAX(Criteria!$M:$M),1)*OFFSET(Scoring!$E$4,1,MATCH(V$4,Scoring!$F$4:$Z$4,0),MAX(Criteria!$M:$M),)))","v":""},{"$f":"IF($C36=\"\",\"\",SUM(OFFSET('General Calc'!$F$26,MATCH($D36,'General Calc'!$E$26:$E$112,0),MATCH($C36,'General Calc'!$G$26:$Z$26,0),MAX(Criteria!$M:$M),1)*OFFSET(Scoring!$E$4,1,MATCH(W$4,Scoring!$F$4:$Z$4,0),MAX(Criteria!$M:$M),)))","v":""},{"$f":"IF($C36=\"\",\"\",SUM(OFFSET('General Calc'!$F$26,MATCH($D36,'General Calc'!$E$26:$E$112,0),MATCH($C36,'General Calc'!$G$26:$Z$26,0),MAX(Criteria!$M:$M),1)*OFFSET(Scoring!$E$4,1,MATCH(X$4,Scoring!$F$4:$Z$4,0),MAX(Criteria!$M:$M),)))","v":""},{"$f":"IF($C36=\"\",\"\",SUM(OFFSET('General Calc'!$F$26,MATCH($D36,'General Calc'!$E$26:$E$112,0),MATCH($C36,'General Calc'!$G$26:$Z$26,0),MAX(Criteria!$M:$M),1)*OFFSET(Scoring!$E$4,1,MATCH(Y$4,Scoring!$F$4:$Z$4,0),MAX(Criteria!$M:$M),)))","v":""},"",{"$f":"IF($C36=\"\",\"\",INDEX($E$4:$M$4,MATCH(MAX($E36:$M36),$E36:$M36,0)))","v":""}]
[null,13,{"$f":"IF(INDEX('Selected Criteria'!$E$6:$E$25,$B37)=0,\"\",INDEX('Selected Criteria'!$E$6:$E$25,$B37))","v":""},"",{"$f":"IF($C37=\"\",\"\",SUM(OFFSET('General Calc'!$F$26,MATCH($D37,'General Calc'!$E$26:$E$112,0),MATCH($C37,'General Calc'!$G$26:$Z$26,0),MAX(Criteria!$M:$M),1)*OFFSET(Scoring!$E$4,1,MATCH(E$4,Scoring!$F$4:$N$4,0),MAX(Criteria!$M:$M),)))","v":""},{"$f":"IF($C37=\"\",\"\",SUM(OFFSET('General Calc'!$F$26,MATCH($D37,'General Calc'!$E$26:$E$112,0),MATCH($C37,'General Calc'!$G$26:$Z$26,0),MAX(Criteria!$M:$M),1)*OFFSET(Scoring!$E$4,1,MATCH(F$4,Scoring!$F$4:$Z$4,0),MAX(Criteria!$M:$M),)))","v":""},{"$f":"IF($C37=\"\",\"\",SUM(OFFSET('General Calc'!$F$26,MATCH($D37,'General Calc'!$E$26:$E$112,0),MATCH($C37,'General Calc'!$G$26:$Z$26,0),MAX(Criteria!$M:$M),1)*OFFSET(Scoring!$E$4,1,MATCH(G$4,Scoring!$F$4:$N$4,0),MAX(Criteria!$M:$M),)))","v":""},{"$f":"IF($C37=\"\",\"\",SUM(OFFSET('General Calc'!$F$26,MATCH($D37,'General Calc'!$E$26:$E$112,0),MATCH($C37,'General Calc'!$G$26:$Z$26,0),MAX(Criteria!$M:$M),1)*OFFSET(Scoring!$E$4,1,MATCH(H$4,Scoring!$F$4:$N$4,0),MAX(Criteria!$M:$M),)))","v":""},{"$f":"IF($C37=\"\",\"\",SUM(OFFSET('General Calc'!$F$26,MATCH($D37,'General Calc'!$E$26:$E$112,0),MATCH($C37,'General Calc'!$G$26:$Z$26,0),MAX(Criteria!$M:$M),1)*OFFSET(Scoring!$E$4,1,MATCH(I$4,Scoring!$F$4:$N$4,0),MAX(Criteria!$M:$M),)))","v":""},{"$f":"IF($C37=\"\",\"\",SUM(OFFSET('General Calc'!$F$26,MATCH($D37,'General Calc'!$E$26:$E$112,0),MATCH($C37,'General Calc'!$G$26:$Z$26,0),MAX(Criteria!$M:$M),1)*OFFSET(Scoring!$E$4,1,MATCH(J$4,Scoring!$F$4:$N$4,0),MAX(Criteria!$M:$M),)))","v":""},{"$f":"IF($C37=\"\",\"\",SUM(OFFSET('General Calc'!$F$26,MATCH($D37,'General Calc'!$E$26:$E$112,0),MATCH($C37,'General Calc'!$G$26:$Z$26,0),MAX(Criteria!$M:$M),1)*OFFSET(Scoring!$E$4,1,MATCH(K$4,Scoring!$F$4:$N$4,0),MAX(Criteria!$M:$M),)))","v":""},{"$f":"IF($C37=\"\",\"\",SUM(OFFSET('General Calc'!$F$26,MATCH($D37,'General Calc'!$E$26:$E$112,0),MATCH($C37,'General Calc'!$G$26:$Z$26,0),MAX(Criteria!$M:$M),1)*OFFSET(Scoring!$E$4,1,MATCH(L$4,Scoring!$F$4:$N$4,0),MAX(Criteria!$M:$M),)))","v":""},{"$f":"IF($C37=\"\",\"\",SUM(OFFSET('General Calc'!$F$26,MATCH($D37,'General Calc'!$E$26:$E$112,0),MATCH($C37,'General Calc'!$G$26:$Z$26,0),MAX(Criteria!$M:$M),1)*OFFSET(Scoring!$E$4,1,MATCH(M$4,Scoring!$F$4:$N$4,0),MAX(Criteria!$M:$M),)))","v":""},{"$f":"IF($C37=\"\",\"\",SUM(OFFSET('General Calc'!$F$26,MATCH($D37,'General Calc'!$E$26:$E$112,0),MATCH($C37,'General Calc'!$G$26:$Z$26,0),MAX(Criteria!$M:$M),1)*OFFSET(Scoring!$E$4,1,MATCH(N$4,Scoring!$F$4:$Z$4,0),MAX(Criteria!$M:$M),)))","v":""},{"$f":"IF($C37=\"\",\"\",SUM(OFFSET('General Calc'!$F$26,MATCH($D37,'General Calc'!$E$26:$E$112,0),MATCH($C37,'General Calc'!$G$26:$Z$26,0),MAX(Criteria!$M:$M),1)*OFFSET(Scoring!$E$4,1,MATCH(O$4,Scoring!$F$4:$Z$4,0),MAX(Criteria!$M:$M),)))","v":""},{"$f":"IF($C37=\"\",\"\",SUM(OFFSET('General Calc'!$F$26,MATCH($D37,'General Calc'!$E$26:$E$112,0),MATCH($C37,'General Calc'!$G$26:$Z$26,0),MAX(Criteria!$M:$M),1)*OFFSET(Scoring!$E$4,1,MATCH(P$4,Scoring!$F$4:$Z$4,0),MAX(Criteria!$M:$M),)))","v":""},{"$f":"IF($C37=\"\",\"\",SUM(OFFSET('General Calc'!$F$26,MATCH($D37,'General Calc'!$E$26:$E$112,0),MATCH($C37,'General Calc'!$G$26:$Z$26,0),MAX(Criteria!$M:$M),1)*OFFSET(Scoring!$E$4,1,MATCH(Q$4,Scoring!$F$4:$Z$4,0),MAX(Criteria!$M:$M),)))","v":""},{"$f":"IF($C37=\"\",\"\",SUM(OFFSET('General Calc'!$F$26,MATCH($D37,'General Calc'!$E$26:$E$112,0),MATCH($C37,'General Calc'!$G$26:$Z$26,0),MAX(Criteria!$M:$M),1)*OFFSET(Scoring!$E$4,1,MATCH(R$4,Scoring!$F$4:$Z$4,0),MAX(Criteria!$M:$M),)))","v":""},{"$f":"IF($C37=\"\",\"\",SUM(OFFSET('General Calc'!$F$26,MATCH($D37,'General Calc'!$E$26:$E$112,0),MATCH($C37,'General Calc'!$G$26:$Z$26,0),MAX(Criteria!$M:$M),1)*OFFSET(Scoring!$E$4,1,MATCH(S$4,Scoring!$F$4:$Z$4,0),MAX(Criteria!$M:$M),)))","v":""},{"$f":"IF($C37=\"\",\"\",SUM(OFFSET('General Calc'!$F$26,MATCH($D37,'General Calc'!$E$26:$E$112,0),MATCH($C37,'General Calc'!$G$26:$Z$26,0),MAX(Criteria!$M:$M),1)*OFFSET(Scoring!$E$4,1,MATCH(T$4,Scoring!$F$4:$Z$4,0),MAX(Criteria!$M:$M),)))","v":""},{"$f":"IF($C37=\"\",\"\",SUM(OFFSET('General Calc'!$F$26,MATCH($D37,'General Calc'!$E$26:$E$112,0),MATCH($C37,'General Calc'!$G$26:$Z$26,0),MAX(Criteria!$M:$M),1)*OFFSET(Scoring!$E$4,1,MATCH(U$4,Scoring!$F$4:$Z$4,0),MAX(Criteria!$M:$M),)))","v":""},{"$f":"IF($C37=\"\",\"\",SUM(OFFSET('General Calc'!$F$26,MATCH($D37,'General Calc'!$E$26:$E$112,0),MATCH($C37,'General Calc'!$G$26:$Z$26,0),MAX(Criteria!$M:$M),1)*OFFSET(Scoring!$E$4,1,MATCH(V$4,Scoring!$F$4:$Z$4,0),MAX(Criteria!$M:$M),)))","v":""},{"$f":"IF($C37=\"\",\"\",SUM(OFFSET('General Calc'!$F$26,MATCH($D37,'General Calc'!$E$26:$E$112,0),MATCH($C37,'General Calc'!$G$26:$Z$26,0),MAX(Criteria!$M:$M),1)*OFFSET(Scoring!$E$4,1,MATCH(W$4,Scoring!$F$4:$Z$4,0),MAX(Criteria!$M:$M),)))","v":""},{"$f":"IF($C37=\"\",\"\",SUM(OFFSET('General Calc'!$F$26,MATCH($D37,'General Calc'!$E$26:$E$112,0),MATCH($C37,'General Calc'!$G$26:$Z$26,0),MAX(Criteria!$M:$M),1)*OFFSET(Scoring!$E$4,1,MATCH(X$4,Scoring!$F$4:$Z$4,0),MAX(Criteria!$M:$M),)))","v":""},{"$f":"IF($C37=\"\",\"\",SUM(OFFSET('General Calc'!$F$26,MATCH($D37,'General Calc'!$E$26:$E$112,0),MATCH($C37,'General Calc'!$G$26:$Z$26,0),MAX(Criteria!$M:$M),1)*OFFSET(Scoring!$E$4,1,MATCH(Y$4,Scoring!$F$4:$Z$4,0),MAX(Criteria!$M:$M),)))","v":""},"",{"$f":"IF($C37=\"\",\"\",INDEX($E$4:$M$4,MATCH(MAX($E37:$M37),$E37:$M37,0)))","v":""}]
[null,14,{"$f":"IF(INDEX('Selected Criteria'!$E$6:$E$25,$B38)=0,\"\",INDEX('Selected Criteria'!$E$6:$E$25,$B38))","v":""},"",{"$f":"IF($C38=\"\",\"\",SUM(OFFSET('General Calc'!$F$26,MATCH($D38,'General Calc'!$E$26:$E$112,0),MATCH($C38,'General Calc'!$G$26:$Z$26,0),MAX(Criteria!$M:$M),1)*OFFSET(Scoring!$E$4,1,MATCH(E$4,Scoring!$F$4:$N$4,0),MAX(Criteria!$M:$M),)))","v":""},{"$f":"IF($C38=\"\",\"\",SUM(OFFSET('General Calc'!$F$26,MATCH($D38,'General Calc'!$E$26:$E$112,0),MATCH($C38,'General Calc'!$G$26:$Z$26,0),MAX(Criteria!$M:$M),1)*OFFSET(Scoring!$E$4,1,MATCH(F$4,Scoring!$F$4:$Z$4,0),MAX(Criteria!$M:$M),)))","v":""},{"$f":"IF($C38=\"\",\"\",SUM(OFFSET('General Calc'!$F$26,MATCH($D38,'General Calc'!$E$26:$E$112,0),MATCH($C38,'General Calc'!$G$26:$Z$26,0),MAX(Criteria!$M:$M),1)*OFFSET(Scoring!$E$4,1,MATCH(G$4,Scoring!$F$4:$N$4,0),MAX(Criteria!$M:$M),)))","v":""},{"$f":"IF($C38=\"\",\"\",SUM(OFFSET('General Calc'!$F$26,MATCH($D38,'General Calc'!$E$26:$E$112,0),MATCH($C38,'General Calc'!$G$26:$Z$26,0),MAX(Criteria!$M:$M),1)*OFFSET(Scoring!$E$4,1,MATCH(H$4,Scoring!$F$4:$N$4,0),MAX(Criteria!$M:$M),)))","v":""},{"$f":"IF($C38=\"\",\"\",SUM(OFFSET('General Calc'!$F$26,MATCH($D38,'General Calc'!$E$26:$E$112,0),MATCH($C38,'General Calc'!$G$26:$Z$26,0),MAX(Criteria!$M:$M),1)*OFFSET(Scoring!$E$4,1,MATCH(I$4,Scoring!$F$4:$N$4,0),MAX(Criteria!$M:$M),)))","v":""},{"$f":"IF($C38=\"\",\"\",SUM(OFFSET('General Calc'!$F$26,MATCH($D38,'General Calc'!$E$26:$E$112,0),MATCH($C38,'General Calc'!$G$26:$Z$26,0),MAX(Criteria!$M:$M),1)*OFFSET(Scoring!$E$4,1,MATCH(J$4,Scoring!$F$4:$N$4,0),MAX(Criteria!$M:$M),)))","v":""},{"$f":"IF($C38=\"\",\"\",SUM(OFFSET('General Calc'!$F$26,MATCH($D38,'General Calc'!$E$26:$E$112,0),MATCH($C38,'General Calc'!$G$26:$Z$26,0),MAX(Criteria!$M:$M),1)*OFFSET(Scoring!$E$4,1,MATCH(K$4,Scoring!$F$4:$N$4,0),MAX(Criteria!$M:$M),)))","v":""},{"$f":"IF($C38=\"\",\"\",SUM(OFFSET('General Calc'!$F$26,MATCH($D38,'General Calc'!$E$26:$E$112,0),MATCH($C38,'General Calc'!$G$26:$Z$26,0),MAX(Criteria!$M:$M),1)*OFFSET(Scoring!$E$4,1,MATCH(L$4,Scoring!$F$4:$N$4,0),MAX(Criteria!$M:$M),)))","v":""},{"$f":"IF($C38=\"\",\"\",SUM(OFFSET('General Calc'!$F$26,MATCH($D38,'General Calc'!$E$26:$E$112,0),MATCH($C38,'General Calc'!$G$26:$Z$26,0),MAX(Criteria!$M:$M),1)*OFFSET(Scoring!$E$4,1,MATCH(M$4,Scoring!$F$4:$N$4,0),MAX(Criteria!$M:$M),)))","v":""},{"$f":"IF($C38=\"\",\"\",SUM(OFFSET('General Calc'!$F$26,MATCH($D38,'General Calc'!$E$26:$E$112,0),MATCH($C38,'General Calc'!$G$26:$Z$26,0),MAX(Criteria!$M:$M),1)*OFFSET(Scoring!$E$4,1,MATCH(N$4,Scoring!$F$4:$Z$4,0),MAX(Criteria!$M:$M),)))","v":""},{"$f":"IF($C38=\"\",\"\",SUM(OFFSET('General Calc'!$F$26,MATCH($D38,'General Calc'!$E$26:$E$112,0),MATCH($C38,'General Calc'!$G$26:$Z$26,0),MAX(Criteria!$M:$M),1)*OFFSET(Scoring!$E$4,1,MATCH(O$4,Scoring!$F$4:$Z$4,0),MAX(Criteria!$M:$M),)))","v":""},{"$f":"IF($C38=\"\",\"\",SUM(OFFSET('General Calc'!$F$26,MATCH($D38,'General Calc'!$E$26:$E$112,0),MATCH($C38,'General Calc'!$G$26:$Z$26,0),MAX(Criteria!$M:$M),1)*OFFSET(Scoring!$E$4,1,MATCH(P$4,Scoring!$F$4:$Z$4,0),MAX(Criteria!$M:$M),)))","v":""},{"$f":"IF($C38=\"\",\"\",SUM(OFFSET('General Calc'!$F$26,MATCH($D38,'General Calc'!$E$26:$E$112,0),MATCH($C38,'General Calc'!$G$26:$Z$26,0),MAX(Criteria!$M:$M),1)*OFFSET(Scoring!$E$4,1,MATCH(Q$4,Scoring!$F$4:$Z$4,0),MAX(Criteria!$M:$M),)))","v":""},{"$f":"IF($C38=\"\",\"\",SUM(OFFSET('General Calc'!$F$26,MATCH($D38,'General Calc'!$E$26:$E$112,0),MATCH($C38,'General Calc'!$G$26:$Z$26,0),MAX(Criteria!$M:$M),1)*OFFSET(Scoring!$E$4,1,MATCH(R$4,Scoring!$F$4:$Z$4,0),MAX(Criteria!$M:$M),)))","v":""},{"$f":"IF($C38=\"\",\"\",SUM(OFFSET('General Calc'!$F$26,MATCH($D38,'General Calc'!$E$26:$E$112,0),MATCH($C38,'General Calc'!$G$26:$Z$26,0),MAX(Criteria!$M:$M),1)*OFFSET(Scoring!$E$4,1,MATCH(S$4,Scoring!$F$4:$Z$4,0),MAX(Criteria!$M:$M),)))","v":""},{"$f":"IF($C38=\"\",\"\",SUM(OFFSET('General Calc'!$F$26,MATCH($D38,'General Calc'!$E$26:$E$112,0),MATCH($C38,'General Calc'!$G$26:$Z$26,0),MAX(Criteria!$M:$M),1)*OFFSET(Scoring!$E$4,1,MATCH(T$4,Scoring!$F$4:$Z$4,0),MAX(Criteria!$M:$M),)))","v":""},{"$f":"IF($C38=\"\",\"\",SUM(OFFSET('General Calc'!$F$26,MATCH($D38,'General Calc'!$E$26:$E$112,0),MATCH($C38,'General Calc'!$G$26:$Z$26,0),MAX(Criteria!$M:$M),1)*OFFSET(Scoring!$E$4,1,MATCH(U$4,Scoring!$F$4:$Z$4,0),MAX(Criteria!$M:$M),)))","v":""},{"$f":"IF($C38=\"\",\"\",SUM(OFFSET('General Calc'!$F$26,MATCH($D38,'General Calc'!$E$26:$E$112,0),MATCH($C38,'General Calc'!$G$26:$Z$26,0),MAX(Criteria!$M:$M),1)*OFFSET(Scoring!$E$4,1,MATCH(V$4,Scoring!$F$4:$Z$4,0),MAX(Criteria!$M:$M),)))","v":""},{"$f":"IF($C38=\"\",\"\",SUM(OFFSET('General Calc'!$F$26,MATCH($D38,'General Calc'!$E$26:$E$112,0),MATCH($C38,'General Calc'!$G$26:$Z$26,0),MAX(Criteria!$M:$M),1)*OFFSET(Scoring!$E$4,1,MATCH(W$4,Scoring!$F$4:$Z$4,0),MAX(Criteria!$M:$M),)))","v":""},{"$f":"IF($C38=\"\",\"\",SUM(OFFSET('General Calc'!$F$26,MATCH($D38,'General Calc'!$E$26:$E$112,0),MATCH($C38,'General Calc'!$G$26:$Z$26,0),MAX(Criteria!$M:$M),1)*OFFSET(Scoring!$E$4,1,MATCH(X$4,Scoring!$F$4:$Z$4,0),MAX(Criteria!$M:$M),)))","v":""},{"$f":"IF($C38=\"\",\"\",SUM(OFFSET('General Calc'!$F$26,MATCH($D38,'General Calc'!$E$26:$E$112,0),MATCH($C38,'General Calc'!$G$26:$Z$26,0),MAX(Criteria!$M:$M),1)*OFFSET(Scoring!$E$4,1,MATCH(Y$4,Scoring!$F$4:$Z$4,0),MAX(Criteria!$M:$M),)))","v":""},"",""]
[null,15,{"$f":"IF(INDEX('Selected Criteria'!$E$6:$E$25,$B39)=0,\"\",INDEX('Selected Criteria'!$E$6:$E$25,$B39))","v":""},"",{"$f":"IF($C39=\"\",\"\",SUM(OFFSET('General Calc'!$F$26,MATCH($D39,'General Calc'!$E$26:$E$112,0),MATCH($C39,'General Calc'!$G$26:$Z$26,0),MAX(Criteria!$M:$M),1)*OFFSET(Scoring!$E$4,1,MATCH(E$4,Scoring!$F$4:$N$4,0),MAX(Criteria!$M:$M),)))","v":""},{"$f":"IF($C39=\"\",\"\",SUM(OFFSET('General Calc'!$F$26,MATCH($D39,'General Calc'!$E$26:$E$112,0),MATCH($C39,'General Calc'!$G$26:$Z$26,0),MAX(Criteria!$M:$M),1)*OFFSET(Scoring!$E$4,1,MATCH(F$4,Scoring!$F$4:$Z$4,0),MAX(Criteria!$M:$M),)))","v":""},{"$f":"IF($C39=\"\",\"\",SUM(OFFSET('General Calc'!$F$26,MATCH($D39,'General Calc'!$E$26:$E$112,0),MATCH($C39,'General Calc'!$G$26:$Z$26,0),MAX(Criteria!$M:$M),1)*OFFSET(Scoring!$E$4,1,MATCH(G$4,Scoring!$F$4:$N$4,0),MAX(Criteria!$M:$M),)))","v":""},{"$f":"IF($C39=\"\",\"\",SUM(OFFSET('General Calc'!$F$26,MATCH($D39,'General Calc'!$E$26:$E$112,0),MATCH($C39,'General Calc'!$G$26:$Z$26,0),MAX(Criteria!$M:$M),1)*OFFSET(Scoring!$E$4,1,MATCH(H$4,Scoring!$F$4:$N$4,0),MAX(Criteria!$M:$M),)))","v":""},{"$f":"IF($C39=\"\",\"\",SUM(OFFSET('General Calc'!$F$26,MATCH($D39,'General Calc'!$E$26:$E$112,0),MATCH($C39,'General Calc'!$G$26:$Z$26,0),MAX(Criteria!$M:$M),1)*OFFSET(Scoring!$E$4,1,MATCH(I$4,Scoring!$F$4:$N$4,0),MAX(Criteria!$M:$M),)))","v":""},{"$f":"IF($C39=\"\",\"\",SUM(OFFSET('General Calc'!$F$26,MATCH($D39,'General Calc'!$E$26:$E$112,0),MATCH($C39,'General Calc'!$G$26:$Z$26,0),MAX(Criteria!$M:$M),1)*OFFSET(Scoring!$E$4,1,MATCH(J$4,Scoring!$F$4:$N$4,0),MAX(Criteria!$M:$M),)))","v":""},{"$f":"IF($C39=\"\",\"\",SUM(OFFSET('General Calc'!$F$26,MATCH($D39,'General Calc'!$E$26:$E$112,0),MATCH($C39,'General Calc'!$G$26:$Z$26,0),MAX(Criteria!$M:$M),1)*OFFSET(Scoring!$E$4,1,MATCH(K$4,Scoring!$F$4:$N$4,0),MAX(Criteria!$M:$M),)))","v":""},{"$f":"IF($C39=\"\",\"\",SUM(OFFSET('General Calc'!$F$26,MATCH($D39,'General Calc'!$E$26:$E$112,0),MATCH($C39,'General Calc'!$G$26:$Z$26,0),MAX(Criteria!$M:$M),1)*OFFSET(Scoring!$E$4,1,MATCH(L$4,Scoring!$F$4:$N$4,0),MAX(Criteria!$M:$M),)))","v":""},{"$f":"IF($C39=\"\",\"\",SUM(OFFSET('General Calc'!$F$26,MATCH($D39,'General Calc'!$E$26:$E$112,0),MATCH($C39,'General Calc'!$G$26:$Z$26,0),MAX(Criteria!$M:$M),1)*OFFSET(Scoring!$E$4,1,MATCH(M$4,Scoring!$F$4:$N$4,0),MAX(Criteria!$M:$M),)))","v":""},{"$f":"IF($C39=\"\",\"\",SUM(OFFSET('General Calc'!$F$26,MATCH($D39,'General Calc'!$E$26:$E$112,0),MATCH($C39,'General Calc'!$G$26:$Z$26,0),MAX(Criteria!$M:$M),1)*OFFSET(Scoring!$E$4,1,MATCH(N$4,Scoring!$F$4:$Z$4,0),MAX(Criteria!$M:$M),)))","v":""},{"$f":"IF($C39=\"\",\"\",SUM(OFFSET('General Calc'!$F$26,MATCH($D39,'General Calc'!$E$26:$E$112,0),MATCH($C39,'General Calc'!$G$26:$Z$26,0),MAX(Criteria!$M:$M),1)*OFFSET(Scoring!$E$4,1,MATCH(O$4,Scoring!$F$4:$Z$4,0),MAX(Criteria!$M:$M),)))","v":""},{"$f":"IF($C39=\"\",\"\",SUM(OFFSET('General Calc'!$F$26,MATCH($D39,'General Calc'!$E$26:$E$112,0),MATCH($C39,'General Calc'!$G$26:$Z$26,0),MAX(Criteria!$M:$M),1)*OFFSET(Scoring!$E$4,1,MATCH(P$4,Scoring!$F$4:$Z$4,0),MAX(Criteria!$M:$M),)))","v":""},{"$f":"IF($C39=\"\",\"\",SUM(OFFSET('General Calc'!$F$26,MATCH($D39,'General Calc'!$E$26:$E$112,0),MATCH($C39,'General Calc'!$G$26:$Z$26,0),MAX(Criteria!$M:$M),1)*OFFSET(Scoring!$E$4,1,MATCH(Q$4,Scoring!$F$4:$Z$4,0),MAX(Criteria!$M:$M),)))","v":""},{"$f":"IF($C39=\"\",\"\",SUM(OFFSET('General Calc'!$F$26,MATCH($D39,'General Calc'!$E$26:$E$112,0),MATCH($C39,'General Calc'!$G$26:$Z$26,0),MAX(Criteria!$M:$M),1)*OFFSET(Scoring!$E$4,1,MATCH(R$4,Scoring!$F$4:$Z$4,0),MAX(Criteria!$M:$M),)))","v":""},{"$f":"IF($C39=\"\",\"\",SUM(OFFSET('General Calc'!$F$26,MATCH($D39,'General Calc'!$E$26:$E$112,0),MATCH($C39,'General Calc'!$G$26:$Z$26,0),MAX(Criteria!$M:$M),1)*OFFSET(Scoring!$E$4,1,MATCH(S$4,Scoring!$F$4:$Z$4,0),MAX(Criteria!$M:$M),)))","v":""},{"$f":"IF($C39=\"\",\"\",SUM(OFFSET('General Calc'!$F$26,MATCH($D39,'General Calc'!$E$26:$E$112,0),MATCH($C39,'General Calc'!$G$26:$Z$26,0),MAX(Criteria!$M:$M),1)*OFFSET(Scoring!$E$4,1,MATCH(T$4,Scoring!$F$4:$Z$4,0),MAX(Criteria!$M:$M),)))","v":""},{"$f":"IF($C39=\"\",\"\",SUM(OFFSET('General Calc'!$F$26,MATCH($D39,'General Calc'!$E$26:$E$112,0),MATCH($C39,'General Calc'!$G$26:$Z$26,0),MAX(Criteria!$M:$M),1)*OFFSET(Scoring!$E$4,1,MATCH(U$4,Scoring!$F$4:$Z$4,0),MAX(Criteria!$M:$M),)))","v":""},{"$f":"IF($C39=\"\",\"\",SUM(OFFSET('General Calc'!$F$26,MATCH($D39,'General Calc'!$E$26:$E$112,0),MATCH($C39,'General Calc'!$G$26:$Z$26,0),MAX(Criteria!$M:$M),1)*OFFSET(Scoring!$E$4,1,MATCH(V$4,Scoring!$F$4:$Z$4,0),MAX(Criteria!$M:$M),)))","v":""},{"$f":"IF($C39=\"\",\"\",SUM(OFFSET('General Calc'!$F$26,MATCH($D39,'General Calc'!$E$26:$E$112,0),MATCH($C39,'General Calc'!$G$26:$Z$26,0),MAX(Criteria!$M:$M),1)*OFFSET(Scoring!$E$4,1,MATCH(W$4,Scoring!$F$4:$Z$4,0),MAX(Criteria!$M:$M),)))","v":""},{"$f":"IF($C39=\"\",\"\",SUM(OFFSET('General Calc'!$F$26,MATCH($D39,'General Calc'!$E$26:$E$112,0),MATCH($C39,'General Calc'!$G$26:$Z$26,0),MAX(Criteria!$M:$M),1)*OFFSET(Scoring!$E$4,1,MATCH(X$4,Scoring!$F$4:$Z$4,0),MAX(Criteria!$M:$M),)))","v":""},{"$f":"IF($C39=\"\",\"\",SUM(OFFSET('General Calc'!$F$26,MATCH($D39,'General Calc'!$E$26:$E$112,0),MATCH($C39,'General Calc'!$G$26:$Z$26,0),MAX(Criteria!$M:$M),1)*OFFSET(Scoring!$E$4,1,MATCH(Y$4,Scoring!$F$4:$Z$4,0),MAX(Criteria!$M:$M),)))","v":""},"",""]
[null,16,{"$f":"IF(INDEX('Selected Criteria'!$E$6:$E$25,$B40)=0,\"\",INDEX('Selected Criteria'!$E$6:$E$25,$B40))","v":""},"",{"$f":"IF($C40=\"\",\"\",SUM(OFFSET('General Calc'!$F$26,MATCH($D40,'General Calc'!$E$26:$E$112,0),MATCH($C40,'General Calc'!$G$26:$Z$26,0),MAX(Criteria!$M:$M),1)*OFFSET(Scoring!$E$4,1,MATCH(E$4,Scoring!$F$4:$N$4,0),MAX(Criteria!$M:$M),)))","v":""},{"$f":"IF($C40=\"\",\"\",SUM(OFFSET('General Calc'!$F$26,MATCH($D40,'General Calc'!$E$26:$E$112,0),MATCH($C40,'General Calc'!$G$26:$Z$26,0),MAX(Criteria!$M:$M),1)*OFFSET(Scoring!$E$4,1,MATCH(F$4,Scoring!$F$4:$Z$4,0),MAX(Criteria!$M:$M),)))","v":""},{"$f":"IF($C40=\"\",\"\",SUM(OFFSET('General Calc'!$F$26,MATCH($D40,'General Calc'!$E$26:$E$112,0),MATCH($C40,'General Calc'!$G$26:$Z$26,0),MAX(Criteria!$M:$M),1)*OFFSET(Scoring!$E$4,1,MATCH(G$4,Scoring!$F$4:$N$4,0),MAX(Criteria!$M:$M),)))","v":""},{"$f":"IF($C40=\"\",\"\",SUM(OFFSET('General Calc'!$F$26,MATCH($D40,'General Calc'!$E$26:$E$112,0),MATCH($C40,'General Calc'!$G$26:$Z$26,0),MAX(Criteria!$M:$M),1)*OFFSET(Scoring!$E$4,1,MATCH(H$4,Scoring!$F$4:$N$4,0),MAX(Criteria!$M:$M),)))","v":""},{"$f":"IF($C40=\"\",\"\",SUM(OFFSET('General Calc'!$F$26,MATCH($D40,'General Calc'!$E$26:$E$112,0),MATCH($C40,'General Calc'!$G$26:$Z$26,0),MAX(Criteria!$M:$M),1)*OFFSET(Scoring!$E$4,1,MATCH(I$4,Scoring!$F$4:$N$4,0),MAX(Criteria!$M:$M),)))","v":""},{"$f":"IF($C40=\"\",\"\",SUM(OFFSET('General Calc'!$F$26,MATCH($D40,'General Calc'!$E$26:$E$112,0),MATCH($C40,'General Calc'!$G$26:$Z$26,0),MAX(Criteria!$M:$M),1)*OFFSET(Scoring!$E$4,1,MATCH(J$4,Scoring!$F$4:$N$4,0),MAX(Criteria!$M:$M),)))","v":""},{"$f":"IF($C40=\"\",\"\",SUM(OFFSET('General Calc'!$F$26,MATCH($D40,'General Calc'!$E$26:$E$112,0),MATCH($C40,'General Calc'!$G$26:$Z$26,0),MAX(Criteria!$M:$M),1)*OFFSET(Scoring!$E$4,1,MATCH(K$4,Scoring!$F$4:$N$4,0),MAX(Criteria!$M:$M),)))","v":""},{"$f":"IF($C40=\"\",\"\",SUM(OFFSET('General Calc'!$F$26,MATCH($D40,'General Calc'!$E$26:$E$112,0),MATCH($C40,'General Calc'!$G$26:$Z$26,0),MAX(Criteria!$M:$M),1)*OFFSET(Scoring!$E$4,1,MATCH(L$4,Scoring!$F$4:$N$4,0),MAX(Criteria!$M:$M),)))","v":""},{"$f":"IF($C40=\"\",\"\",SUM(OFFSET('General Calc'!$F$26,MATCH($D40,'General Calc'!$E$26:$E$112,0),MATCH($C40,'General Calc'!$G$26:$Z$26,0),MAX(Criteria!$M:$M),1)*OFFSET(Scoring!$E$4,1,MATCH(M$4,Scoring!$F$4:$N$4,0),MAX(Criteria!$M:$M),)))","v":""},{"$f":"IF($C40=\"\",\"\",SUM(OFFSET('General Calc'!$F$26,MATCH($D40,'General Calc'!$E$26:$E$112,0),MATCH($C40,'General Calc'!$G$26:$Z$26,0),MAX(Criteria!$M:$M),1)*OFFSET(Scoring!$E$4,1,MATCH(N$4,Scoring!$F$4:$Z$4,0),MAX(Criteria!$M:$M),)))","v":""},{"$f":"IF($C40=\"\",\"\",SUM(OFFSET('General Calc'!$F$26,MATCH($D40,'General Calc'!$E$26:$E$112,0),MATCH($C40,'General Calc'!$G$26:$Z$26,0),MAX(Criteria!$M:$M),1)*OFFSET(Scoring!$E$4,1,MATCH(O$4,Scoring!$F$4:$Z$4,0),MAX(Criteria!$M:$M),)))","v":""},{"$f":"IF($C40=\"\",\"\",SUM(OFFSET('General Calc'!$F$26,MATCH($D40,'General Calc'!$E$26:$E$112,0),MATCH($C40,'General Calc'!$G$26:$Z$26,0),MAX(Criteria!$M:$M),1)*OFFSET(Scoring!$E$4,1,MATCH(P$4,Scoring!$F$4:$Z$4,0),MAX(Criteria!$M:$M),)))","v":""},{"$f":"IF($C40=\"\",\"\",SUM(OFFSET('General Calc'!$F$26,MATCH($D40,'General Calc'!$E$26:$E$112,0),MATCH($C40,'General Calc'!$G$26:$Z$26,0),MAX(Criteria!$M:$M),1)*OFFSET(Scoring!$E$4,1,MATCH(Q$4,Scoring!$F$4:$Z$4,0),MAX(Criteria!$M:$M),)))","v":""},{"$f":"IF($C40=\"\",\"\",SUM(OFFSET('General Calc'!$F$26,MATCH($D40,'General Calc'!$E$26:$E$112,0),MATCH($C40,'General Calc'!$G$26:$Z$26,0),MAX(Criteria!$M:$M),1)*OFFSET(Scoring!$E$4,1,MATCH(R$4,Scoring!$F$4:$Z$4,0),MAX(Criteria!$M:$M),)))","v":""},{"$f":"IF($C40=\"\",\"\",SUM(OFFSET('General Calc'!$F$26,MATCH($D40,'General Calc'!$E$26:$E$112,0),MATCH($C40,'General Calc'!$G$26:$Z$26,0),MAX(Criteria!$M:$M),1)*OFFSET(Scoring!$E$4,1,MATCH(S$4,Scoring!$F$4:$Z$4,0),MAX(Criteria!$M:$M),)))","v":""},{"$f":"IF($C40=\"\",\"\",SUM(OFFSET('General Calc'!$F$26,MATCH($D40,'General Calc'!$E$26:$E$112,0),MATCH($C40,'General Calc'!$G$26:$Z$26,0),MAX(Criteria!$M:$M),1)*OFFSET(Scoring!$E$4,1,MATCH(T$4,Scoring!$F$4:$Z$4,0),MAX(Criteria!$M:$M),)))","v":""},{"$f":"IF($C40=\"\",\"\",SUM(OFFSET('General Calc'!$F$26,MATCH($D40,'General Calc'!$E$26:$E$112,0),MATCH($C40,'General Calc'!$G$26:$Z$26,0),MAX(Criteria!$M:$M),1)*OFFSET(Scoring!$E$4,1,MATCH(U$4,Scoring!$F$4:$Z$4,0),MAX(Criteria!$M:$M),)))","v":""},{"$f":"IF($C40=\"\",\"\",SUM(OFFSET('General Calc'!$F$26,MATCH($D40,'General Calc'!$E$26:$E$112,0),MATCH($C40,'General Calc'!$G$26:$Z$26,0),MAX(Criteria!$M:$M),1)*OFFSET(Scoring!$E$4,1,MATCH(V$4,Scoring!$F$4:$Z$4,0),MAX(Criteria!$M:$M),)))","v":""},{"$f":"IF($C40=\"\",\"\",SUM(OFFSET('General Calc'!$F$26,MATCH($D40,'General Calc'!$E$26:$E$112,0),MATCH($C40,'General Calc'!$G$26:$Z$26,0),MAX(Criteria!$M:$M),1)*OFFSET(Scoring!$E$4,1,MATCH(W$4,Scoring!$F$4:$Z$4,0),MAX(Criteria!$M:$M),)))","v":""},{"$f":"IF($C40=\"\",\"\",SUM(OFFSET('General Calc'!$F$26,MATCH($D40,'General Calc'!$E$26:$E$112,0),MATCH($C40,'General Calc'!$G$26:$Z$26,0),MAX(Criteria!$M:$M),1)*OFFSET(Scoring!$E$4,1,MATCH(X$4,Scoring!$F$4:$Z$4,0),MAX(Criteria!$M:$M),)))","v":""},{"$f":"IF($C40=\"\",\"\",SUM(OFFSET('General Calc'!$F$26,MATCH($D40,'General Calc'!$E$26:$E$112,0),MATCH($C40,'General Calc'!$G$26:$Z$26,0),MAX(Criteria!$M:$M),1)*OFFSET(Scoring!$E$4,1,MATCH(Y$4,Scoring!$F$4:$Z$4,0),MAX(Criteria!$M:$M),)))","v":""},"",""]
[null,17,{"$f":"IF(INDEX('Selected Criteria'!$E$6:$E$25,$B41)=0,\"\",INDEX('Selected Criteria'!$E$6:$E$25,$B41))","v":""},"",{"$f":"IF($C41=\"\",\"\",SUM(OFFSET('General Calc'!$F$26,MATCH($D41,'General Calc'!$E$26:$E$112,0),MATCH($C41,'General Calc'!$G$26:$Z$26,0),MAX(Criteria!$M:$M),1)*OFFSET(Scoring!$E$4,1,MATCH(E$4,Scoring!$F$4:$N$4,0),MAX(Criteria!$M:$M),)))","v":""},{"$f":"IF($C41=\"\",\"\",SUM(OFFSET('General Calc'!$F$26,MATCH($D41,'General Calc'!$E$26:$E$112,0),MATCH($C41,'General Calc'!$G$26:$Z$26,0),MAX(Criteria!$M:$M),1)*OFFSET(Scoring!$E$4,1,MATCH(F$4,Scoring!$F$4:$Z$4,0),MAX(Criteria!$M:$M),)))","v":""},{"$f":"IF($C41=\"\",\"\",SUM(OFFSET('General Calc'!$F$26,MATCH($D41,'General Calc'!$E$26:$E$112,0),MATCH($C41,'General Calc'!$G$26:$Z$26,0),MAX(Criteria!$M:$M),1)*OFFSET(Scoring!$E$4,1,MATCH(G$4,Scoring!$F$4:$N$4,0),MAX(Criteria!$M:$M),)))","v":""},{"$f":"IF($C41=\"\",\"\",SUM(OFFSET('General Calc'!$F$26,MATCH($D41,'General Calc'!$E$26:$E$112,0),MATCH($C41,'General Calc'!$G$26:$Z$26,0),MAX(Criteria!$M:$M),1)*OFFSET(Scoring!$E$4,1,MATCH(H$4,Scoring!$F$4:$N$4,0),MAX(Criteria!$M:$M),)))","v":""},{"$f":"IF($C41=\"\",\"\",SUM(OFFSET('General Calc'!$F$26,MATCH($D41,'General Calc'!$E$26:$E$112,0),MATCH($C41,'General Calc'!$G$26:$Z$26,0),MAX(Criteria!$M:$M),1)*OFFSET(Scoring!$E$4,1,MATCH(I$4,Scoring!$F$4:$N$4,0),MAX(Criteria!$M:$M),)))","v":""},{"$f":"IF($C41=\"\",\"\",SUM(OFFSET('General Calc'!$F$26,MATCH($D41,'General Calc'!$E$26:$E$112,0),MATCH($C41,'General Calc'!$G$26:$Z$26,0),MAX(Criteria!$M:$M),1)*OFFSET(Scoring!$E$4,1,MATCH(J$4,Scoring!$F$4:$N$4,0),MAX(Criteria!$M:$M),)))","v":""},{"$f":"IF($C41=\"\",\"\",SUM(OFFSET('General Calc'!$F$26,MATCH($D41,'General Calc'!$E$26:$E$112,0),MATCH($C41,'General Calc'!$G$26:$Z$26,0),MAX(Criteria!$M:$M),1)*OFFSET(Scoring!$E$4,1,MATCH(K$4,Scoring!$F$4:$N$4,0),MAX(Criteria!$M:$M),)))","v":""},{"$f":"IF($C41=\"\",\"\",SUM(OFFSET('General Calc'!$F$26,MATCH($D41,'General Calc'!$E$26:$E$112,0),MATCH($C41,'General Calc'!$G$26:$Z$26,0),MAX(Criteria!$M:$M),1)*OFFSET(Scoring!$E$4,1,MATCH(L$4,Scoring!$F$4:$N$4,0),MAX(Criteria!$M:$M),)))","v":""},{"$f":"IF($C41=\"\",\"\",SUM(OFFSET('General Calc'!$F$26,MATCH($D41,'General Calc'!$E$26:$E$112,0),MATCH($C41,'General Calc'!$G$26:$Z$26,0),MAX(Criteria!$M:$M),1)*OFFSET(Scoring!$E$4,1,MATCH(M$4,Scoring!$F$4:$N$4,0),MAX(Criteria!$M:$M),)))","v":""},{"$f":"IF($C41=\"\",\"\",SUM(OFFSET('General Calc'!$F$26,MATCH($D41,'General Calc'!$E$26:$E$112,0),MATCH($C41,'General Calc'!$G$26:$Z$26,0),MAX(Criteria!$M:$M),1)*OFFSET(Scoring!$E$4,1,MATCH(N$4,Scoring!$F$4:$Z$4,0),MAX(Criteria!$M:$M),)))","v":""},{"$f":"IF($C41=\"\",\"\",SUM(OFFSET('General Calc'!$F$26,MATCH($D41,'General Calc'!$E$26:$E$112,0),MATCH($C41,'General Calc'!$G$26:$Z$26,0),MAX(Criteria!$M:$M),1)*OFFSET(Scoring!$E$4,1,MATCH(O$4,Scoring!$F$4:$Z$4,0),MAX(Criteria!$M:$M),)))","v":""},{"$f":"IF($C41=\"\",\"\",SUM(OFFSET('General Calc'!$F$26,MATCH($D41,'General Calc'!$E$26:$E$112,0),MATCH($C41,'General Calc'!$G$26:$Z$26,0),MAX(Criteria!$M:$M),1)*OFFSET(Scoring!$E$4,1,MATCH(P$4,Scoring!$F$4:$Z$4,0),MAX(Criteria!$M:$M),)))","v":""},{"$f":"IF($C41=\"\",\"\",SUM(OFFSET('General Calc'!$F$26,MATCH($D41,'General Calc'!$E$26:$E$112,0),MATCH($C41,'General Calc'!$G$26:$Z$26,0),MAX(Criteria!$M:$M),1)*OFFSET(Scoring!$E$4,1,MATCH(Q$4,Scoring!$F$4:$Z$4,0),MAX(Criteria!$M:$M),)))","v":""},{"$f":"IF($C41=\"\",\"\",SUM(OFFSET('General Calc'!$F$26,MATCH($D41,'General Calc'!$E$26:$E$112,0),MATCH($C41,'General Calc'!$G$26:$Z$26,0),MAX(Criteria!$M:$M),1)*OFFSET(Scoring!$E$4,1,MATCH(R$4,Scoring!$F$4:$Z$4,0),MAX(Criteria!$M:$M),)))","v":""},{"$f":"IF($C41=\"\",\"\",SUM(OFFSET('General Calc'!$F$26,MATCH($D41,'General Calc'!$E$26:$E$112,0),MATCH($C41,'General Calc'!$G$26:$Z$26,0),MAX(Criteria!$M:$M),1)*OFFSET(Scoring!$E$4,1,MATCH(S$4,Scoring!$F$4:$Z$4,0),MAX(Criteria!$M:$M),)))","v":""},{"$f":"IF($C41=\"\",\"\",SUM(OFFSET('General Calc'!$F$26,MATCH($D41,'General Calc'!$E$26:$E$112,0),MATCH($C41,'General Calc'!$G$26:$Z$26,0),MAX(Criteria!$M:$M),1)*OFFSET(Scoring!$E$4,1,MATCH(T$4,Scoring!$F$4:$Z$4,0),MAX(Criteria!$M:$M),)))","v":""},{"$f":"IF($C41=\"\",\"\",SUM(OFFSET('General Calc'!$F$26,MATCH($D41,'General Calc'!$E$26:$E$112,0),MATCH($C41,'General Calc'!$G$26:$Z$26,0),MAX(Criteria!$M:$M),1)*OFFSET(Scoring!$E$4,1,MATCH(U$4,Scoring!$F$4:$Z$4,0),MAX(Criteria!$M:$M),)))","v":""},{"$f":"IF($C41=\"\",\"\",SUM(OFFSET('General Calc'!$F$26,MATCH($D41,'General Calc'!$E$26:$E$112,0),MATCH($C41,'General Calc'!$G$26:$Z$26,0),MAX(Criteria!$M:$M),1)*OFFSET(Scoring!$E$4,1,MATCH(V$4,Scoring!$F$4:$Z$4,0),MAX(Criteria!$M:$M),)))","v":""},{"$f":"IF($C41=\"\",\"\",SUM(OFFSET('General Calc'!$F$26,MATCH($D41,'General Calc'!$E$26:$E$112,0),MATCH($C41,'General Calc'!$G$26:$Z$26,0),MAX(Criteria!$M:$M),1)*OFFSET(Scoring!$E$4,1,MATCH(W$4,Scoring!$F$4:$Z$4,0),MAX(Criteria!$M:$M),)))","v":""},{"$f":"IF($C41=\"\",\"\",SUM(OFFSET('General Calc'!$F$26,MATCH($D41,'General Calc'!$E$26:$E$112,0),MATCH($C41,'General Calc'!$G$26:$Z$26,0),MAX(Criteria!$M:$M),1)*OFFSET(Scoring!$E$4,1,MATCH(X$4,Scoring!$F$4:$Z$4,0),MAX(Criteria!$M:$M),)))","v":""},{"$f":"IF($C41=\"\",\"\",SUM(OFFSET('General Calc'!$F$26,MATCH($D41,'General Calc'!$E$26:$E$112,0),MATCH($C41,'General Calc'!$G$26:$Z$26,0),MAX(Criteria!$M:$M),1)*OFFSET(Scoring!$E$4,1,MATCH(Y$4,Scoring!$F$4:$Z$4,0),MAX(Criteria!$M:$M),)))","v":""},"",""]
[null,18,{"$f":"IF(INDEX('Selected Criteria'!$E$6:$E$25,$B42)=0,\"\",INDEX('Selected Criteria'!$E$6:$E$25,$B42))","v":""},"",{"$f":"IF($C42=\"\",\"\",SUM(OFFSET('General Calc'!$F$26,MATCH($D42,'General Calc'!$E$26:$E$112,0),MATCH($C42,'General Calc'!$G$26:$Z$26,0),MAX(Criteria!$M:$M),1)*OFFSET(Scoring!$E$4,1,MATCH(E$4,Scoring!$F$4:$N$4,0),MAX(Criteria!$M:$M),)))","v":""},{"$f":"IF($C42=\"\",\"\",SUM(OFFSET('General Calc'!$F$26,MATCH($D42,'General Calc'!$E$26:$E$112,0),MATCH($C42,'General Calc'!$G$26:$Z$26,0),MAX(Criteria!$M:$M),1)*OFFSET(Scoring!$E$4,1,MATCH(F$4,Scoring!$F$4:$Z$4,0),MAX(Criteria!$M:$M),)))","v":""},{"$f":"IF($C42=\"\",\"\",SUM(OFFSET('General Calc'!$F$26,MATCH($D42,'General Calc'!$E$26:$E$112,0),MATCH($C42,'General Calc'!$G$26:$Z$26,0),MAX(Criteria!$M:$M),1)*OFFSET(Scoring!$E$4,1,MATCH(G$4,Scoring!$F$4:$N$4,0),MAX(Criteria!$M:$M),)))","v":""},{"$f":"IF($C42=\"\",\"\",SUM(OFFSET('General Calc'!$F$26,MATCH($D42,'General Calc'!$E$26:$E$112,0),MATCH($C42,'General Calc'!$G$26:$Z$26,0),MAX(Criteria!$M:$M),1)*OFFSET(Scoring!$E$4,1,MATCH(H$4,Scoring!$F$4:$N$4,0),MAX(Criteria!$M:$M),)))","v":""},{"$f":"IF($C42=\"\",\"\",SUM(OFFSET('General Calc'!$F$26,MATCH($D42,'General Calc'!$E$26:$E$112,0),MATCH($C42,'General Calc'!$G$26:$Z$26,0),MAX(Criteria!$M:$M),1)*OFFSET(Scoring!$E$4,1,MATCH(I$4,Scoring!$F$4:$N$4,0),MAX(Criteria!$M:$M),)))","v":""},{"$f":"IF($C42=\"\",\"\",SUM(OFFSET('General Calc'!$F$26,MATCH($D42,'General Calc'!$E$26:$E$112,0),MATCH($C42,'General Calc'!$G$26:$Z$26,0),MAX(Criteria!$M:$M),1)*OFFSET(Scoring!$E$4,1,MATCH(J$4,Scoring!$F$4:$N$4,0),MAX(Criteria!$M:$M),)))","v":""},{"$f":"IF($C42=\"\",\"\",SUM(OFFSET('General Calc'!$F$26,MATCH($D42,'General Calc'!$E$26:$E$112,0),MATCH($C42,'General Calc'!$G$26:$Z$26,0),MAX(Criteria!$M:$M),1)*OFFSET(Scoring!$E$4,1,MATCH(K$4,Scoring!$F$4:$N$4,0),MAX(Criteria!$M:$M),)))","v":""},{"$f":"IF($C42=\"\",\"\",SUM(OFFSET('General Calc'!$F$26,MATCH($D42,'General Calc'!$E$26:$E$112,0),MATCH($C42,'General Calc'!$G$26:$Z$26,0),MAX(Criteria!$M:$M),1)*OFFSET(Scoring!$E$4,1,MATCH(L$4,Scoring!$F$4:$N$4,0),MAX(Criteria!$M:$M),)))","v":""},{"$f":"IF($C42=\"\",\"\",SUM(OFFSET('General Calc'!$F$26,MATCH($D42,'General Calc'!$E$26:$E$112,0),MATCH($C42,'General Calc'!$G$26:$Z$26,0),MAX(Criteria!$M:$M),1)*OFFSET(Scoring!$E$4,1,MATCH(M$4,Scoring!$F$4:$N$4,0),MAX(Criteria!$M:$M),)))","v":""},{"$f":"IF($C42=\"\",\"\",SUM(OFFSET('General Calc'!$F$26,MATCH($D42,'General Calc'!$E$26:$E$112,0),MATCH($C42,'General Calc'!$G$26:$Z$26,0),MAX(Criteria!$M:$M),1)*OFFSET(Scoring!$E$4,1,MATCH(N$4,Scoring!$F$4:$Z$4,0),MAX(Criteria!$M:$M),)))","v":""},{"$f":"IF($C42=\"\",\"\",SUM(OFFSET('General Calc'!$F$26,MATCH($D42,'General Calc'!$E$26:$E$112,0),MATCH($C42,'General Calc'!$G$26:$Z$26,0),MAX(Criteria!$M:$M),1)*OFFSET(Scoring!$E$4,1,MATCH(O$4,Scoring!$F$4:$Z$4,0),MAX(Criteria!$M:$M),)))","v":""},{"$f":"IF($C42=\"\",\"\",SUM(OFFSET('General Calc'!$F$26,MATCH($D42,'General Calc'!$E$26:$E$112,0),MATCH($C42,'General Calc'!$G$26:$Z$26,0),MAX(Criteria!$M:$M),1)*OFFSET(Scoring!$E$4,1,MATCH(P$4,Scoring!$F$4:$Z$4,0),MAX(Criteria!$M:$M),)))","v":""},{"$f":"IF($C42=\"\",\"\",SUM(OFFSET('General Calc'!$F$26,MATCH($D42,'General Calc'!$E$26:$E$112,0),MATCH($C42,'General Calc'!$G$26:$Z$26,0),MAX(Criteria!$M:$M),1)*OFFSET(Scoring!$E$4,1,MATCH(Q$4,Scoring!$F$4:$Z$4,0),MAX(Criteria!$M:$M),)))","v":""},{"$f":"IF($C42=\"\",\"\",SUM(OFFSET('General Calc'!$F$26,MATCH($D42,'General Calc'!$E$26:$E$112,0),MATCH($C42,'General Calc'!$G$26:$Z$26,0),MAX(Criteria!$M:$M),1)*OFFSET(Scoring!$E$4,1,MATCH(R$4,Scoring!$F$4:$Z$4,0),MAX(Criteria!$M:$M),)))","v":""},{"$f":"IF($C42=\"\",\"\",SUM(OFFSET('General Calc'!$F$26,MATCH($D42,'General Calc'!$E$26:$E$112,0),MATCH($C42,'General Calc'!$G$26:$Z$26,0),MAX(Criteria!$M:$M),1)*OFFSET(Scoring!$E$4,1,MATCH(S$4,Scoring!$F$4:$Z$4,0),MAX(Criteria!$M:$M),)))","v":""},{"$f":"IF($C42=\"\",\"\",SUM(OFFSET('General Calc'!$F$26,MATCH($D42,'General Calc'!$E$26:$E$112,0),MATCH($C42,'General Calc'!$G$26:$Z$26,0),MAX(Criteria!$M:$M),1)*OFFSET(Scoring!$E$4,1,MATCH(T$4,Scoring!$F$4:$Z$4,0),MAX(Criteria!$M:$M),)))","v":""},{"$f":"IF($C42=\"\",\"\",SUM(OFFSET('General Calc'!$F$26,MATCH($D42,'General Calc'!$E$26:$E$112,0),MATCH($C42,'General Calc'!$G$26:$Z$26,0),MAX(Criteria!$M:$M),1)*OFFSET(Scoring!$E$4,1,MATCH(U$4,Scoring!$F$4:$Z$4,0),MAX(Criteria!$M:$M),)))","v":""},{"$f":"IF($C42=\"\",\"\",SUM(OFFSET('General Calc'!$F$26,MATCH($D42,'General Calc'!$E$26:$E$112,0),MATCH($C42,'General Calc'!$G$26:$Z$26,0),MAX(Criteria!$M:$M),1)*OFFSET(Scoring!$E$4,1,MATCH(V$4,Scoring!$F$4:$Z$4,0),MAX(Criteria!$M:$M),)))","v":""},{"$f":"IF($C42=\"\",\"\",SUM(OFFSET('General Calc'!$F$26,MATCH($D42,'General Calc'!$E$26:$E$112,0),MATCH($C42,'General Calc'!$G$26:$Z$26,0),MAX(Criteria!$M:$M),1)*OFFSET(Scoring!$E$4,1,MATCH(W$4,Scoring!$F$4:$Z$4,0),MAX(Criteria!$M:$M),)))","v":""},{"$f":"IF($C42=\"\",\"\",SUM(OFFSET('General Calc'!$F$26,MATCH($D42,'General Calc'!$E$26:$E$112,0),MATCH($C42,'General Calc'!$G$26:$Z$26,0),MAX(Criteria!$M:$M),1)*OFFSET(Scoring!$E$4,1,MATCH(X$4,Scoring!$F$4:$Z$4,0),MAX(Criteria!$M:$M),)))","v":""},{"$f":"IF($C42=\"\",\"\",SUM(OFFSET('General Calc'!$F$26,MATCH($D42,'General Calc'!$E$26:$E$112,0),MATCH($C42,'General Calc'!$G$26:$Z$26,0),MAX(Criteria!$M:$M),1)*OFFSET(Scoring!$E$4,1,MATCH(Y$4,Scoring!$F$4:$Z$4,0),MAX(Criteria!$M:$M),)))","v":""},"",""]
[null,19,{"$f":"IF(INDEX('Selected Criteria'!$E$6:$E$25,$B43)=0,\"\",INDEX('Selected Criteria'!$E$6:$E$25,$B43))","v":""},"",{"$f":"IF($C43=\"\",\"\",SUM(OFFSET('General Calc'!$F$26,MATCH($D43,'General Calc'!$E$26:$E$112,0),MATCH($C43,'General Calc'!$G$26:$Z$26,0),MAX(Criteria!$M:$M),1)*OFFSET(Scoring!$E$4,1,MATCH(E$4,Scoring!$F$4:$N$4,0),MAX(Criteria!$M:$M),)))","v":""},{"$f":"IF($C43=\"\",\"\",SUM(OFFSET('General Calc'!$F$26,MATCH($D43,'General Calc'!$E$26:$E$112,0),MATCH($C43,'General Calc'!$G$26:$Z$26,0),MAX(Criteria!$M:$M),1)*OFFSET(Scoring!$E$4,1,MATCH(F$4,Scoring!$F$4:$Z$4,0),MAX(Criteria!$M:$M),)))","v":""},{"$f":"IF($C43=\"\",\"\",SUM(OFFSET('General Calc'!$F$26,MATCH($D43,'General Calc'!$E$26:$E$112,0),MATCH($C43,'General Calc'!$G$26:$Z$26,0),MAX(Criteria!$M:$M),1)*OFFSET(Scoring!$E$4,1,MATCH(G$4,Scoring!$F$4:$N$4,0),MAX(Criteria!$M:$M),)))","v":""},{"$f":"IF($C43=\"\",\"\",SUM(OFFSET('General Calc'!$F$26,MATCH($D43,'General Calc'!$E$26:$E$112,0),MATCH($C43,'General Calc'!$G$26:$Z$26,0),MAX(Criteria!$M:$M),1)*OFFSET(Scoring!$E$4,1,MATCH(H$4,Scoring!$F$4:$N$4,0),MAX(Criteria!$M:$M),)))","v":""},{"$f":"IF($C43=\"\",\"\",SUM(OFFSET('General Calc'!$F$26,MATCH($D43,'General Calc'!$E$26:$E$112,0),MATCH($C43,'General Calc'!$G$26:$Z$26,0),MAX(Criteria!$M:$M),1)*OFFSET(Scoring!$E$4,1,MATCH(I$4,Scoring!$F$4:$N$4,0),MAX(Criteria!$M:$M),)))","v":""},{"$f":"IF($C43=\"\",\"\",SUM(OFFSET('General Calc'!$F$26,MATCH($D43,'General Calc'!$E$26:$E$112,0),MATCH($C43,'General Calc'!$G$26:$Z$26,0),MAX(Criteria!$M:$M),1)*OFFSET(Scoring!$E$4,1,MATCH(J$4,Scoring!$F$4:$N$4,0),MAX(Criteria!$M:$M),)))","v":""},{"$f":"IF($C43=\"\",\"\",SUM(OFFSET('General Calc'!$F$26,MATCH($D43,'General Calc'!$E$26:$E$112,0),MATCH($C43,'General Calc'!$G$26:$Z$26,0),MAX(Criteria!$M:$M),1)*OFFSET(Scoring!$E$4,1,MATCH(K$4,Scoring!$F$4:$N$4,0),MAX(Criteria!$M:$M),)))","v":""},{"$f":"IF($C43=\"\",\"\",SUM(OFFSET('General Calc'!$F$26,MATCH($D43,'General Calc'!$E$26:$E$112,0),MATCH($C43,'General Calc'!$G$26:$Z$26,0),MAX(Criteria!$M:$M),1)*OFFSET(Scoring!$E$4,1,MATCH(L$4,Scoring!$F$4:$N$4,0),MAX(Criteria!$M:$M),)))","v":""},{"$f":"IF($C43=\"\",\"\",SUM(OFFSET('General Calc'!$F$26,MATCH($D43,'General Calc'!$E$26:$E$112,0),MATCH($C43,'General Calc'!$G$26:$Z$26,0),MAX(Criteria!$M:$M),1)*OFFSET(Scoring!$E$4,1,MATCH(M$4,Scoring!$F$4:$N$4,0),MAX(Criteria!$M:$M),)))","v":""},{"$f":"IF($C43=\"\",\"\",SUM(OFFSET('General Calc'!$F$26,MATCH($D43,'General Calc'!$E$26:$E$112,0),MATCH($C43,'General Calc'!$G$26:$Z$26,0),MAX(Criteria!$M:$M),1)*OFFSET(Scoring!$E$4,1,MATCH(N$4,Scoring!$F$4:$Z$4,0),MAX(Criteria!$M:$M),)))","v":""},{"$f":"IF($C43=\"\",\"\",SUM(OFFSET('General Calc'!$F$26,MATCH($D43,'General Calc'!$E$26:$E$112,0),MATCH($C43,'General Calc'!$G$26:$Z$26,0),MAX(Criteria!$M:$M),1)*OFFSET(Scoring!$E$4,1,MATCH(O$4,Scoring!$F$4:$Z$4,0),MAX(Criteria!$M:$M),)))","v":""},{"$f":"IF($C43=\"\",\"\",SUM(OFFSET('General Calc'!$F$26,MATCH($D43,'General Calc'!$E$26:$E$112,0),MATCH($C43,'General Calc'!$G$26:$Z$26,0),MAX(Criteria!$M:$M),1)*OFFSET(Scoring!$E$4,1,MATCH(P$4,Scoring!$F$4:$Z$4,0),MAX(Criteria!$M:$M),)))","v":""},{"$f":"IF($C43=\"\",\"\",SUM(OFFSET('General Calc'!$F$26,MATCH($D43,'General Calc'!$E$26:$E$112,0),MATCH($C43,'General Calc'!$G$26:$Z$26,0),MAX(Criteria!$M:$M),1)*OFFSET(Scoring!$E$4,1,MATCH(Q$4,Scoring!$F$4:$Z$4,0),MAX(Criteria!$M:$M),)))","v":""},{"$f":"IF($C43=\"\",\"\",SUM(OFFSET('General Calc'!$F$26,MATCH($D43,'General Calc'!$E$26:$E$112,0),MATCH($C43,'General Calc'!$G$26:$Z$26,0),MAX(Criteria!$M:$M),1)*OFFSET(Scoring!$E$4,1,MATCH(R$4,Scoring!$F$4:$Z$4,0),MAX(Criteria!$M:$M),)))","v":""},{"$f":"IF($C43=\"\",\"\",SUM(OFFSET('General Calc'!$F$26,MATCH($D43,'General Calc'!$E$26:$E$112,0),MATCH($C43,'General Calc'!$G$26:$Z$26,0),MAX(Criteria!$M:$M),1)*OFFSET(Scoring!$E$4,1,MATCH(S$4,Scoring!$F$4:$Z$4,0),MAX(Criteria!$M:$M),)))","v":""},{"$f":"IF($C43=\"\",\"\",SUM(OFFSET('General Calc'!$F$26,MATCH($D43,'General Calc'!$E$26:$E$112,0),MATCH($C43,'General Calc'!$G$26:$Z$26,0),MAX(Criteria!$M:$M),1)*OFFSET(Scoring!$E$4,1,MATCH(T$4,Scoring!$F$4:$Z$4,0),MAX(Criteria!$M:$M),)))","v":""},{"$f":"IF($C43=\"\",\"\",SUM(OFFSET('General Calc'!$F$26,MATCH($D43,'General Calc'!$E$26:$E$112,0),MATCH($C43,'General Calc'!$G$26:$Z$26,0),MAX(Criteria!$M:$M),1)*OFFSET(Scoring!$E$4,1,MATCH(U$4,Scoring!$F$4:$Z$4,0),MAX(Criteria!$M:$M),)))","v":""},{"$f":"IF($C43=\"\",\"\",SUM(OFFSET('General Calc'!$F$26,MATCH($D43,'General Calc'!$E$26:$E$112,0),MATCH($C43,'General Calc'!$G$26:$Z$26,0),MAX(Criteria!$M:$M),1)*OFFSET(Scoring!$E$4,1,MATCH(V$4,Scoring!$F$4:$Z$4,0),MAX(Criteria!$M:$M),)))","v":""},{"$f":"IF($C43=\"\",\"\",SUM(OFFSET('General Calc'!$F$26,MATCH($D43,'General Calc'!$E$26:$E$112,0),MATCH($C43,'General Calc'!$G$26:$Z$26,0),MAX(Criteria!$M:$M),1)*OFFSET(Scoring!$E$4,1,MATCH(W$4,Scoring!$F$4:$Z$4,0),MAX(Criteria!$M:$M),)))","v":""},{"$f":"IF($C43=\"\",\"\",SUM(OFFSET('General Calc'!$F$26,MATCH($D43,'General Calc'!$E$26:$E$112,0),MATCH($C43,'General Calc'!$G$26:$Z$26,0),MAX(Criteria!$M:$M),1)*OFFSET(Scoring!$E$4,1,MATCH(X$4,Scoring!$F$4:$Z$4,0),MAX(Criteria!$M:$M),)))","v":""},{"$f":"IF($C43=\"\",\"\",SUM(OFFSET('General Calc'!$F$26,MATCH($D43,'General Calc'!$E$26:$E$112,0),MATCH($C43,'General Calc'!$G$26:$Z$26,0),MAX(Criteria!$M:$M),1)*OFFSET(Scoring!$E$4,1,MATCH(Y$4,Scoring!$F$4:$Z$4,0),MAX(Criteria!$M:$M),)))","v":""},"",""]
[null,20,{"$f":"IF(INDEX('Selected Criteria'!$E$6:$E$25,$B44)=0,\"\",INDEX('Selected Criteria'!$E$6:$E$25,$B44))","v":""},"",{"$f":"IF($C44=\"\",\"\",SUM(OFFSET('General Calc'!$F$26,MATCH($D44,'General Calc'!$E$26:$E$112,0),MATCH($C44,'General Calc'!$G$26:$Z$26,0),MAX(Criteria!$M:$M),1)*OFFSET(Scoring!$E$4,1,MATCH(E$4,Scoring!$F$4:$N$4,0),MAX(Criteria!$M:$M),)))","v":""},{"$f":"IF($C44=\"\",\"\",SUM(OFFSET('General Calc'!$F$26,MATCH($D44,'General Calc'!$E$26:$E$112,0),MATCH($C44,'General Calc'!$G$26:$Z$26,0),MAX(Criteria!$M:$M),1)*OFFSET(Scoring!$E$4,1,MATCH(F$4,Scoring!$F$4:$Z$4,0),MAX(Criteria!$M:$M),)))","v":""},{"$f":"IF($C44=\"\",\"\",SUM(OFFSET('General Calc'!$F$26,MATCH($D44,'General Calc'!$E$26:$E$112,0),MATCH($C44,'General Calc'!$G$26:$Z$26,0),MAX(Criteria!$M:$M),1)*OFFSET(Scoring!$E$4,1,MATCH(G$4,Scoring!$F$4:$N$4,0),MAX(Criteria!$M:$M),)))","v":""},{"$f":"IF($C44=\"\",\"\",SUM(OFFSET('General Calc'!$F$26,MATCH($D44,'General Calc'!$E$26:$E$112,0),MATCH($C44,'General Calc'!$G$26:$Z$26,0),MAX(Criteria!$M:$M),1)*OFFSET(Scoring!$E$4,1,MATCH(H$4,Scoring!$F$4:$N$4,0),MAX(Criteria!$M:$M),)))","v":""},{"$f":"IF($C44=\"\",\"\",SUM(OFFSET('General Calc'!$F$26,MATCH($D44,'General Calc'!$E$26:$E$112,0),MATCH($C44,'General Calc'!$G$26:$Z$26,0),MAX(Criteria!$M:$M),1)*OFFSET(Scoring!$E$4,1,MATCH(I$4,Scoring!$F$4:$N$4,0),MAX(Criteria!$M:$M),)))","v":""},{"$f":"IF($C44=\"\",\"\",SUM(OFFSET('General Calc'!$F$26,MATCH($D44,'General Calc'!$E$26:$E$112,0),MATCH($C44,'General Calc'!$G$26:$Z$26,0),MAX(Criteria!$M:$M),1)*OFFSET(Scoring!$E$4,1,MATCH(J$4,Scoring!$F$4:$N$4,0),MAX(Criteria!$M:$M),)))","v":""},{"$f":"IF($C44=\"\",\"\",SUM(OFFSET('General Calc'!$F$26,MATCH($D44,'General Calc'!$E$26:$E$112,0),MATCH($C44,'General Calc'!$G$26:$Z$26,0),MAX(Criteria!$M:$M),1)*OFFSET(Scoring!$E$4,1,MATCH(K$4,Scoring!$F$4:$N$4,0),MAX(Criteria!$M:$M),)))","v":""},{"$f":"IF($C44=\"\",\"\",SUM(OFFSET('General Calc'!$F$26,MATCH($D44,'General Calc'!$E$26:$E$112,0),MATCH($C44,'General Calc'!$G$26:$Z$26,0),MAX(Criteria!$M:$M),1)*OFFSET(Scoring!$E$4,1,MATCH(L$4,Scoring!$F$4:$N$4,0),MAX(Criteria!$M:$M),)))","v":""},{"$f":"IF($C44=\"\",\"\",SUM(OFFSET('General Calc'!$F$26,MATCH($D44,'General Calc'!$E$26:$E$112,0),MATCH($C44,'General Calc'!$G$26:$Z$26,0),MAX(Criteria!$M:$M),1)*OFFSET(Scoring!$E$4,1,MATCH(M$4,Scoring!$F$4:$N$4,0),MAX(Criteria!$M:$M),)))","v":""},{"$f":"IF($C44=\"\",\"\",SUM(OFFSET('General Calc'!$F$26,MATCH($D44,'General Calc'!$E$26:$E$112,0),MATCH($C44,'General Calc'!$G$26:$Z$26,0),MAX(Criteria!$M:$M),1)*OFFSET(Scoring!$E$4,1,MATCH(N$4,Scoring!$F$4:$Z$4,0),MAX(Criteria!$M:$M),)))","v":""},{"$f":"IF($C44=\"\",\"\",SUM(OFFSET('General Calc'!$F$26,MATCH($D44,'General Calc'!$E$26:$E$112,0),MATCH($C44,'General Calc'!$G$26:$Z$26,0),MAX(Criteria!$M:$M),1)*OFFSET(Scoring!$E$4,1,MATCH(O$4,Scoring!$F$4:$Z$4,0),MAX(Criteria!$M:$M),)))","v":""},{"$f":"IF($C44=\"\",\"\",SUM(OFFSET('General Calc'!$F$26,MATCH($D44,'General Calc'!$E$26:$E$112,0),MATCH($C44,'General Calc'!$G$26:$Z$26,0),MAX(Criteria!$M:$M),1)*OFFSET(Scoring!$E$4,1,MATCH(P$4,Scoring!$F$4:$Z$4,0),MAX(Criteria!$M:$M),)))","v":""},{"$f":"IF($C44=\"\",\"\",SUM(OFFSET('General Calc'!$F$26,MATCH($D44,'General Calc'!$E$26:$E$112,0),MATCH($C44,'General Calc'!$G$26:$Z$26,0),MAX(Criteria!$M:$M),1)*OFFSET(Scoring!$E$4,1,MATCH(Q$4,Scoring!$F$4:$Z$4,0),MAX(Criteria!$M:$M),)))","v":""},{"$f":"IF($C44=\"\",\"\",SUM(OFFSET('General Calc'!$F$26,MATCH($D44,'General Calc'!$E$26:$E$112,0),MATCH($C44,'General Calc'!$G$26:$Z$26,0),MAX(Criteria!$M:$M),1)*OFFSET(Scoring!$E$4,1,MATCH(R$4,Scoring!$F$4:$Z$4,0),MAX(Criteria!$M:$M),)))","v":""},{"$f":"IF($C44=\"\",\"\",SUM(OFFSET('General Calc'!$F$26,MATCH($D44,'General Calc'!$E$26:$E$112,0),MATCH($C44,'General Calc'!$G$26:$Z$26,0),MAX(Criteria!$M:$M),1)*OFFSET(Scoring!$E$4,1,MATCH(S$4,Scoring!$F$4:$Z$4,0),MAX(Criteria!$M:$M),)))","v":""},{"$f":"IF($C44=\"\",\"\",SUM(OFFSET('General Calc'!$F$26,MATCH($D44,'General Calc'!$E$26:$E$112,0),MATCH($C44,'General Calc'!$G$26:$Z$26,0),MAX(Criteria!$M:$M),1)*OFFSET(Scoring!$E$4,1,MATCH(T$4,Scoring!$F$4:$Z$4,0),MAX(Criteria!$M:$M),)))","v":""},{"$f":"IF($C44=\"\",\"\",SUM(OFFSET('General Calc'!$F$26,MATCH($D44,'General Calc'!$E$26:$E$112,0),MATCH($C44,'General Calc'!$G$26:$Z$26,0),MAX(Criteria!$M:$M),1)*OFFSET(Scoring!$E$4,1,MATCH(U$4,Scoring!$F$4:$Z$4,0),MAX(Criteria!$M:$M),)))","v":""},{"$f":"IF($C44=\"\",\"\",SUM(OFFSET('General Calc'!$F$26,MATCH($D44,'General Calc'!$E$26:$E$112,0),MATCH($C44,'General Calc'!$G$26:$Z$26,0),MAX(Criteria!$M:$M),1)*OFFSET(Scoring!$E$4,1,MATCH(V$4,Scoring!$F$4:$Z$4,0),MAX(Criteria!$M:$M),)))","v":""},{"$f":"IF($C44=\"\",\"\",SUM(OFFSET('General Calc'!$F$26,MATCH($D44,'General Calc'!$E$26:$E$112,0),MATCH($C44,'General Calc'!$G$26:$Z$26,0),MAX(Criteria!$M:$M),1)*OFFSET(Scoring!$E$4,1,MATCH(W$4,Scoring!$F$4:$Z$4,0),MAX(Criteria!$M:$M),)))","v":""},{"$f":"IF($C44=\"\",\"\",SUM(OFFSET('General Calc'!$F$26,MATCH($D44,'General Calc'!$E$26:$E$112,0),MATCH($C44,'General Calc'!$G$26:$Z$26,0),MAX(Criteria!$M:$M),1)*OFFSET(Scoring!$E$4,1,MATCH(X$4,Scoring!$F$4:$Z$4,0),MAX(Criteria!$M:$M),)))","v":""},{"$f":"IF($C44=\"\",\"\",SUM(OFFSET('General Calc'!$F$26,MATCH($D44,'General Calc'!$E$26:$E$112,0),MATCH($C44,'General Calc'!$G$26:$Z$26,0),MAX(Criteria!$M:$M),1)*OFFSET(Scoring!$E$4,1,MATCH(Y$4,Scoring!$F$4:$Z$4,0),MAX(Criteria!$M:$M),)))","v":""},"",""]
[null,1,{"$f":"IF(INDEX('Selected Criteria'!$E$6:$E$25,$B45)=0,\"\",INDEX('Selected Criteria'!$E$6:$E$25,$B45))","v":""},{"$f":"IF($C45=\"\",\"\",25%)","v":""},{"$f":"IF($C45=\"\",\"\",SUM(OFFSET('General Calc'!$F$26,MATCH($D45,'General Calc'!$E$26:$E$112,0),MATCH($C45,'General Calc'!$G$26:$Z$26,0),MAX(Criteria!$M:$M),1)*OFFSET(Scoring!$E$4,1,MATCH(E$4,Scoring!$F$4:$Z$4,0),MAX(Criteria!$M:$M),)))","v":""},{"$f":"IF($C45=\"\",\"\",SUM(OFFSET('General Calc'!$F$26,MATCH($D45,'General Calc'!$E$26:$E$112,0),MATCH($C45,'General Calc'!$G$26:$Z$26,0),MAX(Criteria!$M:$M),1)*OFFSET(Scoring!$E$4,1,MATCH(F$4,Scoring!$F$4:$Z$4,0),MAX(Criteria!$M:$M),)))","v":""},{"$f":"IF($C45=\"\",\"\",SUM(OFFSET('General Calc'!$F$26,MATCH($D45,'General Calc'!$E$26:$E$112,0),MATCH($C45,'General Calc'!$G$26:$Z$26,0),MAX(Criteria!$M:$M),1)*OFFSET(Scoring!$E$4,1,MATCH(G$4,Scoring!$F$4:$Z$4,0),MAX(Criteria!$M:$M),)))","v":""},{"$f":"IF($C45=\"\",\"\",SUM(OFFSET('General Calc'!$F$26,MATCH($D45,'General Calc'!$E$26:$E$112,0),MATCH($C45,'General Calc'!$G$26:$Z$26,0),MAX(Criteria!$M:$M),1)*OFFSET(Scoring!$E$4,1,MATCH(H$4,Scoring!$F$4:$Z$4,0),MAX(Criteria!$M:$M),)))","v":""},{"$f":"IF($C45=\"\",\"\",SUM(OFFSET('General Calc'!$F$26,MATCH($D45,'General Calc'!$E$26:$E$112,0),MATCH($C45,'General Calc'!$G$26:$Z$26,0),MAX(Criteria!$M:$M),1)*OFFSET(Scoring!$E$4,1,MATCH(I$4,Scoring!$F$4:$Z$4,0),MAX(Criteria!$M:$M),)))","v":""},{"$f":"IF($C45=\"\",\"\",SUM(OFFSET('General Calc'!$F$26,MATCH($D45,'General Calc'!$E$26:$E$112,0),MATCH($C45,'General Calc'!$G$26:$Z$26,0),MAX(Criteria!$M:$M),1)*OFFSET(Scoring!$E$4,1,MATCH(J$4,Scoring!$F$4:$Z$4,0),MAX(Criteria!$M:$M),)))","v":""},{"$f":"IF($C45=\"\",\"\",SUM(OFFSET('General Calc'!$F$26,MATCH($D45,'General Calc'!$E$26:$E$112,0),MATCH($C45,'General Calc'!$G$26:$Z$26,0),MAX(Criteria!$M:$M),1)*OFFSET(Scoring!$E$4,1,MATCH(K$4,Scoring!$F$4:$Z$4,0),MAX(Criteria!$M:$M),)))","v":""},{"$f":"IF($C45=\"\",\"\",SUM(OFFSET('General Calc'!$F$26,MATCH($D45,'General Calc'!$E$26:$E$112,0),MATCH($C45,'General Calc'!$G$26:$Z$26,0),MAX(Criteria!$M:$M),1)*OFFSET(Scoring!$E$4,1,MATCH(L$4,Scoring!$F$4:$Z$4,0),MAX(Criteria!$M:$M),)))","v":""},{"$f":"IF($C45=\"\",\"\",SUM(OFFSET('General Calc'!$F$26,MATCH($D45,'General Calc'!$E$26:$E$112,0),MATCH($C45,'General Calc'!$G$26:$Z$26,0),MAX(Criteria!$M:$M),1)*OFFSET(Scoring!$E$4,1,MATCH(M$4,Scoring!$F$4:$Z$4,0),MAX(Criteria!$M:$M),)))","v":""},{"$f":"IF($C45=\"\",\"\",SUM(OFFSET('General Calc'!$F$26,MATCH($D45,'General Calc'!$E$26:$E$112,0),MATCH($C45,'General Calc'!$G$26:$Z$26,0),MAX(Criteria!$M:$M),1)*OFFSET(Scoring!$E$4,1,MATCH(N$4,Scoring!$F$4:$Z$4,0),MAX(Criteria!$M:$M),)))","v":""},{"$f":"IF($C45=\"\",\"\",SUM(OFFSET('General Calc'!$F$26,MATCH($D45,'General Calc'!$E$26:$E$112,0),MATCH($C45,'General Calc'!$G$26:$Z$26,0),MAX(Criteria!$M:$M),1)*OFFSET(Scoring!$E$4,1,MATCH(O$4,Scoring!$F$4:$Z$4,0),MAX(Criteria!$M:$M),)))","v":""},{"$f":"IF($C45=\"\",\"\",SUM(OFFSET('General Calc'!$F$26,MATCH($D45,'General Calc'!$E$26:$E$112,0),MATCH($C45,'General Calc'!$G$26:$Z$26,0),MAX(Criteria!$M:$M),1)*OFFSET(Scoring!$E$4,1,MATCH(P$4,Scoring!$F$4:$Z$4,0),MAX(Criteria!$M:$M),)))","v":""},{"$f":"IF($C45=\"\",\"\",SUM(OFFSET('General Calc'!$F$26,MATCH($D45,'General Calc'!$E$26:$E$112,0),MATCH($C45,'General Calc'!$G$26:$Z$26,0),MAX(Criteria!$M:$M),1)*OFFSET(Scoring!$E$4,1,MATCH(Q$4,Scoring!$F$4:$Z$4,0),MAX(Criteria!$M:$M),)))","v":""},{"$f":"IF($C45=\"\",\"\",SUM(OFFSET('General Calc'!$F$26,MATCH($D45,'General Calc'!$E$26:$E$112,0),MATCH($C45,'General Calc'!$G$26:$Z$26,0),MAX(Criteria!$M:$M),1)*OFFSET(Scoring!$E$4,1,MATCH(R$4,Scoring!$F$4:$Z$4,0),MAX(Criteria!$M:$M),)))","v":""},{"$f":"IF($C45=\"\",\"\",SUM(OFFSET('General Calc'!$F$26,MATCH($D45,'General Calc'!$E$26:$E$112,0),MATCH($C45,'General Calc'!$G$26:$Z$26,0),MAX(Criteria!$M:$M),1)*OFFSET(Scoring!$E$4,1,MATCH(S$4,Scoring!$F$4:$Z$4,0),MAX(Criteria!$M:$M),)))","v":""},{"$f":"IF($C45=\"\",\"\",SUM(OFFSET('General Calc'!$F$26,MATCH($D45,'General Calc'!$E$26:$E$112,0),MATCH($C45,'General Calc'!$G$26:$Z$26,0),MAX(Criteria!$M:$M),1)*OFFSET(Scoring!$E$4,1,MATCH(T$4,Scoring!$F$4:$Z$4,0),MAX(Criteria!$M:$M),)))","v":""},{"$f":"IF($C45=\"\",\"\",SUM(OFFSET('General Calc'!$F$26,MATCH($D45,'General Calc'!$E$26:$E$112,0),MATCH($C45,'General Calc'!$G$26:$Z$26,0),MAX(Criteria!$M:$M),1)*OFFSET(Scoring!$E$4,1,MATCH(U$4,Scoring!$F$4:$Z$4,0),MAX(Criteria!$M:$M),)))","v":""},{"$f":"IF($C45=\"\",\"\",SUM(OFFSET('General Calc'!$F$26,MATCH($D45,'General Calc'!$E$26:$E$112,0),MATCH($C45,'General Calc'!$G$26:$Z$26,0),MAX(Criteria!$M:$M),1)*OFFSET(Scoring!$E$4,1,MATCH(V$4,Scoring!$F$4:$Z$4,0),MAX(Criteria!$M:$M),)))","v":""},{"$f":"IF($C45=\"\",\"\",SUM(OFFSET('General Calc'!$F$26,MATCH($D45,'General Calc'!$E$26:$E$112,0),MATCH($C45,'General Calc'!$G$26:$Z$26,0),MAX(Criteria!$M:$M),1)*OFFSET(Scoring!$E$4,1,MATCH(W$4,Scoring!$F$4:$Z$4,0),MAX(Criteria!$M:$M),)))","v":""},{"$f":"IF($C45=\"\",\"\",SUM(OFFSET('General Calc'!$F$26,MATCH($D45,'General Calc'!$E$26:$E$112,0),MATCH($C45,'General Calc'!$G$26:$Z$26,0),MAX(Criteria!$M:$M),1)*OFFSET(Scoring!$E$4,1,MATCH(X$4,Scoring!$F$4:$Z$4,0),MAX(Criteria!$M:$M),)))","v":""},{"$f":"IF($C45=\"\",\"\",SUM(OFFSET('General Calc'!$F$26,MATCH($D45,'General Calc'!$E$26:$E$112,0),MATCH($C45,'General Calc'!$G$26:$Z$26,0),MAX(Criteria!$M:$M),1)*OFFSET(Scoring!$E$4,1,MATCH(Y$4,Scoring!$F$4:$Z$4,0),MAX(Criteria!$M:$M),)))","v":""},"",{"$f":"IF($C45=\"\",\"\",INDEX($E$4:$Y$4,MATCH(MAX($E45:$Y45),$E45:$Y45,0)))","v":""}]
[null,2,{"$f":"IF(INDEX('Selected Criteria'!$E$6:$E$25,$B46)=0,\"\",INDEX('Selected Criteria'!$E$6:$E$25,$B46))","v":""},"",{"$f":"IF($C46=\"\",\"\",SUM(OFFSET('General Calc'!$F$26,MATCH($D46,'General Calc'!$E$26:$E$112,0),MATCH($C46,'General Calc'!$G$26:$Z$26,0),MAX(Criteria!$M:$M),1)*OFFSET(Scoring!$E$4,1,MATCH(E$4,Scoring!$F$4:$Z$4,0),MAX(Criteria!$M:$M),)))","v":""},{"$f":"IF($C46=\"\",\"\",SUM(OFFSET('General Calc'!$F$26,MATCH($D46,'General Calc'!$E$26:$E$112,0),MATCH($C46,'General Calc'!$G$26:$Z$26,0),MAX(Criteria!$M:$M),1)*OFFSET(Scoring!$E$4,1,MATCH(F$4,Scoring!$F$4:$Z$4,0),MAX(Criteria!$M:$M),)))","v":""},{"$f":"IF($C46=\"\",\"\",SUM(OFFSET('General Calc'!$F$26,MATCH($D46,'General Calc'!$E$26:$E$112,0),MATCH($C46,'General Calc'!$G$26:$Z$26,0),MAX(Criteria!$M:$M),1)*OFFSET(Scoring!$E$4,1,MATCH(G$4,Scoring!$F$4:$Z$4,0),MAX(Criteria!$M:$M),)))","v":""},{"$f":"IF($C46=\"\",\"\",SUM(OFFSET('General Calc'!$F$26,MATCH($D46,'General Calc'!$E$26:$E$112,0),MATCH($C46,'General Calc'!$G$26:$Z$26,0),MAX(Criteria!$M:$M),1)*OFFSET(Scoring!$E$4,1,MATCH(H$4,Scoring!$F$4:$Z$4,0),MAX(Criteria!$M:$M),)))","v":""},{"$f":"IF($C46=\"\",\"\",SUM(OFFSET('General Calc'!$F$26,MATCH($D46,'General Calc'!$E$26:$E$112,0),MATCH($C46,'General Calc'!$G$26:$Z$26,0),MAX(Criteria!$M:$M),1)*OFFSET(Scoring!$E$4,1,MATCH(I$4,Scoring!$F$4:$Z$4,0),MAX(Criteria!$M:$M),)))","v":""},{"$f":"IF($C46=\"\",\"\",SUM(OFFSET('General Calc'!$F$26,MATCH($D46,'General Calc'!$E$26:$E$112,0),MATCH($C46,'General Calc'!$G$26:$Z$26,0),MAX(Criteria!$M:$M),1)*OFFSET(Scoring!$E$4,1,MATCH(J$4,Scoring!$F$4:$Z$4,0),MAX(Criteria!$M:$M),)))","v":""},{"$f":"IF($C46=\"\",\"\",SUM(OFFSET('General Calc'!$F$26,MATCH($D46,'General Calc'!$E$26:$E$112,0),MATCH($C46,'General Calc'!$G$26:$Z$26,0),MAX(Criteria!$M:$M),1)*OFFSET(Scoring!$E$4,1,MATCH(K$4,Scoring!$F$4:$Z$4,0),MAX(Criteria!$M:$M),)))","v":""},{"$f":"IF($C46=\"\",\"\",SUM(OFFSET('General Calc'!$F$26,MATCH($D46,'General Calc'!$E$26:$E$112,0),MATCH($C46,'General Calc'!$G$26:$Z$26,0),MAX(Criteria!$M:$M),1)*OFFSET(Scoring!$E$4,1,MATCH(L$4,Scoring!$F$4:$Z$4,0),MAX(Criteria!$M:$M),)))","v":""},{"$f":"IF($C46=\"\",\"\",SUM(OFFSET('General Calc'!$F$26,MATCH($D46,'General Calc'!$E$26:$E$112,0),MATCH($C46,'General Calc'!$G$26:$Z$26,0),MAX(Criteria!$M:$M),1)*OFFSET(Scoring!$E$4,1,MATCH(M$4,Scoring!$F$4:$Z$4,0),MAX(Criteria!$M:$M),)))","v":""},{"$f":"IF($C46=\"\",\"\",SUM(OFFSET('General Calc'!$F$26,MATCH($D46,'General Calc'!$E$26:$E$112,0),MATCH($C46,'General Calc'!$G$26:$Z$26,0),MAX(Criteria!$M:$M),1)*OFFSET(Scoring!$E$4,1,MATCH(N$4,Scoring!$F$4:$Z$4,0),MAX(Criteria!$M:$M),)))","v":""},{"$f":"IF($C46=\"\",\"\",SUM(OFFSET('General Calc'!$F$26,MATCH($D46,'General Calc'!$E$26:$E$112,0),MATCH($C46,'General Calc'!$G$26:$Z$26,0),MAX(Criteria!$M:$M),1)*OFFSET(Scoring!$E$4,1,MATCH(O$4,Scoring!$F$4:$Z$4,0),MAX(Criteria!$M:$M),)))","v":""},{"$f":"IF($C46=\"\",\"\",SUM(OFFSET('General Calc'!$F$26,MATCH($D46,'General Calc'!$E$26:$E$112,0),MATCH($C46,'General Calc'!$G$26:$Z$26,0),MAX(Criteria!$M:$M),1)*OFFSET(Scoring!$E$4,1,MATCH(P$4,Scoring!$F$4:$Z$4,0),MAX(Criteria!$M:$M),)))","v":""},{"$f":"IF($C46=\"\",\"\",SUM(OFFSET('General Calc'!$F$26,MATCH($D46,'General Calc'!$E$26:$E$112,0),MATCH($C46,'General Calc'!$G$26:$Z$26,0),MAX(Criteria!$M:$M),1)*OFFSET(Scoring!$E$4,1,MATCH(Q$4,Scoring!$F$4:$Z$4,0),MAX(Criteria!$M:$M),)))","v":""},{"$f":"IF($C46=\"\",\"\",SUM(OFFSET('General Calc'!$F$26,MATCH($D46,'General Calc'!$E$26:$E$112,0),MATCH($C46,'General Calc'!$G$26:$Z$26,0),MAX(Criteria!$M:$M),1)*OFFSET(Scoring!$E$4,1,MATCH(R$4,Scoring!$F$4:$Z$4,0),MAX(Criteria!$M:$M),)))","v":""},{"$f":"IF($C46=\"\",\"\",SUM(OFFSET('General Calc'!$F$26,MATCH($D46,'General Calc'!$E$26:$E$112,0),MATCH($C46,'General Calc'!$G$26:$Z$26,0),MAX(Criteria!$M:$M),1)*OFFSET(Scoring!$E$4,1,MATCH(S$4,Scoring!$F$4:$Z$4,0),MAX(Criteria!$M:$M),)))","v":""},{"$f":"IF($C46=\"\",\"\",SUM(OFFSET('General Calc'!$F$26,MATCH($D46,'General Calc'!$E$26:$E$112,0),MATCH($C46,'General Calc'!$G$26:$Z$26,0),MAX(Criteria!$M:$M),1)*OFFSET(Scoring!$E$4,1,MATCH(T$4,Scoring!$F$4:$Z$4,0),MAX(Criteria!$M:$M),)))","v":""},{"$f":"IF($C46=\"\",\"\",SUM(OFFSET('General Calc'!$F$26,MATCH($D46,'General Calc'!$E$26:$E$112,0),MATCH($C46,'General Calc'!$G$26:$Z$26,0),MAX(Criteria!$M:$M),1)*OFFSET(Scoring!$E$4,1,MATCH(U$4,Scoring!$F$4:$Z$4,0),MAX(Criteria!$M:$M),)))","v":""},{"$f":"IF($C46=\"\",\"\",SUM(OFFSET('General Calc'!$F$26,MATCH($D46,'General Calc'!$E$26:$E$112,0),MATCH($C46,'General Calc'!$G$26:$Z$26,0),MAX(Criteria!$M:$M),1)*OFFSET(Scoring!$E$4,1,MATCH(V$4,Scoring!$F$4:$Z$4,0),MAX(Criteria!$M:$M),)))","v":""},{"$f":"IF($C46=\"\",\"\",SUM(OFFSET('General Calc'!$F$26,MATCH($D46,'General Calc'!$E$26:$E$112,0),MATCH($C46,'General Calc'!$G$26:$Z$26,0),MAX(Criteria!$M:$M),1)*OFFSET(Scoring!$E$4,1,MATCH(W$4,Scoring!$F$4:$Z$4,0),MAX(Criteria!$M:$M),)))","v":""},{"$f":"IF($C46=\"\",\"\",SUM(OFFSET('General Calc'!$F$26,MATCH($D46,'General Calc'!$E$26:$E$112,0),MATCH($C46,'General Calc'!$G$26:$Z$26,0),MAX(Criteria!$M:$M),1)*OFFSET(Scoring!$E$4,1,MATCH(X$4,Scoring!$F$4:$Z$4,0),MAX(Criteria!$M:$M),)))","v":""},{"$f":"IF($C46=\"\",\"\",SUM(OFFSET('General Calc'!$F$26,MATCH($D46,'General Calc'!$E$26:$E$112,0),MATCH($C46,'General Calc'!$G$26:$Z$26,0),MAX(Criteria!$M:$M),1)*OFFSET(Scoring!$E$4,1,MATCH(Y$4,Scoring!$F$4:$Z$4,0),MAX(Criteria!$M:$M),)))","v":""},"",{"$f":"IF($C46=\"\",\"\",INDEX($E$4:$Y$4,MATCH(MAX($E46:$Y46),$E46:$Y46,0)))","v":""}]
[null,3,{"$f":"IF(INDEX('Selected Criteria'!$E$6:$E$25,$B47)=0,\"\",INDEX('Selected Criteria'!$E$6:$E$25,$B47))","v":""},"",{"$f":"IF($C47=\"\",\"\",SUM(OFFSET('General Calc'!$F$26,MATCH($D47,'General Calc'!$E$26:$E$112,0),MATCH($C47,'General Calc'!$G$26:$Z$26,0),MAX(Criteria!$M:$M),1)*OFFSET(Scoring!$E$4,1,MATCH(E$4,Scoring!$F$4:$Z$4,0),MAX(Criteria!$M:$M),)))","v":""},{"$f":"IF($C47=\"\",\"\",SUM(OFFSET('General Calc'!$F$26,MATCH($D47,'General Calc'!$E$26:$E$112,0),MATCH($C47,'General Calc'!$G$26:$Z$26,0),MAX(Criteria!$M:$M),1)*OFFSET(Scoring!$E$4,1,MATCH(F$4,Scoring!$F$4:$Z$4,0),MAX(Criteria!$M:$M),)))","v":""},{"$f":"IF($C47=\"\",\"\",SUM(OFFSET('General Calc'!$F$26,MATCH($D47,'General Calc'!$E$26:$E$112,0),MATCH($C47,'General Calc'!$G$26:$Z$26,0),MAX(Criteria!$M:$M),1)*OFFSET(Scoring!$E$4,1,MATCH(G$4,Scoring!$F$4:$Z$4,0),MAX(Criteria!$M:$M),)))","v":""},{"$f":"IF($C47=\"\",\"\",SUM(OFFSET('General Calc'!$F$26,MATCH($D47,'General Calc'!$E$26:$E$112,0),MATCH($C47,'General Calc'!$G$26:$Z$26,0),MAX(Criteria!$M:$M),1)*OFFSET(Scoring!$E$4,1,MATCH(H$4,Scoring!$F$4:$Z$4,0),MAX(Criteria!$M:$M),)))","v":""},{"$f":"IF($C47=\"\",\"\",SUM(OFFSET('General Calc'!$F$26,MATCH($D47,'General Calc'!$E$26:$E$112,0),MATCH($C47,'General Calc'!$G$26:$Z$26,0),MAX(Criteria!$M:$M),1)*OFFSET(Scoring!$E$4,1,MATCH(I$4,Scoring!$F$4:$Z$4,0),MAX(Criteria!$M:$M),)))","v":""},{"$f":"IF($C47=\"\",\"\",SUM(OFFSET('General Calc'!$F$26,MATCH($D47,'General Calc'!$E$26:$E$112,0),MATCH($C47,'General Calc'!$G$26:$Z$26,0),MAX(Criteria!$M:$M),1)*OFFSET(Scoring!$E$4,1,MATCH(J$4,Scoring!$F$4:$Z$4,0),MAX(Criteria!$M:$M),)))","v":""},{"$f":"IF($C47=\"\",\"\",SUM(OFFSET('General Calc'!$F$26,MATCH($D47,'General Calc'!$E$26:$E$112,0),MATCH($C47,'General Calc'!$G$26:$Z$26,0),MAX(Criteria!$M:$M),1)*OFFSET(Scoring!$E$4,1,MATCH(K$4,Scoring!$F$4:$Z$4,0),MAX(Criteria!$M:$M),)))","v":""},{"$f":"IF($C47=\"\",\"\",SUM(OFFSET('General Calc'!$F$26,MATCH($D47,'General Calc'!$E$26:$E$112,0),MATCH($C47,'General Calc'!$G$26:$Z$26,0),MAX(Criteria!$M:$M),1)*OFFSET(Scoring!$E$4,1,MATCH(L$4,Scoring!$F$4:$Z$4,0),MAX(Criteria!$M:$M),)))","v":""},{"$f":"IF($C47=\"\",\"\",SUM(OFFSET('General Calc'!$F$26,MATCH($D47,'General Calc'!$E$26:$E$112,0),MATCH($C47,'General Calc'!$G$26:$Z$26,0),MAX(Criteria!$M:$M),1)*OFFSET(Scoring!$E$4,1,MATCH(M$4,Scoring!$F$4:$Z$4,0),MAX(Criteria!$M:$M),)))","v":""},{"$f":"IF($C47=\"\",\"\",SUM(OFFSET('General Calc'!$F$26,MATCH($D47,'General Calc'!$E$26:$E$112,0),MATCH($C47,'General Calc'!$G$26:$Z$26,0),MAX(Criteria!$M:$M),1)*OFFSET(Scoring!$E$4,1,MATCH(N$4,Scoring!$F$4:$Z$4,0),MAX(Criteria!$M:$M),)))","v":""},{"$f":"IF($C47=\"\",\"\",SUM(OFFSET('General Calc'!$F$26,MATCH($D47,'General Calc'!$E$26:$E$112,0),MATCH($C47,'General Calc'!$G$26:$Z$26,0),MAX(Criteria!$M:$M),1)*OFFSET(Scoring!$E$4,1,MATCH(O$4,Scoring!$F$4:$Z$4,0),MAX(Criteria!$M:$M),)))","v":""},{"$f":"IF($C47=\"\",\"\",SUM(OFFSET('General Calc'!$F$26,MATCH($D47,'General Calc'!$E$26:$E$112,0),MATCH($C47,'General Calc'!$G$26:$Z$26,0),MAX(Criteria!$M:$M),1)*OFFSET(Scoring!$E$4,1,MATCH(P$4,Scoring!$F$4:$Z$4,0),MAX(Criteria!$M:$M),)))","v":""},{"$f":"IF($C47=\"\",\"\",SUM(OFFSET('General Calc'!$F$26,MATCH($D47,'General Calc'!$E$26:$E$112,0),MATCH($C47,'General Calc'!$G$26:$Z$26,0),MAX(Criteria!$M:$M),1)*OFFSET(Scoring!$E$4,1,MATCH(Q$4,Scoring!$F$4:$Z$4,0),MAX(Criteria!$M:$M),)))","v":""},{"$f":"IF($C47=\"\",\"\",SUM(OFFSET('General Calc'!$F$26,MATCH($D47,'General Calc'!$E$26:$E$112,0),MATCH($C47,'General Calc'!$G$26:$Z$26,0),MAX(Criteria!$M:$M),1)*OFFSET(Scoring!$E$4,1,MATCH(R$4,Scoring!$F$4:$Z$4,0),MAX(Criteria!$M:$M),)))","v":""},{"$f":"IF($C47=\"\",\"\",SUM(OFFSET('General Calc'!$F$26,MATCH($D47,'General Calc'!$E$26:$E$112,0),MATCH($C47,'General Calc'!$G$26:$Z$26,0),MAX(Criteria!$M:$M),1)*OFFSET(Scoring!$E$4,1,MATCH(S$4,Scoring!$F$4:$Z$4,0),MAX(Criteria!$M:$M),)))","v":""},{"$f":"IF($C47=\"\",\"\",SUM(OFFSET('General Calc'!$F$26,MATCH($D47,'General Calc'!$E$26:$E$112,0),MATCH($C47,'General Calc'!$G$26:$Z$26,0),MAX(Criteria!$M:$M),1)*OFFSET(Scoring!$E$4,1,MATCH(T$4,Scoring!$F$4:$Z$4,0),MAX(Criteria!$M:$M),)))","v":""},{"$f":"IF($C47=\"\",\"\",SUM(OFFSET('General Calc'!$F$26,MATCH($D47,'General Calc'!$E$26:$E$112,0),MATCH($C47,'General Calc'!$G$26:$Z$26,0),MAX(Criteria!$M:$M),1)*OFFSET(Scoring!$E$4,1,MATCH(U$4,Scoring!$F$4:$Z$4,0),MAX(Criteria!$M:$M),)))","v":""},{"$f":"IF($C47=\"\",\"\",SUM(OFFSET('General Calc'!$F$26,MATCH($D47,'General Calc'!$E$26:$E$112,0),MATCH($C47,'General Calc'!$G$26:$Z$26,0),MAX(Criteria!$M:$M),1)*OFFSET(Scoring!$E$4,1,MATCH(V$4,Scoring!$F$4:$Z$4,0),MAX(Criteria!$M:$M),)))","v":""},{"$f":"IF($C47=\"\",\"\",SUM(OFFSET('General Calc'!$F$26,MATCH($D47,'General Calc'!$E$26:$E$112,0),MATCH($C47,'General Calc'!$G$26:$Z$26,0),MAX(Criteria!$M:$M),1)*OFFSET(Scoring!$E$4,1,MATCH(W$4,Scoring!$F$4:$Z$4,0),MAX(Criteria!$M:$M),)))","v":""},{"$f":"IF($C47=\"\",\"\",SUM(OFFSET('General Calc'!$F$26,MATCH($D47,'General Calc'!$E$26:$E$112,0),MATCH($C47,'General Calc'!$G$26:$Z$26,0),MAX(Criteria!$M:$M),1)*OFFSET(Scoring!$E$4,1,MATCH(X$4,Scoring!$F$4:$Z$4,0),MAX(Criteria!$M:$M),)))","v":""},{"$f":"IF($C47=\"\",\"\",SUM(OFFSET('General Calc'!$F$26,MATCH($D47,'General Calc'!$E$26:$E$112,0),MATCH($C47,'General Calc'!$G$26:$Z$26,0),MAX(Criteria!$M:$M),1)*OFFSET(Scoring!$E$4,1,MATCH(Y$4,Scoring!$F$4:$Z$4,0),MAX(Criteria!$M:$M),)))","v":""},"",""]
[null,4,{"$f":"IF(INDEX('Selected Criteria'!$E$6:$E$25,$B48)=0,\"\",INDEX('Selected Criteria'!$E$6:$E$25,$B48))","v":""},"",{"$f":"IF($C48=\"\",\"\",SUM(OFFSET('General Calc'!$F$26,MATCH($D48,'General Calc'!$E$26:$E$112,0),MATCH($C48,'General Calc'!$G$26:$Z$26,0),MAX(Criteria!$M:$M),1)*OFFSET(Scoring!$E$4,1,MATCH(E$4,Scoring!$F$4:$Z$4,0),MAX(Criteria!$M:$M),)))","v":""},{"$f":"IF($C48=\"\",\"\",SUM(OFFSET('General Calc'!$F$26,MATCH($D48,'General Calc'!$E$26:$E$112,0),MATCH($C48,'General Calc'!$G$26:$Z$26,0),MAX(Criteria!$M:$M),1)*OFFSET(Scoring!$E$4,1,MATCH(F$4,Scoring!$F$4:$Z$4,0),MAX(Criteria!$M:$M),)))","v":""},{"$f":"IF($C48=\"\",\"\",SUM(OFFSET('General Calc'!$F$26,MATCH($D48,'General Calc'!$E$26:$E$112,0),MATCH($C48,'General Calc'!$G$26:$Z$26,0),MAX(Criteria!$M:$M),1)*OFFSET(Scoring!$E$4,1,MATCH(G$4,Scoring!$F$4:$Z$4,0),MAX(Criteria!$M:$M),)))","v":""},{"$f":"IF($C48=\"\",\"\",SUM(OFFSET('General Calc'!$F$26,MATCH($D48,'General Calc'!$E$26:$E$112,0),MATCH($C48,'General Calc'!$G$26:$Z$26,0),MAX(Criteria!$M:$M),1)*OFFSET(Scoring!$E$4,1,MATCH(H$4,Scoring!$F$4:$Z$4,0),MAX(Criteria!$M:$M),)))","v":""},{"$f":"IF($C48=\"\",\"\",SUM(OFFSET('General Calc'!$F$26,MATCH($D48,'General Calc'!$E$26:$E$112,0),MATCH($C48,'General Calc'!$G$26:$Z$26,0),MAX(Criteria!$M:$M),1)*OFFSET(Scoring!$E$4,1,MATCH(I$4,Scoring!$F$4:$Z$4,0),MAX(Criteria!$M:$M),)))","v":""},{"$f":"IF($C48=\"\",\"\",SUM(OFFSET('General Calc'!$F$26,MATCH($D48,'General Calc'!$E$26:$E$112,0),MATCH($C48,'General Calc'!$G$26:$Z$26,0),MAX(Criteria!$M:$M),1)*OFFSET(Scoring!$E$4,1,MATCH(J$4,Scoring!$F$4:$Z$4,0),MAX(Criteria!$M:$M),)))","v":""},{"$f":"IF($C48=\"\",\"\",SUM(OFFSET('General Calc'!$F$26,MATCH($D48,'General Calc'!$E$26:$E$112,0),MATCH($C48,'General Calc'!$G$26:$Z$26,0),MAX(Criteria!$M:$M),1)*OFFSET(Scoring!$E$4,1,MATCH(K$4,Scoring!$F$4:$Z$4,0),MAX(Criteria!$M:$M),)))","v":""},{"$f":"IF($C48=\"\",\"\",SUM(OFFSET('General Calc'!$F$26,MATCH($D48,'General Calc'!$E$26:$E$112,0),MATCH($C48,'General Calc'!$G$26:$Z$26,0),MAX(Criteria!$M:$M),1)*OFFSET(Scoring!$E$4,1,MATCH(L$4,Scoring!$F$4:$Z$4,0),MAX(Criteria!$M:$M),)))","v":""},{"$f":"IF($C48=\"\",\"\",SUM(OFFSET('General Calc'!$F$26,MATCH($D48,'General Calc'!$E$26:$E$112,0),MATCH($C48,'General Calc'!$G$26:$Z$26,0),MAX(Criteria!$M:$M),1)*OFFSET(Scoring!$E$4,1,MATCH(M$4,Scoring!$F$4:$Z$4,0),MAX(Criteria!$M:$M),)))","v":""},{"$f":"IF($C48=\"\",\"\",SUM(OFFSET('General Calc'!$F$26,MATCH($D48,'General Calc'!$E$26:$E$112,0),MATCH($C48,'General Calc'!$G$26:$Z$26,0),MAX(Criteria!$M:$M),1)*OFFSET(Scoring!$E$4,1,MATCH(N$4,Scoring!$F$4:$Z$4,0),MAX(Criteria!$M:$M),)))","v":""},{"$f":"IF($C48=\"\",\"\",SUM(OFFSET('General Calc'!$F$26,MATCH($D48,'General Calc'!$E$26:$E$112,0),MATCH($C48,'General Calc'!$G$26:$Z$26,0),MAX(Criteria!$M:$M),1)*OFFSET(Scoring!$E$4,1,MATCH(O$4,Scoring!$F$4:$Z$4,0),MAX(Criteria!$M:$M),)))","v":""},{"$f":"IF($C48=\"\",\"\",SUM(OFFSET('General Calc'!$F$26,MATCH($D48,'General Calc'!$E$26:$E$112,0),MATCH($C48,'General Calc'!$G$26:$Z$26,0),MAX(Criteria!$M:$M),1)*OFFSET(Scoring!$E$4,1,MATCH(P$4,Scoring!$F$4:$Z$4,0),MAX(Criteria!$M:$M),)))","v":""},{"$f":"IF($C48=\"\",\"\",SUM(OFFSET('General Calc'!$F$26,MATCH($D48,'General Calc'!$E$26:$E$112,0),MATCH($C48,'General Calc'!$G$26:$Z$26,0),MAX(Criteria!$M:$M),1)*OFFSET(Scoring!$E$4,1,MATCH(Q$4,Scoring!$F$4:$Z$4,0),MAX(Criteria!$M:$M),)))","v":""},{"$f":"IF($C48=\"\",\"\",SUM(OFFSET('General Calc'!$F$26,MATCH($D48,'General Calc'!$E$26:$E$112,0),MATCH($C48,'General Calc'!$G$26:$Z$26,0),MAX(Criteria!$M:$M),1)*OFFSET(Scoring!$E$4,1,MATCH(R$4,Scoring!$F$4:$Z$4,0),MAX(Criteria!$M:$M),)))","v":""},{"$f":"IF($C48=\"\",\"\",SUM(OFFSET('General Calc'!$F$26,MATCH($D48,'General Calc'!$E$26:$E$112,0),MATCH($C48,'General Calc'!$G$26:$Z$26,0),MAX(Criteria!$M:$M),1)*OFFSET(Scoring!$E$4,1,MATCH(S$4,Scoring!$F$4:$Z$4,0),MAX(Criteria!$M:$M),)))","v":""},{"$f":"IF($C48=\"\",\"\",SUM(OFFSET('General Calc'!$F$26,MATCH($D48,'General Calc'!$E$26:$E$112,0),MATCH($C48,'General Calc'!$G$26:$Z$26,0),MAX(Criteria!$M:$M),1)*OFFSET(Scoring!$E$4,1,MATCH(T$4,Scoring!$F$4:$Z$4,0),MAX(Criteria!$M:$M),)))","v":""},{"$f":"IF($C48=\"\",\"\",SUM(OFFSET('General Calc'!$F$26,MATCH($D48,'General Calc'!$E$26:$E$112,0),MATCH($C48,'General Calc'!$G$26:$Z$26,0),MAX(Criteria!$M:$M),1)*OFFSET(Scoring!$E$4,1,MATCH(U$4,Scoring!$F$4:$Z$4,0),MAX(Criteria!$M:$M),)))","v":""},{"$f":"IF($C48=\"\",\"\",SUM(OFFSET('General Calc'!$F$26,MATCH($D48,'General Calc'!$E$26:$E$112,0),MATCH($C48,'General Calc'!$G$26:$Z$26,0),MAX(Criteria!$M:$M),1)*OFFSET(Scoring!$E$4,1,MATCH(V$4,Scoring!$F$4:$Z$4,0),MAX(Criteria!$M:$M),)))","v":""},{"$f":"IF($C48=\"\",\"\",SUM(OFFSET('General Calc'!$F$26,MATCH($D48,'General Calc'!$E$26:$E$112,0),MATCH($C48,'General Calc'!$G$26:$Z$26,0),MAX(Criteria!$M:$M),1)*OFFSET(Scoring!$E$4,1,MATCH(W$4,Scoring!$F$4:$Z$4,0),MAX(Criteria!$M:$M),)))","v":""},{"$f":"IF($C48=\"\",\"\",SUM(OFFSET('General Calc'!$F$26,MATCH($D48,'General Calc'!$E$26:$E$112,0),MATCH($C48,'General Calc'!$G$26:$Z$26,0),MAX(Criteria!$M:$M),1)*OFFSET(Scoring!$E$4,1,MATCH(X$4,Scoring!$F$4:$Z$4,0),MAX(Criteria!$M:$M),)))","v":""},{"$f":"IF($C48=\"\",\"\",SUM(OFFSET('General Calc'!$F$26,MATCH($D48,'General Calc'!$E$26:$E$112,0),MATCH($C48,'General Calc'!$G$26:$Z$26,0),MAX(Criteria!$M:$M),1)*OFFSET(Scoring!$E$4,1,MATCH(Y$4,Scoring!$F$4:$Z$4,0),MAX(Criteria!$M:$M),)))","v":""},"",""]
[null,5,{"$f":"IF(INDEX('Selected Criteria'!$E$6:$E$25,$B49)=0,\"\",INDEX('Selected Criteria'!$E$6:$E$25,$B49))","v":""},"",{"$f":"IF($C49=\"\",\"\",SUM(OFFSET('General Calc'!$F$26,MATCH($D49,'General Calc'!$E$26:$E$112,0),MATCH($C49,'General Calc'!$G$26:$Z$26,0),MAX(Criteria!$M:$M),1)*OFFSET(Scoring!$E$4,1,MATCH(E$4,Scoring!$F$4:$Z$4,0),MAX(Criteria!$M:$M),)))","v":""},{"$f":"IF($C49=\"\",\"\",SUM(OFFSET('General Calc'!$F$26,MATCH($D49,'General Calc'!$E$26:$E$112,0),MATCH($C49,'General Calc'!$G$26:$Z$26,0),MAX(Criteria!$M:$M),1)*OFFSET(Scoring!$E$4,1,MATCH(F$4,Scoring!$F$4:$Z$4,0),MAX(Criteria!$M:$M),)))","v":""},{"$f":"IF($C49=\"\",\"\",SUM(OFFSET('General Calc'!$F$26,MATCH($D49,'General Calc'!$E$26:$E$112,0),MATCH($C49,'General Calc'!$G$26:$Z$26,0),MAX(Criteria!$M:$M),1)*OFFSET(Scoring!$E$4,1,MATCH(G$4,Scoring!$F$4:$Z$4,0),MAX(Criteria!$M:$M),)))","v":""},{"$f":"IF($C49=\"\",\"\",SUM(OFFSET('General Calc'!$F$26,MATCH($D49,'General Calc'!$E$26:$E$112,0),MATCH($C49,'General Calc'!$G$26:$Z$26,0),MAX(Criteria!$M:$M),1)*OFFSET(Scoring!$E$4,1,MATCH(H$4,Scoring!$F$4:$Z$4,0),MAX(Criteria!$M:$M),)))","v":""},{"$f":"IF($C49=\"\",\"\",SUM(OFFSET('General Calc'!$F$26,MATCH($D49,'General Calc'!$E$26:$E$112,0),MATCH($C49,'General Calc'!$G$26:$Z$26,0),MAX(Criteria!$M:$M),1)*OFFSET(Scoring!$E$4,1,MATCH(I$4,Scoring!$F$4:$Z$4,0),MAX(Criteria!$M:$M),)))","v":""},{"$f":"IF($C49=\"\",\"\",SUM(OFFSET('General Calc'!$F$26,MATCH($D49,'General Calc'!$E$26:$E$112,0),MATCH($C49,'General Calc'!$G$26:$Z$26,0),MAX(Criteria!$M:$M),1)*OFFSET(Scoring!$E$4,1,MATCH(J$4,Scoring!$F$4:$Z$4,0),MAX(Criteria!$M:$M),)))","v":""},{"$f":"IF($C49=\"\",\"\",SUM(OFFSET('General Calc'!$F$26,MATCH($D49,'General Calc'!$E$26:$E$112,0),MATCH($C49,'General Calc'!$G$26:$Z$26,0),MAX(Criteria!$M:$M),1)*OFFSET(Scoring!$E$4,1,MATCH(K$4,Scoring!$F$4:$Z$4,0),MAX(Criteria!$M:$M),)))","v":""},{"$f":"IF($C49=\"\",\"\",SUM(OFFSET('General Calc'!$F$26,MATCH($D49,'General Calc'!$E$26:$E$112,0),MATCH($C49,'General Calc'!$G$26:$Z$26,0),MAX(Criteria!$M:$M),1)*OFFSET(Scoring!$E$4,1,MATCH(L$4,Scoring!$F$4:$Z$4,0),MAX(Criteria!$M:$M),)))","v":""},{"$f":"IF($C49=\"\",\"\",SUM(OFFSET('General Calc'!$F$26,MATCH($D49,'General Calc'!$E$26:$E$112,0),MATCH($C49,'General Calc'!$G$26:$Z$26,0),MAX(Criteria!$M:$M),1)*OFFSET(Scoring!$E$4,1,MATCH(M$4,Scoring!$F$4:$Z$4,0),MAX(Criteria!$M:$M),)))","v":""},{"$f":"IF($C49=\"\",\"\",SUM(OFFSET('General Calc'!$F$26,MATCH($D49,'General Calc'!$E$26:$E$112,0),MATCH($C49,'General Calc'!$G$26:$Z$26,0),MAX(Criteria!$M:$M),1)*OFFSET(Scoring!$E$4,1,MATCH(N$4,Scoring!$F$4:$Z$4,0),MAX(Criteria!$M:$M),)))","v":""},{"$f":"IF($C49=\"\",\"\",SUM(OFFSET('General Calc'!$F$26,MATCH($D49,'General Calc'!$E$26:$E$112,0),MATCH($C49,'General Calc'!$G$26:$Z$26,0),MAX(Criteria!$M:$M),1)*OFFSET(Scoring!$E$4,1,MATCH(O$4,Scoring!$F$4:$Z$4,0),MAX(Criteria!$M:$M),)))","v":""},{"$f":"IF($C49=\"\",\"\",SUM(OFFSET('General Calc'!$F$26,MATCH($D49,'General Calc'!$E$26:$E$112,0),MATCH($C49,'General Calc'!$G$26:$Z$26,0),MAX(Criteria!$M:$M),1)*OFFSET(Scoring!$E$4,1,MATCH(P$4,Scoring!$F$4:$Z$4,0),MAX(Criteria!$M:$M),)))","v":""},{"$f":"IF($C49=\"\",\"\",SUM(OFFSET('General Calc'!$F$26,MATCH($D49,'General Calc'!$E$26:$E$112,0),MATCH($C49,'General Calc'!$G$26:$Z$26,0),MAX(Criteria!$M:$M),1)*OFFSET(Scoring!$E$4,1,MATCH(Q$4,Scoring!$F$4:$Z$4,0),MAX(Criteria!$M:$M),)))","v":""},{"$f":"IF($C49=\"\",\"\",SUM(OFFSET('General Calc'!$F$26,MATCH($D49,'General Calc'!$E$26:$E$112,0),MATCH($C49,'General Calc'!$G$26:$Z$26,0),MAX(Criteria!$M:$M),1)*OFFSET(Scoring!$E$4,1,MATCH(R$4,Scoring!$F$4:$Z$4,0),MAX(Criteria!$M:$M),)))","v":""},{"$f":"IF($C49=\"\",\"\",SUM(OFFSET('General Calc'!$F$26,MATCH($D49,'General Calc'!$E$26:$E$112,0),MATCH($C49,'General Calc'!$G$26:$Z$26,0),MAX(Criteria!$M:$M),1)*OFFSET(Scoring!$E$4,1,MATCH(S$4,Scoring!$F$4:$Z$4,0),MAX(Criteria!$M:$M),)))","v":""},{"$f":"IF($C49=\"\",\"\",SUM(OFFSET('General Calc'!$F$26,MATCH($D49,'General Calc'!$E$26:$E$112,0),MATCH($C49,'General Calc'!$G$26:$Z$26,0),MAX(Criteria!$M:$M),1)*OFFSET(Scoring!$E$4,1,MATCH(T$4,Scoring!$F$4:$Z$4,0),MAX(Criteria!$M:$M),)))","v":""},{"$f":"IF($C49=\"\",\"\",SUM(OFFSET('General Calc'!$F$26,MATCH($D49,'General Calc'!$E$26:$E$112,0),MATCH($C49,'General Calc'!$G$26:$Z$26,0),MAX(Criteria!$M:$M),1)*OFFSET(Scoring!$E$4,1,MATCH(U$4,Scoring!$F$4:$Z$4,0),MAX(Criteria!$M:$M),)))","v":""},{"$f":"IF($C49=\"\",\"\",SUM(OFFSET('General Calc'!$F$26,MATCH($D49,'General Calc'!$E$26:$E$112,0),MATCH($C49,'General Calc'!$G$26:$Z$26,0),MAX(Criteria!$M:$M),1)*OFFSET(Scoring!$E$4,1,MATCH(V$4,Scoring!$F$4:$Z$4,0),MAX(Criteria!$M:$M),)))","v":""},{"$f":"IF($C49=\"\",\"\",SUM(OFFSET('General Calc'!$F$26,MATCH($D49,'General Calc'!$E$26:$E$112,0),MATCH($C49,'General Calc'!$G$26:$Z$26,0),MAX(Criteria!$M:$M),1)*OFFSET(Scoring!$E$4,1,MATCH(W$4,Scoring!$F$4:$Z$4,0),MAX(Criteria!$M:$M),)))","v":""},{"$f":"IF($C49=\"\",\"\",SUM(OFFSET('General Calc'!$F$26,MATCH($D49,'General Calc'!$E$26:$E$112,0),MATCH($C49,'General Calc'!$G$26:$Z$26,0),MAX(Criteria!$M:$M),1)*OFFSET(Scoring!$E$4,1,MATCH(X$4,Scoring!$F$4:$Z$4,0),MAX(Criteria!$M:$M),)))","v":""},{"$f":"IF($C49=\"\",\"\",SUM(OFFSET('General Calc'!$F$26,MATCH($D49,'General Calc'!$E$26:$E$112,0),MATCH($C49,'General Calc'!$G$26:$Z$26,0),MAX(Criteria!$M:$M),1)*OFFSET(Scoring!$E$4,1,MATCH(Y$4,Scoring!$F$4:$Z$4,0),MAX(Criteria!$M:$M),)))","v":""},"",""]
[null,6,{"$f":"IF(INDEX('Selected Criteria'!$E$6:$E$25,$B50)=0,\"\",INDEX('Selected Criteria'!$E$6:$E$25,$B50))","v":""},"",{"$f":"IF($C50=\"\",\"\",SUM(OFFSET('General Calc'!$F$26,MATCH($D50,'General Calc'!$E$26:$E$112,0),MATCH($C50,'General Calc'!$G$26:$Z$26,0),MAX(Criteria!$M:$M),1)*OFFSET(Scoring!$E$4,1,MATCH(E$4,Scoring!$F$4:$Z$4,0),MAX(Criteria!$M:$M),)))","v":""},{"$f":"IF($C50=\"\",\"\",SUM(OFFSET('General Calc'!$F$26,MATCH($D50,'General Calc'!$E$26:$E$112,0),MATCH($C50,'General Calc'!$G$26:$Z$26,0),MAX(Criteria!$M:$M),1)*OFFSET(Scoring!$E$4,1,MATCH(F$4,Scoring!$F$4:$Z$4,0),MAX(Criteria!$M:$M),)))","v":""},{"$f":"IF($C50=\"\",\"\",SUM(OFFSET('General Calc'!$F$26,MATCH($D50,'General Calc'!$E$26:$E$112,0),MATCH($C50,'General Calc'!$G$26:$Z$26,0),MAX(Criteria!$M:$M),1)*OFFSET(Scoring!$E$4,1,MATCH(G$4,Scoring!$F$4:$Z$4,0),MAX(Criteria!$M:$M),)))","v":""},{"$f":"IF($C50=\"\",\"\",SUM(OFFSET('General Calc'!$F$26,MATCH($D50,'General Calc'!$E$26:$E$112,0),MATCH($C50,'General Calc'!$G$26:$Z$26,0),MAX(Criteria!$M:$M),1)*OFFSET(Scoring!$E$4,1,MATCH(H$4,Scoring!$F$4:$Z$4,0),MAX(Criteria!$M:$M),)))","v":""},{"$f":"IF($C50=\"\",\"\",SUM(OFFSET('General Calc'!$F$26,MATCH($D50,'General Calc'!$E$26:$E$112,0),MATCH($C50,'General Calc'!$G$26:$Z$26,0),MAX(Criteria!$M:$M),1)*OFFSET(Scoring!$E$4,1,MATCH(I$4,Scoring!$F$4:$Z$4,0),MAX(Criteria!$M:$M),)))","v":""},{"$f":"IF($C50=\"\",\"\",SUM(OFFSET('General Calc'!$F$26,MATCH($D50,'General Calc'!$E$26:$E$112,0),MATCH($C50,'General Calc'!$G$26:$Z$26,0),MAX(Criteria!$M:$M),1)*OFFSET(Scoring!$E$4,1,MATCH(J$4,Scoring!$F$4:$Z$4,0),MAX(Criteria!$M:$M),)))","v":""},{"$f":"IF($C50=\"\",\"\",SUM(OFFSET('General Calc'!$F$26,MATCH($D50,'General Calc'!$E$26:$E$112,0),MATCH($C50,'General Calc'!$G$26:$Z$26,0),MAX(Criteria!$M:$M),1)*OFFSET(Scoring!$E$4,1,MATCH(K$4,Scoring!$F$4:$Z$4,0),MAX(Criteria!$M:$M),)))","v":""},{"$f":"IF($C50=\"\",\"\",SUM(OFFSET('General Calc'!$F$26,MATCH($D50,'General Calc'!$E$26:$E$112,0),MATCH($C50,'General Calc'!$G$26:$Z$26,0),MAX(Criteria!$M:$M),1)*OFFSET(Scoring!$E$4,1,MATCH(L$4,Scoring!$F$4:$Z$4,0),MAX(Criteria!$M:$M),)))","v":""},{"$f":"IF($C50=\"\",\"\",SUM(OFFSET('General Calc'!$F$26,MATCH($D50,'General Calc'!$E$26:$E$112,0),MATCH($C50,'General Calc'!$G$26:$Z$26,0),MAX(Criteria!$M:$M),1)*OFFSET(Scoring!$E$4,1,MATCH(M$4,Scoring!$F$4:$Z$4,0),MAX(Criteria!$M:$M),)))","v":""},{"$f":"IF($C50=\"\",\"\",SUM(OFFSET('General Calc'!$F$26,MATCH($D50,'General Calc'!$E$26:$E$112,0),MATCH($C50,'General Calc'!$G$26:$Z$26,0),MAX(Criteria!$M:$M),1)*OFFSET(Scoring!$E$4,1,MATCH(N$4,Scoring!$F$4:$Z$4,0),MAX(Criteria!$M:$M),)))","v":""},{"$f":"IF($C50=\"\",\"\",SUM(OFFSET('General Calc'!$F$26,MATCH($D50,'General Calc'!$E$26:$E$112,0),MATCH($C50,'General Calc'!$G$26:$Z$26,0),MAX(Criteria!$M:$M),1)*OFFSET(Scoring!$E$4,1,MATCH(O$4,Scoring!$F$4:$Z$4,0),MAX(Criteria!$M:$M),)))","v":""},{"$f":"IF($C50=\"\",\"\",SUM(OFFSET('General Calc'!$F$26,MATCH($D50,'General Calc'!$E$26:$E$112,0),MATCH($C50,'General Calc'!$G$26:$Z$26,0),MAX(Criteria!$M:$M),1)*OFFSET(Scoring!$E$4,1,MATCH(P$4,Scoring!$F$4:$Z$4,0),MAX(Criteria!$M:$M),)))","v":""},{"$f":"IF($C50=\"\",\"\",SUM(OFFSET('General Calc'!$F$26,MATCH($D50,'General Calc'!$E$26:$E$112,0),MATCH($C50,'General Calc'!$G$26:$Z$26,0),MAX(Criteria!$M:$M),1)*OFFSET(Scoring!$E$4,1,MATCH(Q$4,Scoring!$F$4:$Z$4,0),MAX(Criteria!$M:$M),)))","v":""},{"$f":"IF($C50=\"\",\"\",SUM(OFFSET('General Calc'!$F$26,MATCH($D50,'General Calc'!$E$26:$E$112,0),MATCH($C50,'General Calc'!$G$26:$Z$26,0),MAX(Criteria!$M:$M),1)*OFFSET(Scoring!$E$4,1,MATCH(R$4,Scoring!$F$4:$Z$4,0),MAX(Criteria!$M:$M),)))","v":""},{"$f":"IF($C50=\"\",\"\",SUM(OFFSET('General Calc'!$F$26,MATCH($D50,'General Calc'!$E$26:$E$112,0),MATCH($C50,'General Calc'!$G$26:$Z$26,0),MAX(Criteria!$M:$M),1)*OFFSET(Scoring!$E$4,1,MATCH(S$4,Scoring!$F$4:$Z$4,0),MAX(Criteria!$M:$M),)))","v":""},{"$f":"IF($C50=\"\",\"\",SUM(OFFSET('General Calc'!$F$26,MATCH($D50,'General Calc'!$E$26:$E$112,0),MATCH($C50,'General Calc'!$G$26:$Z$26,0),MAX(Criteria!$M:$M),1)*OFFSET(Scoring!$E$4,1,MATCH(T$4,Scoring!$F$4:$Z$4,0),MAX(Criteria!$M:$M),)))","v":""},{"$f":"IF($C50=\"\",\"\",SUM(OFFSET('General Calc'!$F$26,MATCH($D50,'General Calc'!$E$26:$E$112,0),MATCH($C50,'General Calc'!$G$26:$Z$26,0),MAX(Criteria!$M:$M),1)*OFFSET(Scoring!$E$4,1,MATCH(U$4,Scoring!$F$4:$Z$4,0),MAX(Criteria!$M:$M),)))","v":""},{"$f":"IF($C50=\"\",\"\",SUM(OFFSET('General Calc'!$F$26,MATCH($D50,'General Calc'!$E$26:$E$112,0),MATCH($C50,'General Calc'!$G$26:$Z$26,0),MAX(Criteria!$M:$M),1)*OFFSET(Scoring!$E$4,1,MATCH(V$4,Scoring!$F$4:$Z$4,0),MAX(Criteria!$M:$M),)))","v":""},{"$f":"IF($C50=\"\",\"\",SUM(OFFSET('General Calc'!$F$26,MATCH($D50,'General Calc'!$E$26:$E$112,0),MATCH($C50,'General Calc'!$G$26:$Z$26,0),MAX(Criteria!$M:$M),1)*OFFSET(Scoring!$E$4,1,MATCH(W$4,Scoring!$F$4:$Z$4,0),MAX(Criteria!$M:$M),)))","v":""},{"$f":"IF($C50=\"\",\"\",SUM(OFFSET('General Calc'!$F$26,MATCH($D50,'General Calc'!$E$26:$E$112,0),MATCH($C50,'General Calc'!$G$26:$Z$26,0),MAX(Criteria!$M:$M),1)*OFFSET(Scoring!$E$4,1,MATCH(X$4,Scoring!$F$4:$Z$4,0),MAX(Criteria!$M:$M),)))","v":""},{"$f":"IF($C50=\"\",\"\",SUM(OFFSET('General Calc'!$F$26,MATCH($D50,'General Calc'!$E$26:$E$112,0),MATCH($C50,'General Calc'!$G$26:$Z$26,0),MAX(Criteria!$M:$M),1)*OFFSET(Scoring!$E$4,1,MATCH(Y$4,Scoring!$F$4:$Z$4,0),MAX(Criteria!$M:$M),)))","v":""},"",""]
[null,7,{"$f":"IF(INDEX('Selected Criteria'!$E$6:$E$25,$B51)=0,\"\",INDEX('Selected Criteria'!$E$6:$E$25,$B51))","v":""},"",{"$f":"IF($C51=\"\",\"\",SUM(OFFSET('General Calc'!$F$26,MATCH($D51,'General Calc'!$E$26:$E$112,0),MATCH($C51,'General Calc'!$G$26:$Z$26,0),MAX(Criteria!$M:$M),1)*OFFSET(Scoring!$E$4,1,MATCH(E$4,Scoring!$F$4:$Z$4,0),MAX(Criteria!$M:$M),)))","v":""},{"$f":"IF($C51=\"\",\"\",SUM(OFFSET('General Calc'!$F$26,MATCH($D51,'General Calc'!$E$26:$E$112,0),MATCH($C51,'General Calc'!$G$26:$Z$26,0),MAX(Criteria!$M:$M),1)*OFFSET(Scoring!$E$4,1,MATCH(F$4,Scoring!$F$4:$Z$4,0),MAX(Criteria!$M:$M),)))","v":""},{"$f":"IF($C51=\"\",\"\",SUM(OFFSET('General Calc'!$F$26,MATCH($D51,'General Calc'!$E$26:$E$112,0),MATCH($C51,'General Calc'!$G$26:$Z$26,0),MAX(Criteria!$M:$M),1)*OFFSET(Scoring!$E$4,1,MATCH(G$4,Scoring!$F$4:$Z$4,0),MAX(Criteria!$M:$M),)))","v":""},{"$f":"IF($C51=\"\",\"\",SUM(OFFSET('General Calc'!$F$26,MATCH($D51,'General Calc'!$E$26:$E$112,0),MATCH($C51,'General Calc'!$G$26:$Z$26,0),MAX(Criteria!$M:$M),1)*OFFSET(Scoring!$E$4,1,MATCH(H$4,Scoring!$F$4:$Z$4,0),MAX(Criteria!$M:$M),)))","v":""},{"$f":"IF($C51=\"\",\"\",SUM(OFFSET('General Calc'!$F$26,MATCH($D51,'General Calc'!$E$26:$E$112,0),MATCH($C51,'General Calc'!$G$26:$Z$26,0),MAX(Criteria!$M:$M),1)*OFFSET(Scoring!$E$4,1,MATCH(I$4,Scoring!$F$4:$Z$4,0),MAX(Criteria!$M:$M),)))","v":""},{"$f":"IF($C51=\"\",\"\",SUM(OFFSET('General Calc'!$F$26,MATCH($D51,'General Calc'!$E$26:$E$112,0),MATCH($C51,'General Calc'!$G$26:$Z$26,0),MAX(Criteria!$M:$M),1)*OFFSET(Scoring!$E$4,1,MATCH(J$4,Scoring!$F$4:$Z$4,0),MAX(Criteria!$M:$M),)))","v":""},{"$f":"IF($C51=\"\",\"\",SUM(OFFSET('General Calc'!$F$26,MATCH($D51,'General Calc'!$E$26:$E$112,0),MATCH($C51,'General Calc'!$G$26:$Z$26,0),MAX(Criteria!$M:$M),1)*OFFSET(Scoring!$E$4,1,MATCH(K$4,Scoring!$F$4:$Z$4,0),MAX(Criteria!$M:$M),)))","v":""},{"$f":"IF($C51=\"\",\"\",SUM(OFFSET('General Calc'!$F$26,MATCH($D51,'General Calc'!$E$26:$E$112,0),MATCH($C51,'General Calc'!$G$26:$Z$26,0),MAX(Criteria!$M:$M),1)*OFFSET(Scoring!$E$4,1,MATCH(L$4,Scoring!$F$4:$Z$4,0),MAX(Criteria!$M:$M),)))","v":""},{"$f":"IF($C51=\"\",\"\",SUM(OFFSET('General Calc'!$F$26,MATCH($D51,'General Calc'!$E$26:$E$112,0),MATCH($C51,'General Calc'!$G$26:$Z$26,0),MAX(Criteria!$M:$M),1)*OFFSET(Scoring!$E$4,1,MATCH(M$4,Scoring!$F$4:$Z$4,0),MAX(Criteria!$M:$M),)))","v":""},{"$f":"IF($C51=\"\",\"\",SUM(OFFSET('General Calc'!$F$26,MATCH($D51,'General Calc'!$E$26:$E$112,0),MATCH($C51,'General Calc'!$G$26:$Z$26,0),MAX(Criteria!$M:$M),1)*OFFSET(Scoring!$E$4,1,MATCH(N$4,Scoring!$F$4:$Z$4,0),MAX(Criteria!$M:$M),)))","v":""},{"$f":"IF($C51=\"\",\"\",SUM(OFFSET('General Calc'!$F$26,MATCH($D51,'General Calc'!$E$26:$E$112,0),MATCH($C51,'General Calc'!$G$26:$Z$26,0),MAX(Criteria!$M:$M),1)*OFFSET(Scoring!$E$4,1,MATCH(O$4,Scoring!$F$4:$Z$4,0),MAX(Criteria!$M:$M),)))","v":""},{"$f":"IF($C51=\"\",\"\",SUM(OFFSET('General Calc'!$F$26,MATCH($D51,'General Calc'!$E$26:$E$112,0),MATCH($C51,'General Calc'!$G$26:$Z$26,0),MAX(Criteria!$M:$M),1)*OFFSET(Scoring!$E$4,1,MATCH(P$4,Scoring!$F$4:$Z$4,0),MAX(Criteria!$M:$M),)))","v":""},{"$f":"IF($C51=\"\",\"\",SUM(OFFSET('General Calc'!$F$26,MATCH($D51,'General Calc'!$E$26:$E$112,0),MATCH($C51,'General Calc'!$G$26:$Z$26,0),MAX(Criteria!$M:$M),1)*OFFSET(Scoring!$E$4,1,MATCH(Q$4,Scoring!$F$4:$Z$4,0),MAX(Criteria!$M:$M),)))","v":""},{"$f":"IF($C51=\"\",\"\",SUM(OFFSET('General Calc'!$F$26,MATCH($D51,'General Calc'!$E$26:$E$112,0),MATCH($C51,'General Calc'!$G$26:$Z$26,0),MAX(Criteria!$M:$M),1)*OFFSET(Scoring!$E$4,1,MATCH(R$4,Scoring!$F$4:$Z$4,0),MAX(Criteria!$M:$M),)))","v":""},{"$f":"IF($C51=\"\",\"\",SUM(OFFSET('General Calc'!$F$26,MATCH($D51,'General Calc'!$E$26:$E$112,0),MATCH($C51,'General Calc'!$G$26:$Z$26,0),MAX(Criteria!$M:$M),1)*OFFSET(Scoring!$E$4,1,MATCH(S$4,Scoring!$F$4:$Z$4,0),MAX(Criteria!$M:$M),)))","v":""},{"$f":"IF($C51=\"\",\"\",SUM(OFFSET('General Calc'!$F$26,MATCH($D51,'General Calc'!$E$26:$E$112,0),MATCH($C51,'General Calc'!$G$26:$Z$26,0),MAX(Criteria!$M:$M),1)*OFFSET(Scoring!$E$4,1,MATCH(T$4,Scoring!$F$4:$Z$4,0),MAX(Criteria!$M:$M),)))","v":""},{"$f":"IF($C51=\"\",\"\",SUM(OFFSET('General Calc'!$F$26,MATCH($D51,'General Calc'!$E$26:$E$112,0),MATCH($C51,'General Calc'!$G$26:$Z$26,0),MAX(Criteria!$M:$M),1)*OFFSET(Scoring!$E$4,1,MATCH(U$4,Scoring!$F$4:$Z$4,0),MAX(Criteria!$M:$M),)))","v":""},{"$f":"IF($C51=\"\",\"\",SUM(OFFSET('General Calc'!$F$26,MATCH($D51,'General Calc'!$E$26:$E$112,0),MATCH($C51,'General Calc'!$G$26:$Z$26,0),MAX(Criteria!$M:$M),1)*OFFSET(Scoring!$E$4,1,MATCH(V$4,Scoring!$F$4:$Z$4,0),MAX(Criteria!$M:$M),)))","v":""},{"$f":"IF($C51=\"\",\"\",SUM(OFFSET('General Calc'!$F$26,MATCH($D51,'General Calc'!$E$26:$E$112,0),MATCH($C51,'General Calc'!$G$26:$Z$26,0),MAX(Criteria!$M:$M),1)*OFFSET(Scoring!$E$4,1,MATCH(W$4,Scoring!$F$4:$Z$4,0),MAX(Criteria!$M:$M),)))","v":""},{"$f":"IF($C51=\"\",\"\",SUM(OFFSET('General Calc'!$F$26,MATCH($D51,'General Calc'!$E$26:$E$112,0),MATCH($C51,'General Calc'!$G$26:$Z$26,0),MAX(Criteria!$M:$M),1)*OFFSET(Scoring!$E$4,1,MATCH(X$4,Scoring!$F$4:$Z$4,0),MAX(Criteria!$M:$M),)))","v":""},{"$f":"IF($C51=\"\",\"\",SUM(OFFSET('General Calc'!$F$26,MATCH($D51,'General Calc'!$E$26:$E$112,0),MATCH($C51,'General Calc'!$G$26:$Z$26,0),MAX(Criteria!$M:$M),1)*OFFSET(Scoring!$E$4,1,MATCH(Y$4,Scoring!$F$4:$Z$4,0),MAX(Criteria!$M:$M),)))","v":""},"",""]
[null,8,{"$f":"IF(INDEX('Selected Criteria'!$E$6:$E$25,$B52)=0,\"\",INDEX('Selected Criteria'!$E$6:$E$25,$B52))","v":""},"",{"$f":"IF($C52=\"\",\"\",SUM(OFFSET('General Calc'!$F$26,MATCH($D52,'General Calc'!$E$26:$E$112,0),MATCH($C52,'General Calc'!$G$26:$Z$26,0),MAX(Criteria!$M:$M),1)*OFFSET(Scoring!$E$4,1,MATCH(E$4,Scoring!$F$4:$Z$4,0),MAX(Criteria!$M:$M),)))","v":""},{"$f":"IF($C52=\"\",\"\",SUM(OFFSET('General Calc'!$F$26,MATCH($D52,'General Calc'!$E$26:$E$112,0),MATCH($C52,'General Calc'!$G$26:$Z$26,0),MAX(Criteria!$M:$M),1)*OFFSET(Scoring!$E$4,1,MATCH(F$4,Scoring!$F$4:$Z$4,0),MAX(Criteria!$M:$M),)))","v":""},{"$f":"IF($C52=\"\",\"\",SUM(OFFSET('General Calc'!$F$26,MATCH($D52,'General Calc'!$E$26:$E$112,0),MATCH($C52,'General Calc'!$G$26:$Z$26,0),MAX(Criteria!$M:$M),1)*OFFSET(Scoring!$E$4,1,MATCH(G$4,Scoring!$F$4:$Z$4,0),MAX(Criteria!$M:$M),)))","v":""},{"$f":"IF($C52=\"\",\"\",SUM(OFFSET('General Calc'!$F$26,MATCH($D52,'General Calc'!$E$26:$E$112,0),MATCH($C52,'General Calc'!$G$26:$Z$26,0),MAX(Criteria!$M:$M),1)*OFFSET(Scoring!$E$4,1,MATCH(H$4,Scoring!$F$4:$Z$4,0),MAX(Criteria!$M:$M),)))","v":""},{"$f":"IF($C52=\"\",\"\",SUM(OFFSET('General Calc'!$F$26,MATCH($D52,'General Calc'!$E$26:$E$112,0),MATCH($C52,'General Calc'!$G$26:$Z$26,0),MAX(Criteria!$M:$M),1)*OFFSET(Scoring!$E$4,1,MATCH(I$4,Scoring!$F$4:$Z$4,0),MAX(Criteria!$M:$M),)))","v":""},{"$f":"IF($C52=\"\",\"\",SUM(OFFSET('General Calc'!$F$26,MATCH($D52,'General Calc'!$E$26:$E$112,0),MATCH($C52,'General Calc'!$G$26:$Z$26,0),MAX(Criteria!$M:$M),1)*OFFSET(Scoring!$E$4,1,MATCH(J$4,Scoring!$F$4:$Z$4,0),MAX(Criteria!$M:$M),)))","v":""},{"$f":"IF($C52=\"\",\"\",SUM(OFFSET('General Calc'!$F$26,MATCH($D52,'General Calc'!$E$26:$E$112,0),MATCH($C52,'General Calc'!$G$26:$Z$26,0),MAX(Criteria!$M:$M),1)*OFFSET(Scoring!$E$4,1,MATCH(K$4,Scoring!$F$4:$Z$4,0),MAX(Criteria!$M:$M),)))","v":""},{"$f":"IF($C52=\"\",\"\",SUM(OFFSET('General Calc'!$F$26,MATCH($D52,'General Calc'!$E$26:$E$112,0),MATCH($C52,'General Calc'!$G$26:$Z$26,0),MAX(Criteria!$M:$M),1)*OFFSET(Scoring!$E$4,1,MATCH(L$4,Scoring!$F$4:$Z$4,0),MAX(Criteria!$M:$M),)))","v":""},{"$f":"IF($C52=\"\",\"\",SUM(OFFSET('General Calc'!$F$26,MATCH($D52,'General Calc'!$E$26:$E$112,0),MATCH($C52,'General Calc'!$G$26:$Z$26,0),MAX(Criteria!$M:$M),1)*OFFSET(Scoring!$E$4,1,MATCH(M$4,Scoring!$F$4:$Z$4,0),MAX(Criteria!$M:$M),)))","v":""},{"$f":"IF($C52=\"\",\"\",SUM(OFFSET('General Calc'!$F$26,MATCH($D52,'General Calc'!$E$26:$E$112,0),MATCH($C52,'General Calc'!$G$26:$Z$26,0),MAX(Criteria!$M:$M),1)*OFFSET(Scoring!$E$4,1,MATCH(N$4,Scoring!$F$4:$Z$4,0),MAX(Criteria!$M:$M),)))","v":""},{"$f":"IF($C52=\"\",\"\",SUM(OFFSET('General Calc'!$F$26,MATCH($D52,'General Calc'!$E$26:$E$112,0),MATCH($C52,'General Calc'!$G$26:$Z$26,0),MAX(Criteria!$M:$M),1)*OFFSET(Scoring!$E$4,1,MATCH(O$4,Scoring!$F$4:$Z$4,0),MAX(Criteria!$M:$M),)))","v":""},{"$f":"IF($C52=\"\",\"\",SUM(OFFSET('General Calc'!$F$26,MATCH($D52,'General Calc'!$E$26:$E$112,0),MATCH($C52,'General Calc'!$G$26:$Z$26,0),MAX(Criteria!$M:$M),1)*OFFSET(Scoring!$E$4,1,MATCH(P$4,Scoring!$F$4:$Z$4,0),MAX(Criteria!$M:$M),)))","v":""},{"$f":"IF($C52=\"\",\"\",SUM(OFFSET('General Calc'!$F$26,MATCH($D52,'General Calc'!$E$26:$E$112,0),MATCH($C52,'General Calc'!$G$26:$Z$26,0),MAX(Criteria!$M:$M),1)*OFFSET(Scoring!$E$4,1,MATCH(Q$4,Scoring!$F$4:$Z$4,0),MAX(Criteria!$M:$M),)))","v":""},{"$f":"IF($C52=\"\",\"\",SUM(OFFSET('General Calc'!$F$26,MATCH($D52,'General Calc'!$E$26:$E$112,0),MATCH($C52,'General Calc'!$G$26:$Z$26,0),MAX(Criteria!$M:$M),1)*OFFSET(Scoring!$E$4,1,MATCH(R$4,Scoring!$F$4:$Z$4,0),MAX(Criteria!$M:$M),)))","v":""},{"$f":"IF($C52=\"\",\"\",SUM(OFFSET('General Calc'!$F$26,MATCH($D52,'General Calc'!$E$26:$E$112,0),MATCH($C52,'General Calc'!$G$26:$Z$26,0),MAX(Criteria!$M:$M),1)*OFFSET(Scoring!$E$4,1,MATCH(S$4,Scoring!$F$4:$Z$4,0),MAX(Criteria!$M:$M),)))","v":""},{"$f":"IF($C52=\"\",\"\",SUM(OFFSET('General Calc'!$F$26,MATCH($D52,'General Calc'!$E$26:$E$112,0),MATCH($C52,'General Calc'!$G$26:$Z$26,0),MAX(Criteria!$M:$M),1)*OFFSET(Scoring!$E$4,1,MATCH(T$4,Scoring!$F$4:$Z$4,0),MAX(Criteria!$M:$M),)))","v":""},{"$f":"IF($C52=\"\",\"\",SUM(OFFSET('General Calc'!$F$26,MATCH($D52,'General Calc'!$E$26:$E$112,0),MATCH($C52,'General Calc'!$G$26:$Z$26,0),MAX(Criteria!$M:$M),1)*OFFSET(Scoring!$E$4,1,MATCH(U$4,Scoring!$F$4:$Z$4,0),MAX(Criteria!$M:$M),)))","v":""},{"$f":"IF($C52=\"\",\"\",SUM(OFFSET('General Calc'!$F$26,MATCH($D52,'General Calc'!$E$26:$E$112,0),MATCH($C52,'General Calc'!$G$26:$Z$26,0),MAX(Criteria!$M:$M),1)*OFFSET(Scoring!$E$4,1,MATCH(V$4,Scoring!$F$4:$Z$4,0),MAX(Criteria!$M:$M),)))","v":""},{"$f":"IF($C52=\"\",\"\",SUM(OFFSET('General Calc'!$F$26,MATCH($D52,'General Calc'!$E$26:$E$112,0),MATCH($C52,'General Calc'!$G$26:$Z$26,0),MAX(Criteria!$M:$M),1)*OFFSET(Scoring!$E$4,1,MATCH(W$4,Scoring!$F$4:$Z$4,0),MAX(Criteria!$M:$M),)))","v":""},{"$f":"IF($C52=\"\",\"\",SUM(OFFSET('General Calc'!$F$26,MATCH($D52,'General Calc'!$E$26:$E$112,0),MATCH($C52,'General Calc'!$G$26:$Z$26,0),MAX(Criteria!$M:$M),1)*OFFSET(Scoring!$E$4,1,MATCH(X$4,Scoring!$F$4:$Z$4,0),MAX(Criteria!$M:$M),)))","v":""},{"$f":"IF($C52=\"\",\"\",SUM(OFFSET('General Calc'!$F$26,MATCH($D52,'General Calc'!$E$26:$E$112,0),MATCH($C52,'General Calc'!$G$26:$Z$26,0),MAX(Criteria!$M:$M),1)*OFFSET(Scoring!$E$4,1,MATCH(Y$4,Scoring!$F$4:$Z$4,0),MAX(Criteria!$M:$M),)))","v":""},"",""]
[null,9,{"$f":"IF(INDEX('Selected Criteria'!$E$6:$E$25,$B53)=0,\"\",INDEX('Selected Criteria'!$E$6:$E$25,$B53))","v":""},"",{"$f":"IF($C53=\"\",\"\",SUM(OFFSET('General Calc'!$F$26,MATCH($D53,'General Calc'!$E$26:$E$112,0),MATCH($C53,'General Calc'!$G$26:$Z$26,0),MAX(Criteria!$M:$M),1)*OFFSET(Scoring!$E$4,1,MATCH(E$4,Scoring!$F$4:$Z$4,0),MAX(Criteria!$M:$M),)))","v":""},{"$f":"IF($C53=\"\",\"\",SUM(OFFSET('General Calc'!$F$26,MATCH($D53,'General Calc'!$E$26:$E$112,0),MATCH($C53,'General Calc'!$G$26:$Z$26,0),MAX(Criteria!$M:$M),1)*OFFSET(Scoring!$E$4,1,MATCH(F$4,Scoring!$F$4:$Z$4,0),MAX(Criteria!$M:$M),)))","v":""},{"$f":"IF($C53=\"\",\"\",SUM(OFFSET('General Calc'!$F$26,MATCH($D53,'General Calc'!$E$26:$E$112,0),MATCH($C53,'General Calc'!$G$26:$Z$26,0),MAX(Criteria!$M:$M),1)*OFFSET(Scoring!$E$4,1,MATCH(G$4,Scoring!$F$4:$Z$4,0),MAX(Criteria!$M:$M),)))","v":""},{"$f":"IF($C53=\"\",\"\",SUM(OFFSET('General Calc'!$F$26,MATCH($D53,'General Calc'!$E$26:$E$112,0),MATCH($C53,'General Calc'!$G$26:$Z$26,0),MAX(Criteria!$M:$M),1)*OFFSET(Scoring!$E$4,1,MATCH(H$4,Scoring!$F$4:$Z$4,0),MAX(Criteria!$M:$M),)))","v":""},{"$f":"IF($C53=\"\",\"\",SUM(OFFSET('General Calc'!$F$26,MATCH($D53,'General Calc'!$E$26:$E$112,0),MATCH($C53,'General Calc'!$G$26:$Z$26,0),MAX(Criteria!$M:$M),1)*OFFSET(Scoring!$E$4,1,MATCH(I$4,Scoring!$F$4:$Z$4,0),MAX(Criteria!$M:$M),)))","v":""},{"$f":"IF($C53=\"\",\"\",SUM(OFFSET('General Calc'!$F$26,MATCH($D53,'General Calc'!$E$26:$E$112,0),MATCH($C53,'General Calc'!$G$26:$Z$26,0),MAX(Criteria!$M:$M),1)*OFFSET(Scoring!$E$4,1,MATCH(J$4,Scoring!$F$4:$Z$4,0),MAX(Criteria!$M:$M),)))","v":""},{"$f":"IF($C53=\"\",\"\",SUM(OFFSET('General Calc'!$F$26,MATCH($D53,'General Calc'!$E$26:$E$112,0),MATCH($C53,'General Calc'!$G$26:$Z$26,0),MAX(Criteria!$M:$M),1)*OFFSET(Scoring!$E$4,1,MATCH(K$4,Scoring!$F$4:$Z$4,0),MAX(Criteria!$M:$M),)))","v":""},{"$f":"IF($C53=\"\",\"\",SUM(OFFSET('General Calc'!$F$26,MATCH($D53,'General Calc'!$E$26:$E$112,0),MATCH($C53,'General Calc'!$G$26:$Z$26,0),MAX(Criteria!$M:$M),1)*OFFSET(Scoring!$E$4,1,MATCH(L$4,Scoring!$F$4:$Z$4,0),MAX(Criteria!$M:$M),)))","v":""},{"$f":"IF($C53=\"\",\"\",SUM(OFFSET('General Calc'!$F$26,MATCH($D53,'General Calc'!$E$26:$E$112,0),MATCH($C53,'General Calc'!$G$26:$Z$26,0),MAX(Criteria!$M:$M),1)*OFFSET(Scoring!$E$4,1,MATCH(M$4,Scoring!$F$4:$Z$4,0),MAX(Criteria!$M:$M),)))","v":""},{"$f":"IF($C53=\"\",\"\",SUM(OFFSET('General Calc'!$F$26,MATCH($D53,'General Calc'!$E$26:$E$112,0),MATCH($C53,'General Calc'!$G$26:$Z$26,0),MAX(Criteria!$M:$M),1)*OFFSET(Scoring!$E$4,1,MATCH(N$4,Scoring!$F$4:$Z$4,0),MAX(Criteria!$M:$M),)))","v":""},{"$f":"IF($C53=\"\",\"\",SUM(OFFSET('General Calc'!$F$26,MATCH($D53,'General Calc'!$E$26:$E$112,0),MATCH($C53,'General Calc'!$G$26:$Z$26,0),MAX(Criteria!$M:$M),1)*OFFSET(Scoring!$E$4,1,MATCH(O$4,Scoring!$F$4:$Z$4,0),MAX(Criteria!$M:$M),)))","v":""},{"$f":"IF($C53=\"\",\"\",SUM(OFFSET('General Calc'!$F$26,MATCH($D53,'General Calc'!$E$26:$E$112,0),MATCH($C53,'General Calc'!$G$26:$Z$26,0),MAX(Criteria!$M:$M),1)*OFFSET(Scoring!$E$4,1,MATCH(P$4,Scoring!$F$4:$Z$4,0),MAX(Criteria!$M:$M),)))","v":""},{"$f":"IF($C53=\"\",\"\",SUM(OFFSET('General Calc'!$F$26,MATCH($D53,'General Calc'!$E$26:$E$112,0),MATCH($C53,'General Calc'!$G$26:$Z$26,0),MAX(Criteria!$M:$M),1)*OFFSET(Scoring!$E$4,1,MATCH(Q$4,Scoring!$F$4:$Z$4,0),MAX(Criteria!$M:$M),)))","v":""},{"$f":"IF($C53=\"\",\"\",SUM(OFFSET('General Calc'!$F$26,MATCH($D53,'General Calc'!$E$26:$E$112,0),MATCH($C53,'General Calc'!$G$26:$Z$26,0),MAX(Criteria!$M:$M),1)*OFFSET(Scoring!$E$4,1,MATCH(R$4,Scoring!$F$4:$Z$4,0),MAX(Criteria!$M:$M),)))","v":""},{"$f":"IF($C53=\"\",\"\",SUM(OFFSET('General Calc'!$F$26,MATCH($D53,'General Calc'!$E$26:$E$112,0),MATCH($C53,'General Calc'!$G$26:$Z$26,0),MAX(Criteria!$M:$M),1)*OFFSET(Scoring!$E$4,1,MATCH(S$4,Scoring!$F$4:$Z$4,0),MAX(Criteria!$M:$M),)))","v":""},{"$f":"IF($C53=\"\",\"\",SUM(OFFSET('General Calc'!$F$26,MATCH($D53,'General Calc'!$E$26:$E$112,0),MATCH($C53,'General Calc'!$G$26:$Z$26,0),MAX(Criteria!$M:$M),1)*OFFSET(Scoring!$E$4,1,MATCH(T$4,Scoring!$F$4:$Z$4,0),MAX(Criteria!$M:$M),)))","v":""},{"$f":"IF($C53=\"\",\"\",SUM(OFFSET('General Calc'!$F$26,MATCH($D53,'General Calc'!$E$26:$E$112,0),MATCH($C53,'General Calc'!$G$26:$Z$26,0),MAX(Criteria!$M:$M),1)*OFFSET(Scoring!$E$4,1,MATCH(U$4,Scoring!$F$4:$Z$4,0),MAX(Criteria!$M:$M),)))","v":""},{"$f":"IF($C53=\"\",\"\",SUM(OFFSET('General Calc'!$F$26,MATCH($D53,'General Calc'!$E$26:$E$112,0),MATCH($C53,'General Calc'!$G$26:$Z$26,0),MAX(Criteria!$M:$M),1)*OFFSET(Scoring!$E$4,1,MATCH(V$4,Scoring!$F$4:$Z$4,0),MAX(Criteria!$M:$M),)))","v":""},{"$f":"IF($C53=\"\",\"\",SUM(OFFSET('General Calc'!$F$26,MATCH($D53,'General Calc'!$E$26:$E$112,0),MATCH($C53,'General Calc'!$G$26:$Z$26,0),MAX(Criteria!$M:$M),1)*OFFSET(Scoring!$E$4,1,MATCH(W$4,Scoring!$F$4:$Z$4,0),MAX(Criteria!$M:$M),)))","v":""},{"$f":"IF($C53=\"\",\"\",SUM(OFFSET('General Calc'!$F$26,MATCH($D53,'General Calc'!$E$26:$E$112,0),MATCH($C53,'General Calc'!$G$26:$Z$26,0),MAX(Criteria!$M:$M),1)*OFFSET(Scoring!$E$4,1,MATCH(X$4,Scoring!$F$4:$Z$4,0),MAX(Criteria!$M:$M),)))","v":""},{"$f":"IF($C53=\"\",\"\",SUM(OFFSET('General Calc'!$F$26,MATCH($D53,'General Calc'!$E$26:$E$112,0),MATCH($C53,'General Calc'!$G$26:$Z$26,0),MAX(Criteria!$M:$M),1)*OFFSET(Scoring!$E$4,1,MATCH(Y$4,Scoring!$F$4:$Z$4,0),MAX(Criteria!$M:$M),)))","v":""},"",""]
[null,10,{"$f":"IF(INDEX('Selected Criteria'!$E$6:$E$25,$B54)=0,\"\",INDEX('Selected Criteria'!$E$6:$E$25,$B54))","v":""},"",{"$f":"IF($C54=\"\",\"\",SUM(OFFSET('General Calc'!$F$26,MATCH($D54,'General Calc'!$E$26:$E$112,0),MATCH($C54,'General Calc'!$G$26:$Z$26,0),MAX(Criteria!$M:$M),1)*OFFSET(Scoring!$E$4,1,MATCH(E$4,Scoring!$F$4:$N$4,0),MAX(Criteria!$M:$M),)))","v":""},{"$f":"IF($C54=\"\",\"\",SUM(OFFSET('General Calc'!$F$26,MATCH($D54,'General Calc'!$E$26:$E$112,0),MATCH($C54,'General Calc'!$G$26:$Z$26,0),MAX(Criteria!$M:$M),1)*OFFSET(Scoring!$E$4,1,MATCH(F$4,Scoring!$F$4:$Z$4,0),MAX(Criteria!$M:$M),)))","v":""},{"$f":"IF($C54=\"\",\"\",SUM(OFFSET('General Calc'!$F$26,MATCH($D54,'General Calc'!$E$26:$E$112,0),MATCH($C54,'General Calc'!$G$26:$Z$26,0),MAX(Criteria!$M:$M),1)*OFFSET(Scoring!$E$4,1,MATCH(G$4,Scoring!$F$4:$N$4,0),MAX(Criteria!$M:$M),)))","v":""},{"$f":"IF($C54=\"\",\"\",SUM(OFFSET('General Calc'!$F$26,MATCH($D54,'General Calc'!$E$26:$E$112,0),MATCH($C54,'General Calc'!$G$26:$Z$26,0),MAX(Criteria!$M:$M),1)*OFFSET(Scoring!$E$4,1,MATCH(H$4,Scoring!$F$4:$N$4,0),MAX(Criteria!$M:$M),)))","v":""},{"$f":"IF($C54=\"\",\"\",SUM(OFFSET('General Calc'!$F$26,MATCH($D54,'General Calc'!$E$26:$E$112,0),MATCH($C54,'General Calc'!$G$26:$Z$26,0),MAX(Criteria!$M:$M),1)*OFFSET(Scoring!$E$4,1,MATCH(I$4,Scoring!$F$4:$N$4,0),MAX(Criteria!$M:$M),)))","v":""},{"$f":"IF($C54=\"\",\"\",SUM(OFFSET('General Calc'!$F$26,MATCH($D54,'General Calc'!$E$26:$E$112,0),MATCH($C54,'General Calc'!$G$26:$Z$26,0),MAX(Criteria!$M:$M),1)*OFFSET(Scoring!$E$4,1,MATCH(J$4,Scoring!$F$4:$N$4,0),MAX(Criteria!$M:$M),)))","v":""},{"$f":"IF($C54=\"\",\"\",SUM(OFFSET('General Calc'!$F$26,MATCH($D54,'General Calc'!$E$26:$E$112,0),MATCH($C54,'General Calc'!$G$26:$Z$26,0),MAX(Criteria!$M:$M),1)*OFFSET(Scoring!$E$4,1,MATCH(K$4,Scoring!$F$4:$N$4,0),MAX(Criteria!$M:$M),)))","v":""},{"$f":"IF($C54=\"\",\"\",SUM(OFFSET('General Calc'!$F$26,MATCH($D54,'General Calc'!$E$26:$E$112,0),MATCH($C54,'General Calc'!$G$26:$Z$26,0),MAX(Criteria!$M:$M),1)*OFFSET(Scoring!$E$4,1,MATCH(L$4,Scoring!$F$4:$N$4,0),MAX(Criteria!$M:$M),)))","v":""},{"$f":"IF($C54=\"\",\"\",SUM(OFFSET('General Calc'!$F$26,MATCH($D54,'General Calc'!$E$26:$E$112,0),MATCH($C54,'General Calc'!$G$26:$Z$26,0),MAX(Criteria!$M:$M),1)*OFFSET(Scoring!$E$4,1,MATCH(M$4,Scoring!$F$4:$N$4,0),MAX(Criteria!$M:$M),)))","v":""},{"$f":"IF($C54=\"\",\"\",SUM(OFFSET('General Calc'!$F$26,MATCH($D54,'General Calc'!$E$26:$E$112,0),MATCH($C54,'General Calc'!$G$26:$Z$26,0),MAX(Criteria!$M:$M),1)*OFFSET(Scoring!$E$4,1,MATCH(N$4,Scoring!$F$4:$Z$4,0),MAX(Criteria!$M:$M),)))","v":""},{"$f":"IF($C54=\"\",\"\",SUM(OFFSET('General Calc'!$F$26,MATCH($D54,'General Calc'!$E$26:$E$112,0),MATCH($C54,'General Calc'!$G$26:$Z$26,0),MAX(Criteria!$M:$M),1)*OFFSET(Scoring!$E$4,1,MATCH(O$4,Scoring!$F$4:$Z$4,0),MAX(Criteria!$M:$M),)))","v":""},{"$f":"IF($C54=\"\",\"\",SUM(OFFSET('General Calc'!$F$26,MATCH($D54,'General Calc'!$E$26:$E$112,0),MATCH($C54,'General Calc'!$G$26:$Z$26,0),MAX(Criteria!$M:$M),1)*OFFSET(Scoring!$E$4,1,MATCH(P$4,Scoring!$F$4:$Z$4,0),MAX(Criteria!$M:$M),)))","v":""},{"$f":"IF($C54=\"\",\"\",SUM(OFFSET('General Calc'!$F$26,MATCH($D54,'General Calc'!$E$26:$E$112,0),MATCH($C54,'General Calc'!$G$26:$Z$26,0),MAX(Criteria!$M:$M),1)*OFFSET(Scoring!$E$4,1,MATCH(Q$4,Scoring!$F$4:$Z$4,0),MAX(Criteria!$M:$M),)))","v":""},{"$f":"IF($C54=\"\",\"\",SUM(OFFSET('General Calc'!$F$26,MATCH($D54,'General Calc'!$E$26:$E$112,0),MATCH($C54,'General Calc'!$G$26:$Z$26,0),MAX(Criteria!$M:$M),1)*OFFSET(Scoring!$E$4,1,MATCH(R$4,Scoring!$F$4:$Z$4,0),MAX(Criteria!$M:$M),)))","v":""},{"$f":"IF($C54=\"\",\"\",SUM(OFFSET('General Calc'!$F$26,MATCH($D54,'General Calc'!$E$26:$E$112,0),MATCH($C54,'General Calc'!$G$26:$Z$26,0),MAX(Criteria!$M:$M),1)*OFFSET(Scoring!$E$4,1,MATCH(S$4,Scoring!$F$4:$Z$4,0),MAX(Criteria!$M:$M),)))","v":""},{"$f":"IF($C54=\"\",\"\",SUM(OFFSET('General Calc'!$F$26,MATCH($D54,'General Calc'!$E$26:$E$112,0),MATCH($C54,'General Calc'!$G$26:$Z$26,0),MAX(Criteria!$M:$M),1)*OFFSET(Scoring!$E$4,1,MATCH(T$4,Scoring!$F$4:$Z$4,0),MAX(Criteria!$M:$M),)))","v":""},{"$f":"IF($C54=\"\",\"\",SUM(OFFSET('General Calc'!$F$26,MATCH($D54,'General Calc'!$E$26:$E$112,0),MATCH($C54,'General Calc'!$G$26:$Z$26,0),MAX(Criteria!$M:$M),1)*OFFSET(Scoring!$E$4,1,MATCH(U$4,Scoring!$F$4:$Z$4,0),MAX(Criteria!$M:$M),)))","v":""},{"$f":"IF($C54=\"\",\"\",SUM(OFFSET('General Calc'!$F$26,MATCH($D54,'General Calc'!$E$26:$E$112,0),MATCH($C54,'General Calc'!$G$26:$Z$26,0),MAX(Criteria!$M:$M),1)*OFFSET(Scoring!$E$4,1,MATCH(V$4,Scoring!$F$4:$Z$4,0),MAX(Criteria!$M:$M),)))","v":""},{"$f":"IF($C54=\"\",\"\",SUM(OFFSET('General Calc'!$F$26,MATCH($D54,'General Calc'!$E$26:$E$112,0),MATCH($C54,'General Calc'!$G$26:$Z$26,0),MAX(Criteria!$M:$M),1)*OFFSET(Scoring!$E$4,1,MATCH(W$4,Scoring!$F$4:$Z$4,0),MAX(Criteria!$M:$M),)))","v":""},{"$f":"IF($C54=\"\",\"\",SUM(OFFSET('General Calc'!$F$26,MATCH($D54,'General Calc'!$E$26:$E$112,0),MATCH($C54,'General Calc'!$G$26:$Z$26,0),MAX(Criteria!$M:$M),1)*OFFSET(Scoring!$E$4,1,MATCH(X$4,Scoring!$F$4:$Z$4,0),MAX(Criteria!$M:$M),)))","v":""},{"$f":"IF($C54=\"\",\"\",SUM(OFFSET('General Calc'!$F$26,MATCH($D54,'General Calc'!$E$26:$E$112,0),MATCH($C54,'General Calc'!$G$26:$Z$26,0),MAX(Criteria!$M:$M),1)*OFFSET(Scoring!$E$4,1,MATCH(Y$4,Scoring!$F$4:$Z$4,0),MAX(Criteria!$M:$M),)))","v":""},"",""]
[null,11,{"$f":"IF(INDEX('Selected Criteria'!$E$6:$E$25,$B55)=0,\"\",INDEX('Selected Criteria'!$E$6:$E$25,$B55))","v":""},"",{"$f":"IF($C55=\"\",\"\",SUM(OFFSET('General Calc'!$F$26,MATCH($D55,'General Calc'!$E$26:$E$112,0),MATCH($C55,'General Calc'!$G$26:$Z$26,0),MAX(Criteria!$M:$M),1)*OFFSET(Scoring!$E$4,1,MATCH(E$4,Scoring!$F$4:$N$4,0),MAX(Criteria!$M:$M),)))","v":""},{"$f":"IF($C55=\"\",\"\",SUM(OFFSET('General Calc'!$F$26,MATCH($D55,'General Calc'!$E$26:$E$112,0),MATCH($C55,'General Calc'!$G$26:$Z$26,0),MAX(Criteria!$M:$M),1)*OFFSET(Scoring!$E$4,1,MATCH(F$4,Scoring!$F$4:$Z$4,0),MAX(Criteria!$M:$M),)))","v":""},{"$f":"IF($C55=\"\",\"\",SUM(OFFSET('General Calc'!$F$26,MATCH($D55,'General Calc'!$E$26:$E$112,0),MATCH($C55,'General Calc'!$G$26:$Z$26,0),MAX(Criteria!$M:$M),1)*OFFSET(Scoring!$E$4,1,MATCH(G$4,Scoring!$F$4:$N$4,0),MAX(Criteria!$M:$M),)))","v":""},{"$f":"IF($C55=\"\",\"\",SUM(OFFSET('General Calc'!$F$26,MATCH($D55,'General Calc'!$E$26:$E$112,0),MATCH($C55,'General Calc'!$G$26:$Z$26,0),MAX(Criteria!$M:$M),1)*OFFSET(Scoring!$E$4,1,MATCH(H$4,Scoring!$F$4:$N$4,0),MAX(Criteria!$M:$M),)))","v":""},{"$f":"IF($C55=\"\",\"\",SUM(OFFSET('General Calc'!$F$26,MATCH($D55,'General Calc'!$E$26:$E$112,0),MATCH($C55,'General Calc'!$G$26:$Z$26,0),MAX(Criteria!$M:$M),1)*OFFSET(Scoring!$E$4,1,MATCH(I$4,Scoring!$F$4:$N$4,0),MAX(Criteria!$M:$M),)))","v":""},{"$f":"IF($C55=\"\",\"\",SUM(OFFSET('General Calc'!$F$26,MATCH($D55,'General Calc'!$E$26:$E$112,0),MATCH($C55,'General Calc'!$G$26:$Z$26,0),MAX(Criteria!$M:$M),1)*OFFSET(Scoring!$E$4,1,MATCH(J$4,Scoring!$F$4:$N$4,0),MAX(Criteria!$M:$M),)))","v":""},{"$f":"IF($C55=\"\",\"\",SUM(OFFSET('General Calc'!$F$26,MATCH($D55,'General Calc'!$E$26:$E$112,0),MATCH($C55,'General Calc'!$G$26:$Z$26,0),MAX(Criteria!$M:$M),1)*OFFSET(Scoring!$E$4,1,MATCH(K$4,Scoring!$F$4:$N$4,0),MAX(Criteria!$M:$M),)))","v":""},{"$f":"IF($C55=\"\",\"\",SUM(OFFSET('General Calc'!$F$26,MATCH($D55,'General Calc'!$E$26:$E$112,0),MATCH($C55,'General Calc'!$G$26:$Z$26,0),MAX(Criteria!$M:$M),1)*OFFSET(Scoring!$E$4,1,MATCH(L$4,Scoring!$F$4:$N$4,0),MAX(Criteria!$M:$M),)))","v":""},{"$f":"IF($C55=\"\",\"\",SUM(OFFSET('General Calc'!$F$26,MATCH($D55,'General Calc'!$E$26:$E$112,0),MATCH($C55,'General Calc'!$G$26:$Z$26,0),MAX(Criteria!$M:$M),1)*OFFSET(Scoring!$E$4,1,MATCH(M$4,Scoring!$F$4:$N$4,0),MAX(Criteria!$M:$M),)))","v":""},{"$f":"IF($C55=\"\",\"\",SUM(OFFSET('General Calc'!$F$26,MATCH($D55,'General Calc'!$E$26:$E$112,0),MATCH($C55,'General Calc'!$G$26:$Z$26,0),MAX(Criteria!$M:$M),1)*OFFSET(Scoring!$E$4,1,MATCH(N$4,Scoring!$F$4:$Z$4,0),MAX(Criteria!$M:$M),)))","v":""},{"$f":"IF($C55=\"\",\"\",SUM(OFFSET('General Calc'!$F$26,MATCH($D55,'General Calc'!$E$26:$E$112,0),MATCH($C55,'General Calc'!$G$26:$Z$26,0),MAX(Criteria!$M:$M),1)*OFFSET(Scoring!$E$4,1,MATCH(O$4,Scoring!$F$4:$Z$4,0),MAX(Criteria!$M:$M),)))","v":""},{"$f":"IF($C55=\"\",\"\",SUM(OFFSET('General Calc'!$F$26,MATCH($D55,'General Calc'!$E$26:$E$112,0),MATCH($C55,'General Calc'!$G$26:$Z$26,0),MAX(Criteria!$M:$M),1)*OFFSET(Scoring!$E$4,1,MATCH(P$4,Scoring!$F$4:$Z$4,0),MAX(Criteria!$M:$M),)))","v":""},{"$f":"IF($C55=\"\",\"\",SUM(OFFSET('General Calc'!$F$26,MATCH($D55,'General Calc'!$E$26:$E$112,0),MATCH($C55,'General Calc'!$G$26:$Z$26,0),MAX(Criteria!$M:$M),1)*OFFSET(Scoring!$E$4,1,MATCH(Q$4,Scoring!$F$4:$Z$4,0),MAX(Criteria!$M:$M),)))","v":""},{"$f":"IF($C55=\"\",\"\",SUM(OFFSET('General Calc'!$F$26,MATCH($D55,'General Calc'!$E$26:$E$112,0),MATCH($C55,'General Calc'!$G$26:$Z$26,0),MAX(Criteria!$M:$M),1)*OFFSET(Scoring!$E$4,1,MATCH(R$4,Scoring!$F$4:$Z$4,0),MAX(Criteria!$M:$M),)))","v":""},{"$f":"IF($C55=\"\",\"\",SUM(OFFSET('General Calc'!$F$26,MATCH($D55,'General Calc'!$E$26:$E$112,0),MATCH($C55,'General Calc'!$G$26:$Z$26,0),MAX(Criteria!$M:$M),1)*OFFSET(Scoring!$E$4,1,MATCH(S$4,Scoring!$F$4:$Z$4,0),MAX(Criteria!$M:$M),)))","v":""},{"$f":"IF($C55=\"\",\"\",SUM(OFFSET('General Calc'!$F$26,MATCH($D55,'General Calc'!$E$26:$E$112,0),MATCH($C55,'General Calc'!$G$26:$Z$26,0),MAX(Criteria!$M:$M),1)*OFFSET(Scoring!$E$4,1,MATCH(T$4,Scoring!$F$4:$Z$4,0),MAX(Criteria!$M:$M),)))","v":""},{"$f":"IF($C55=\"\",\"\",SUM(OFFSET('General Calc'!$F$26,MATCH($D55,'General Calc'!$E$26:$E$112,0),MATCH($C55,'General Calc'!$G$26:$Z$26,0),MAX(Criteria!$M:$M),1)*OFFSET(Scoring!$E$4,1,MATCH(U$4,Scoring!$F$4:$Z$4,0),MAX(Criteria!$M:$M),)))","v":""},{"$f":"IF($C55=\"\",\"\",SUM(OFFSET('General Calc'!$F$26,MATCH($D55,'General Calc'!$E$26:$E$112,0),MATCH($C55,'General Calc'!$G$26:$Z$26,0),MAX(Criteria!$M:$M),1)*OFFSET(Scoring!$E$4,1,MATCH(V$4,Scoring!$F$4:$Z$4,0),MAX(Criteria!$M:$M),)))","v":""},{"$f":"IF($C55=\"\",\"\",SUM(OFFSET('General Calc'!$F$26,MATCH($D55,'General Calc'!$E$26:$E$112,0),MATCH($C55,'General Calc'!$G$26:$Z$26,0),MAX(Criteria!$M:$M),1)*OFFSET(Scoring!$E$4,1,MATCH(W$4,Scoring!$F$4:$Z$4,0),MAX(Criteria!$M:$M),)))","v":""},{"$f":"IF($C55=\"\",\"\",SUM(OFFSET('General Calc'!$F$26,MATCH($D55,'General Calc'!$E$26:$E$112,0),MATCH($C55,'General Calc'!$G$26:$Z$26,0),MAX(Criteria!$M:$M),1)*OFFSET(Scoring!$E$4,1,MATCH(X$4,Scoring!$F$4:$Z$4,0),MAX(Criteria!$M:$M),)))","v":""},{"$f":"IF($C55=\"\",\"\",SUM(OFFSET('General Calc'!$F$26,MATCH($D55,'General Calc'!$E$26:$E$112,0),MATCH($C55,'General Calc'!$G$26:$Z$26,0),MAX(Criteria!$M:$M),1)*OFFSET(Scoring!$E$4,1,MATCH(Y$4,Scoring!$F$4:$Z$4,0),MAX(Criteria!$M:$M),)))","v":""},"",""]
[null,12,{"$f":"IF(INDEX('Selected Criteria'!$E$6:$E$25,$B56)=0,\"\",INDEX('Selected Criteria'!$E$6:$E$25,$B56))","v":""},"",{"$f":"IF($C56=\"\",\"\",SUM(OFFSET('General Calc'!$F$26,MATCH($D56,'General Calc'!$E$26:$E$112,0),MATCH($C56,'General Calc'!$G$26:$Z$26,0),MAX(Criteria!$M:$M),1)*OFFSET(Scoring!$E$4,1,MATCH(E$4,Scoring!$F$4:$N$4,0),MAX(Criteria!$M:$M),)))","v":""},{"$f":"IF($C56=\"\",\"\",SUM(OFFSET('General Calc'!$F$26,MATCH($D56,'General Calc'!$E$26:$E$112,0),MATCH($C56,'General Calc'!$G$26:$Z$26,0),MAX(Criteria!$M:$M),1)*OFFSET(Scoring!$E$4,1,MATCH(F$4,Scoring!$F$4:$Z$4,0),MAX(Criteria!$M:$M),)))","v":""},{"$f":"IF($C56=\"\",\"\",SUM(OFFSET('General Calc'!$F$26,MATCH($D56,'General Calc'!$E$26:$E$112,0),MATCH($C56,'General Calc'!$G$26:$Z$26,0),MAX(Criteria!$M:$M),1)*OFFSET(Scoring!$E$4,1,MATCH(G$4,Scoring!$F$4:$N$4,0),MAX(Criteria!$M:$M),)))","v":""},{"$f":"IF($C56=\"\",\"\",SUM(OFFSET('General Calc'!$F$26,MATCH($D56,'General Calc'!$E$26:$E$112,0),MATCH($C56,'General Calc'!$G$26:$Z$26,0),MAX(Criteria!$M:$M),1)*OFFSET(Scoring!$E$4,1,MATCH(H$4,Scoring!$F$4:$N$4,0),MAX(Criteria!$M:$M),)))","v":""},{"$f":"IF($C56=\"\",\"\",SUM(OFFSET('General Calc'!$F$26,MATCH($D56,'General Calc'!$E$26:$E$112,0),MATCH($C56,'General Calc'!$G$26:$Z$26,0),MAX(Criteria!$M:$M),1)*OFFSET(Scoring!$E$4,1,MATCH(I$4,Scoring!$F$4:$N$4,0),MAX(Criteria!$M:$M),)))","v":""},{"$f":"IF($C56=\"\",\"\",SUM(OFFSET('General Calc'!$F$26,MATCH($D56,'General Calc'!$E$26:$E$112,0),MATCH($C56,'General Calc'!$G$26:$Z$26,0),MAX(Criteria!$M:$M),1)*OFFSET(Scoring!$E$4,1,MATCH(J$4,Scoring!$F$4:$N$4,0),MAX(Criteria!$M:$M),)))","v":""},{"$f":"IF($C56=\"\",\"\",SUM(OFFSET('General Calc'!$F$26,MATCH($D56,'General Calc'!$E$26:$E$112,0),MATCH($C56,'General Calc'!$G$26:$Z$26,0),MAX(Criteria!$M:$M),1)*OFFSET(Scoring!$E$4,1,MATCH(K$4,Scoring!$F$4:$N$4,0),MAX(Criteria!$M:$M),)))","v":""},{"$f":"IF($C56=\"\",\"\",SUM(OFFSET('General Calc'!$F$26,MATCH($D56,'General Calc'!$E$26:$E$112,0),MATCH($C56,'General Calc'!$G$26:$Z$26,0),MAX(Criteria!$M:$M),1)*OFFSET(Scoring!$E$4,1,MATCH(L$4,Scoring!$F$4:$N$4,0),MAX(Criteria!$M:$M),)))","v":""},{"$f":"IF($C56=\"\",\"\",SUM(OFFSET('General Calc'!$F$26,MATCH($D56,'General Calc'!$E$26:$E$112,0),MATCH($C56,'General Calc'!$G$26:$Z$26,0),MAX(Criteria!$M:$M),1)*OFFSET(Scoring!$E$4,1,MATCH(M$4,Scoring!$F$4:$N$4,0),MAX(Criteria!$M:$M),)))","v":""},{"$f":"IF($C56=\"\",\"\",SUM(OFFSET('General Calc'!$F$26,MATCH($D56,'General Calc'!$E$26:$E$112,0),MATCH($C56,'General Calc'!$G$26:$Z$26,0),MAX(Criteria!$M:$M),1)*OFFSET(Scoring!$E$4,1,MATCH(N$4,Scoring!$F$4:$Z$4,0),MAX(Criteria!$M:$M),)))","v":""},{"$f":"IF($C56=\"\",\"\",SUM(OFFSET('General Calc'!$F$26,MATCH($D56,'General Calc'!$E$26:$E$112,0),MATCH($C56,'General Calc'!$G$26:$Z$26,0),MAX(Criteria!$M:$M),1)*OFFSET(Scoring!$E$4,1,MATCH(O$4,Scoring!$F$4:$Z$4,0),MAX(Criteria!$M:$M),)))","v":""},{"$f":"IF($C56=\"\",\"\",SUM(OFFSET('General Calc'!$F$26,MATCH($D56,'General Calc'!$E$26:$E$112,0),MATCH($C56,'General Calc'!$G$26:$Z$26,0),MAX(Criteria!$M:$M),1)*OFFSET(Scoring!$E$4,1,MATCH(P$4,Scoring!$F$4:$Z$4,0),MAX(Criteria!$M:$M),)))","v":""},{"$f":"IF($C56=\"\",\"\",SUM(OFFSET('General Calc'!$F$26,MATCH($D56,'General Calc'!$E$26:$E$112,0),MATCH($C56,'General Calc'!$G$26:$Z$26,0),MAX(Criteria!$M:$M),1)*OFFSET(Scoring!$E$4,1,MATCH(Q$4,Scoring!$F$4:$Z$4,0),MAX(Criteria!$M:$M),)))","v":""},{"$f":"IF($C56=\"\",\"\",SUM(OFFSET('General Calc'!$F$26,MATCH($D56,'General Calc'!$E$26:$E$112,0),MATCH($C56,'General Calc'!$G$26:$Z$26,0),MAX(Criteria!$M:$M),1)*OFFSET(Scoring!$E$4,1,MATCH(R$4,Scoring!$F$4:$Z$4,0),MAX(Criteria!$M:$M),)))","v":""},{"$f":"IF($C56=\"\",\"\",SUM(OFFSET('General Calc'!$F$26,MATCH($D56,'General Calc'!$E$26:$E$112,0),MATCH($C56,'General Calc'!$G$26:$Z$26,0),MAX(Criteria!$M:$M),1)*OFFSET(Scoring!$E$4,1,MATCH(S$4,Scoring!$F$4:$Z$4,0),MAX(Criteria!$M:$M),)))","v":""},{"$f":"IF($C56=\"\",\"\",SUM(OFFSET('General Calc'!$F$26,MATCH($D56,'General Calc'!$E$26:$E$112,0),MATCH($C56,'General Calc'!$G$26:$Z$26,0),MAX(Criteria!$M:$M),1)*OFFSET(Scoring!$E$4,1,MATCH(T$4,Scoring!$F$4:$Z$4,0),MAX(Criteria!$M:$M),)))","v":""},{"$f":"IF($C56=\"\",\"\",SUM(OFFSET('General Calc'!$F$26,MATCH($D56,'General Calc'!$E$26:$E$112,0),MATCH($C56,'General Calc'!$G$26:$Z$26,0),MAX(Criteria!$M:$M),1)*OFFSET(Scoring!$E$4,1,MATCH(U$4,Scoring!$F$4:$Z$4,0),MAX(Criteria!$M:$M),)))","v":""},{"$f":"IF($C56=\"\",\"\",SUM(OFFSET('General Calc'!$F$26,MATCH($D56,'General Calc'!$E$26:$E$112,0),MATCH($C56,'General Calc'!$G$26:$Z$26,0),MAX(Criteria!$M:$M),1)*OFFSET(Scoring!$E$4,1,MATCH(V$4,Scoring!$F$4:$Z$4,0),MAX(Criteria!$M:$M),)))","v":""},{"$f":"IF($C56=\"\",\"\",SUM(OFFSET('General Calc'!$F$26,MATCH($D56,'General Calc'!$E$26:$E$112,0),MATCH($C56,'General Calc'!$G$26:$Z$26,0),MAX(Criteria!$M:$M),1)*OFFSET(Scoring!$E$4,1,MATCH(W$4,Scoring!$F$4:$Z$4,0),MAX(Criteria!$M:$M),)))","v":""},{"$f":"IF($C56=\"\",\"\",SUM(OFFSET('General Calc'!$F$26,MATCH($D56,'General Calc'!$E$26:$E$112,0),MATCH($C56,'General Calc'!$G$26:$Z$26,0),MAX(Criteria!$M:$M),1)*OFFSET(Scoring!$E$4,1,MATCH(X$4,Scoring!$F$4:$Z$4,0),MAX(Criteria!$M:$M),)))","v":""},{"$f":"IF($C56=\"\",\"\",SUM(OFFSET('General Calc'!$F$26,MATCH($D56,'General Calc'!$E$26:$E$112,0),MATCH($C56,'General Calc'!$G$26:$Z$26,0),MAX(Criteria!$M:$M),1)*OFFSET(Scoring!$E$4,1,MATCH(Y$4,Scoring!$F$4:$Z$4,0),MAX(Criteria!$M:$M),)))","v":""},"",""]
[null,13,{"$f":"IF(INDEX('Selected Criteria'!$E$6:$E$25,$B57)=0,\"\",INDEX('Selected Criteria'!$E$6:$E$25,$B57))","v":""},"",{"$f":"IF($C57=\"\",\"\",SUM(OFFSET('General Calc'!$F$26,MATCH($D57,'General Calc'!$E$26:$E$112,0),MATCH($C57,'General Calc'!$G$26:$Z$26,0),MAX(Criteria!$M:$M),1)*OFFSET(Scoring!$E$4,1,MATCH(E$4,Scoring!$F$4:$N$4,0),MAX(Criteria!$M:$M),)))","v":""},{"$f":"IF($C57=\"\",\"\",SUM(OFFSET('General Calc'!$F$26,MATCH($D57,'General Calc'!$E$26:$E$112,0),MATCH($C57,'General Calc'!$G$26:$Z$26,0),MAX(Criteria!$M:$M),1)*OFFSET(Scoring!$E$4,1,MATCH(F$4,Scoring!$F$4:$Z$4,0),MAX(Criteria!$M:$M),)))","v":""},{"$f":"IF($C57=\"\",\"\",SUM(OFFSET('General Calc'!$F$26,MATCH($D57,'General Calc'!$E$26:$E$112,0),MATCH($C57,'General Calc'!$G$26:$Z$26,0),MAX(Criteria!$M:$M),1)*OFFSET(Scoring!$E$4,1,MATCH(G$4,Scoring!$F$4:$N$4,0),MAX(Criteria!$M:$M),)))","v":""},{"$f":"IF($C57=\"\",\"\",SUM(OFFSET('General Calc'!$F$26,MATCH($D57,'General Calc'!$E$26:$E$112,0),MATCH($C57,'General Calc'!$G$26:$Z$26,0),MAX(Criteria!$M:$M),1)*OFFSET(Scoring!$E$4,1,MATCH(H$4,Scoring!$F$4:$N$4,0),MAX(Criteria!$M:$M),)))","v":""},{"$f":"IF($C57=\"\",\"\",SUM(OFFSET('General Calc'!$F$26,MATCH($D57,'General Calc'!$E$26:$E$112,0),MATCH($C57,'General Calc'!$G$26:$Z$26,0),MAX(Criteria!$M:$M),1)*OFFSET(Scoring!$E$4,1,MATCH(I$4,Scoring!$F$4:$N$4,0),MAX(Criteria!$M:$M),)))","v":""},{"$f":"IF($C57=\"\",\"\",SUM(OFFSET('General Calc'!$F$26,MATCH($D57,'General Calc'!$E$26:$E$112,0),MATCH($C57,'General Calc'!$G$26:$Z$26,0),MAX(Criteria!$M:$M),1)*OFFSET(Scoring!$E$4,1,MATCH(J$4,Scoring!$F$4:$N$4,0),MAX(Criteria!$M:$M),)))","v":""},{"$f":"IF($C57=\"\",\"\",SUM(OFFSET('General Calc'!$F$26,MATCH($D57,'General Calc'!$E$26:$E$112,0),MATCH($C57,'General Calc'!$G$26:$Z$26,0),MAX(Criteria!$M:$M),1)*OFFSET(Scoring!$E$4,1,MATCH(K$4,Scoring!$F$4:$N$4,0),MAX(Criteria!$M:$M),)))","v":""},{"$f":"IF($C57=\"\",\"\",SUM(OFFSET('General Calc'!$F$26,MATCH($D57,'General Calc'!$E$26:$E$112,0),MATCH($C57,'General Calc'!$G$26:$Z$26,0),MAX(Criteria!$M:$M),1)*OFFSET(Scoring!$E$4,1,MATCH(L$4,Scoring!$F$4:$N$4,0),MAX(Criteria!$M:$M),)))","v":""},{"$f":"IF($C57=\"\",\"\",SUM(OFFSET('General Calc'!$F$26,MATCH($D57,'General Calc'!$E$26:$E$112,0),MATCH($C57,'General Calc'!$G$26:$Z$26,0),MAX(Criteria!$M:$M),1)*OFFSET(Scoring!$E$4,1,MATCH(M$4,Scoring!$F$4:$N$4,0),MAX(Criteria!$M:$M),)))","v":""},{"$f":"IF($C57=\"\",\"\",SUM(OFFSET('General Calc'!$F$26,MATCH($D57,'General Calc'!$E$26:$E$112,0),MATCH($C57,'General Calc'!$G$26:$Z$26,0),MAX(Criteria!$M:$M),1)*OFFSET(Scoring!$E$4,1,MATCH(N$4,Scoring!$F$4:$Z$4,0),MAX(Criteria!$M:$M),)))","v":""},{"$f":"IF($C57=\"\",\"\",SUM(OFFSET('General Calc'!$F$26,MATCH($D57,'General Calc'!$E$26:$E$112,0),MATCH($C57,'General Calc'!$G$26:$Z$26,0),MAX(Criteria!$M:$M),1)*OFFSET(Scoring!$E$4,1,MATCH(O$4,Scoring!$F$4:$Z$4,0),MAX(Criteria!$M:$M),)))","v":""},{"$f":"IF($C57=\"\",\"\",SUM(OFFSET('General Calc'!$F$26,MATCH($D57,'General Calc'!$E$26:$E$112,0),MATCH($C57,'General Calc'!$G$26:$Z$26,0),MAX(Criteria!$M:$M),1)*OFFSET(Scoring!$E$4,1,MATCH(P$4,Scoring!$F$4:$Z$4,0),MAX(Criteria!$M:$M),)))","v":""},{"$f":"IF($C57=\"\",\"\",SUM(OFFSET('General Calc'!$F$26,MATCH($D57,'General Calc'!$E$26:$E$112,0),MATCH($C57,'General Calc'!$G$26:$Z$26,0),MAX(Criteria!$M:$M),1)*OFFSET(Scoring!$E$4,1,MATCH(Q$4,Scoring!$F$4:$Z$4,0),MAX(Criteria!$M:$M),)))","v":""},{"$f":"IF($C57=\"\",\"\",SUM(OFFSET('General Calc'!$F$26,MATCH($D57,'General Calc'!$E$26:$E$112,0),MATCH($C57,'General Calc'!$G$26:$Z$26,0),MAX(Criteria!$M:$M),1)*OFFSET(Scoring!$E$4,1,MATCH(R$4,Scoring!$F$4:$Z$4,0),MAX(Criteria!$M:$M),)))","v":""},{"$f":"IF($C57=\"\",\"\",SUM(OFFSET('General Calc'!$F$26,MATCH($D57,'General Calc'!$E$26:$E$112,0),MATCH($C57,'General Calc'!$G$26:$Z$26,0),MAX(Criteria!$M:$M),1)*OFFSET(Scoring!$E$4,1,MATCH(S$4,Scoring!$F$4:$Z$4,0),MAX(Criteria!$M:$M),)))","v":""},{"$f":"IF($C57=\"\",\"\",SUM(OFFSET('General Calc'!$F$26,MATCH($D57,'General Calc'!$E$26:$E$112,0),MATCH($C57,'General Calc'!$G$26:$Z$26,0),MAX(Criteria!$M:$M),1)*OFFSET(Scoring!$E$4,1,MATCH(T$4,Scoring!$F$4:$Z$4,0),MAX(Criteria!$M:$M),)))","v":""},{"$f":"IF($C57=\"\",\"\",SUM(OFFSET('General Calc'!$F$26,MATCH($D57,'General Calc'!$E$26:$E$112,0),MATCH($C57,'General Calc'!$G$26:$Z$26,0),MAX(Criteria!$M:$M),1)*OFFSET(Scoring!$E$4,1,MATCH(U$4,Scoring!$F$4:$Z$4,0),MAX(Criteria!$M:$M),)))","v":""},{"$f":"IF($C57=\"\",\"\",SUM(OFFSET('General Calc'!$F$26,MATCH($D57,'General Calc'!$E$26:$E$112,0),MATCH($C57,'General Calc'!$G$26:$Z$26,0),MAX(Criteria!$M:$M),1)*OFFSET(Scoring!$E$4,1,MATCH(V$4,Scoring!$F$4:$Z$4,0),MAX(Criteria!$M:$M),)))","v":""},{"$f":"IF($C57=\"\",\"\",SUM(OFFSET('General Calc'!$F$26,MATCH($D57,'General Calc'!$E$26:$E$112,0),MATCH($C57,'General Calc'!$G$26:$Z$26,0),MAX(Criteria!$M:$M),1)*OFFSET(Scoring!$E$4,1,MATCH(W$4,Scoring!$F$4:$Z$4,0),MAX(Criteria!$M:$M),)))","v":""},{"$f":"IF($C57=\"\",\"\",SUM(OFFSET('General Calc'!$F$26,MATCH($D57,'General Calc'!$E$26:$E$112,0),MATCH($C57,'General Calc'!$G$26:$Z$26,0),MAX(Criteria!$M:$M),1)*OFFSET(Scoring!$E$4,1,MATCH(X$4,Scoring!$F$4:$Z$4,0),MAX(Criteria!$M:$M),)))","v":""},{"$f":"IF($C57=\"\",\"\",SUM(OFFSET('General Calc'!$F$26,MATCH($D57,'General Calc'!$E$26:$E$112,0),MATCH($C57,'General Calc'!$G$26:$Z$26,0),MAX(Criteria!$M:$M),1)*OFFSET(Scoring!$E$4,1,MATCH(Y$4,Scoring!$F$4:$Z$4,0),MAX(Criteria!$M:$M),)))","v":""},"",""]
[null,14,{"$f":"IF(INDEX('Selected Criteria'!$E$6:$E$25,$B58)=0,\"\",INDEX('Selected Criteria'!$E$6:$E$25,$B58))","v":""},"",{"$f":"IF($C58=\"\",\"\",SUM(OFFSET('General Calc'!$F$26,MATCH($D58,'General Calc'!$E$26:$E$112,0),MATCH($C58,'General Calc'!$G$26:$Z$26,0),MAX(Criteria!$M:$M),1)*OFFSET(Scoring!$E$4,1,MATCH(E$4,Scoring!$F$4:$N$4,0),MAX(Criteria!$M:$M),)))","v":""},{"$f":"IF($C58=\"\",\"\",SUM(OFFSET('General Calc'!$F$26,MATCH($D58,'General Calc'!$E$26:$E$112,0),MATCH($C58,'General Calc'!$G$26:$Z$26,0),MAX(Criteria!$M:$M),1)*OFFSET(Scoring!$E$4,1,MATCH(F$4,Scoring!$F$4:$Z$4,0),MAX(Criteria!$M:$M),)))","v":""},{"$f":"IF($C58=\"\",\"\",SUM(OFFSET('General Calc'!$F$26,MATCH($D58,'General Calc'!$E$26:$E$112,0),MATCH($C58,'General Calc'!$G$26:$Z$26,0),MAX(Criteria!$M:$M),1)*OFFSET(Scoring!$E$4,1,MATCH(G$4,Scoring!$F$4:$N$4,0),MAX(Criteria!$M:$M),)))","v":""},{"$f":"IF($C58=\"\",\"\",SUM(OFFSET('General Calc'!$F$26,MATCH($D58,'General Calc'!$E$26:$E$112,0),MATCH($C58,'General Calc'!$G$26:$Z$26,0),MAX(Criteria!$M:$M),1)*OFFSET(Scoring!$E$4,1,MATCH(H$4,Scoring!$F$4:$N$4,0),MAX(Criteria!$M:$M),)))","v":""},{"$f":"IF($C58=\"\",\"\",SUM(OFFSET('General Calc'!$F$26,MATCH($D58,'General Calc'!$E$26:$E$112,0),MATCH($C58,'General Calc'!$G$26:$Z$26,0),MAX(Criteria!$M:$M),1)*OFFSET(Scoring!$E$4,1,MATCH(I$4,Scoring!$F$4:$N$4,0),MAX(Criteria!$M:$M),)))","v":""},{"$f":"IF($C58=\"\",\"\",SUM(OFFSET('General Calc'!$F$26,MATCH($D58,'General Calc'!$E$26:$E$112,0),MATCH($C58,'General Calc'!$G$26:$Z$26,0),MAX(Criteria!$M:$M),1)*OFFSET(Scoring!$E$4,1,MATCH(J$4,Scoring!$F$4:$N$4,0),MAX(Criteria!$M:$M),)))","v":""},{"$f":"IF($C58=\"\",\"\",SUM(OFFSET('General Calc'!$F$26,MATCH($D58,'General Calc'!$E$26:$E$112,0),MATCH($C58,'General Calc'!$G$26:$Z$26,0),MAX(Criteria!$M:$M),1)*OFFSET(Scoring!$E$4,1,MATCH(K$4,Scoring!$F$4:$N$4,0),MAX(Criteria!$M:$M),)))","v":""},{"$f":"IF($C58=\"\",\"\",SUM(OFFSET('General Calc'!$F$26,MATCH($D58,'General Calc'!$E$26:$E$112,0),MATCH($C58,'General Calc'!$G$26:$Z$26,0),MAX(Criteria!$M:$M),1)*OFFSET(Scoring!$E$4,1,MATCH(L$4,Scoring!$F$4:$N$4,0),MAX(Criteria!$M:$M),)))","v":""},{"$f":"IF($C58=\"\",\"\",SUM(OFFSET('General Calc'!$F$26,MATCH($D58,'General Calc'!$E$26:$E$112,0),MATCH($C58,'General Calc'!$G$26:$Z$26,0),MAX(Criteria!$M:$M),1)*OFFSET(Scoring!$E$4,1,MATCH(M$4,Scoring!$F$4:$N$4,0),MAX(Criteria!$M:$M),)))","v":""},{"$f":"IF($C58=\"\",\"\",SUM(OFFSET('General Calc'!$F$26,MATCH($D58,'General Calc'!$E$26:$E$112,0),MATCH($C58,'General Calc'!$G$26:$Z$26,0),MAX(Criteria!$M:$M),1)*OFFSET(Scoring!$E$4,1,MATCH(N$4,Scoring!$F$4:$Z$4,0),MAX(Criteria!$M:$M),)))","v":""},{"$f":"IF($C58=\"\",\"\",SUM(OFFSET('General Calc'!$F$26,MATCH($D58,'General Calc'!$E$26:$E$112,0),MATCH($C58,'General Calc'!$G$26:$Z$26,0),MAX(Criteria!$M:$M),1)*OFFSET(Scoring!$E$4,1,MATCH(O$4,Scoring!$F$4:$Z$4,0),MAX(Criteria!$M:$M),)))","v":""},{"$f":"IF($C58=\"\",\"\",SUM(OFFSET('General Calc'!$F$26,MATCH($D58,'General Calc'!$E$26:$E$112,0),MATCH($C58,'General Calc'!$G$26:$Z$26,0),MAX(Criteria!$M:$M),1)*OFFSET(Scoring!$E$4,1,MATCH(P$4,Scoring!$F$4:$Z$4,0),MAX(Criteria!$M:$M),)))","v":""},{"$f":"IF($C58=\"\",\"\",SUM(OFFSET('General Calc'!$F$26,MATCH($D58,'General Calc'!$E$26:$E$112,0),MATCH($C58,'General Calc'!$G$26:$Z$26,0),MAX(Criteria!$M:$M),1)*OFFSET(Scoring!$E$4,1,MATCH(Q$4,Scoring!$F$4:$Z$4,0),MAX(Criteria!$M:$M),)))","v":""},{"$f":"IF($C58=\"\",\"\",SUM(OFFSET('General Calc'!$F$26,MATCH($D58,'General Calc'!$E$26:$E$112,0),MATCH($C58,'General Calc'!$G$26:$Z$26,0),MAX(Criteria!$M:$M),1)*OFFSET(Scoring!$E$4,1,MATCH(R$4,Scoring!$F$4:$Z$4,0),MAX(Criteria!$M:$M),)))","v":""},{"$f":"IF($C58=\"\",\"\",SUM(OFFSET('General Calc'!$F$26,MATCH($D58,'General Calc'!$E$26:$E$112,0),MATCH($C58,'General Calc'!$G$26:$Z$26,0),MAX(Criteria!$M:$M),1)*OFFSET(Scoring!$E$4,1,MATCH(S$4,Scoring!$F$4:$Z$4,0),MAX(Criteria!$M:$M),)))","v":""},{"$f":"IF($C58=\"\",\"\",SUM(OFFSET('General Calc'!$F$26,MATCH($D58,'General Calc'!$E$26:$E$112,0),MATCH($C58,'General Calc'!$G$26:$Z$26,0),MAX(Criteria!$M:$M),1)*OFFSET(Scoring!$E$4,1,MATCH(T$4,Scoring!$F$4:$Z$4,0),MAX(Criteria!$M:$M),)))","v":""},{"$f":"IF($C58=\"\",\"\",SUM(OFFSET('General Calc'!$F$26,MATCH($D58,'General Calc'!$E$26:$E$112,0),MATCH($C58,'General Calc'!$G$26:$Z$26,0),MAX(Criteria!$M:$M),1)*OFFSET(Scoring!$E$4,1,MATCH(U$4,Scoring!$F$4:$Z$4,0),MAX(Criteria!$M:$M),)))","v":""},{"$f":"IF($C58=\"\",\"\",SUM(OFFSET('General Calc'!$F$26,MATCH($D58,'General Calc'!$E$26:$E$112,0),MATCH($C58,'General Calc'!$G$26:$Z$26,0),MAX(Criteria!$M:$M),1)*OFFSET(Scoring!$E$4,1,MATCH(V$4,Scoring!$F$4:$Z$4,0),MAX(Criteria!$M:$M),)))","v":""},{"$f":"IF($C58=\"\",\"\",SUM(OFFSET('General Calc'!$F$26,MATCH($D58,'General Calc'!$E$26:$E$112,0),MATCH($C58,'General Calc'!$G$26:$Z$26,0),MAX(Criteria!$M:$M),1)*OFFSET(Scoring!$E$4,1,MATCH(W$4,Scoring!$F$4:$Z$4,0),MAX(Criteria!$M:$M),)))","v":""},{"$f":"IF($C58=\"\",\"\",SUM(OFFSET('General Calc'!$F$26,MATCH($D58,'General Calc'!$E$26:$E$112,0),MATCH($C58,'General Calc'!$G$26:$Z$26,0),MAX(Criteria!$M:$M),1)*OFFSET(Scoring!$E$4,1,MATCH(X$4,Scoring!$F$4:$Z$4,0),MAX(Criteria!$M:$M),)))","v":""},{"$f":"IF($C58=\"\",\"\",SUM(OFFSET('General Calc'!$F$26,MATCH($D58,'General Calc'!$E$26:$E$112,0),MATCH($C58,'General Calc'!$G$26:$Z$26,0),MAX(Criteria!$M:$M),1)*OFFSET(Scoring!$E$4,1,MATCH(Y$4,Scoring!$F$4:$Z$4,0),MAX(Criteria!$M:$M),)))","v":""},"",""]
[null,15,{"$f":"IF(INDEX('Selected Criteria'!$E$6:$E$25,$B59)=0,\"\",INDEX('Selected Criteria'!$E$6:$E$25,$B59))","v":""},{"$f":"IF($C59=\"\",\"\",25%)","v":""},{"$f":"IF($C59=\"\",\"\",SUM(OFFSET('General Calc'!$F$26,MATCH($D59,'General Calc'!$E$26:$E$112,0),MATCH($C59,'General Calc'!$G$26:$Z$26,0),MAX(Criteria!$M:$M),1)*OFFSET(Scoring!$E$4,1,MATCH(E$4,Scoring!$F$4:$N$4,0),MAX(Criteria!$M:$M),)))","v":""},{"$f":"IF($C59=\"\",\"\",SUM(OFFSET('General Calc'!$F$26,MATCH($D59,'General Calc'!$E$26:$E$112,0),MATCH($C59,'General Calc'!$G$26:$Z$26,0),MAX(Criteria!$M:$M),1)*OFFSET(Scoring!$E$4,1,MATCH(F$4,Scoring!$F$4:$Z$4,0),MAX(Criteria!$M:$M),)))","v":""},{"$f":"IF($C59=\"\",\"\",SUM(OFFSET('General Calc'!$F$26,MATCH($D59,'General Calc'!$E$26:$E$112,0),MATCH($C59,'General Calc'!$G$26:$Z$26,0),MAX(Criteria!$M:$M),1)*OFFSET(Scoring!$E$4,1,MATCH(G$4,Scoring!$F$4:$N$4,0),MAX(Criteria!$M:$M),)))","v":""},{"$f":"IF($C59=\"\",\"\",SUM(OFFSET('General Calc'!$F$26,MATCH($D59,'General Calc'!$E$26:$E$112,0),MATCH($C59,'General Calc'!$G$26:$Z$26,0),MAX(Criteria!$M:$M),1)*OFFSET(Scoring!$E$4,1,MATCH(H$4,Scoring!$F$4:$N$4,0),MAX(Criteria!$M:$M),)))","v":""},{"$f":"IF($C59=\"\",\"\",SUM(OFFSET('General Calc'!$F$26,MATCH($D59,'General Calc'!$E$26:$E$112,0),MATCH($C59,'General Calc'!$G$26:$Z$26,0),MAX(Criteria!$M:$M),1)*OFFSET(Scoring!$E$4,1,MATCH(I$4,Scoring!$F$4:$N$4,0),MAX(Criteria!$M:$M),)))","v":""},{"$f":"IF($C59=\"\",\"\",SUM(OFFSET('General Calc'!$F$26,MATCH($D59,'General Calc'!$E$26:$E$112,0),MATCH($C59,'General Calc'!$G$26:$Z$26,0),MAX(Criteria!$M:$M),1)*OFFSET(Scoring!$E$4,1,MATCH(J$4,Scoring!$F$4:$N$4,0),MAX(Criteria!$M:$M),)))","v":""},{"$f":"IF($C59=\"\",\"\",SUM(OFFSET('General Calc'!$F$26,MATCH($D59,'General Calc'!$E$26:$E$112,0),MATCH($C59,'General Calc'!$G$26:$Z$26,0),MAX(Criteria!$M:$M),1)*OFFSET(Scoring!$E$4,1,MATCH(K$4,Scoring!$F$4:$N$4,0),MAX(Criteria!$M:$M),)))","v":""},{"$f":"IF($C59=\"\",\"\",SUM(OFFSET('General Calc'!$F$26,MATCH($D59,'General Calc'!$E$26:$E$112,0),MATCH($C59,'General Calc'!$G$26:$Z$26,0),MAX(Criteria!$M:$M),1)*OFFSET(Scoring!$E$4,1,MATCH(L$4,Scoring!$F$4:$N$4,0),MAX(Criteria!$M:$M),)))","v":""},{"$f":"IF($C59=\"\",\"\",SUM(OFFSET('General Calc'!$F$26,MATCH($D59,'General Calc'!$E$26:$E$112,0),MATCH($C59,'General Calc'!$G$26:$Z$26,0),MAX(Criteria!$M:$M),1)*OFFSET(Scoring!$E$4,1,MATCH(M$4,Scoring!$F$4:$N$4,0),MAX(Criteria!$M:$M),)))","v":""},{"$f":"IF($C59=\"\",\"\",SUM(OFFSET('General Calc'!$F$26,MATCH($D59,'General Calc'!$E$26:$E$112,0),MATCH($C59,'General Calc'!$G$26:$Z$26,0),MAX(Criteria!$M:$M),1)*OFFSET(Scoring!$E$4,1,MATCH(N$4,Scoring!$F$4:$Z$4,0),MAX(Criteria!$M:$M),)))","v":""},{"$f":"IF($C59=\"\",\"\",SUM(OFFSET('General Calc'!$F$26,MATCH($D59,'General Calc'!$E$26:$E$112,0),MATCH($C59,'General Calc'!$G$26:$Z$26,0),MAX(Criteria!$M:$M),1)*OFFSET(Scoring!$E$4,1,MATCH(O$4,Scoring!$F$4:$Z$4,0),MAX(Criteria!$M:$M),)))","v":""},{"$f":"IF($C59=\"\",\"\",SUM(OFFSET('General Calc'!$F$26,MATCH($D59,'General Calc'!$E$26:$E$112,0),MATCH($C59,'General Calc'!$G$26:$Z$26,0),MAX(Criteria!$M:$M),1)*OFFSET(Scoring!$E$4,1,MATCH(P$4,Scoring!$F$4:$Z$4,0),MAX(Criteria!$M:$M),)))","v":""},{"$f":"IF($C59=\"\",\"\",SUM(OFFSET('General Calc'!$F$26,MATCH($D59,'General Calc'!$E$26:$E$112,0),MATCH($C59,'General Calc'!$G$26:$Z$26,0),MAX(Criteria!$M:$M),1)*OFFSET(Scoring!$E$4,1,MATCH(Q$4,Scoring!$F$4:$Z$4,0),MAX(Criteria!$M:$M),)))","v":""},{"$f":"IF($C59=\"\",\"\",SUM(OFFSET('General Calc'!$F$26,MATCH($D59,'General Calc'!$E$26:$E$112,0),MATCH($C59,'General Calc'!$G$26:$Z$26,0),MAX(Criteria!$M:$M),1)*OFFSET(Scoring!$E$4,1,MATCH(R$4,Scoring!$F$4:$Z$4,0),MAX(Criteria!$M:$M),)))","v":""},{"$f":"IF($C59=\"\",\"\",SUM(OFFSET('General Calc'!$F$26,MATCH($D59,'General Calc'!$E$26:$E$112,0),MATCH($C59,'General Calc'!$G$26:$Z$26,0),MAX(Criteria!$M:$M),1)*OFFSET(Scoring!$E$4,1,MATCH(S$4,Scoring!$F$4:$Z$4,0),MAX(Criteria!$M:$M),)))","v":""},{"$f":"IF($C59=\"\",\"\",SUM(OFFSET('General Calc'!$F$26,MATCH($D59,'General Calc'!$E$26:$E$112,0),MATCH($C59,'General Calc'!$G$26:$Z$26,0),MAX(Criteria!$M:$M),1)*OFFSET(Scoring!$E$4,1,MATCH(T$4,Scoring!$F$4:$Z$4,0),MAX(Criteria!$M:$M),)))","v":""},{"$f":"IF($C59=\"\",\"\",SUM(OFFSET('General Calc'!$F$26,MATCH($D59,'General Calc'!$E$26:$E$112,0),MATCH($C59,'General Calc'!$G$26:$Z$26,0),MAX(Criteria!$M:$M),1)*OFFSET(Scoring!$E$4,1,MATCH(U$4,Scoring!$F$4:$Z$4,0),MAX(Criteria!$M:$M),)))","v":""},{"$f":"IF($C59=\"\",\"\",SUM(OFFSET('General Calc'!$F$26,MATCH($D59,'General Calc'!$E$26:$E$112,0),MATCH($C59,'General Calc'!$G$26:$Z$26,0),MAX(Criteria!$M:$M),1)*OFFSET(Scoring!$E$4,1,MATCH(V$4,Scoring!$F$4:$Z$4,0),MAX(Criteria!$M:$M),)))","v":""},{"$f":"IF($C59=\"\",\"\",SUM(OFFSET('General Calc'!$F$26,MATCH($D59,'General Calc'!$E$26:$E$112,0),MATCH($C59,'General Calc'!$G$26:$Z$26,0),MAX(Criteria!$M:$M),1)*OFFSET(Scoring!$E$4,1,MATCH(W$4,Scoring!$F$4:$Z$4,0),MAX(Criteria!$M:$M),)))","v":""},{"$f":"IF($C59=\"\",\"\",SUM(OFFSET('General Calc'!$F$26,MATCH($D59,'General Calc'!$E$26:$E$112,0),MATCH($C59,'General Calc'!$G$26:$Z$26,0),MAX(Criteria!$M:$M),1)*OFFSET(Scoring!$E$4,1,MATCH(X$4,Scoring!$F$4:$Z$4,0),MAX(Criteria!$M:$M),)))","v":""},{"$f":"IF($C59=\"\",\"\",SUM(OFFSET('General Calc'!$F$26,MATCH($D59,'General Calc'!$E$26:$E$112,0),MATCH($C59,'General Calc'!$G$26:$Z$26,0),MAX(Criteria!$M:$M),1)*OFFSET(Scoring!$E$4,1,MATCH(Y$4,Scoring!$F$4:$Z$4,0),MAX(Criteria!$M:$M),)))","v":""},{"$f":"C59&D59","v":""},""]
[null,16,{"$f":"IF(INDEX('Selected Criteria'!$E$6:$E$25,$B60)=0,\"\",INDEX('Selected Criteria'!$E$6:$E$25,$B60))","v":""},"",{"$f":"IF($C60=\"\",\"\",SUM(OFFSET('General Calc'!$F$26,MATCH($D60,'General Calc'!$E$26:$E$112,0),MATCH($C60,'General Calc'!$G$26:$Z$26,0),MAX(Criteria!$M:$M),1)*OFFSET(Scoring!$E$4,1,MATCH(E$4,Scoring!$F$4:$N$4,0),MAX(Criteria!$M:$M),)))","v":""},{"$f":"IF($C60=\"\",\"\",SUM(OFFSET('General Calc'!$F$26,MATCH($D60,'General Calc'!$E$26:$E$112,0),MATCH($C60,'General Calc'!$G$26:$Z$26,0),MAX(Criteria!$M:$M),1)*OFFSET(Scoring!$E$4,1,MATCH(F$4,Scoring!$F$4:$Z$4,0),MAX(Criteria!$M:$M),)))","v":""},{"$f":"IF($C60=\"\",\"\",SUM(OFFSET('General Calc'!$F$26,MATCH($D60,'General Calc'!$E$26:$E$112,0),MATCH($C60,'General Calc'!$G$26:$Z$26,0),MAX(Criteria!$M:$M),1)*OFFSET(Scoring!$E$4,1,MATCH(G$4,Scoring!$F$4:$N$4,0),MAX(Criteria!$M:$M),)))","v":""},{"$f":"IF($C60=\"\",\"\",SUM(OFFSET('General Calc'!$F$26,MATCH($D60,'General Calc'!$E$26:$E$112,0),MATCH($C60,'General Calc'!$G$26:$Z$26,0),MAX(Criteria!$M:$M),1)*OFFSET(Scoring!$E$4,1,MATCH(H$4,Scoring!$F$4:$N$4,0),MAX(Criteria!$M:$M),)))","v":""},{"$f":"IF($C60=\"\",\"\",SUM(OFFSET('General Calc'!$F$26,MATCH($D60,'General Calc'!$E$26:$E$112,0),MATCH($C60,'General Calc'!$G$26:$Z$26,0),MAX(Criteria!$M:$M),1)*OFFSET(Scoring!$E$4,1,MATCH(I$4,Scoring!$F$4:$N$4,0),MAX(Criteria!$M:$M),)))","v":""},{"$f":"IF($C60=\"\",\"\",SUM(OFFSET('General Calc'!$F$26,MATCH($D60,'General Calc'!$E$26:$E$112,0),MATCH($C60,'General Calc'!$G$26:$Z$26,0),MAX(Criteria!$M:$M),1)*OFFSET(Scoring!$E$4,1,MATCH(J$4,Scoring!$F$4:$N$4,0),MAX(Criteria!$M:$M),)))","v":""},{"$f":"IF($C60=\"\",\"\",SUM(OFFSET('General Calc'!$F$26,MATCH($D60,'General Calc'!$E$26:$E$112,0),MATCH($C60,'General Calc'!$G$26:$Z$26,0),MAX(Criteria!$M:$M),1)*OFFSET(Scoring!$E$4,1,MATCH(K$4,Scoring!$F$4:$N$4,0),MAX(Criteria!$M:$M),)))","v":""},{"$f":"IF($C60=\"\",\"\",SUM(OFFSET('General Calc'!$F$26,MATCH($D60,'General Calc'!$E$26:$E$112,0),MATCH($C60,'General Calc'!$G$26:$Z$26,0),MAX(Criteria!$M:$M),1)*OFFSET(Scoring!$E$4,1,MATCH(L$4,Scoring!$F$4:$N$4,0),MAX(Criteria!$M:$M),)))","v":""},{"$f":"IF($C60=\"\",\"\",SUM(OFFSET('General Calc'!$F$26,MATCH($D60,'General Calc'!$E$26:$E$112,0),MATCH($C60,'General Calc'!$G$26:$Z$26,0),MAX(Criteria!$M:$M),1)*OFFSET(Scoring!$E$4,1,MATCH(M$4,Scoring!$F$4:$N$4,0),MAX(Criteria!$M:$M),)))","v":""},{"$f":"IF($C60=\"\",\"\",SUM(OFFSET('General Calc'!$F$26,MATCH($D60,'General Calc'!$E$26:$E$112,0),MATCH($C60,'General Calc'!$G$26:$Z$26,0),MAX(Criteria!$M:$M),1)*OFFSET(Scoring!$E$4,1,MATCH(N$4,Scoring!$F$4:$Z$4,0),MAX(Criteria!$M:$M),)))","v":""},{"$f":"IF($C60=\"\",\"\",SUM(OFFSET('General Calc'!$F$26,MATCH($D60,'General Calc'!$E$26:$E$112,0),MATCH($C60,'General Calc'!$G$26:$Z$26,0),MAX(Criteria!$M:$M),1)*OFFSET(Scoring!$E$4,1,MATCH(O$4,Scoring!$F$4:$Z$4,0),MAX(Criteria!$M:$M),)))","v":""},{"$f":"IF($C60=\"\",\"\",SUM(OFFSET('General Calc'!$F$26,MATCH($D60,'General Calc'!$E$26:$E$112,0),MATCH($C60,'General Calc'!$G$26:$Z$26,0),MAX(Criteria!$M:$M),1)*OFFSET(Scoring!$E$4,1,MATCH(P$4,Scoring!$F$4:$Z$4,0),MAX(Criteria!$M:$M),)))","v":""},{"$f":"IF($C60=\"\",\"\",SUM(OFFSET('General Calc'!$F$26,MATCH($D60,'General Calc'!$E$26:$E$112,0),MATCH($C60,'General Calc'!$G$26:$Z$26,0),MAX(Criteria!$M:$M),1)*OFFSET(Scoring!$E$4,1,MATCH(Q$4,Scoring!$F$4:$Z$4,0),MAX(Criteria!$M:$M),)))","v":""},{"$f":"IF($C60=\"\",\"\",SUM(OFFSET('General Calc'!$F$26,MATCH($D60,'General Calc'!$E$26:$E$112,0),MATCH($C60,'General Calc'!$G$26:$Z$26,0),MAX(Criteria!$M:$M),1)*OFFSET(Scoring!$E$4,1,MATCH(R$4,Scoring!$F$4:$Z$4,0),MAX(Criteria!$M:$M),)))","v":""},{"$f":"IF($C60=\"\",\"\",SUM(OFFSET('General Calc'!$F$26,MATCH($D60,'General Calc'!$E$26:$E$112,0),MATCH($C60,'General Calc'!$G$26:$Z$26,0),MAX(Criteria!$M:$M),1)*OFFSET(Scoring!$E$4,1,MATCH(S$4,Scoring!$F$4:$Z$4,0),MAX(Criteria!$M:$M),)))","v":""},{"$f":"IF($C60=\"\",\"\",SUM(OFFSET('General Calc'!$F$26,MATCH($D60,'General Calc'!$E$26:$E$112,0),MATCH($C60,'General Calc'!$G$26:$Z$26,0),MAX(Criteria!$M:$M),1)*OFFSET(Scoring!$E$4,1,MATCH(T$4,Scoring!$F$4:$Z$4,0),MAX(Criteria!$M:$M),)))","v":""},{"$f":"IF($C60=\"\",\"\",SUM(OFFSET('General Calc'!$F$26,MATCH($D60,'General Calc'!$E$26:$E$112,0),MATCH($C60,'General Calc'!$G$26:$Z$26,0),MAX(Criteria!$M:$M),1)*OFFSET(Scoring!$E$4,1,MATCH(U$4,Scoring!$F$4:$Z$4,0),MAX(Criteria!$M:$M),)))","v":""},{"$f":"IF($C60=\"\",\"\",SUM(OFFSET('General Calc'!$F$26,MATCH($D60,'General Calc'!$E$26:$E$112,0),MATCH($C60,'General Calc'!$G$26:$Z$26,0),MAX(Criteria!$M:$M),1)*OFFSET(Scoring!$E$4,1,MATCH(V$4,Scoring!$F$4:$Z$4,0),MAX(Criteria!$M:$M),)))","v":""},{"$f":"IF($C60=\"\",\"\",SUM(OFFSET('General Calc'!$F$26,MATCH($D60,'General Calc'!$E$26:$E$112,0),MATCH($C60,'General Calc'!$G$26:$Z$26,0),MAX(Criteria!$M:$M),1)*OFFSET(Scoring!$E$4,1,MATCH(W$4,Scoring!$F$4:$Z$4,0),MAX(Criteria!$M:$M),)))","v":""},{"$f":"IF($C60=\"\",\"\",SUM(OFFSET('General Calc'!$F$26,MATCH($D60,'General Calc'!$E$26:$E$112,0),MATCH($C60,'General Calc'!$G$26:$Z$26,0),MAX(Criteria!$M:$M),1)*OFFSET(Scoring!$E$4,1,MATCH(X$4,Scoring!$F$4:$Z$4,0),MAX(Criteria!$M:$M),)))","v":""},{"$f":"IF($C60=\"\",\"\",SUM(OFFSET('General Calc'!$F$26,MATCH($D60,'General Calc'!$E$26:$E$112,0),MATCH($C60,'General Calc'!$G$26:$Z$26,0),MAX(Criteria!$M:$M),1)*OFFSET(Scoring!$E$4,1,MATCH(Y$4,Scoring!$F$4:$Z$4,0),MAX(Criteria!$M:$M),)))","v":""},"",""]
[null,17,{"$f":"IF(INDEX('Selected Criteria'!$E$6:$E$25,$B61)=0,\"\",INDEX('Selected Criteria'!$E$6:$E$25,$B61))","v":""},"",{"$f":"IF($C61=\"\",\"\",SUM(OFFSET('General Calc'!$F$26,MATCH($D61,'General Calc'!$E$26:$E$112,0),MATCH($C61,'General Calc'!$G$26:$Z$26,0),MAX(Criteria!$M:$M),1)*OFFSET(Scoring!$E$4,1,MATCH(E$4,Scoring!$F$4:$N$4,0),MAX(Criteria!$M:$M),)))","v":""},{"$f":"IF($C61=\"\",\"\",SUM(OFFSET('General Calc'!$F$26,MATCH($D61,'General Calc'!$E$26:$E$112,0),MATCH($C61,'General Calc'!$G$26:$Z$26,0),MAX(Criteria!$M:$M),1)*OFFSET(Scoring!$E$4,1,MATCH(F$4,Scoring!$F$4:$Z$4,0),MAX(Criteria!$M:$M),)))","v":""},{"$f":"IF($C61=\"\",\"\",SUM(OFFSET('General Calc'!$F$26,MATCH($D61,'General Calc'!$E$26:$E$112,0),MATCH($C61,'General Calc'!$G$26:$Z$26,0),MAX(Criteria!$M:$M),1)*OFFSET(Scoring!$E$4,1,MATCH(G$4,Scoring!$F$4:$N$4,0),MAX(Criteria!$M:$M),)))","v":""},{"$f":"IF($C61=\"\",\"\",SUM(OFFSET('General Calc'!$F$26,MATCH($D61,'General Calc'!$E$26:$E$112,0),MATCH($C61,'General Calc'!$G$26:$Z$26,0),MAX(Criteria!$M:$M),1)*OFFSET(Scoring!$E$4,1,MATCH(H$4,Scoring!$F$4:$N$4,0),MAX(Criteria!$M:$M),)))","v":""},{"$f":"IF($C61=\"\",\"\",SUM(OFFSET('General Calc'!$F$26,MATCH($D61,'General Calc'!$E$26:$E$112,0),MATCH($C61,'General Calc'!$G$26:$Z$26,0),MAX(Criteria!$M:$M),1)*OFFSET(Scoring!$E$4,1,MATCH(I$4,Scoring!$F$4:$N$4,0),MAX(Criteria!$M:$M),)))","v":""},{"$f":"IF($C61=\"\",\"\",SUM(OFFSET('General Calc'!$F$26,MATCH($D61,'General Calc'!$E$26:$E$112,0),MATCH($C61,'General Calc'!$G$26:$Z$26,0),MAX(Criteria!$M:$M),1)*OFFSET(Scoring!$E$4,1,MATCH(J$4,Scoring!$F$4:$N$4,0),MAX(Criteria!$M:$M),)))","v":""},{"$f":"IF($C61=\"\",\"\",SUM(OFFSET('General Calc'!$F$26,MATCH($D61,'General Calc'!$E$26:$E$112,0),MATCH($C61,'General Calc'!$G$26:$Z$26,0),MAX(Criteria!$M:$M),1)*OFFSET(Scoring!$E$4,1,MATCH(K$4,Scoring!$F$4:$N$4,0),MAX(Criteria!$M:$M),)))","v":""},{"$f":"IF($C61=\"\",\"\",SUM(OFFSET('General Calc'!$F$26,MATCH($D61,'General Calc'!$E$26:$E$112,0),MATCH($C61,'General Calc'!$G$26:$Z$26,0),MAX(Criteria!$M:$M),1)*OFFSET(Scoring!$E$4,1,MATCH(L$4,Scoring!$F$4:$N$4,0),MAX(Criteria!$M:$M),)))","v":""},{"$f":"IF($C61=\"\",\"\",SUM(OFFSET('General Calc'!$F$26,MATCH($D61,'General Calc'!$E$26:$E$112,0),MATCH($C61,'General Calc'!$G$26:$Z$26,0),MAX(Criteria!$M:$M),1)*OFFSET(Scoring!$E$4,1,MATCH(M$4,Scoring!$F$4:$N$4,0),MAX(Criteria!$M:$M),)))","v":""},{"$f":"IF($C61=\"\",\"\",SUM(OFFSET('General Calc'!$F$26,MATCH($D61,'General Calc'!$E$26:$E$112,0),MATCH($C61,'General Calc'!$G$26:$Z$26,0),MAX(Criteria!$M:$M),1)*OFFSET(Scoring!$E$4,1,MATCH(N$4,Scoring!$F$4:$Z$4,0),MAX(Criteria!$M:$M),)))","v":""},{"$f":"IF($C61=\"\",\"\",SUM(OFFSET('General Calc'!$F$26,MATCH($D61,'General Calc'!$E$26:$E$112,0),MATCH($C61,'General Calc'!$G$26:$Z$26,0),MAX(Criteria!$M:$M),1)*OFFSET(Scoring!$E$4,1,MATCH(O$4,Scoring!$F$4:$Z$4,0),MAX(Criteria!$M:$M),)))","v":""},{"$f":"IF($C61=\"\",\"\",SUM(OFFSET('General Calc'!$F$26,MATCH($D61,'General Calc'!$E$26:$E$112,0),MATCH($C61,'General Calc'!$G$26:$Z$26,0),MAX(Criteria!$M:$M),1)*OFFSET(Scoring!$E$4,1,MATCH(P$4,Scoring!$F$4:$Z$4,0),MAX(Criteria!$M:$M),)))","v":""},{"$f":"IF($C61=\"\",\"\",SUM(OFFSET('General Calc'!$F$26,MATCH($D61,'General Calc'!$E$26:$E$112,0),MATCH($C61,'General Calc'!$G$26:$Z$26,0),MAX(Criteria!$M:$M),1)*OFFSET(Scoring!$E$4,1,MATCH(Q$4,Scoring!$F$4:$Z$4,0),MAX(Criteria!$M:$M),)))","v":""},{"$f":"IF($C61=\"\",\"\",SUM(OFFSET('General Calc'!$F$26,MATCH($D61,'General Calc'!$E$26:$E$112,0),MATCH($C61,'General Calc'!$G$26:$Z$26,0),MAX(Criteria!$M:$M),1)*OFFSET(Scoring!$E$4,1,MATCH(R$4,Scoring!$F$4:$Z$4,0),MAX(Criteria!$M:$M),)))","v":""},{"$f":"IF($C61=\"\",\"\",SUM(OFFSET('General Calc'!$F$26,MATCH($D61,'General Calc'!$E$26:$E$112,0),MATCH($C61,'General Calc'!$G$26:$Z$26,0),MAX(Criteria!$M:$M),1)*OFFSET(Scoring!$E$4,1,MATCH(S$4,Scoring!$F$4:$Z$4,0),MAX(Criteria!$M:$M),)))","v":""},{"$f":"IF($C61=\"\",\"\",SUM(OFFSET('General Calc'!$F$26,MATCH($D61,'General Calc'!$E$26:$E$112,0),MATCH($C61,'General Calc'!$G$26:$Z$26,0),MAX(Criteria!$M:$M),1)*OFFSET(Scoring!$E$4,1,MATCH(T$4,Scoring!$F$4:$Z$4,0),MAX(Criteria!$M:$M),)))","v":""},{"$f":"IF($C61=\"\",\"\",SUM(OFFSET('General Calc'!$F$26,MATCH($D61,'General Calc'!$E$26:$E$112,0),MATCH($C61,'General Calc'!$G$26:$Z$26,0),MAX(Criteria!$M:$M),1)*OFFSET(Scoring!$E$4,1,MATCH(U$4,Scoring!$F$4:$Z$4,0),MAX(Criteria!$M:$M),)))","v":""},{"$f":"IF($C61=\"\",\"\",SUM(OFFSET('General Calc'!$F$26,MATCH($D61,'General Calc'!$E$26:$E$112,0),MATCH($C61,'General Calc'!$G$26:$Z$26,0),MAX(Criteria!$M:$M),1)*OFFSET(Scoring!$E$4,1,MATCH(V$4,Scoring!$F$4:$Z$4,0),MAX(Criteria!$M:$M),)))","v":""},{"$f":"IF($C61=\"\",\"\",SUM(OFFSET('General Calc'!$F$26,MATCH($D61,'General Calc'!$E$26:$E$112,0),MATCH($C61,'General Calc'!$G$26:$Z$26,0),MAX(Criteria!$M:$M),1)*OFFSET(Scoring!$E$4,1,MATCH(W$4,Scoring!$F$4:$Z$4,0),MAX(Criteria!$M:$M),)))","v":""},{"$f":"IF($C61=\"\",\"\",SUM(OFFSET('General Calc'!$F$26,MATCH($D61,'General Calc'!$E$26:$E$112,0),MATCH($C61,'General Calc'!$G$26:$Z$26,0),MAX(Criteria!$M:$M),1)*OFFSET(Scoring!$E$4,1,MATCH(X$4,Scoring!$F$4:$Z$4,0),MAX(Criteria!$M:$M),)))","v":""},{"$f":"IF($C61=\"\",\"\",SUM(OFFSET('General Calc'!$F$26,MATCH($D61,'General Calc'!$E$26:$E$112,0),MATCH($C61,'General Calc'!$G$26:$Z$26,0),MAX(Criteria!$M:$M),1)*OFFSET(Scoring!$E$4,1,MATCH(Y$4,Scoring!$F$4:$Z$4,0),MAX(Criteria!$M:$M),)))","v":""},"",""]
[null,18,{"$f":"IF(INDEX('Selected Criteria'!$E$6:$E$25,$B62)=0,\"\",INDEX('Selected Criteria'!$E$6:$E$25,$B62))","v":""},"",{"$f":"IF($C62=\"\",\"\",SUM(OFFSET('General Calc'!$F$26,MATCH($D62,'General Calc'!$E$26:$E$112,0),MATCH($C62,'General Calc'!$G$26:$Z$26,0),MAX(Criteria!$M:$M),1)*OFFSET(Scoring!$E$4,1,MATCH(E$4,Scoring!$F$4:$N$4,0),MAX(Criteria!$M:$M),)))","v":""},{"$f":"IF($C62=\"\",\"\",SUM(OFFSET('General Calc'!$F$26,MATCH($D62,'General Calc'!$E$26:$E$112,0),MATCH($C62,'General Calc'!$G$26:$Z$26,0),MAX(Criteria!$M:$M),1)*OFFSET(Scoring!$E$4,1,MATCH(F$4,Scoring!$F$4:$Z$4,0),MAX(Criteria!$M:$M),)))","v":""},{"$f":"IF($C62=\"\",\"\",SUM(OFFSET('General Calc'!$F$26,MATCH($D62,'General Calc'!$E$26:$E$112,0),MATCH($C62,'General Calc'!$G$26:$Z$26,0),MAX(Criteria!$M:$M),1)*OFFSET(Scoring!$E$4,1,MATCH(G$4,Scoring!$F$4:$N$4,0),MAX(Criteria!$M:$M),)))","v":""},{"$f":"IF($C62=\"\",\"\",SUM(OFFSET('General Calc'!$F$26,MATCH($D62,'General Calc'!$E$26:$E$112,0),MATCH($C62,'General Calc'!$G$26:$Z$26,0),MAX(Criteria!$M:$M),1)*OFFSET(Scoring!$E$4,1,MATCH(H$4,Scoring!$F$4:$N$4,0),MAX(Criteria!$M:$M),)))","v":""},{"$f":"IF($C62=\"\",\"\",SUM(OFFSET('General Calc'!$F$26,MATCH($D62,'General Calc'!$E$26:$E$112,0),MATCH($C62,'General Calc'!$G$26:$Z$26,0),MAX(Criteria!$M:$M),1)*OFFSET(Scoring!$E$4,1,MATCH(I$4,Scoring!$F$4:$N$4,0),MAX(Criteria!$M:$M),)))","v":""},{"$f":"IF($C62=\"\",\"\",SUM(OFFSET('General Calc'!$F$26,MATCH($D62,'General Calc'!$E$26:$E$112,0),MATCH($C62,'General Calc'!$G$26:$Z$26,0),MAX(Criteria!$M:$M),1)*OFFSET(Scoring!$E$4,1,MATCH(J$4,Scoring!$F$4:$N$4,0),MAX(Criteria!$M:$M),)))","v":""},{"$f":"IF($C62=\"\",\"\",SUM(OFFSET('General Calc'!$F$26,MATCH($D62,'General Calc'!$E$26:$E$112,0),MATCH($C62,'General Calc'!$G$26:$Z$26,0),MAX(Criteria!$M:$M),1)*OFFSET(Scoring!$E$4,1,MATCH(K$4,Scoring!$F$4:$N$4,0),MAX(Criteria!$M:$M),)))","v":""},{"$f":"IF($C62=\"\",\"\",SUM(OFFSET('General Calc'!$F$26,MATCH($D62,'General Calc'!$E$26:$E$112,0),MATCH($C62,'General Calc'!$G$26:$Z$26,0),MAX(Criteria!$M:$M),1)*OFFSET(Scoring!$E$4,1,MATCH(L$4,Scoring!$F$4:$N$4,0),MAX(Criteria!$M:$M),)))","v":""},{"$f":"IF($C62=\"\",\"\",SUM(OFFSET('General Calc'!$F$26,MATCH($D62,'General Calc'!$E$26:$E$112,0),MATCH($C62,'General Calc'!$G$26:$Z$26,0),MAX(Criteria!$M:$M),1)*OFFSET(Scoring!$E$4,1,MATCH(M$4,Scoring!$F$4:$N$4,0),MAX(Criteria!$M:$M),)))","v":""},{"$f":"IF($C62=\"\",\"\",SUM(OFFSET('General Calc'!$F$26,MATCH($D62,'General Calc'!$E$26:$E$112,0),MATCH($C62,'General Calc'!$G$26:$Z$26,0),MAX(Criteria!$M:$M),1)*OFFSET(Scoring!$E$4,1,MATCH(N$4,Scoring!$F$4:$Z$4,0),MAX(Criteria!$M:$M),)))","v":""},{"$f":"IF($C62=\"\",\"\",SUM(OFFSET('General Calc'!$F$26,MATCH($D62,'General Calc'!$E$26:$E$112,0),MATCH($C62,'General Calc'!$G$26:$Z$26,0),MAX(Criteria!$M:$M),1)*OFFSET(Scoring!$E$4,1,MATCH(O$4,Scoring!$F$4:$Z$4,0),MAX(Criteria!$M:$M),)))","v":""},{"$f":"IF($C62=\"\",\"\",SUM(OFFSET('General Calc'!$F$26,MATCH($D62,'General Calc'!$E$26:$E$112,0),MATCH($C62,'General Calc'!$G$26:$Z$26,0),MAX(Criteria!$M:$M),1)*OFFSET(Scoring!$E$4,1,MATCH(P$4,Scoring!$F$4:$Z$4,0),MAX(Criteria!$M:$M),)))","v":""},{"$f":"IF($C62=\"\",\"\",SUM(OFFSET('General Calc'!$F$26,MATCH($D62,'General Calc'!$E$26:$E$112,0),MATCH($C62,'General Calc'!$G$26:$Z$26,0),MAX(Criteria!$M:$M),1)*OFFSET(Scoring!$E$4,1,MATCH(Q$4,Scoring!$F$4:$Z$4,0),MAX(Criteria!$M:$M),)))","v":""},{"$f":"IF($C62=\"\",\"\",SUM(OFFSET('General Calc'!$F$26,MATCH($D62,'General Calc'!$E$26:$E$112,0),MATCH($C62,'General Calc'!$G$26:$Z$26,0),MAX(Criteria!$M:$M),1)*OFFSET(Scoring!$E$4,1,MATCH(R$4,Scoring!$F$4:$Z$4,0),MAX(Criteria!$M:$M),)))","v":""},{"$f":"IF($C62=\"\",\"\",SUM(OFFSET('General Calc'!$F$26,MATCH($D62,'General Calc'!$E$26:$E$112,0),MATCH($C62,'General Calc'!$G$26:$Z$26,0),MAX(Criteria!$M:$M),1)*OFFSET(Scoring!$E$4,1,MATCH(S$4,Scoring!$F$4:$Z$4,0),MAX(Criteria!$M:$M),)))","v":""},{"$f":"IF($C62=\"\",\"\",SUM(OFFSET('General Calc'!$F$26,MATCH($D62,'General Calc'!$E$26:$E$112,0),MATCH($C62,'General Calc'!$G$26:$Z$26,0),MAX(Criteria!$M:$M),1)*OFFSET(Scoring!$E$4,1,MATCH(T$4,Scoring!$F$4:$Z$4,0),MAX(Criteria!$M:$M),)))","v":""},{"$f":"IF($C62=\"\",\"\",SUM(OFFSET('General Calc'!$F$26,MATCH($D62,'General Calc'!$E$26:$E$112,0),MATCH($C62,'General Calc'!$G$26:$Z$26,0),MAX(Criteria!$M:$M),1)*OFFSET(Scoring!$E$4,1,MATCH(U$4,Scoring!$F$4:$Z$4,0),MAX(Criteria!$M:$M),)))","v":""},{"$f":"IF($C62=\"\",\"\",SUM(OFFSET('General Calc'!$F$26,MATCH($D62,'General Calc'!$E$26:$E$112,0),MATCH($C62,'General Calc'!$G$26:$Z$26,0),MAX(Criteria!$M:$M),1)*OFFSET(Scoring!$E$4,1,MATCH(V$4,Scoring!$F$4:$Z$4,0),MAX(Criteria!$M:$M),)))","v":""},{"$f":"IF($C62=\"\",\"\",SUM(OFFSET('General Calc'!$F$26,MATCH($D62,'General Calc'!$E$26:$E$112,0),MATCH($C62,'General Calc'!$G$26:$Z$26,0),MAX(Criteria!$M:$M),1)*OFFSET(Scoring!$E$4,1,MATCH(W$4,Scoring!$F$4:$Z$4,0),MAX(Criteria!$M:$M),)))","v":""},{"$f":"IF($C62=\"\",\"\",SUM(OFFSET('General Calc'!$F$26,MATCH($D62,'General Calc'!$E$26:$E$112,0),MATCH($C62,'General Calc'!$G$26:$Z$26,0),MAX(Criteria!$M:$M),1)*OFFSET(Scoring!$E$4,1,MATCH(X$4,Scoring!$F$4:$Z$4,0),MAX(Criteria!$M:$M),)))","v":""},{"$f":"IF($C62=\"\",\"\",SUM(OFFSET('General Calc'!$F$26,MATCH($D62,'General Calc'!$E$26:$E$112,0),MATCH($C62,'General Calc'!$G$26:$Z$26,0),MAX(Criteria!$M:$M),1)*OFFSET(Scoring!$E$4,1,MATCH(Y$4,Scoring!$F$4:$Z$4,0),MAX(Criteria!$M:$M),)))","v":""},"",""]
[null,19,{"$f":"IF(INDEX('Selected Criteria'!$E$6:$E$25,$B63)=0,\"\",INDEX('Selected Criteria'!$E$6:$E$25,$B63))","v":""},"",{"$f":"IF($C63=\"\",\"\",SUM(OFFSET('General Calc'!$F$26,MATCH($D63,'General Calc'!$E$26:$E$112,0),MATCH($C63,'General Calc'!$G$26:$Z$26,0),MAX(Criteria!$M:$M),1)*OFFSET(Scoring!$E$4,1,MATCH(E$4,Scoring!$F$4:$N$4,0),MAX(Criteria!$M:$M),)))","v":""},{"$f":"IF($C63=\"\",\"\",SUM(OFFSET('General Calc'!$F$26,MATCH($D63,'General Calc'!$E$26:$E$112,0),MATCH($C63,'General Calc'!$G$26:$Z$26,0),MAX(Criteria!$M:$M),1)*OFFSET(Scoring!$E$4,1,MATCH(F$4,Scoring!$F$4:$Z$4,0),MAX(Criteria!$M:$M),)))","v":""},{"$f":"IF($C63=\"\",\"\",SUM(OFFSET('General Calc'!$F$26,MATCH($D63,'General Calc'!$E$26:$E$112,0),MATCH($C63,'General Calc'!$G$26:$Z$26,0),MAX(Criteria!$M:$M),1)*OFFSET(Scoring!$E$4,1,MATCH(G$4,Scoring!$F$4:$N$4,0),MAX(Criteria!$M:$M),)))","v":""},{"$f":"IF($C63=\"\",\"\",SUM(OFFSET('General Calc'!$F$26,MATCH($D63,'General Calc'!$E$26:$E$112,0),MATCH($C63,'General Calc'!$G$26:$Z$26,0),MAX(Criteria!$M:$M),1)*OFFSET(Scoring!$E$4,1,MATCH(H$4,Scoring!$F$4:$N$4,0),MAX(Criteria!$M:$M),)))","v":""},{"$f":"IF($C63=\"\",\"\",SUM(OFFSET('General Calc'!$F$26,MATCH($D63,'General Calc'!$E$26:$E$112,0),MATCH($C63,'General Calc'!$G$26:$Z$26,0),MAX(Criteria!$M:$M),1)*OFFSET(Scoring!$E$4,1,MATCH(I$4,Scoring!$F$4:$N$4,0),MAX(Criteria!$M:$M),)))","v":""},{"$f":"IF($C63=\"\",\"\",SUM(OFFSET('General Calc'!$F$26,MATCH($D63,'General Calc'!$E$26:$E$112,0),MATCH($C63,'General Calc'!$G$26:$Z$26,0),MAX(Criteria!$M:$M),1)*OFFSET(Scoring!$E$4,1,MATCH(J$4,Scoring!$F$4:$N$4,0),MAX(Criteria!$M:$M),)))","v":""},{"$f":"IF($C63=\"\",\"\",SUM(OFFSET('General Calc'!$F$26,MATCH($D63,'General Calc'!$E$26:$E$112,0),MATCH($C63,'General Calc'!$G$26:$Z$26,0),MAX(Criteria!$M:$M),1)*OFFSET(Scoring!$E$4,1,MATCH(K$4,Scoring!$F$4:$N$4,0),MAX(Criteria!$M:$M),)))","v":""},{"$f":"IF($C63=\"\",\"\",SUM(OFFSET('General Calc'!$F$26,MATCH($D63,'General Calc'!$E$26:$E$112,0),MATCH($C63,'General Calc'!$G$26:$Z$26,0),MAX(Criteria!$M:$M),1)*OFFSET(Scoring!$E$4,1,MATCH(L$4,Scoring!$F$4:$N$4,0),MAX(Criteria!$M:$M),)))","v":""},{"$f":"IF($C63=\"\",\"\",SUM(OFFSET('General Calc'!$F$26,MATCH($D63,'General Calc'!$E$26:$E$112,0),MATCH($C63,'General Calc'!$G$26:$Z$26,0),MAX(Criteria!$M:$M),1)*OFFSET(Scoring!$E$4,1,MATCH(M$4,Scoring!$F$4:$N$4,0),MAX(Criteria!$M:$M),)))","v":""},{"$f":"IF($C63=\"\",\"\",SUM(OFFSET('General Calc'!$F$26,MATCH($D63,'General Calc'!$E$26:$E$112,0),MATCH($C63,'General Calc'!$G$26:$Z$26,0),MAX(Criteria!$M:$M),1)*OFFSET(Scoring!$E$4,1,MATCH(N$4,Scoring!$F$4:$Z$4,0),MAX(Criteria!$M:$M),)))","v":""},{"$f":"IF($C63=\"\",\"\",SUM(OFFSET('General Calc'!$F$26,MATCH($D63,'General Calc'!$E$26:$E$112,0),MATCH($C63,'General Calc'!$G$26:$Z$26,0),MAX(Criteria!$M:$M),1)*OFFSET(Scoring!$E$4,1,MATCH(O$4,Scoring!$F$4:$Z$4,0),MAX(Criteria!$M:$M),)))","v":""},{"$f":"IF($C63=\"\",\"\",SUM(OFFSET('General Calc'!$F$26,MATCH($D63,'General Calc'!$E$26:$E$112,0),MATCH($C63,'General Calc'!$G$26:$Z$26,0),MAX(Criteria!$M:$M),1)*OFFSET(Scoring!$E$4,1,MATCH(P$4,Scoring!$F$4:$Z$4,0),MAX(Criteria!$M:$M),)))","v":""},{"$f":"IF($C63=\"\",\"\",SUM(OFFSET('General Calc'!$F$26,MATCH($D63,'General Calc'!$E$26:$E$112,0),MATCH($C63,'General Calc'!$G$26:$Z$26,0),MAX(Criteria!$M:$M),1)*OFFSET(Scoring!$E$4,1,MATCH(Q$4,Scoring!$F$4:$Z$4,0),MAX(Criteria!$M:$M),)))","v":""},{"$f":"IF($C63=\"\",\"\",SUM(OFFSET('General Calc'!$F$26,MATCH($D63,'General Calc'!$E$26:$E$112,0),MATCH($C63,'General Calc'!$G$26:$Z$26,0),MAX(Criteria!$M:$M),1)*OFFSET(Scoring!$E$4,1,MATCH(R$4,Scoring!$F$4:$Z$4,0),MAX(Criteria!$M:$M),)))","v":""},{"$f":"IF($C63=\"\",\"\",SUM(OFFSET('General Calc'!$F$26,MATCH($D63,'General Calc'!$E$26:$E$112,0),MATCH($C63,'General Calc'!$G$26:$Z$26,0),MAX(Criteria!$M:$M),1)*OFFSET(Scoring!$E$4,1,MATCH(S$4,Scoring!$F$4:$Z$4,0),MAX(Criteria!$M:$M),)))","v":""},{"$f":"IF($C63=\"\",\"\",SUM(OFFSET('General Calc'!$F$26,MATCH($D63,'General Calc'!$E$26:$E$112,0),MATCH($C63,'General Calc'!$G$26:$Z$26,0),MAX(Criteria!$M:$M),1)*OFFSET(Scoring!$E$4,1,MATCH(T$4,Scoring!$F$4:$Z$4,0),MAX(Criteria!$M:$M),)))","v":""},{"$f":"IF($C63=\"\",\"\",SUM(OFFSET('General Calc'!$F$26,MATCH($D63,'General Calc'!$E$26:$E$112,0),MATCH($C63,'General Calc'!$G$26:$Z$26,0),MAX(Criteria!$M:$M),1)*OFFSET(Scoring!$E$4,1,MATCH(U$4,Scoring!$F$4:$Z$4,0),MAX(Criteria!$M:$M),)))","v":""},{"$f":"IF($C63=\"\",\"\",SUM(OFFSET('General Calc'!$F$26,MATCH($D63,'General Calc'!$E$26:$E$112,0),MATCH($C63,'General Calc'!$G$26:$Z$26,0),MAX(Criteria!$M:$M),1)*OFFSET(Scoring!$E$4,1,MATCH(V$4,Scoring!$F$4:$Z$4,0),MAX(Criteria!$M:$M),)))","v":""},{"$f":"IF($C63=\"\",\"\",SUM(OFFSET('General Calc'!$F$26,MATCH($D63,'General Calc'!$E$26:$E$112,0),MATCH($C63,'General Calc'!$G$26:$Z$26,0),MAX(Criteria!$M:$M),1)*OFFSET(Scoring!$E$4,1,MATCH(W$4,Scoring!$F$4:$Z$4,0),MAX(Criteria!$M:$M),)))","v":""},{"$f":"IF($C63=\"\",\"\",SUM(OFFSET('General Calc'!$F$26,MATCH($D63,'General Calc'!$E$26:$E$112,0),MATCH($C63,'General Calc'!$G$26:$Z$26,0),MAX(Criteria!$M:$M),1)*OFFSET(Scoring!$E$4,1,MATCH(X$4,Scoring!$F$4:$Z$4,0),MAX(Criteria!$M:$M),)))","v":""},{"$f":"IF($C63=\"\",\"\",SUM(OFFSET('General Calc'!$F$26,MATCH($D63,'General Calc'!$E$26:$E$112,0),MATCH($C63,'General Calc'!$G$26:$Z$26,0),MAX(Criteria!$M:$M),1)*OFFSET(Scoring!$E$4,1,MATCH(Y$4,Scoring!$F$4:$Z$4,0),MAX(Criteria!$M:$M),)))","v":""},"",""]
[null,20,{"$f":"IF(INDEX('Selected Criteria'!$E$6:$E$25,$B64)=0,\"\",INDEX('Selected Criteria'!$E$6:$E$25,$B64))","v":""},"",{"$f":"IF($C64=\"\",\"\",SUM(OFFSET('General Calc'!$F$26,MATCH($D64,'General Calc'!$E$26:$E$112,0),MATCH($C64,'General Calc'!$G$26:$Z$26,0),MAX(Criteria!$M:$M),1)*OFFSET(Scoring!$E$4,1,MATCH(E$4,Scoring!$F$4:$N$4,0),MAX(Criteria!$M:$M),)))","v":""},{"$f":"IF($C64=\"\",\"\",SUM(OFFSET('General Calc'!$F$26,MATCH($D64,'General Calc'!$E$26:$E$112,0),MATCH($C64,'General Calc'!$G$26:$Z$26,0),MAX(Criteria!$M:$M),1)*OFFSET(Scoring!$E$4,1,MATCH(F$4,Scoring!$F$4:$Z$4,0),MAX(Criteria!$M:$M),)))","v":""},{"$f":"IF($C64=\"\",\"\",SUM(OFFSET('General Calc'!$F$26,MATCH($D64,'General Calc'!$E$26:$E$112,0),MATCH($C64,'General Calc'!$G$26:$Z$26,0),MAX(Criteria!$M:$M),1)*OFFSET(Scoring!$E$4,1,MATCH(G$4,Scoring!$F$4:$N$4,0),MAX(Criteria!$M:$M),)))","v":""},{"$f":"IF($C64=\"\",\"\",SUM(OFFSET('General Calc'!$F$26,MATCH($D64,'General Calc'!$E$26:$E$112,0),MATCH($C64,'General Calc'!$G$26:$Z$26,0),MAX(Criteria!$M:$M),1)*OFFSET(Scoring!$E$4,1,MATCH(H$4,Scoring!$F$4:$N$4,0),MAX(Criteria!$M:$M),)))","v":""},{"$f":"IF($C64=\"\",\"\",SUM(OFFSET('General Calc'!$F$26,MATCH($D64,'General Calc'!$E$26:$E$112,0),MATCH($C64,'General Calc'!$G$26:$Z$26,0),MAX(Criteria!$M:$M),1)*OFFSET(Scoring!$E$4,1,MATCH(I$4,Scoring!$F$4:$N$4,0),MAX(Criteria!$M:$M),)))","v":""},{"$f":"IF($C64=\"\",\"\",SUM(OFFSET('General Calc'!$F$26,MATCH($D64,'General Calc'!$E$26:$E$112,0),MATCH($C64,'General Calc'!$G$26:$Z$26,0),MAX(Criteria!$M:$M),1)*OFFSET(Scoring!$E$4,1,MATCH(J$4,Scoring!$F$4:$N$4,0),MAX(Criteria!$M:$M),)))","v":""},{"$f":"IF($C64=\"\",\"\",SUM(OFFSET('General Calc'!$F$26,MATCH($D64,'General Calc'!$E$26:$E$112,0),MATCH($C64,'General Calc'!$G$26:$Z$26,0),MAX(Criteria!$M:$M),1)*OFFSET(Scoring!$E$4,1,MATCH(K$4,Scoring!$F$4:$N$4,0),MAX(Criteria!$M:$M),)))","v":""},{"$f":"IF($C64=\"\",\"\",SUM(OFFSET('General Calc'!$F$26,MATCH($D64,'General Calc'!$E$26:$E$112,0),MATCH($C64,'General Calc'!$G$26:$Z$26,0),MAX(Criteria!$M:$M),1)*OFFSET(Scoring!$E$4,1,MATCH(L$4,Scoring!$F$4:$N$4,0),MAX(Criteria!$M:$M),)))","v":""},{"$f":"IF($C64=\"\",\"\",SUM(OFFSET('General Calc'!$F$26,MATCH($D64,'General Calc'!$E$26:$E$112,0),MATCH($C64,'General Calc'!$G$26:$Z$26,0),MAX(Criteria!$M:$M),1)*OFFSET(Scoring!$E$4,1,MATCH(M$4,Scoring!$F$4:$N$4,0),MAX(Criteria!$M:$M),)))","v":""},{"$f":"IF($C64=\"\",\"\",SUM(OFFSET('General Calc'!$F$26,MATCH($D64,'General Calc'!$E$26:$E$112,0),MATCH($C64,'General Calc'!$G$26:$Z$26,0),MAX(Criteria!$M:$M),1)*OFFSET(Scoring!$E$4,1,MATCH(N$4,Scoring!$F$4:$Z$4,0),MAX(Criteria!$M:$M),)))","v":""},{"$f":"IF($C64=\"\",\"\",SUM(OFFSET('General Calc'!$F$26,MATCH($D64,'General Calc'!$E$26:$E$112,0),MATCH($C64,'General Calc'!$G$26:$Z$26,0),MAX(Criteria!$M:$M),1)*OFFSET(Scoring!$E$4,1,MATCH(O$4,Scoring!$F$4:$Z$4,0),MAX(Criteria!$M:$M),)))","v":""},{"$f":"IF($C64=\"\",\"\",SUM(OFFSET('General Calc'!$F$26,MATCH($D64,'General Calc'!$E$26:$E$112,0),MATCH($C64,'General Calc'!$G$26:$Z$26,0),MAX(Criteria!$M:$M),1)*OFFSET(Scoring!$E$4,1,MATCH(P$4,Scoring!$F$4:$Z$4,0),MAX(Criteria!$M:$M),)))","v":""},{"$f":"IF($C64=\"\",\"\",SUM(OFFSET('General Calc'!$F$26,MATCH($D64,'General Calc'!$E$26:$E$112,0),MATCH($C64,'General Calc'!$G$26:$Z$26,0),MAX(Criteria!$M:$M),1)*OFFSET(Scoring!$E$4,1,MATCH(Q$4,Scoring!$F$4:$Z$4,0),MAX(Criteria!$M:$M),)))","v":""},{"$f":"IF($C64=\"\",\"\",SUM(OFFSET('General Calc'!$F$26,MATCH($D64,'General Calc'!$E$26:$E$112,0),MATCH($C64,'General Calc'!$G$26:$Z$26,0),MAX(Criteria!$M:$M),1)*OFFSET(Scoring!$E$4,1,MATCH(R$4,Scoring!$F$4:$Z$4,0),MAX(Criteria!$M:$M),)))","v":""},{"$f":"IF($C64=\"\",\"\",SUM(OFFSET('General Calc'!$F$26,MATCH($D64,'General Calc'!$E$26:$E$112,0),MATCH($C64,'General Calc'!$G$26:$Z$26,0),MAX(Criteria!$M:$M),1)*OFFSET(Scoring!$E$4,1,MATCH(S$4,Scoring!$F$4:$Z$4,0),MAX(Criteria!$M:$M),)))","v":""},{"$f":"IF($C64=\"\",\"\",SUM(OFFSET('General Calc'!$F$26,MATCH($D64,'General Calc'!$E$26:$E$112,0),MATCH($C64,'General Calc'!$G$26:$Z$26,0),MAX(Criteria!$M:$M),1)*OFFSET(Scoring!$E$4,1,MATCH(T$4,Scoring!$F$4:$Z$4,0),MAX(Criteria!$M:$M),)))","v":""},{"$f":"IF($C64=\"\",\"\",SUM(OFFSET('General Calc'!$F$26,MATCH($D64,'General Calc'!$E$26:$E$112,0),MATCH($C64,'General Calc'!$G$26:$Z$26,0),MAX(Criteria!$M:$M),1)*OFFSET(Scoring!$E$4,1,MATCH(U$4,Scoring!$F$4:$Z$4,0),MAX(Criteria!$M:$M),)))","v":""},{"$f":"IF($C64=\"\",\"\",SUM(OFFSET('General Calc'!$F$26,MATCH($D64,'General Calc'!$E$26:$E$112,0),MATCH($C64,'General Calc'!$G$26:$Z$26,0),MAX(Criteria!$M:$M),1)*OFFSET(Scoring!$E$4,1,MATCH(V$4,Scoring!$F$4:$Z$4,0),MAX(Criteria!$M:$M),)))","v":""},{"$f":"IF($C64=\"\",\"\",SUM(OFFSET('General Calc'!$F$26,MATCH($D64,'General Calc'!$E$26:$E$112,0),MATCH($C64,'General Calc'!$G$26:$Z$26,0),MAX(Criteria!$M:$M),1)*OFFSET(Scoring!$E$4,1,MATCH(W$4,Scoring!$F$4:$Z$4,0),MAX(Criteria!$M:$M),)))","v":""},{"$f":"IF($C64=\"\",\"\",SUM(OFFSET('General Calc'!$F$26,MATCH($D64,'General Calc'!$E$26:$E$112,0),MATCH($C64,'General Calc'!$G$26:$Z$26,0),MAX(Criteria!$M:$M),1)*OFFSET(Scoring!$E$4,1,MATCH(X$4,Scoring!$F$4:$Z$4,0),MAX(Criteria!$M:$M),)))","v":""},{"$f":"IF($C64=\"\",\"\",SUM(OFFSET('General Calc'!$F$26,MATCH($D64,'General Calc'!$E$26:$E$112,0),MATCH($C64,'General Calc'!$G$26:$Z$26,0),MAX(Criteria!$M:$M),1)*OFFSET(Scoring!$E$4,1,MATCH(Y$4,Scoring!$F$4:$Z$4,0),MAX(Criteria!$M:$M),)))","v":""},"",""]
[null,1,{"$f":"IF(INDEX('Selected Criteria'!$E$6:$E$25,$B65)=0,\"\",INDEX('Selected Criteria'!$E$6:$E$25,$B65))","v":""},{"$f":"IF($C65=\"\",\"\",50%)","v":""},{"$f":"IF($C65=\"\",\"\",SUM(OFFSET('General Calc'!$F$26,MATCH($D65,'General Calc'!$E$26:$E$112,0),MATCH($C65,'General Calc'!$G$26:$Z$26,0),MAX(Criteria!$M:$M),1)*OFFSET(Scoring!$E$4,1,MATCH(E$4,Scoring!$F$4:$Z$4,0),MAX(Criteria!$M:$M),)))","v":""},{"$f":"IF($C65=\"\",\"\",SUM(OFFSET('General Calc'!$F$26,MATCH($D65,'General Calc'!$E$26:$E$112,0),MATCH($C65,'General Calc'!$G$26:$Z$26,0),MAX(Criteria!$M:$M),1)*OFFSET(Scoring!$E$4,1,MATCH(F$4,Scoring!$F$4:$Z$4,0),MAX(Criteria!$M:$M),)))","v":""},{"$f":"IF($C65=\"\",\"\",SUM(OFFSET('General Calc'!$F$26,MATCH($D65,'General Calc'!$E$26:$E$112,0),MATCH($C65,'General Calc'!$G$26:$Z$26,0),MAX(Criteria!$M:$M),1)*OFFSET(Scoring!$E$4,1,MATCH(G$4,Scoring!$F$4:$Z$4,0),MAX(Criteria!$M:$M),)))","v":""},{"$f":"IF($C65=\"\",\"\",SUM(OFFSET('General Calc'!$F$26,MATCH($D65,'General Calc'!$E$26:$E$112,0),MATCH($C65,'General Calc'!$G$26:$Z$26,0),MAX(Criteria!$M:$M),1)*OFFSET(Scoring!$E$4,1,MATCH(H$4,Scoring!$F$4:$Z$4,0),MAX(Criteria!$M:$M),)))","v":""},{"$f":"IF($C65=\"\",\"\",SUM(OFFSET('General Calc'!$F$26,MATCH($D65,'General Calc'!$E$26:$E$112,0),MATCH($C65,'General Calc'!$G$26:$Z$26,0),MAX(Criteria!$M:$M),1)*OFFSET(Scoring!$E$4,1,MATCH(I$4,Scoring!$F$4:$Z$4,0),MAX(Criteria!$M:$M),)))","v":""},{"$f":"IF($C65=\"\",\"\",SUM(OFFSET('General Calc'!$F$26,MATCH($D65,'General Calc'!$E$26:$E$112,0),MATCH($C65,'General Calc'!$G$26:$Z$26,0),MAX(Criteria!$M:$M),1)*OFFSET(Scoring!$E$4,1,MATCH(J$4,Scoring!$F$4:$Z$4,0),MAX(Criteria!$M:$M),)))","v":""},{"$f":"IF($C65=\"\",\"\",SUM(OFFSET('General Calc'!$F$26,MATCH($D65,'General Calc'!$E$26:$E$112,0),MATCH($C65,'General Calc'!$G$26:$Z$26,0),MAX(Criteria!$M:$M),1)*OFFSET(Scoring!$E$4,1,MATCH(K$4,Scoring!$F$4:$Z$4,0),MAX(Criteria!$M:$M),)))","v":""},{"$f":"IF($C65=\"\",\"\",SUM(OFFSET('General Calc'!$F$26,MATCH($D65,'General Calc'!$E$26:$E$112,0),MATCH($C65,'General Calc'!$G$26:$Z$26,0),MAX(Criteria!$M:$M),1)*OFFSET(Scoring!$E$4,1,MATCH(L$4,Scoring!$F$4:$Z$4,0),MAX(Criteria!$M:$M),)))","v":""},{"$f":"IF($C65=\"\",\"\",SUM(OFFSET('General Calc'!$F$26,MATCH($D65,'General Calc'!$E$26:$E$112,0),MATCH($C65,'General Calc'!$G$26:$Z$26,0),MAX(Criteria!$M:$M),1)*OFFSET(Scoring!$E$4,1,MATCH(M$4,Scoring!$F$4:$Z$4,0),MAX(Criteria!$M:$M),)))","v":""},{"$f":"IF($C65=\"\",\"\",SUM(OFFSET('General Calc'!$F$26,MATCH($D65,'General Calc'!$E$26:$E$112,0),MATCH($C65,'General Calc'!$G$26:$Z$26,0),MAX(Criteria!$M:$M),1)*OFFSET(Scoring!$E$4,1,MATCH(N$4,Scoring!$F$4:$Z$4,0),MAX(Criteria!$M:$M),)))","v":""},{"$f":"IF($C65=\"\",\"\",SUM(OFFSET('General Calc'!$F$26,MATCH($D65,'General Calc'!$E$26:$E$112,0),MATCH($C65,'General Calc'!$G$26:$Z$26,0),MAX(Criteria!$M:$M),1)*OFFSET(Scoring!$E$4,1,MATCH(O$4,Scoring!$F$4:$Z$4,0),MAX(Criteria!$M:$M),)))","v":""},{"$f":"IF($C65=\"\",\"\",SUM(OFFSET('General Calc'!$F$26,MATCH($D65,'General Calc'!$E$26:$E$112,0),MATCH($C65,'General Calc'!$G$26:$Z$26,0),MAX(Criteria!$M:$M),1)*OFFSET(Scoring!$E$4,1,MATCH(P$4,Scoring!$F$4:$Z$4,0),MAX(Criteria!$M:$M),)))","v":""},{"$f":"IF($C65=\"\",\"\",SUM(OFFSET('General Calc'!$F$26,MATCH($D65,'General Calc'!$E$26:$E$112,0),MATCH($C65,'General Calc'!$G$26:$Z$26,0),MAX(Criteria!$M:$M),1)*OFFSET(Scoring!$E$4,1,MATCH(Q$4,Scoring!$F$4:$Z$4,0),MAX(Criteria!$M:$M),)))","v":""},{"$f":"IF($C65=\"\",\"\",SUM(OFFSET('General Calc'!$F$26,MATCH($D65,'General Calc'!$E$26:$E$112,0),MATCH($C65,'General Calc'!$G$26:$Z$26,0),MAX(Criteria!$M:$M),1)*OFFSET(Scoring!$E$4,1,MATCH(R$4,Scoring!$F$4:$Z$4,0),MAX(Criteria!$M:$M),)))","v":""},{"$f":"IF($C65=\"\",\"\",SUM(OFFSET('General Calc'!$F$26,MATCH($D65,'General Calc'!$E$26:$E$112,0),MATCH($C65,'General Calc'!$G$26:$Z$26,0),MAX(Criteria!$M:$M),1)*OFFSET(Scoring!$E$4,1,MATCH(S$4,Scoring!$F$4:$Z$4,0),MAX(Criteria!$M:$M),)))","v":""},{"$f":"IF($C65=\"\",\"\",SUM(OFFSET('General Calc'!$F$26,MATCH($D65,'General Calc'!$E$26:$E$112,0),MATCH($C65,'General Calc'!$G$26:$Z$26,0),MAX(Criteria!$M:$M),1)*OFFSET(Scoring!$E$4,1,MATCH(T$4,Scoring!$F$4:$Z$4,0),MAX(Criteria!$M:$M),)))","v":""},{"$f":"IF($C65=\"\",\"\",SUM(OFFSET('General Calc'!$F$26,MATCH($D65,'General Calc'!$E$26:$E$112,0),MATCH($C65,'General Calc'!$G$26:$Z$26,0),MAX(Criteria!$M:$M),1)*OFFSET(Scoring!$E$4,1,MATCH(U$4,Scoring!$F$4:$Z$4,0),MAX(Criteria!$M:$M),)))","v":""},{"$f":"IF($C65=\"\",\"\",SUM(OFFSET('General Calc'!$F$26,MATCH($D65,'General Calc'!$E$26:$E$112,0),MATCH($C65,'General Calc'!$G$26:$Z$26,0),MAX(Criteria!$M:$M),1)*OFFSET(Scoring!$E$4,1,MATCH(V$4,Scoring!$F$4:$Z$4,0),MAX(Criteria!$M:$M),)))","v":""},{"$f":"IF($C65=\"\",\"\",SUM(OFFSET('General Calc'!$F$26,MATCH($D65,'General Calc'!$E$26:$E$112,0),MATCH($C65,'General Calc'!$G$26:$Z$26,0),MAX(Criteria!$M:$M),1)*OFFSET(Scoring!$E$4,1,MATCH(W$4,Scoring!$F$4:$Z$4,0),MAX(Criteria!$M:$M),)))","v":""},{"$f":"IF($C65=\"\",\"\",SUM(OFFSET('General Calc'!$F$26,MATCH($D65,'General Calc'!$E$26:$E$112,0),MATCH($C65,'General Calc'!$G$26:$Z$26,0),MAX(Criteria!$M:$M),1)*OFFSET(Scoring!$E$4,1,MATCH(X$4,Scoring!$F$4:$Z$4,0),MAX(Criteria!$M:$M),)))","v":""},{"$f":"IF($C65=\"\",\"\",SUM(OFFSET('General Calc'!$F$26,MATCH($D65,'General Calc'!$E$26:$E$112,0),MATCH($C65,'General Calc'!$G$26:$Z$26,0),MAX(Criteria!$M:$M),1)*OFFSET(Scoring!$E$4,1,MATCH(Y$4,Scoring!$F$4:$Z$4,0),MAX(Criteria!$M:$M),)))","v":""},"",{"$f":"IF($C65=\"\",\"\",INDEX($E$4:$Y$4,MATCH(MAX($E65:$Y65),$E65:$Y65,0)))","v":""}]
[null,2,{"$f":"IF(INDEX('Selected Criteria'!$E$6:$E$25,$B66)=0,\"\",INDEX('Selected Criteria'!$E$6:$E$25,$B66))","v":""},{"$f":"IF($C66=\"\",\"\",50%)","v":""},{"$f":"IF($C66=\"\",\"\",SUM(OFFSET('General Calc'!$F$26,MATCH($D66,'General Calc'!$E$26:$E$112,0),MATCH($C66,'General Calc'!$G$26:$Z$26,0),MAX(Criteria!$M:$M),1)*OFFSET(Scoring!$E$4,1,MATCH(E$4,Scoring!$F$4:$Z$4,0),MAX(Criteria!$M:$M),)))","v":""},{"$f":"IF($C66=\"\",\"\",SUM(OFFSET('General Calc'!$F$26,MATCH($D66,'General Calc'!$E$26:$E$112,0),MATCH($C66,'General Calc'!$G$26:$Z$26,0),MAX(Criteria!$M:$M),1)*OFFSET(Scoring!$E$4,1,MATCH(F$4,Scoring!$F$4:$Z$4,0),MAX(Criteria!$M:$M),)))","v":""},{"$f":"IF($C66=\"\",\"\",SUM(OFFSET('General Calc'!$F$26,MATCH($D66,'General Calc'!$E$26:$E$112,0),MATCH($C66,'General Calc'!$G$26:$Z$26,0),MAX(Criteria!$M:$M),1)*OFFSET(Scoring!$E$4,1,MATCH(G$4,Scoring!$F$4:$Z$4,0),MAX(Criteria!$M:$M),)))","v":""},{"$f":"IF($C66=\"\",\"\",SUM(OFFSET('General Calc'!$F$26,MATCH($D66,'General Calc'!$E$26:$E$112,0),MATCH($C66,'General Calc'!$G$26:$Z$26,0),MAX(Criteria!$M:$M),1)*OFFSET(Scoring!$E$4,1,MATCH(H$4,Scoring!$F$4:$Z$4,0),MAX(Criteria!$M:$M),)))","v":""},{"$f":"IF($C66=\"\",\"\",SUM(OFFSET('General Calc'!$F$26,MATCH($D66,'General Calc'!$E$26:$E$112,0),MATCH($C66,'General Calc'!$G$26:$Z$26,0),MAX(Criteria!$M:$M),1)*OFFSET(Scoring!$E$4,1,MATCH(I$4,Scoring!$F$4:$Z$4,0),MAX(Criteria!$M:$M),)))","v":""},{"$f":"IF($C66=\"\",\"\",SUM(OFFSET('General Calc'!$F$26,MATCH($D66,'General Calc'!$E$26:$E$112,0),MATCH($C66,'General Calc'!$G$26:$Z$26,0),MAX(Criteria!$M:$M),1)*OFFSET(Scoring!$E$4,1,MATCH(J$4,Scoring!$F$4:$Z$4,0),MAX(Criteria!$M:$M),)))","v":""},{"$f":"IF($C66=\"\",\"\",SUM(OFFSET('General Calc'!$F$26,MATCH($D66,'General Calc'!$E$26:$E$112,0),MATCH($C66,'General Calc'!$G$26:$Z$26,0),MAX(Criteria!$M:$M),1)*OFFSET(Scoring!$E$4,1,MATCH(K$4,Scoring!$F$4:$Z$4,0),MAX(Criteria!$M:$M),)))","v":""},{"$f":"IF($C66=\"\",\"\",SUM(OFFSET('General Calc'!$F$26,MATCH($D66,'General Calc'!$E$26:$E$112,0),MATCH($C66,'General Calc'!$G$26:$Z$26,0),MAX(Criteria!$M:$M),1)*OFFSET(Scoring!$E$4,1,MATCH(L$4,Scoring!$F$4:$Z$4,0),MAX(Criteria!$M:$M),)))","v":""},{"$f":"IF($C66=\"\",\"\",SUM(OFFSET('General Calc'!$F$26,MATCH($D66,'General Calc'!$E$26:$E$112,0),MATCH($C66,'General Calc'!$G$26:$Z$26,0),MAX(Criteria!$M:$M),1)*OFFSET(Scoring!$E$4,1,MATCH(M$4,Scoring!$F$4:$Z$4,0),MAX(Criteria!$M:$M),)))","v":""},{"$f":"IF($C66=\"\",\"\",SUM(OFFSET('General Calc'!$F$26,MATCH($D66,'General Calc'!$E$26:$E$112,0),MATCH($C66,'General Calc'!$G$26:$Z$26,0),MAX(Criteria!$M:$M),1)*OFFSET(Scoring!$E$4,1,MATCH(N$4,Scoring!$F$4:$Z$4,0),MAX(Criteria!$M:$M),)))","v":""},{"$f":"IF($C66=\"\",\"\",SUM(OFFSET('General Calc'!$F$26,MATCH($D66,'General Calc'!$E$26:$E$112,0),MATCH($C66,'General Calc'!$G$26:$Z$26,0),MAX(Criteria!$M:$M),1)*OFFSET(Scoring!$E$4,1,MATCH(O$4,Scoring!$F$4:$Z$4,0),MAX(Criteria!$M:$M),)))","v":""},{"$f":"IF($C66=\"\",\"\",SUM(OFFSET('General Calc'!$F$26,MATCH($D66,'General Calc'!$E$26:$E$112,0),MATCH($C66,'General Calc'!$G$26:$Z$26,0),MAX(Criteria!$M:$M),1)*OFFSET(Scoring!$E$4,1,MATCH(P$4,Scoring!$F$4:$Z$4,0),MAX(Criteria!$M:$M),)))","v":""},{"$f":"IF($C66=\"\",\"\",SUM(OFFSET('General Calc'!$F$26,MATCH($D66,'General Calc'!$E$26:$E$112,0),MATCH($C66,'General Calc'!$G$26:$Z$26,0),MAX(Criteria!$M:$M),1)*OFFSET(Scoring!$E$4,1,MATCH(Q$4,Scoring!$F$4:$Z$4,0),MAX(Criteria!$M:$M),)))","v":""},{"$f":"IF($C66=\"\",\"\",SUM(OFFSET('General Calc'!$F$26,MATCH($D66,'General Calc'!$E$26:$E$112,0),MATCH($C66,'General Calc'!$G$26:$Z$26,0),MAX(Criteria!$M:$M),1)*OFFSET(Scoring!$E$4,1,MATCH(R$4,Scoring!$F$4:$Z$4,0),MAX(Criteria!$M:$M),)))","v":""},{"$f":"IF($C66=\"\",\"\",SUM(OFFSET('General Calc'!$F$26,MATCH($D66,'General Calc'!$E$26:$E$112,0),MATCH($C66,'General Calc'!$G$26:$Z$26,0),MAX(Criteria!$M:$M),1)*OFFSET(Scoring!$E$4,1,MATCH(S$4,Scoring!$F$4:$Z$4,0),MAX(Criteria!$M:$M),)))","v":""},{"$f":"IF($C66=\"\",\"\",SUM(OFFSET('General Calc'!$F$26,MATCH($D66,'General Calc'!$E$26:$E$112,0),MATCH($C66,'General Calc'!$G$26:$Z$26,0),MAX(Criteria!$M:$M),1)*OFFSET(Scoring!$E$4,1,MATCH(T$4,Scoring!$F$4:$Z$4,0),MAX(Criteria!$M:$M),)))","v":""},{"$f":"IF($C66=\"\",\"\",SUM(OFFSET('General Calc'!$F$26,MATCH($D66,'General Calc'!$E$26:$E$112,0),MATCH($C66,'General Calc'!$G$26:$Z$26,0),MAX(Criteria!$M:$M),1)*OFFSET(Scoring!$E$4,1,MATCH(U$4,Scoring!$F$4:$Z$4,0),MAX(Criteria!$M:$M),)))","v":""},{"$f":"IF($C66=\"\",\"\",SUM(OFFSET('General Calc'!$F$26,MATCH($D66,'General Calc'!$E$26:$E$112,0),MATCH($C66,'General Calc'!$G$26:$Z$26,0),MAX(Criteria!$M:$M),1)*OFFSET(Scoring!$E$4,1,MATCH(V$4,Scoring!$F$4:$Z$4,0),MAX(Criteria!$M:$M),)))","v":""},{"$f":"IF($C66=\"\",\"\",SUM(OFFSET('General Calc'!$F$26,MATCH($D66,'General Calc'!$E$26:$E$112,0),MATCH($C66,'General Calc'!$G$26:$Z$26,0),MAX(Criteria!$M:$M),1)*OFFSET(Scoring!$E$4,1,MATCH(W$4,Scoring!$F$4:$Z$4,0),MAX(Criteria!$M:$M),)))","v":""},{"$f":"IF($C66=\"\",\"\",SUM(OFFSET('General Calc'!$F$26,MATCH($D66,'General Calc'!$E$26:$E$112,0),MATCH($C66,'General Calc'!$G$26:$Z$26,0),MAX(Criteria!$M:$M),1)*OFFSET(Scoring!$E$4,1,MATCH(X$4,Scoring!$F$4:$Z$4,0),MAX(Criteria!$M:$M),)))","v":""},{"$f":"IF($C66=\"\",\"\",SUM(OFFSET('General Calc'!$F$26,MATCH($D66,'General Calc'!$E$26:$E$112,0),MATCH($C66,'General Calc'!$G$26:$Z$26,0),MAX(Criteria!$M:$M),1)*OFFSET(Scoring!$E$4,1,MATCH(Y$4,Scoring!$F$4:$Z$4,0),MAX(Criteria!$M:$M),)))","v":""},"",{"$f":"IF($C66=\"\",\"\",INDEX($E$4:$Y$4,MATCH(MAX($E66:$Y66),$E66:$Y66,0)))","v":""}]
[null,3,{"$f":"IF(INDEX('Selected Criteria'!$E$6:$E$25,$B67)=0,\"\",INDEX('Selected Criteria'!$E$6:$E$25,$B67))","v":""},"",{"$f":"IF($C67=\"\",\"\",SUM(OFFSET('General Calc'!$F$26,MATCH($D67,'General Calc'!$E$26:$E$112,0),MATCH($C67,'General Calc'!$G$26:$Z$26,0),MAX(Criteria!$M:$M),1)*OFFSET(Scoring!$E$4,1,MATCH(E$4,Scoring!$F$4:$Z$4,0),MAX(Criteria!$M:$M),)))","v":""},{"$f":"IF($C67=\"\",\"\",SUM(OFFSET('General Calc'!$F$26,MATCH($D67,'General Calc'!$E$26:$E$112,0),MATCH($C67,'General Calc'!$G$26:$Z$26,0),MAX(Criteria!$M:$M),1)*OFFSET(Scoring!$E$4,1,MATCH(F$4,Scoring!$F$4:$Z$4,0),MAX(Criteria!$M:$M),)))","v":""},{"$f":"IF($C67=\"\",\"\",SUM(OFFSET('General Calc'!$F$26,MATCH($D67,'General Calc'!$E$26:$E$112,0),MATCH($C67,'General Calc'!$G$26:$Z$26,0),MAX(Criteria!$M:$M),1)*OFFSET(Scoring!$E$4,1,MATCH(G$4,Scoring!$F$4:$Z$4,0),MAX(Criteria!$M:$M),)))","v":""},{"$f":"IF($C67=\"\",\"\",SUM(OFFSET('General Calc'!$F$26,MATCH($D67,'General Calc'!$E$26:$E$112,0),MATCH($C67,'General Calc'!$G$26:$Z$26,0),MAX(Criteria!$M:$M),1)*OFFSET(Scoring!$E$4,1,MATCH(H$4,Scoring!$F$4:$Z$4,0),MAX(Criteria!$M:$M),)))","v":""},{"$f":"IF($C67=\"\",\"\",SUM(OFFSET('General Calc'!$F$26,MATCH($D67,'General Calc'!$E$26:$E$112,0),MATCH($C67,'General Calc'!$G$26:$Z$26,0),MAX(Criteria!$M:$M),1)*OFFSET(Scoring!$E$4,1,MATCH(I$4,Scoring!$F$4:$Z$4,0),MAX(Criteria!$M:$M),)))","v":""},{"$f":"IF($C67=\"\",\"\",SUM(OFFSET('General Calc'!$F$26,MATCH($D67,'General Calc'!$E$26:$E$112,0),MATCH($C67,'General Calc'!$G$26:$Z$26,0),MAX(Criteria!$M:$M),1)*OFFSET(Scoring!$E$4,1,MATCH(J$4,Scoring!$F$4:$Z$4,0),MAX(Criteria!$M:$M),)))","v":""},{"$f":"IF($C67=\"\",\"\",SUM(OFFSET('General Calc'!$F$26,MATCH($D67,'General Calc'!$E$26:$E$112,0),MATCH($C67,'General Calc'!$G$26:$Z$26,0),MAX(Criteria!$M:$M),1)*OFFSET(Scoring!$E$4,1,MATCH(K$4,Scoring!$F$4:$Z$4,0),MAX(Criteria!$M:$M),)))","v":""},{"$f":"IF($C67=\"\",\"\",SUM(OFFSET('General Calc'!$F$26,MATCH($D67,'General Calc'!$E$26:$E$112,0),MATCH($C67,'General Calc'!$G$26:$Z$26,0),MAX(Criteria!$M:$M),1)*OFFSET(Scoring!$E$4,1,MATCH(L$4,Scoring!$F$4:$Z$4,0),MAX(Criteria!$M:$M),)))","v":""},{"$f":"IF($C67=\"\",\"\",SUM(OFFSET('General Calc'!$F$26,MATCH($D67,'General Calc'!$E$26:$E$112,0),MATCH($C67,'General Calc'!$G$26:$Z$26,0),MAX(Criteria!$M:$M),1)*OFFSET(Scoring!$E$4,1,MATCH(M$4,Scoring!$F$4:$Z$4,0),MAX(Criteria!$M:$M),)))","v":""},{"$f":"IF($C67=\"\",\"\",SUM(OFFSET('General Calc'!$F$26,MATCH($D67,'General Calc'!$E$26:$E$112,0),MATCH($C67,'General Calc'!$G$26:$Z$26,0),MAX(Criteria!$M:$M),1)*OFFSET(Scoring!$E$4,1,MATCH(N$4,Scoring!$F$4:$Z$4,0),MAX(Criteria!$M:$M),)))","v":""},{"$f":"IF($C67=\"\",\"\",SUM(OFFSET('General Calc'!$F$26,MATCH($D67,'General Calc'!$E$26:$E$112,0),MATCH($C67,'General Calc'!$G$26:$Z$26,0),MAX(Criteria!$M:$M),1)*OFFSET(Scoring!$E$4,1,MATCH(O$4,Scoring!$F$4:$Z$4,0),MAX(Criteria!$M:$M),)))","v":""},{"$f":"IF($C67=\"\",\"\",SUM(OFFSET('General Calc'!$F$26,MATCH($D67,'General Calc'!$E$26:$E$112,0),MATCH($C67,'General Calc'!$G$26:$Z$26,0),MAX(Criteria!$M:$M),1)*OFFSET(Scoring!$E$4,1,MATCH(P$4,Scoring!$F$4:$Z$4,0),MAX(Criteria!$M:$M),)))","v":""},{"$f":"IF($C67=\"\",\"\",SUM(OFFSET('General Calc'!$F$26,MATCH($D67,'General Calc'!$E$26:$E$112,0),MATCH($C67,'General Calc'!$G$26:$Z$26,0),MAX(Criteria!$M:$M),1)*OFFSET(Scoring!$E$4,1,MATCH(Q$4,Scoring!$F$4:$Z$4,0),MAX(Criteria!$M:$M),)))","v":""},{"$f":"IF($C67=\"\",\"\",SUM(OFFSET('General Calc'!$F$26,MATCH($D67,'General Calc'!$E$26:$E$112,0),MATCH($C67,'General Calc'!$G$26:$Z$26,0),MAX(Criteria!$M:$M),1)*OFFSET(Scoring!$E$4,1,MATCH(R$4,Scoring!$F$4:$Z$4,0),MAX(Criteria!$M:$M),)))","v":""},{"$f":"IF($C67=\"\",\"\",SUM(OFFSET('General Calc'!$F$26,MATCH($D67,'General Calc'!$E$26:$E$112,0),MATCH($C67,'General Calc'!$G$26:$Z$26,0),MAX(Criteria!$M:$M),1)*OFFSET(Scoring!$E$4,1,MATCH(S$4,Scoring!$F$4:$Z$4,0),MAX(Criteria!$M:$M),)))","v":""},{"$f":"IF($C67=\"\",\"\",SUM(OFFSET('General Calc'!$F$26,MATCH($D67,'General Calc'!$E$26:$E$112,0),MATCH($C67,'General Calc'!$G$26:$Z$26,0),MAX(Criteria!$M:$M),1)*OFFSET(Scoring!$E$4,1,MATCH(T$4,Scoring!$F$4:$Z$4,0),MAX(Criteria!$M:$M),)))","v":""},{"$f":"IF($C67=\"\",\"\",SUM(OFFSET('General Calc'!$F$26,MATCH($D67,'General Calc'!$E$26:$E$112,0),MATCH($C67,'General Calc'!$G$26:$Z$26,0),MAX(Criteria!$M:$M),1)*OFFSET(Scoring!$E$4,1,MATCH(U$4,Scoring!$F$4:$Z$4,0),MAX(Criteria!$M:$M),)))","v":""},{"$f":"IF($C67=\"\",\"\",SUM(OFFSET('General Calc'!$F$26,MATCH($D67,'General Calc'!$E$26:$E$112,0),MATCH($C67,'General Calc'!$G$26:$Z$26,0),MAX(Criteria!$M:$M),1)*OFFSET(Scoring!$E$4,1,MATCH(V$4,Scoring!$F$4:$Z$4,0),MAX(Criteria!$M:$M),)))","v":""},{"$f":"IF($C67=\"\",\"\",SUM(OFFSET('General Calc'!$F$26,MATCH($D67,'General Calc'!$E$26:$E$112,0),MATCH($C67,'General Calc'!$G$26:$Z$26,0),MAX(Criteria!$M:$M),1)*OFFSET(Scoring!$E$4,1,MATCH(W$4,Scoring!$F$4:$Z$4,0),MAX(Criteria!$M:$M),)))","v":""},{"$f":"IF($C67=\"\",\"\",SUM(OFFSET('General Calc'!$F$26,MATCH($D67,'General Calc'!$E$26:$E$112,0),MATCH($C67,'General Calc'!$G$26:$Z$26,0),MAX(Criteria!$M:$M),1)*OFFSET(Scoring!$E$4,1,MATCH(X$4,Scoring!$F$4:$Z$4,0),MAX(Criteria!$M:$M),)))","v":""},{"$f":"IF($C67=\"\",\"\",SUM(OFFSET('General Calc'!$F$26,MATCH($D67,'General Calc'!$E$26:$E$112,0),MATCH($C67,'General Calc'!$G$26:$Z$26,0),MAX(Criteria!$M:$M),1)*OFFSET(Scoring!$E$4,1,MATCH(Y$4,Scoring!$F$4:$Z$4,0),MAX(Criteria!$M:$M),)))","v":""},"",""]
[null,4,{"$f":"IF(INDEX('Selected Criteria'!$E$6:$E$25,$B68)=0,\"\",INDEX('Selected Criteria'!$E$6:$E$25,$B68))","v":""},"",{"$f":"IF($C68=\"\",\"\",SUM(OFFSET('General Calc'!$F$26,MATCH($D68,'General Calc'!$E$26:$E$112,0),MATCH($C68,'General Calc'!$G$26:$Z$26,0),MAX(Criteria!$M:$M),1)*OFFSET(Scoring!$E$4,1,MATCH(E$4,Scoring!$F$4:$Z$4,0),MAX(Criteria!$M:$M),)))","v":""},{"$f":"IF($C68=\"\",\"\",SUM(OFFSET('General Calc'!$F$26,MATCH($D68,'General Calc'!$E$26:$E$112,0),MATCH($C68,'General Calc'!$G$26:$Z$26,0),MAX(Criteria!$M:$M),1)*OFFSET(Scoring!$E$4,1,MATCH(F$4,Scoring!$F$4:$Z$4,0),MAX(Criteria!$M:$M),)))","v":""},{"$f":"IF($C68=\"\",\"\",SUM(OFFSET('General Calc'!$F$26,MATCH($D68,'General Calc'!$E$26:$E$112,0),MATCH($C68,'General Calc'!$G$26:$Z$26,0),MAX(Criteria!$M:$M),1)*OFFSET(Scoring!$E$4,1,MATCH(G$4,Scoring!$F$4:$Z$4,0),MAX(Criteria!$M:$M),)))","v":""},{"$f":"IF($C68=\"\",\"\",SUM(OFFSET('General Calc'!$F$26,MATCH($D68,'General Calc'!$E$26:$E$112,0),MATCH($C68,'General Calc'!$G$26:$Z$26,0),MAX(Criteria!$M:$M),1)*OFFSET(Scoring!$E$4,1,MATCH(H$4,Scoring!$F$4:$Z$4,0),MAX(Criteria!$M:$M),)))","v":""},{"$f":"IF($C68=\"\",\"\",SUM(OFFSET('General Calc'!$F$26,MATCH($D68,'General Calc'!$E$26:$E$112,0),MATCH($C68,'General Calc'!$G$26:$Z$26,0),MAX(Criteria!$M:$M),1)*OFFSET(Scoring!$E$4,1,MATCH(I$4,Scoring!$F$4:$Z$4,0),MAX(Criteria!$M:$M),)))","v":""},{"$f":"IF($C68=\"\",\"\",SUM(OFFSET('General Calc'!$F$26,MATCH($D68,'General Calc'!$E$26:$E$112,0),MATCH($C68,'General Calc'!$G$26:$Z$26,0),MAX(Criteria!$M:$M),1)*OFFSET(Scoring!$E$4,1,MATCH(J$4,Scoring!$F$4:$Z$4,0),MAX(Criteria!$M:$M),)))","v":""},{"$f":"IF($C68=\"\",\"\",SUM(OFFSET('General Calc'!$F$26,MATCH($D68,'General Calc'!$E$26:$E$112,0),MATCH($C68,'General Calc'!$G$26:$Z$26,0),MAX(Criteria!$M:$M),1)*OFFSET(Scoring!$E$4,1,MATCH(K$4,Scoring!$F$4:$Z$4,0),MAX(Criteria!$M:$M),)))","v":""},{"$f":"IF($C68=\"\",\"\",SUM(OFFSET('General Calc'!$F$26,MATCH($D68,'General Calc'!$E$26:$E$112,0),MATCH($C68,'General Calc'!$G$26:$Z$26,0),MAX(Criteria!$M:$M),1)*OFFSET(Scoring!$E$4,1,MATCH(L$4,Scoring!$F$4:$Z$4,0),MAX(Criteria!$M:$M),)))","v":""},{"$f":"IF($C68=\"\",\"\",SUM(OFFSET('General Calc'!$F$26,MATCH($D68,'General Calc'!$E$26:$E$112,0),MATCH($C68,'General Calc'!$G$26:$Z$26,0),MAX(Criteria!$M:$M),1)*OFFSET(Scoring!$E$4,1,MATCH(M$4,Scoring!$F$4:$Z$4,0),MAX(Criteria!$M:$M),)))","v":""},{"$f":"IF($C68=\"\",\"\",SUM(OFFSET('General Calc'!$F$26,MATCH($D68,'General Calc'!$E$26:$E$112,0),MATCH($C68,'General Calc'!$G$26:$Z$26,0),MAX(Criteria!$M:$M),1)*OFFSET(Scoring!$E$4,1,MATCH(N$4,Scoring!$F$4:$Z$4,0),MAX(Criteria!$M:$M),)))","v":""},{"$f":"IF($C68=\"\",\"\",SUM(OFFSET('General Calc'!$F$26,MATCH($D68,'General Calc'!$E$26:$E$112,0),MATCH($C68,'General Calc'!$G$26:$Z$26,0),MAX(Criteria!$M:$M),1)*OFFSET(Scoring!$E$4,1,MATCH(O$4,Scoring!$F$4:$Z$4,0),MAX(Criteria!$M:$M),)))","v":""},{"$f":"IF($C68=\"\",\"\",SUM(OFFSET('General Calc'!$F$26,MATCH($D68,'General Calc'!$E$26:$E$112,0),MATCH($C68,'General Calc'!$G$26:$Z$26,0),MAX(Criteria!$M:$M),1)*OFFSET(Scoring!$E$4,1,MATCH(P$4,Scoring!$F$4:$Z$4,0),MAX(Criteria!$M:$M),)))","v":""},{"$f":"IF($C68=\"\",\"\",SUM(OFFSET('General Calc'!$F$26,MATCH($D68,'General Calc'!$E$26:$E$112,0),MATCH($C68,'General Calc'!$G$26:$Z$26,0),MAX(Criteria!$M:$M),1)*OFFSET(Scoring!$E$4,1,MATCH(Q$4,Scoring!$F$4:$Z$4,0),MAX(Criteria!$M:$M),)))","v":""},{"$f":"IF($C68=\"\",\"\",SUM(OFFSET('General Calc'!$F$26,MATCH($D68,'General Calc'!$E$26:$E$112,0),MATCH($C68,'General Calc'!$G$26:$Z$26,0),MAX(Criteria!$M:$M),1)*OFFSET(Scoring!$E$4,1,MATCH(R$4,Scoring!$F$4:$Z$4,0),MAX(Criteria!$M:$M),)))","v":""},{"$f":"IF($C68=\"\",\"\",SUM(OFFSET('General Calc'!$F$26,MATCH($D68,'General Calc'!$E$26:$E$112,0),MATCH($C68,'General Calc'!$G$26:$Z$26,0),MAX(Criteria!$M:$M),1)*OFFSET(Scoring!$E$4,1,MATCH(S$4,Scoring!$F$4:$Z$4,0),MAX(Criteria!$M:$M),)))","v":""},{"$f":"IF($C68=\"\",\"\",SUM(OFFSET('General Calc'!$F$26,MATCH($D68,'General Calc'!$E$26:$E$112,0),MATCH($C68,'General Calc'!$G$26:$Z$26,0),MAX(Criteria!$M:$M),1)*OFFSET(Scoring!$E$4,1,MATCH(T$4,Scoring!$F$4:$Z$4,0),MAX(Criteria!$M:$M),)))","v":""},{"$f":"IF($C68=\"\",\"\",SUM(OFFSET('General Calc'!$F$26,MATCH($D68,'General Calc'!$E$26:$E$112,0),MATCH($C68,'General Calc'!$G$26:$Z$26,0),MAX(Criteria!$M:$M),1)*OFFSET(Scoring!$E$4,1,MATCH(U$4,Scoring!$F$4:$Z$4,0),MAX(Criteria!$M:$M),)))","v":""},{"$f":"IF($C68=\"\",\"\",SUM(OFFSET('General Calc'!$F$26,MATCH($D68,'General Calc'!$E$26:$E$112,0),MATCH($C68,'General Calc'!$G$26:$Z$26,0),MAX(Criteria!$M:$M),1)*OFFSET(Scoring!$E$4,1,MATCH(V$4,Scoring!$F$4:$Z$4,0),MAX(Criteria!$M:$M),)))","v":""},{"$f":"IF($C68=\"\",\"\",SUM(OFFSET('General Calc'!$F$26,MATCH($D68,'General Calc'!$E$26:$E$112,0),MATCH($C68,'General Calc'!$G$26:$Z$26,0),MAX(Criteria!$M:$M),1)*OFFSET(Scoring!$E$4,1,MATCH(W$4,Scoring!$F$4:$Z$4,0),MAX(Criteria!$M:$M),)))","v":""},{"$f":"IF($C68=\"\",\"\",SUM(OFFSET('General Calc'!$F$26,MATCH($D68,'General Calc'!$E$26:$E$112,0),MATCH($C68,'General Calc'!$G$26:$Z$26,0),MAX(Criteria!$M:$M),1)*OFFSET(Scoring!$E$4,1,MATCH(X$4,Scoring!$F$4:$Z$4,0),MAX(Criteria!$M:$M),)))","v":""},{"$f":"IF($C68=\"\",\"\",SUM(OFFSET('General Calc'!$F$26,MATCH($D68,'General Calc'!$E$26:$E$112,0),MATCH($C68,'General Calc'!$G$26:$Z$26,0),MAX(Criteria!$M:$M),1)*OFFSET(Scoring!$E$4,1,MATCH(Y$4,Scoring!$F$4:$Z$4,0),MAX(Criteria!$M:$M),)))","v":""},"",""]
[null,5,{"$f":"IF(INDEX('Selected Criteria'!$E$6:$E$25,$B69)=0,\"\",INDEX('Selected Criteria'!$E$6:$E$25,$B69))","v":""},"",{"$f":"IF($C69=\"\",\"\",SUM(OFFSET('General Calc'!$F$26,MATCH($D69,'General Calc'!$E$26:$E$112,0),MATCH($C69,'General Calc'!$G$26:$Z$26,0),MAX(Criteria!$M:$M),1)*OFFSET(Scoring!$E$4,1,MATCH(E$4,Scoring!$F$4:$Z$4,0),MAX(Criteria!$M:$M),)))","v":""},{"$f":"IF($C69=\"\",\"\",SUM(OFFSET('General Calc'!$F$26,MATCH($D69,'General Calc'!$E$26:$E$112,0),MATCH($C69,'General Calc'!$G$26:$Z$26,0),MAX(Criteria!$M:$M),1)*OFFSET(Scoring!$E$4,1,MATCH(F$4,Scoring!$F$4:$Z$4,0),MAX(Criteria!$M:$M),)))","v":""},{"$f":"IF($C69=\"\",\"\",SUM(OFFSET('General Calc'!$F$26,MATCH($D69,'General Calc'!$E$26:$E$112,0),MATCH($C69,'General Calc'!$G$26:$Z$26,0),MAX(Criteria!$M:$M),1)*OFFSET(Scoring!$E$4,1,MATCH(G$4,Scoring!$F$4:$Z$4,0),MAX(Criteria!$M:$M),)))","v":""},{"$f":"IF($C69=\"\",\"\",SUM(OFFSET('General Calc'!$F$26,MATCH($D69,'General Calc'!$E$26:$E$112,0),MATCH($C69,'General Calc'!$G$26:$Z$26,0),MAX(Criteria!$M:$M),1)*OFFSET(Scoring!$E$4,1,MATCH(H$4,Scoring!$F$4:$Z$4,0),MAX(Criteria!$M:$M),)))","v":""},{"$f":"IF($C69=\"\",\"\",SUM(OFFSET('General Calc'!$F$26,MATCH($D69,'General Calc'!$E$26:$E$112,0),MATCH($C69,'General Calc'!$G$26:$Z$26,0),MAX(Criteria!$M:$M),1)*OFFSET(Scoring!$E$4,1,MATCH(I$4,Scoring!$F$4:$Z$4,0),MAX(Criteria!$M:$M),)))","v":""},{"$f":"IF($C69=\"\",\"\",SUM(OFFSET('General Calc'!$F$26,MATCH($D69,'General Calc'!$E$26:$E$112,0),MATCH($C69,'General Calc'!$G$26:$Z$26,0),MAX(Criteria!$M:$M),1)*OFFSET(Scoring!$E$4,1,MATCH(J$4,Scoring!$F$4:$Z$4,0),MAX(Criteria!$M:$M),)))","v":""},{"$f":"IF($C69=\"\",\"\",SUM(OFFSET('General Calc'!$F$26,MATCH($D69,'General Calc'!$E$26:$E$112,0),MATCH($C69,'General Calc'!$G$26:$Z$26,0),MAX(Criteria!$M:$M),1)*OFFSET(Scoring!$E$4,1,MATCH(K$4,Scoring!$F$4:$Z$4,0),MAX(Criteria!$M:$M),)))","v":""},{"$f":"IF($C69=\"\",\"\",SUM(OFFSET('General Calc'!$F$26,MATCH($D69,'General Calc'!$E$26:$E$112,0),MATCH($C69,'General Calc'!$G$26:$Z$26,0),MAX(Criteria!$M:$M),1)*OFFSET(Scoring!$E$4,1,MATCH(L$4,Scoring!$F$4:$Z$4,0),MAX(Criteria!$M:$M),)))","v":""},{"$f":"IF($C69=\"\",\"\",SUM(OFFSET('General Calc'!$F$26,MATCH($D69,'General Calc'!$E$26:$E$112,0),MATCH($C69,'General Calc'!$G$26:$Z$26,0),MAX(Criteria!$M:$M),1)*OFFSET(Scoring!$E$4,1,MATCH(M$4,Scoring!$F$4:$Z$4,0),MAX(Criteria!$M:$M),)))","v":""},{"$f":"IF($C69=\"\",\"\",SUM(OFFSET('General Calc'!$F$26,MATCH($D69,'General Calc'!$E$26:$E$112,0),MATCH($C69,'General Calc'!$G$26:$Z$26,0),MAX(Criteria!$M:$M),1)*OFFSET(Scoring!$E$4,1,MATCH(N$4,Scoring!$F$4:$Z$4,0),MAX(Criteria!$M:$M),)))","v":""},{"$f":"IF($C69=\"\",\"\",SUM(OFFSET('General Calc'!$F$26,MATCH($D69,'General Calc'!$E$26:$E$112,0),MATCH($C69,'General Calc'!$G$26:$Z$26,0),MAX(Criteria!$M:$M),1)*OFFSET(Scoring!$E$4,1,MATCH(O$4,Scoring!$F$4:$Z$4,0),MAX(Criteria!$M:$M),)))","v":""},{"$f":"IF($C69=\"\",\"\",SUM(OFFSET('General Calc'!$F$26,MATCH($D69,'General Calc'!$E$26:$E$112,0),MATCH($C69,'General Calc'!$G$26:$Z$26,0),MAX(Criteria!$M:$M),1)*OFFSET(Scoring!$E$4,1,MATCH(P$4,Scoring!$F$4:$Z$4,0),MAX(Criteria!$M:$M),)))","v":""},{"$f":"IF($C69=\"\",\"\",SUM(OFFSET('General Calc'!$F$26,MATCH($D69,'General Calc'!$E$26:$E$112,0),MATCH($C69,'General Calc'!$G$26:$Z$26,0),MAX(Criteria!$M:$M),1)*OFFSET(Scoring!$E$4,1,MATCH(Q$4,Scoring!$F$4:$Z$4,0),MAX(Criteria!$M:$M),)))","v":""},{"$f":"IF($C69=\"\",\"\",SUM(OFFSET('General Calc'!$F$26,MATCH($D69,'General Calc'!$E$26:$E$112,0),MATCH($C69,'General Calc'!$G$26:$Z$26,0),MAX(Criteria!$M:$M),1)*OFFSET(Scoring!$E$4,1,MATCH(R$4,Scoring!$F$4:$Z$4,0),MAX(Criteria!$M:$M),)))","v":""},{"$f":"IF($C69=\"\",\"\",SUM(OFFSET('General Calc'!$F$26,MATCH($D69,'General Calc'!$E$26:$E$112,0),MATCH($C69,'General Calc'!$G$26:$Z$26,0),MAX(Criteria!$M:$M),1)*OFFSET(Scoring!$E$4,1,MATCH(S$4,Scoring!$F$4:$Z$4,0),MAX(Criteria!$M:$M),)))","v":""},{"$f":"IF($C69=\"\",\"\",SUM(OFFSET('General Calc'!$F$26,MATCH($D69,'General Calc'!$E$26:$E$112,0),MATCH($C69,'General Calc'!$G$26:$Z$26,0),MAX(Criteria!$M:$M),1)*OFFSET(Scoring!$E$4,1,MATCH(T$4,Scoring!$F$4:$Z$4,0),MAX(Criteria!$M:$M),)))","v":""},{"$f":"IF($C69=\"\",\"\",SUM(OFFSET('General Calc'!$F$26,MATCH($D69,'General Calc'!$E$26:$E$112,0),MATCH($C69,'General Calc'!$G$26:$Z$26,0),MAX(Criteria!$M:$M),1)*OFFSET(Scoring!$E$4,1,MATCH(U$4,Scoring!$F$4:$Z$4,0),MAX(Criteria!$M:$M),)))","v":""},{"$f":"IF($C69=\"\",\"\",SUM(OFFSET('General Calc'!$F$26,MATCH($D69,'General Calc'!$E$26:$E$112,0),MATCH($C69,'General Calc'!$G$26:$Z$26,0),MAX(Criteria!$M:$M),1)*OFFSET(Scoring!$E$4,1,MATCH(V$4,Scoring!$F$4:$Z$4,0),MAX(Criteria!$M:$M),)))","v":""},{"$f":"IF($C69=\"\",\"\",SUM(OFFSET('General Calc'!$F$26,MATCH($D69,'General Calc'!$E$26:$E$112,0),MATCH($C69,'General Calc'!$G$26:$Z$26,0),MAX(Criteria!$M:$M),1)*OFFSET(Scoring!$E$4,1,MATCH(W$4,Scoring!$F$4:$Z$4,0),MAX(Criteria!$M:$M),)))","v":""},{"$f":"IF($C69=\"\",\"\",SUM(OFFSET('General Calc'!$F$26,MATCH($D69,'General Calc'!$E$26:$E$112,0),MATCH($C69,'General Calc'!$G$26:$Z$26,0),MAX(Criteria!$M:$M),1)*OFFSET(Scoring!$E$4,1,MATCH(X$4,Scoring!$F$4:$Z$4,0),MAX(Criteria!$M:$M),)))","v":""},{"$f":"IF($C69=\"\",\"\",SUM(OFFSET('General Calc'!$F$26,MATCH($D69,'General Calc'!$E$26:$E$112,0),MATCH($C69,'General Calc'!$G$26:$Z$26,0),MAX(Criteria!$M:$M),1)*OFFSET(Scoring!$E$4,1,MATCH(Y$4,Scoring!$F$4:$Z$4,0),MAX(Criteria!$M:$M),)))","v":""},"",""]
[null,6,{"$f":"IF(INDEX('Selected Criteria'!$E$6:$E$25,$B70)=0,\"\",INDEX('Selected Criteria'!$E$6:$E$25,$B70))","v":""},"",{"$f":"IF($C70=\"\",\"\",SUM(OFFSET('General Calc'!$F$26,MATCH($D70,'General Calc'!$E$26:$E$112,0),MATCH($C70,'General Calc'!$G$26:$Z$26,0),MAX(Criteria!$M:$M),1)*OFFSET(Scoring!$E$4,1,MATCH(E$4,Scoring!$F$4:$Z$4,0),MAX(Criteria!$M:$M),)))","v":""},{"$f":"IF($C70=\"\",\"\",SUM(OFFSET('General Calc'!$F$26,MATCH($D70,'General Calc'!$E$26:$E$112,0),MATCH($C70,'General Calc'!$G$26:$Z$26,0),MAX(Criteria!$M:$M),1)*OFFSET(Scoring!$E$4,1,MATCH(F$4,Scoring!$F$4:$Z$4,0),MAX(Criteria!$M:$M),)))","v":""},{"$f":"IF($C70=\"\",\"\",SUM(OFFSET('General Calc'!$F$26,MATCH($D70,'General Calc'!$E$26:$E$112,0),MATCH($C70,'General Calc'!$G$26:$Z$26,0),MAX(Criteria!$M:$M),1)*OFFSET(Scoring!$E$4,1,MATCH(G$4,Scoring!$F$4:$Z$4,0),MAX(Criteria!$M:$M),)))","v":""},{"$f":"IF($C70=\"\",\"\",SUM(OFFSET('General Calc'!$F$26,MATCH($D70,'General Calc'!$E$26:$E$112,0),MATCH($C70,'General Calc'!$G$26:$Z$26,0),MAX(Criteria!$M:$M),1)*OFFSET(Scoring!$E$4,1,MATCH(H$4,Scoring!$F$4:$Z$4,0),MAX(Criteria!$M:$M),)))","v":""},{"$f":"IF($C70=\"\",\"\",SUM(OFFSET('General Calc'!$F$26,MATCH($D70,'General Calc'!$E$26:$E$112,0),MATCH($C70,'General Calc'!$G$26:$Z$26,0),MAX(Criteria!$M:$M),1)*OFFSET(Scoring!$E$4,1,MATCH(I$4,Scoring!$F$4:$Z$4,0),MAX(Criteria!$M:$M),)))","v":""},{"$f":"IF($C70=\"\",\"\",SUM(OFFSET('General Calc'!$F$26,MATCH($D70,'General Calc'!$E$26:$E$112,0),MATCH($C70,'General Calc'!$G$26:$Z$26,0),MAX(Criteria!$M:$M),1)*OFFSET(Scoring!$E$4,1,MATCH(J$4,Scoring!$F$4:$Z$4,0),MAX(Criteria!$M:$M),)))","v":""},{"$f":"IF($C70=\"\",\"\",SUM(OFFSET('General Calc'!$F$26,MATCH($D70,'General Calc'!$E$26:$E$112,0),MATCH($C70,'General Calc'!$G$26:$Z$26,0),MAX(Criteria!$M:$M),1)*OFFSET(Scoring!$E$4,1,MATCH(K$4,Scoring!$F$4:$Z$4,0),MAX(Criteria!$M:$M),)))","v":""},{"$f":"IF($C70=\"\",\"\",SUM(OFFSET('General Calc'!$F$26,MATCH($D70,'General Calc'!$E$26:$E$112,0),MATCH($C70,'General Calc'!$G$26:$Z$26,0),MAX(Criteria!$M:$M),1)*OFFSET(Scoring!$E$4,1,MATCH(L$4,Scoring!$F$4:$Z$4,0),MAX(Criteria!$M:$M),)))","v":""},{"$f":"IF($C70=\"\",\"\",SUM(OFFSET('General Calc'!$F$26,MATCH($D70,'General Calc'!$E$26:$E$112,0),MATCH($C70,'General Calc'!$G$26:$Z$26,0),MAX(Criteria!$M:$M),1)*OFFSET(Scoring!$E$4,1,MATCH(M$4,Scoring!$F$4:$Z$4,0),MAX(Criteria!$M:$M),)))","v":""},{"$f":"IF($C70=\"\",\"\",SUM(OFFSET('General Calc'!$F$26,MATCH($D70,'General Calc'!$E$26:$E$112,0),MATCH($C70,'General Calc'!$G$26:$Z$26,0),MAX(Criteria!$M:$M),1)*OFFSET(Scoring!$E$4,1,MATCH(N$4,Scoring!$F$4:$Z$4,0),MAX(Criteria!$M:$M),)))","v":""},{"$f":"IF($C70=\"\",\"\",SUM(OFFSET('General Calc'!$F$26,MATCH($D70,'General Calc'!$E$26:$E$112,0),MATCH($C70,'General Calc'!$G$26:$Z$26,0),MAX(Criteria!$M:$M),1)*OFFSET(Scoring!$E$4,1,MATCH(O$4,Scoring!$F$4:$Z$4,0),MAX(Criteria!$M:$M),)))","v":""},{"$f":"IF($C70=\"\",\"\",SUM(OFFSET('General Calc'!$F$26,MATCH($D70,'General Calc'!$E$26:$E$112,0),MATCH($C70,'General Calc'!$G$26:$Z$26,0),MAX(Criteria!$M:$M),1)*OFFSET(Scoring!$E$4,1,MATCH(P$4,Scoring!$F$4:$Z$4,0),MAX(Criteria!$M:$M),)))","v":""},{"$f":"IF($C70=\"\",\"\",SUM(OFFSET('General Calc'!$F$26,MATCH($D70,'General Calc'!$E$26:$E$112,0),MATCH($C70,'General Calc'!$G$26:$Z$26,0),MAX(Criteria!$M:$M),1)*OFFSET(Scoring!$E$4,1,MATCH(Q$4,Scoring!$F$4:$Z$4,0),MAX(Criteria!$M:$M),)))","v":""},{"$f":"IF($C70=\"\",\"\",SUM(OFFSET('General Calc'!$F$26,MATCH($D70,'General Calc'!$E$26:$E$112,0),MATCH($C70,'General Calc'!$G$26:$Z$26,0),MAX(Criteria!$M:$M),1)*OFFSET(Scoring!$E$4,1,MATCH(R$4,Scoring!$F$4:$Z$4,0),MAX(Criteria!$M:$M),)))","v":""},{"$f":"IF($C70=\"\",\"\",SUM(OFFSET('General Calc'!$F$26,MATCH($D70,'General Calc'!$E$26:$E$112,0),MATCH($C70,'General Calc'!$G$26:$Z$26,0),MAX(Criteria!$M:$M),1)*OFFSET(Scoring!$E$4,1,MATCH(S$4,Scoring!$F$4:$Z$4,0),MAX(Criteria!$M:$M),)))","v":""},{"$f":"IF($C70=\"\",\"\",SUM(OFFSET('General Calc'!$F$26,MATCH($D70,'General Calc'!$E$26:$E$112,0),MATCH($C70,'General Calc'!$G$26:$Z$26,0),MAX(Criteria!$M:$M),1)*OFFSET(Scoring!$E$4,1,MATCH(T$4,Scoring!$F$4:$Z$4,0),MAX(Criteria!$M:$M),)))","v":""},{"$f":"IF($C70=\"\",\"\",SUM(OFFSET('General Calc'!$F$26,MATCH($D70,'General Calc'!$E$26:$E$112,0),MATCH($C70,'General Calc'!$G$26:$Z$26,0),MAX(Criteria!$M:$M),1)*OFFSET(Scoring!$E$4,1,MATCH(U$4,Scoring!$F$4:$Z$4,0),MAX(Criteria!$M:$M),)))","v":""},{"$f":"IF($C70=\"\",\"\",SUM(OFFSET('General Calc'!$F$26,MATCH($D70,'General Calc'!$E$26:$E$112,0),MATCH($C70,'General Calc'!$G$26:$Z$26,0),MAX(Criteria!$M:$M),1)*OFFSET(Scoring!$E$4,1,MATCH(V$4,Scoring!$F$4:$Z$4,0),MAX(Criteria!$M:$M),)))","v":""},{"$f":"IF($C70=\"\",\"\",SUM(OFFSET('General Calc'!$F$26,MATCH($D70,'General Calc'!$E$26:$E$112,0),MATCH($C70,'General Calc'!$G$26:$Z$26,0),MAX(Criteria!$M:$M),1)*OFFSET(Scoring!$E$4,1,MATCH(W$4,Scoring!$F$4:$Z$4,0),MAX(Criteria!$M:$M),)))","v":""},{"$f":"IF($C70=\"\",\"\",SUM(OFFSET('General Calc'!$F$26,MATCH($D70,'General Calc'!$E$26:$E$112,0),MATCH($C70,'General Calc'!$G$26:$Z$26,0),MAX(Criteria!$M:$M),1)*OFFSET(Scoring!$E$4,1,MATCH(X$4,Scoring!$F$4:$Z$4,0),MAX(Criteria!$M:$M),)))","v":""},{"$f":"IF($C70=\"\",\"\",SUM(OFFSET('General Calc'!$F$26,MATCH($D70,'General Calc'!$E$26:$E$112,0),MATCH($C70,'General Calc'!$G$26:$Z$26,0),MAX(Criteria!$M:$M),1)*OFFSET(Scoring!$E$4,1,MATCH(Y$4,Scoring!$F$4:$Z$4,0),MAX(Criteria!$M:$M),)))","v":""},{"$f":"C70&D70","v":""},""]
[null,7,{"$f":"IF(INDEX('Selected Criteria'!$E$6:$E$25,$B71)=0,\"\",INDEX('Selected Criteria'!$E$6:$E$25,$B71))","v":""},"",{"$f":"IF($C71=\"\",\"\",SUM(OFFSET('General Calc'!$F$26,MATCH($D71,'General Calc'!$E$26:$E$112,0),MATCH($C71,'General Calc'!$G$26:$Z$26,0),MAX(Criteria!$M:$M),1)*OFFSET(Scoring!$E$4,1,MATCH(E$4,Scoring!$F$4:$Z$4,0),MAX(Criteria!$M:$M),)))","v":""},{"$f":"IF($C71=\"\",\"\",SUM(OFFSET('General Calc'!$F$26,MATCH($D71,'General Calc'!$E$26:$E$112,0),MATCH($C71,'General Calc'!$G$26:$Z$26,0),MAX(Criteria!$M:$M),1)*OFFSET(Scoring!$E$4,1,MATCH(F$4,Scoring!$F$4:$Z$4,0),MAX(Criteria!$M:$M),)))","v":""},{"$f":"IF($C71=\"\",\"\",SUM(OFFSET('General Calc'!$F$26,MATCH($D71,'General Calc'!$E$26:$E$112,0),MATCH($C71,'General Calc'!$G$26:$Z$26,0),MAX(Criteria!$M:$M),1)*OFFSET(Scoring!$E$4,1,MATCH(G$4,Scoring!$F$4:$Z$4,0),MAX(Criteria!$M:$M),)))","v":""},{"$f":"IF($C71=\"\",\"\",SUM(OFFSET('General Calc'!$F$26,MATCH($D71,'General Calc'!$E$26:$E$112,0),MATCH($C71,'General Calc'!$G$26:$Z$26,0),MAX(Criteria!$M:$M),1)*OFFSET(Scoring!$E$4,1,MATCH(H$4,Scoring!$F$4:$Z$4,0),MAX(Criteria!$M:$M),)))","v":""},{"$f":"IF($C71=\"\",\"\",SUM(OFFSET('General Calc'!$F$26,MATCH($D71,'General Calc'!$E$26:$E$112,0),MATCH($C71,'General Calc'!$G$26:$Z$26,0),MAX(Criteria!$M:$M),1)*OFFSET(Scoring!$E$4,1,MATCH(I$4,Scoring!$F$4:$Z$4,0),MAX(Criteria!$M:$M),)))","v":""},{"$f":"IF($C71=\"\",\"\",SUM(OFFSET('General Calc'!$F$26,MATCH($D71,'General Calc'!$E$26:$E$112,0),MATCH($C71,'General Calc'!$G$26:$Z$26,0),MAX(Criteria!$M:$M),1)*OFFSET(Scoring!$E$4,1,MATCH(J$4,Scoring!$F$4:$Z$4,0),MAX(Criteria!$M:$M),)))","v":""},{"$f":"IF($C71=\"\",\"\",SUM(OFFSET('General Calc'!$F$26,MATCH($D71,'General Calc'!$E$26:$E$112,0),MATCH($C71,'General Calc'!$G$26:$Z$26,0),MAX(Criteria!$M:$M),1)*OFFSET(Scoring!$E$4,1,MATCH(K$4,Scoring!$F$4:$Z$4,0),MAX(Criteria!$M:$M),)))","v":""},{"$f":"IF($C71=\"\",\"\",SUM(OFFSET('General Calc'!$F$26,MATCH($D71,'General Calc'!$E$26:$E$112,0),MATCH($C71,'General Calc'!$G$26:$Z$26,0),MAX(Criteria!$M:$M),1)*OFFSET(Scoring!$E$4,1,MATCH(L$4,Scoring!$F$4:$Z$4,0),MAX(Criteria!$M:$M),)))","v":""},{"$f":"IF($C71=\"\",\"\",SUM(OFFSET('General Calc'!$F$26,MATCH($D71,'General Calc'!$E$26:$E$112,0),MATCH($C71,'General Calc'!$G$26:$Z$26,0),MAX(Criteria!$M:$M),1)*OFFSET(Scoring!$E$4,1,MATCH(M$4,Scoring!$F$4:$Z$4,0),MAX(Criteria!$M:$M),)))","v":""},{"$f":"IF($C71=\"\",\"\",SUM(OFFSET('General Calc'!$F$26,MATCH($D71,'General Calc'!$E$26:$E$112,0),MATCH($C71,'General Calc'!$G$26:$Z$26,0),MAX(Criteria!$M:$M),1)*OFFSET(Scoring!$E$4,1,MATCH(N$4,Scoring!$F$4:$Z$4,0),MAX(Criteria!$M:$M),)))","v":""},{"$f":"IF($C71=\"\",\"\",SUM(OFFSET('General Calc'!$F$26,MATCH($D71,'General Calc'!$E$26:$E$112,0),MATCH($C71,'General Calc'!$G$26:$Z$26,0),MAX(Criteria!$M:$M),1)*OFFSET(Scoring!$E$4,1,MATCH(O$4,Scoring!$F$4:$Z$4,0),MAX(Criteria!$M:$M),)))","v":""},{"$f":"IF($C71=\"\",\"\",SUM(OFFSET('General Calc'!$F$26,MATCH($D71,'General Calc'!$E$26:$E$112,0),MATCH($C71,'General Calc'!$G$26:$Z$26,0),MAX(Criteria!$M:$M),1)*OFFSET(Scoring!$E$4,1,MATCH(P$4,Scoring!$F$4:$Z$4,0),MAX(Criteria!$M:$M),)))","v":""},{"$f":"IF($C71=\"\",\"\",SUM(OFFSET('General Calc'!$F$26,MATCH($D71,'General Calc'!$E$26:$E$112,0),MATCH($C71,'General Calc'!$G$26:$Z$26,0),MAX(Criteria!$M:$M),1)*OFFSET(Scoring!$E$4,1,MATCH(Q$4,Scoring!$F$4:$Z$4,0),MAX(Criteria!$M:$M),)))","v":""},{"$f":"IF($C71=\"\",\"\",SUM(OFFSET('General Calc'!$F$26,MATCH($D71,'General Calc'!$E$26:$E$112,0),MATCH($C71,'General Calc'!$G$26:$Z$26,0),MAX(Criteria!$M:$M),1)*OFFSET(Scoring!$E$4,1,MATCH(R$4,Scoring!$F$4:$Z$4,0),MAX(Criteria!$M:$M),)))","v":""},{"$f":"IF($C71=\"\",\"\",SUM(OFFSET('General Calc'!$F$26,MATCH($D71,'General Calc'!$E$26:$E$112,0),MATCH($C71,'General Calc'!$G$26:$Z$26,0),MAX(Criteria!$M:$M),1)*OFFSET(Scoring!$E$4,1,MATCH(S$4,Scoring!$F$4:$Z$4,0),MAX(Criteria!$M:$M),)))","v":""},{"$f":"IF($C71=\"\",\"\",SUM(OFFSET('General Calc'!$F$26,MATCH($D71,'General Calc'!$E$26:$E$112,0),MATCH($C71,'General Calc'!$G$26:$Z$26,0),MAX(Criteria!$M:$M),1)*OFFSET(Scoring!$E$4,1,MATCH(T$4,Scoring!$F$4:$Z$4,0),MAX(Criteria!$M:$M),)))","v":""},{"$f":"IF($C71=\"\",\"\",SUM(OFFSET('General Calc'!$F$26,MATCH($D71,'General Calc'!$E$26:$E$112,0),MATCH($C71,'General Calc'!$G$26:$Z$26,0),MAX(Criteria!$M:$M),1)*OFFSET(Scoring!$E$4,1,MATCH(U$4,Scoring!$F$4:$Z$4,0),MAX(Criteria!$M:$M),)))","v":""},{"$f":"IF($C71=\"\",\"\",SUM(OFFSET('General Calc'!$F$26,MATCH($D71,'General Calc'!$E$26:$E$112,0),MATCH($C71,'General Calc'!$G$26:$Z$26,0),MAX(Criteria!$M:$M),1)*OFFSET(Scoring!$E$4,1,MATCH(V$4,Scoring!$F$4:$Z$4,0),MAX(Criteria!$M:$M),)))","v":""},{"$f":"IF($C71=\"\",\"\",SUM(OFFSET('General Calc'!$F$26,MATCH($D71,'General Calc'!$E$26:$E$112,0),MATCH($C71,'General Calc'!$G$26:$Z$26,0),MAX(Criteria!$M:$M),1)*OFFSET(Scoring!$E$4,1,MATCH(W$4,Scoring!$F$4:$Z$4,0),MAX(Criteria!$M:$M),)))","v":""},{"$f":"IF($C71=\"\",\"\",SUM(OFFSET('General Calc'!$F$26,MATCH($D71,'General Calc'!$E$26:$E$112,0),MATCH($C71,'General Calc'!$G$26:$Z$26,0),MAX(Criteria!$M:$M),1)*OFFSET(Scoring!$E$4,1,MATCH(X$4,Scoring!$F$4:$Z$4,0),MAX(Criteria!$M:$M),)))","v":""},{"$f":"IF($C71=\"\",\"\",SUM(OFFSET('General Calc'!$F$26,MATCH($D71,'General Calc'!$E$26:$E$112,0),MATCH($C71,'General Calc'!$G$26:$Z$26,0),MAX(Criteria!$M:$M),1)*OFFSET(Scoring!$E$4,1,MATCH(Y$4,Scoring!$F$4:$Z$4,0),MAX(Criteria!$M:$M),)))","v":""},"",""]
[null,8,{"$f":"IF(INDEX('Selected Criteria'!$E$6:$E$25,$B72)=0,\"\",INDEX('Selected Criteria'!$E$6:$E$25,$B72))","v":""},"",{"$f":"IF($C72=\"\",\"\",SUM(OFFSET('General Calc'!$F$26,MATCH($D72,'General Calc'!$E$26:$E$112,0),MATCH($C72,'General Calc'!$G$26:$Z$26,0),MAX(Criteria!$M:$M),1)*OFFSET(Scoring!$E$4,1,MATCH(E$4,Scoring!$F$4:$Z$4,0),MAX(Criteria!$M:$M),)))","v":""},{"$f":"IF($C72=\"\",\"\",SUM(OFFSET('General Calc'!$F$26,MATCH($D72,'General Calc'!$E$26:$E$112,0),MATCH($C72,'General Calc'!$G$26:$Z$26,0),MAX(Criteria!$M:$M),1)*OFFSET(Scoring!$E$4,1,MATCH(F$4,Scoring!$F$4:$Z$4,0),MAX(Criteria!$M:$M),)))","v":""},{"$f":"IF($C72=\"\",\"\",SUM(OFFSET('General Calc'!$F$26,MATCH($D72,'General Calc'!$E$26:$E$112,0),MATCH($C72,'General Calc'!$G$26:$Z$26,0),MAX(Criteria!$M:$M),1)*OFFSET(Scoring!$E$4,1,MATCH(G$4,Scoring!$F$4:$Z$4,0),MAX(Criteria!$M:$M),)))","v":""},{"$f":"IF($C72=\"\",\"\",SUM(OFFSET('General Calc'!$F$26,MATCH($D72,'General Calc'!$E$26:$E$112,0),MATCH($C72,'General Calc'!$G$26:$Z$26,0),MAX(Criteria!$M:$M),1)*OFFSET(Scoring!$E$4,1,MATCH(H$4,Scoring!$F$4:$Z$4,0),MAX(Criteria!$M:$M),)))","v":""},{"$f":"IF($C72=\"\",\"\",SUM(OFFSET('General Calc'!$F$26,MATCH($D72,'General Calc'!$E$26:$E$112,0),MATCH($C72,'General Calc'!$G$26:$Z$26,0),MAX(Criteria!$M:$M),1)*OFFSET(Scoring!$E$4,1,MATCH(I$4,Scoring!$F$4:$Z$4,0),MAX(Criteria!$M:$M),)))","v":""},{"$f":"IF($C72=\"\",\"\",SUM(OFFSET('General Calc'!$F$26,MATCH($D72,'General Calc'!$E$26:$E$112,0),MATCH($C72,'General Calc'!$G$26:$Z$26,0),MAX(Criteria!$M:$M),1)*OFFSET(Scoring!$E$4,1,MATCH(J$4,Scoring!$F$4:$Z$4,0),MAX(Criteria!$M:$M),)))","v":""},{"$f":"IF($C72=\"\",\"\",SUM(OFFSET('General Calc'!$F$26,MATCH($D72,'General Calc'!$E$26:$E$112,0),MATCH($C72,'General Calc'!$G$26:$Z$26,0),MAX(Criteria!$M:$M),1)*OFFSET(Scoring!$E$4,1,MATCH(K$4,Scoring!$F$4:$Z$4,0),MAX(Criteria!$M:$M),)))","v":""},{"$f":"IF($C72=\"\",\"\",SUM(OFFSET('General Calc'!$F$26,MATCH($D72,'General Calc'!$E$26:$E$112,0),MATCH($C72,'General Calc'!$G$26:$Z$26,0),MAX(Criteria!$M:$M),1)*OFFSET(Scoring!$E$4,1,MATCH(L$4,Scoring!$F$4:$Z$4,0),MAX(Criteria!$M:$M),)))","v":""},{"$f":"IF($C72=\"\",\"\",SUM(OFFSET('General Calc'!$F$26,MATCH($D72,'General Calc'!$E$26:$E$112,0),MATCH($C72,'General Calc'!$G$26:$Z$26,0),MAX(Criteria!$M:$M),1)*OFFSET(Scoring!$E$4,1,MATCH(M$4,Scoring!$F$4:$Z$4,0),MAX(Criteria!$M:$M),)))","v":""},{"$f":"IF($C72=\"\",\"\",SUM(OFFSET('General Calc'!$F$26,MATCH($D72,'General Calc'!$E$26:$E$112,0),MATCH($C72,'General Calc'!$G$26:$Z$26,0),MAX(Criteria!$M:$M),1)*OFFSET(Scoring!$E$4,1,MATCH(N$4,Scoring!$F$4:$Z$4,0),MAX(Criteria!$M:$M),)))","v":""},{"$f":"IF($C72=\"\",\"\",SUM(OFFSET('General Calc'!$F$26,MATCH($D72,'General Calc'!$E$26:$E$112,0),MATCH($C72,'General Calc'!$G$26:$Z$26,0),MAX(Criteria!$M:$M),1)*OFFSET(Scoring!$E$4,1,MATCH(O$4,Scoring!$F$4:$Z$4,0),MAX(Criteria!$M:$M),)))","v":""},{"$f":"IF($C72=\"\",\"\",SUM(OFFSET('General Calc'!$F$26,MATCH($D72,'General Calc'!$E$26:$E$112,0),MATCH($C72,'General Calc'!$G$26:$Z$26,0),MAX(Criteria!$M:$M),1)*OFFSET(Scoring!$E$4,1,MATCH(P$4,Scoring!$F$4:$Z$4,0),MAX(Criteria!$M:$M),)))","v":""},{"$f":"IF($C72=\"\",\"\",SUM(OFFSET('General Calc'!$F$26,MATCH($D72,'General Calc'!$E$26:$E$112,0),MATCH($C72,'General Calc'!$G$26:$Z$26,0),MAX(Criteria!$M:$M),1)*OFFSET(Scoring!$E$4,1,MATCH(Q$4,Scoring!$F$4:$Z$4,0),MAX(Criteria!$M:$M),)))","v":""},{"$f":"IF($C72=\"\",\"\",SUM(OFFSET('General Calc'!$F$26,MATCH($D72,'General Calc'!$E$26:$E$112,0),MATCH($C72,'General Calc'!$G$26:$Z$26,0),MAX(Criteria!$M:$M),1)*OFFSET(Scoring!$E$4,1,MATCH(R$4,Scoring!$F$4:$Z$4,0),MAX(Criteria!$M:$M),)))","v":""},{"$f":"IF($C72=\"\",\"\",SUM(OFFSET('General Calc'!$F$26,MATCH($D72,'General Calc'!$E$26:$E$112,0),MATCH($C72,'General Calc'!$G$26:$Z$26,0),MAX(Criteria!$M:$M),1)*OFFSET(Scoring!$E$4,1,MATCH(S$4,Scoring!$F$4:$Z$4,0),MAX(Criteria!$M:$M),)))","v":""},{"$f":"IF($C72=\"\",\"\",SUM(OFFSET('General Calc'!$F$26,MATCH($D72,'General Calc'!$E$26:$E$112,0),MATCH($C72,'General Calc'!$G$26:$Z$26,0),MAX(Criteria!$M:$M),1)*OFFSET(Scoring!$E$4,1,MATCH(T$4,Scoring!$F$4:$Z$4,0),MAX(Criteria!$M:$M),)))","v":""},{"$f":"IF($C72=\"\",\"\",SUM(OFFSET('General Calc'!$F$26,MATCH($D72,'General Calc'!$E$26:$E$112,0),MATCH($C72,'General Calc'!$G$26:$Z$26,0),MAX(Criteria!$M:$M),1)*OFFSET(Scoring!$E$4,1,MATCH(U$4,Scoring!$F$4:$Z$4,0),MAX(Criteria!$M:$M),)))","v":""},{"$f":"IF($C72=\"\",\"\",SUM(OFFSET('General Calc'!$F$26,MATCH($D72,'General Calc'!$E$26:$E$112,0),MATCH($C72,'General Calc'!$G$26:$Z$26,0),MAX(Criteria!$M:$M),1)*OFFSET(Scoring!$E$4,1,MATCH(V$4,Scoring!$F$4:$Z$4,0),MAX(Criteria!$M:$M),)))","v":""},{"$f":"IF($C72=\"\",\"\",SUM(OFFSET('General Calc'!$F$26,MATCH($D72,'General Calc'!$E$26:$E$112,0),MATCH($C72,'General Calc'!$G$26:$Z$26,0),MAX(Criteria!$M:$M),1)*OFFSET(Scoring!$E$4,1,MATCH(W$4,Scoring!$F$4:$Z$4,0),MAX(Criteria!$M:$M),)))","v":""},{"$f":"IF($C72=\"\",\"\",SUM(OFFSET('General Calc'!$F$26,MATCH($D72,'General Calc'!$E$26:$E$112,0),MATCH($C72,'General Calc'!$G$26:$Z$26,0),MAX(Criteria!$M:$M),1)*OFFSET(Scoring!$E$4,1,MATCH(X$4,Scoring!$F$4:$Z$4,0),MAX(Criteria!$M:$M),)))","v":""},{"$f":"IF($C72=\"\",\"\",SUM(OFFSET('General Calc'!$F$26,MATCH($D72,'General Calc'!$E$26:$E$112,0),MATCH($C72,'General Calc'!$G$26:$Z$26,0),MAX(Criteria!$M:$M),1)*OFFSET(Scoring!$E$4,1,MATCH(Y$4,Scoring!$F$4:$Z$4,0),MAX(Criteria!$M:$M),)))","v":""},"",""]
[null,9,{"$f":"IF(INDEX('Selected Criteria'!$E$6:$E$25,$B73)=0,\"\",INDEX('Selected Criteria'!$E$6:$E$25,$B73))","v":""},"",{"$f":"IF($C73=\"\",\"\",SUM(OFFSET('General Calc'!$F$26,MATCH($D73,'General Calc'!$E$26:$E$112,0),MATCH($C73,'General Calc'!$G$26:$Z$26,0),MAX(Criteria!$M:$M),1)*OFFSET(Scoring!$E$4,1,MATCH(E$4,Scoring!$F$4:$Z$4,0),MAX(Criteria!$M:$M),)))","v":""},{"$f":"IF($C73=\"\",\"\",SUM(OFFSET('General Calc'!$F$26,MATCH($D73,'General Calc'!$E$26:$E$112,0),MATCH($C73,'General Calc'!$G$26:$Z$26,0),MAX(Criteria!$M:$M),1)*OFFSET(Scoring!$E$4,1,MATCH(F$4,Scoring!$F$4:$Z$4,0),MAX(Criteria!$M:$M),)))","v":""},{"$f":"IF($C73=\"\",\"\",SUM(OFFSET('General Calc'!$F$26,MATCH($D73,'General Calc'!$E$26:$E$112,0),MATCH($C73,'General Calc'!$G$26:$Z$26,0),MAX(Criteria!$M:$M),1)*OFFSET(Scoring!$E$4,1,MATCH(G$4,Scoring!$F$4:$Z$4,0),MAX(Criteria!$M:$M),)))","v":""},{"$f":"IF($C73=\"\",\"\",SUM(OFFSET('General Calc'!$F$26,MATCH($D73,'General Calc'!$E$26:$E$112,0),MATCH($C73,'General Calc'!$G$26:$Z$26,0),MAX(Criteria!$M:$M),1)*OFFSET(Scoring!$E$4,1,MATCH(H$4,Scoring!$F$4:$Z$4,0),MAX(Criteria!$M:$M),)))","v":""},{"$f":"IF($C73=\"\",\"\",SUM(OFFSET('General Calc'!$F$26,MATCH($D73,'General Calc'!$E$26:$E$112,0),MATCH($C73,'General Calc'!$G$26:$Z$26,0),MAX(Criteria!$M:$M),1)*OFFSET(Scoring!$E$4,1,MATCH(I$4,Scoring!$F$4:$Z$4,0),MAX(Criteria!$M:$M),)))","v":""},{"$f":"IF($C73=\"\",\"\",SUM(OFFSET('General Calc'!$F$26,MATCH($D73,'General Calc'!$E$26:$E$112,0),MATCH($C73,'General Calc'!$G$26:$Z$26,0),MAX(Criteria!$M:$M),1)*OFFSET(Scoring!$E$4,1,MATCH(J$4,Scoring!$F$4:$Z$4,0),MAX(Criteria!$M:$M),)))","v":""},{"$f":"IF($C73=\"\",\"\",SUM(OFFSET('General Calc'!$F$26,MATCH($D73,'General Calc'!$E$26:$E$112,0),MATCH($C73,'General Calc'!$G$26:$Z$26,0),MAX(Criteria!$M:$M),1)*OFFSET(Scoring!$E$4,1,MATCH(K$4,Scoring!$F$4:$Z$4,0),MAX(Criteria!$M:$M),)))","v":""},{"$f":"IF($C73=\"\",\"\",SUM(OFFSET('General Calc'!$F$26,MATCH($D73,'General Calc'!$E$26:$E$112,0),MATCH($C73,'General Calc'!$G$26:$Z$26,0),MAX(Criteria!$M:$M),1)*OFFSET(Scoring!$E$4,1,MATCH(L$4,Scoring!$F$4:$Z$4,0),MAX(Criteria!$M:$M),)))","v":""},{"$f":"IF($C73=\"\",\"\",SUM(OFFSET('General Calc'!$F$26,MATCH($D73,'General Calc'!$E$26:$E$112,0),MATCH($C73,'General Calc'!$G$26:$Z$26,0),MAX(Criteria!$M:$M),1)*OFFSET(Scoring!$E$4,1,MATCH(M$4,Scoring!$F$4:$Z$4,0),MAX(Criteria!$M:$M),)))","v":""},{"$f":"IF($C73=\"\",\"\",SUM(OFFSET('General Calc'!$F$26,MATCH($D73,'General Calc'!$E$26:$E$112,0),MATCH($C73,'General Calc'!$G$26:$Z$26,0),MAX(Criteria!$M:$M),1)*OFFSET(Scoring!$E$4,1,MATCH(N$4,Scoring!$F$4:$Z$4,0),MAX(Criteria!$M:$M),)))","v":""},{"$f":"IF($C73=\"\",\"\",SUM(OFFSET('General Calc'!$F$26,MATCH($D73,'General Calc'!$E$26:$E$112,0),MATCH($C73,'General Calc'!$G$26:$Z$26,0),MAX(Criteria!$M:$M),1)*OFFSET(Scoring!$E$4,1,MATCH(O$4,Scoring!$F$4:$Z$4,0),MAX(Criteria!$M:$M),)))","v":""},{"$f":"IF($C73=\"\",\"\",SUM(OFFSET('General Calc'!$F$26,MATCH($D73,'General Calc'!$E$26:$E$112,0),MATCH($C73,'General Calc'!$G$26:$Z$26,0),MAX(Criteria!$M:$M),1)*OFFSET(Scoring!$E$4,1,MATCH(P$4,Scoring!$F$4:$Z$4,0),MAX(Criteria!$M:$M),)))","v":""},{"$f":"IF($C73=\"\",\"\",SUM(OFFSET('General Calc'!$F$26,MATCH($D73,'General Calc'!$E$26:$E$112,0),MATCH($C73,'General Calc'!$G$26:$Z$26,0),MAX(Criteria!$M:$M),1)*OFFSET(Scoring!$E$4,1,MATCH(Q$4,Scoring!$F$4:$Z$4,0),MAX(Criteria!$M:$M),)))","v":""},{"$f":"IF($C73=\"\",\"\",SUM(OFFSET('General Calc'!$F$26,MATCH($D73,'General Calc'!$E$26:$E$112,0),MATCH($C73,'General Calc'!$G$26:$Z$26,0),MAX(Criteria!$M:$M),1)*OFFSET(Scoring!$E$4,1,MATCH(R$4,Scoring!$F$4:$Z$4,0),MAX(Criteria!$M:$M),)))","v":""},{"$f":"IF($C73=\"\",\"\",SUM(OFFSET('General Calc'!$F$26,MATCH($D73,'General Calc'!$E$26:$E$112,0),MATCH($C73,'General Calc'!$G$26:$Z$26,0),MAX(Criteria!$M:$M),1)*OFFSET(Scoring!$E$4,1,MATCH(S$4,Scoring!$F$4:$Z$4,0),MAX(Criteria!$M:$M),)))","v":""},{"$f":"IF($C73=\"\",\"\",SUM(OFFSET('General Calc'!$F$26,MATCH($D73,'General Calc'!$E$26:$E$112,0),MATCH($C73,'General Calc'!$G$26:$Z$26,0),MAX(Criteria!$M:$M),1)*OFFSET(Scoring!$E$4,1,MATCH(T$4,Scoring!$F$4:$Z$4,0),MAX(Criteria!$M:$M),)))","v":""},{"$f":"IF($C73=\"\",\"\",SUM(OFFSET('General Calc'!$F$26,MATCH($D73,'General Calc'!$E$26:$E$112,0),MATCH($C73,'General Calc'!$G$26:$Z$26,0),MAX(Criteria!$M:$M),1)*OFFSET(Scoring!$E$4,1,MATCH(U$4,Scoring!$F$4:$Z$4,0),MAX(Criteria!$M:$M),)))","v":""},{"$f":"IF($C73=\"\",\"\",SUM(OFFSET('General Calc'!$F$26,MATCH($D73,'General Calc'!$E$26:$E$112,0),MATCH($C73,'General Calc'!$G$26:$Z$26,0),MAX(Criteria!$M:$M),1)*OFFSET(Scoring!$E$4,1,MATCH(V$4,Scoring!$F$4:$Z$4,0),MAX(Criteria!$M:$M),)))","v":""},{"$f":"IF($C73=\"\",\"\",SUM(OFFSET('General Calc'!$F$26,MATCH($D73,'General Calc'!$E$26:$E$112,0),MATCH($C73,'General Calc'!$G$26:$Z$26,0),MAX(Criteria!$M:$M),1)*OFFSET(Scoring!$E$4,1,MATCH(W$4,Scoring!$F$4:$Z$4,0),MAX(Criteria!$M:$M),)))","v":""},{"$f":"IF($C73=\"\",\"\",SUM(OFFSET('General Calc'!$F$26,MATCH($D73,'General Calc'!$E$26:$E$112,0),MATCH($C73,'General Calc'!$G$26:$Z$26,0),MAX(Criteria!$M:$M),1)*OFFSET(Scoring!$E$4,1,MATCH(X$4,Scoring!$F$4:$Z$4,0),MAX(Criteria!$M:$M),)))","v":""},{"$f":"IF($C73=\"\",\"\",SUM(OFFSET('General Calc'!$F$26,MATCH($D73,'General Calc'!$E$26:$E$112,0),MATCH($C73,'General Calc'!$G$26:$Z$26,0),MAX(Criteria!$M:$M),1)*OFFSET(Scoring!$E$4,1,MATCH(Y$4,Scoring!$F$4:$Z$4,0),MAX(Criteria!$M:$M),)))","v":""},"",""]
[null,10,{"$f":"IF(INDEX('Selected Criteria'!$E$6:$E$25,$B74)=0,\"\",INDEX('Selected Criteria'!$E$6:$E$25,$B74))","v":""},"",{"$f":"IF($C74=\"\",\"\",SUM(OFFSET('General Calc'!$F$26,MATCH($D74,'General Calc'!$E$26:$E$112,0),MATCH($C74,'General Calc'!$G$26:$Z$26,0),MAX(Criteria!$M:$M),1)*OFFSET(Scoring!$E$4,1,MATCH(E$4,Scoring!$F$4:$N$4,0),MAX(Criteria!$M:$M),)))","v":""},{"$f":"IF($C74=\"\",\"\",SUM(OFFSET('General Calc'!$F$26,MATCH($D74,'General Calc'!$E$26:$E$112,0),MATCH($C74,'General Calc'!$G$26:$Z$26,0),MAX(Criteria!$M:$M),1)*OFFSET(Scoring!$E$4,1,MATCH(F$4,Scoring!$F$4:$Z$4,0),MAX(Criteria!$M:$M),)))","v":""},{"$f":"IF($C74=\"\",\"\",SUM(OFFSET('General Calc'!$F$26,MATCH($D74,'General Calc'!$E$26:$E$112,0),MATCH($C74,'General Calc'!$G$26:$Z$26,0),MAX(Criteria!$M:$M),1)*OFFSET(Scoring!$E$4,1,MATCH(G$4,Scoring!$F$4:$N$4,0),MAX(Criteria!$M:$M),)))","v":""},{"$f":"IF($C74=\"\",\"\",SUM(OFFSET('General Calc'!$F$26,MATCH($D74,'General Calc'!$E$26:$E$112,0),MATCH($C74,'General Calc'!$G$26:$Z$26,0),MAX(Criteria!$M:$M),1)*OFFSET(Scoring!$E$4,1,MATCH(H$4,Scoring!$F$4:$N$4,0),MAX(Criteria!$M:$M),)))","v":""},{"$f":"IF($C74=\"\",\"\",SUM(OFFSET('General Calc'!$F$26,MATCH($D74,'General Calc'!$E$26:$E$112,0),MATCH($C74,'General Calc'!$G$26:$Z$26,0),MAX(Criteria!$M:$M),1)*OFFSET(Scoring!$E$4,1,MATCH(I$4,Scoring!$F$4:$N$4,0),MAX(Criteria!$M:$M),)))","v":""},{"$f":"IF($C74=\"\",\"\",SUM(OFFSET('General Calc'!$F$26,MATCH($D74,'General Calc'!$E$26:$E$112,0),MATCH($C74,'General Calc'!$G$26:$Z$26,0),MAX(Criteria!$M:$M),1)*OFFSET(Scoring!$E$4,1,MATCH(J$4,Scoring!$F$4:$N$4,0),MAX(Criteria!$M:$M),)))","v":""},{"$f":"IF($C74=\"\",\"\",SUM(OFFSET('General Calc'!$F$26,MATCH($D74,'General Calc'!$E$26:$E$112,0),MATCH($C74,'General Calc'!$G$26:$Z$26,0),MAX(Criteria!$M:$M),1)*OFFSET(Scoring!$E$4,1,MATCH(K$4,Scoring!$F$4:$N$4,0),MAX(Criteria!$M:$M),)))","v":""},{"$f":"IF($C74=\"\",\"\",SUM(OFFSET('General Calc'!$F$26,MATCH($D74,'General Calc'!$E$26:$E$112,0),MATCH($C74,'General Calc'!$G$26:$Z$26,0),MAX(Criteria!$M:$M),1)*OFFSET(Scoring!$E$4,1,MATCH(L$4,Scoring!$F$4:$N$4,0),MAX(Criteria!$M:$M),)))","v":""},{"$f":"IF($C74=\"\",\"\",SUM(OFFSET('General Calc'!$F$26,MATCH($D74,'General Calc'!$E$26:$E$112,0),MATCH($C74,'General Calc'!$G$26:$Z$26,0),MAX(Criteria!$M:$M),1)*OFFSET(Scoring!$E$4,1,MATCH(M$4,Scoring!$F$4:$N$4,0),MAX(Criteria!$M:$M),)))","v":""},{"$f":"IF($C74=\"\",\"\",SUM(OFFSET('General Calc'!$F$26,MATCH($D74,'General Calc'!$E$26:$E$112,0),MATCH($C74,'General Calc'!$G$26:$Z$26,0),MAX(Criteria!$M:$M),1)*OFFSET(Scoring!$E$4,1,MATCH(N$4,Scoring!$F$4:$Z$4,0),MAX(Criteria!$M:$M),)))","v":""},{"$f":"IF($C74=\"\",\"\",SUM(OFFSET('General Calc'!$F$26,MATCH($D74,'General Calc'!$E$26:$E$112,0),MATCH($C74,'General Calc'!$G$26:$Z$26,0),MAX(Criteria!$M:$M),1)*OFFSET(Scoring!$E$4,1,MATCH(O$4,Scoring!$F$4:$Z$4,0),MAX(Criteria!$M:$M),)))","v":""},{"$f":"IF($C74=\"\",\"\",SUM(OFFSET('General Calc'!$F$26,MATCH($D74,'General Calc'!$E$26:$E$112,0),MATCH($C74,'General Calc'!$G$26:$Z$26,0),MAX(Criteria!$M:$M),1)*OFFSET(Scoring!$E$4,1,MATCH(P$4,Scoring!$F$4:$Z$4,0),MAX(Criteria!$M:$M),)))","v":""},{"$f":"IF($C74=\"\",\"\",SUM(OFFSET('General Calc'!$F$26,MATCH($D74,'General Calc'!$E$26:$E$112,0),MATCH($C74,'General Calc'!$G$26:$Z$26,0),MAX(Criteria!$M:$M),1)*OFFSET(Scoring!$E$4,1,MATCH(Q$4,Scoring!$F$4:$Z$4,0),MAX(Criteria!$M:$M),)))","v":""},{"$f":"IF($C74=\"\",\"\",SUM(OFFSET('General Calc'!$F$26,MATCH($D74,'General Calc'!$E$26:$E$112,0),MATCH($C74,'General Calc'!$G$26:$Z$26,0),MAX(Criteria!$M:$M),1)*OFFSET(Scoring!$E$4,1,MATCH(R$4,Scoring!$F$4:$Z$4,0),MAX(Criteria!$M:$M),)))","v":""},{"$f":"IF($C74=\"\",\"\",SUM(OFFSET('General Calc'!$F$26,MATCH($D74,'General Calc'!$E$26:$E$112,0),MATCH($C74,'General Calc'!$G$26:$Z$26,0),MAX(Criteria!$M:$M),1)*OFFSET(Scoring!$E$4,1,MATCH(S$4,Scoring!$F$4:$Z$4,0),MAX(Criteria!$M:$M),)))","v":""},{"$f":"IF($C74=\"\",\"\",SUM(OFFSET('General Calc'!$F$26,MATCH($D74,'General Calc'!$E$26:$E$112,0),MATCH($C74,'General Calc'!$G$26:$Z$26,0),MAX(Criteria!$M:$M),1)*OFFSET(Scoring!$E$4,1,MATCH(T$4,Scoring!$F$4:$Z$4,0),MAX(Criteria!$M:$M),)))","v":""},{"$f":"IF($C74=\"\",\"\",SUM(OFFSET('General Calc'!$F$26,MATCH($D74,'General Calc'!$E$26:$E$112,0),MATCH($C74,'General Calc'!$G$26:$Z$26,0),MAX(Criteria!$M:$M),1)*OFFSET(Scoring!$E$4,1,MATCH(U$4,Scoring!$F$4:$Z$4,0),MAX(Criteria!$M:$M),)))","v":""},{"$f":"IF($C74=\"\",\"\",SUM(OFFSET('General Calc'!$F$26,MATCH($D74,'General Calc'!$E$26:$E$112,0),MATCH($C74,'General Calc'!$G$26:$Z$26,0),MAX(Criteria!$M:$M),1)*OFFSET(Scoring!$E$4,1,MATCH(V$4,Scoring!$F$4:$Z$4,0),MAX(Criteria!$M:$M),)))","v":""},{"$f":"IF($C74=\"\",\"\",SUM(OFFSET('General Calc'!$F$26,MATCH($D74,'General Calc'!$E$26:$E$112,0),MATCH($C74,'General Calc'!$G$26:$Z$26,0),MAX(Criteria!$M:$M),1)*OFFSET(Scoring!$E$4,1,MATCH(W$4,Scoring!$F$4:$Z$4,0),MAX(Criteria!$M:$M),)))","v":""},{"$f":"IF($C74=\"\",\"\",SUM(OFFSET('General Calc'!$F$26,MATCH($D74,'General Calc'!$E$26:$E$112,0),MATCH($C74,'General Calc'!$G$26:$Z$26,0),MAX(Criteria!$M:$M),1)*OFFSET(Scoring!$E$4,1,MATCH(X$4,Scoring!$F$4:$Z$4,0),MAX(Criteria!$M:$M),)))","v":""},{"$f":"IF($C74=\"\",\"\",SUM(OFFSET('General Calc'!$F$26,MATCH($D74,'General Calc'!$E$26:$E$112,0),MATCH($C74,'General Calc'!$G$26:$Z$26,0),MAX(Criteria!$M:$M),1)*OFFSET(Scoring!$E$4,1,MATCH(Y$4,Scoring!$F$4:$Z$4,0),MAX(Criteria!$M:$M),)))","v":""},"",{"$f":"IF($C74=\"\",\"\",INDEX($E$4:$M$4,MATCH(MAX($E74:$M74),$E74:$M74,0)))","v":""}]
[null,11,{"$f":"IF(INDEX('Selected Criteria'!$E$6:$E$25,$B75)=0,\"\",INDEX('Selected Criteria'!$E$6:$E$25,$B75))","v":""},"",{"$f":"IF($C75=\"\",\"\",SUM(OFFSET('General Calc'!$F$26,MATCH($D75,'General Calc'!$E$26:$E$112,0),MATCH($C75,'General Calc'!$G$26:$Z$26,0),MAX(Criteria!$M:$M),1)*OFFSET(Scoring!$E$4,1,MATCH(E$4,Scoring!$F$4:$N$4,0),MAX(Criteria!$M:$M),)))","v":""},{"$f":"IF($C75=\"\",\"\",SUM(OFFSET('General Calc'!$F$26,MATCH($D75,'General Calc'!$E$26:$E$112,0),MATCH($C75,'General Calc'!$G$26:$Z$26,0),MAX(Criteria!$M:$M),1)*OFFSET(Scoring!$E$4,1,MATCH(F$4,Scoring!$F$4:$Z$4,0),MAX(Criteria!$M:$M),)))","v":""},{"$f":"IF($C75=\"\",\"\",SUM(OFFSET('General Calc'!$F$26,MATCH($D75,'General Calc'!$E$26:$E$112,0),MATCH($C75,'General Calc'!$G$26:$Z$26,0),MAX(Criteria!$M:$M),1)*OFFSET(Scoring!$E$4,1,MATCH(G$4,Scoring!$F$4:$N$4,0),MAX(Criteria!$M:$M),)))","v":""},{"$f":"IF($C75=\"\",\"\",SUM(OFFSET('General Calc'!$F$26,MATCH($D75,'General Calc'!$E$26:$E$112,0),MATCH($C75,'General Calc'!$G$26:$Z$26,0),MAX(Criteria!$M:$M),1)*OFFSET(Scoring!$E$4,1,MATCH(H$4,Scoring!$F$4:$N$4,0),MAX(Criteria!$M:$M),)))","v":""},{"$f":"IF($C75=\"\",\"\",SUM(OFFSET('General Calc'!$F$26,MATCH($D75,'General Calc'!$E$26:$E$112,0),MATCH($C75,'General Calc'!$G$26:$Z$26,0),MAX(Criteria!$M:$M),1)*OFFSET(Scoring!$E$4,1,MATCH(I$4,Scoring!$F$4:$N$4,0),MAX(Criteria!$M:$M),)))","v":""},{"$f":"IF($C75=\"\",\"\",SUM(OFFSET('General Calc'!$F$26,MATCH($D75,'General Calc'!$E$26:$E$112,0),MATCH($C75,'General Calc'!$G$26:$Z$26,0),MAX(Criteria!$M:$M),1)*OFFSET(Scoring!$E$4,1,MATCH(J$4,Scoring!$F$4:$N$4,0),MAX(Criteria!$M:$M),)))","v":""},{"$f":"IF($C75=\"\",\"\",SUM(OFFSET('General Calc'!$F$26,MATCH($D75,'General Calc'!$E$26:$E$112,0),MATCH($C75,'General Calc'!$G$26:$Z$26,0),MAX(Criteria!$M:$M),1)*OFFSET(Scoring!$E$4,1,MATCH(K$4,Scoring!$F$4:$N$4,0),MAX(Criteria!$M:$M),)))","v":""},{"$f":"IF($C75=\"\",\"\",SUM(OFFSET('General Calc'!$F$26,MATCH($D75,'General Calc'!$E$26:$E$112,0),MATCH($C75,'General Calc'!$G$26:$Z$26,0),MAX(Criteria!$M:$M),1)*OFFSET(Scoring!$E$4,1,MATCH(L$4,Scoring!$F$4:$N$4,0),MAX(Criteria!$M:$M),)))","v":""},{"$f":"IF($C75=\"\",\"\",SUM(OFFSET('General Calc'!$F$26,MATCH($D75,'General Calc'!$E$26:$E$112,0),MATCH($C75,'General Calc'!$G$26:$Z$26,0),MAX(Criteria!$M:$M),1)*OFFSET(Scoring!$E$4,1,MATCH(M$4,Scoring!$F$4:$N$4,0),MAX(Criteria!$M:$M),)))","v":""},{"$f":"IF($C75=\"\",\"\",SUM(OFFSET('General Calc'!$F$26,MATCH($D75,'General Calc'!$E$26:$E$112,0),MATCH($C75,'General Calc'!$G$26:$Z$26,0),MAX(Criteria!$M:$M),1)*OFFSET(Scoring!$E$4,1,MATCH(N$4,Scoring!$F$4:$Z$4,0),MAX(Criteria!$M:$M),)))","v":""},{"$f":"IF($C75=\"\",\"\",SUM(OFFSET('General Calc'!$F$26,MATCH($D75,'General Calc'!$E$26:$E$112,0),MATCH($C75,'General Calc'!$G$26:$Z$26,0),MAX(Criteria!$M:$M),1)*OFFSET(Scoring!$E$4,1,MATCH(O$4,Scoring!$F$4:$Z$4,0),MAX(Criteria!$M:$M),)))","v":""},{"$f":"IF($C75=\"\",\"\",SUM(OFFSET('General Calc'!$F$26,MATCH($D75,'General Calc'!$E$26:$E$112,0),MATCH($C75,'General Calc'!$G$26:$Z$26,0),MAX(Criteria!$M:$M),1)*OFFSET(Scoring!$E$4,1,MATCH(P$4,Scoring!$F$4:$Z$4,0),MAX(Criteria!$M:$M),)))","v":""},{"$f":"IF($C75=\"\",\"\",SUM(OFFSET('General Calc'!$F$26,MATCH($D75,'General Calc'!$E$26:$E$112,0),MATCH($C75,'General Calc'!$G$26:$Z$26,0),MAX(Criteria!$M:$M),1)*OFFSET(Scoring!$E$4,1,MATCH(Q$4,Scoring!$F$4:$Z$4,0),MAX(Criteria!$M:$M),)))","v":""},{"$f":"IF($C75=\"\",\"\",SUM(OFFSET('General Calc'!$F$26,MATCH($D75,'General Calc'!$E$26:$E$112,0),MATCH($C75,'General Calc'!$G$26:$Z$26,0),MAX(Criteria!$M:$M),1)*OFFSET(Scoring!$E$4,1,MATCH(R$4,Scoring!$F$4:$Z$4,0),MAX(Criteria!$M:$M),)))","v":""},{"$f":"IF($C75=\"\",\"\",SUM(OFFSET('General Calc'!$F$26,MATCH($D75,'General Calc'!$E$26:$E$112,0),MATCH($C75,'General Calc'!$G$26:$Z$26,0),MAX(Criteria!$M:$M),1)*OFFSET(Scoring!$E$4,1,MATCH(S$4,Scoring!$F$4:$Z$4,0),MAX(Criteria!$M:$M),)))","v":""},{"$f":"IF($C75=\"\",\"\",SUM(OFFSET('General Calc'!$F$26,MATCH($D75,'General Calc'!$E$26:$E$112,0),MATCH($C75,'General Calc'!$G$26:$Z$26,0),MAX(Criteria!$M:$M),1)*OFFSET(Scoring!$E$4,1,MATCH(T$4,Scoring!$F$4:$Z$4,0),MAX(Criteria!$M:$M),)))","v":""},{"$f":"IF($C75=\"\",\"\",SUM(OFFSET('General Calc'!$F$26,MATCH($D75,'General Calc'!$E$26:$E$112,0),MATCH($C75,'General Calc'!$G$26:$Z$26,0),MAX(Criteria!$M:$M),1)*OFFSET(Scoring!$E$4,1,MATCH(U$4,Scoring!$F$4:$Z$4,0),MAX(Criteria!$M:$M),)))","v":""},{"$f":"IF($C75=\"\",\"\",SUM(OFFSET('General Calc'!$F$26,MATCH($D75,'General Calc'!$E$26:$E$112,0),MATCH($C75,'General Calc'!$G$26:$Z$26,0),MAX(Criteria!$M:$M),1)*OFFSET(Scoring!$E$4,1,MATCH(V$4,Scoring!$F$4:$Z$4,0),MAX(Criteria!$M:$M),)))","v":""},{"$f":"IF($C75=\"\",\"\",SUM(OFFSET('General Calc'!$F$26,MATCH($D75,'General Calc'!$E$26:$E$112,0),MATCH($C75,'General Calc'!$G$26:$Z$26,0),MAX(Criteria!$M:$M),1)*OFFSET(Scoring!$E$4,1,MATCH(W$4,Scoring!$F$4:$Z$4,0),MAX(Criteria!$M:$M),)))","v":""},{"$f":"IF($C75=\"\",\"\",SUM(OFFSET('General Calc'!$F$26,MATCH($D75,'General Calc'!$E$26:$E$112,0),MATCH($C75,'General Calc'!$G$26:$Z$26,0),MAX(Criteria!$M:$M),1)*OFFSET(Scoring!$E$4,1,MATCH(X$4,Scoring!$F$4:$Z$4,0),MAX(Criteria!$M:$M),)))","v":""},{"$f":"IF($C75=\"\",\"\",SUM(OFFSET('General Calc'!$F$26,MATCH($D75,'General Calc'!$E$26:$E$112,0),MATCH($C75,'General Calc'!$G$26:$Z$26,0),MAX(Criteria!$M:$M),1)*OFFSET(Scoring!$E$4,1,MATCH(Y$4,Scoring!$F$4:$Z$4,0),MAX(Criteria!$M:$M),)))","v":""},"",""]
[null,12,{"$f":"IF(INDEX('Selected Criteria'!$E$6:$E$25,$B76)=0,\"\",INDEX('Selected Criteria'!$E$6:$E$25,$B76))","v":""},"",{"$f":"IF($C76=\"\",\"\",SUM(OFFSET('General Calc'!$F$26,MATCH($D76,'General Calc'!$E$26:$E$112,0),MATCH($C76,'General Calc'!$G$26:$Z$26,0),MAX(Criteria!$M:$M),1)*OFFSET(Scoring!$E$4,1,MATCH(E$4,Scoring!$F$4:$N$4,0),MAX(Criteria!$M:$M),)))","v":""},{"$f":"IF($C76=\"\",\"\",SUM(OFFSET('General Calc'!$F$26,MATCH($D76,'General Calc'!$E$26:$E$112,0),MATCH($C76,'General Calc'!$G$26:$Z$26,0),MAX(Criteria!$M:$M),1)*OFFSET(Scoring!$E$4,1,MATCH(F$4,Scoring!$F$4:$Z$4,0),MAX(Criteria!$M:$M),)))","v":""},{"$f":"IF($C76=\"\",\"\",SUM(OFFSET('General Calc'!$F$26,MATCH($D76,'General Calc'!$E$26:$E$112,0),MATCH($C76,'General Calc'!$G$26:$Z$26,0),MAX(Criteria!$M:$M),1)*OFFSET(Scoring!$E$4,1,MATCH(G$4,Scoring!$F$4:$N$4,0),MAX(Criteria!$M:$M),)))","v":""},{"$f":"IF($C76=\"\",\"\",SUM(OFFSET('General Calc'!$F$26,MATCH($D76,'General Calc'!$E$26:$E$112,0),MATCH($C76,'General Calc'!$G$26:$Z$26,0),MAX(Criteria!$M:$M),1)*OFFSET(Scoring!$E$4,1,MATCH(H$4,Scoring!$F$4:$N$4,0),MAX(Criteria!$M:$M),)))","v":""},{"$f":"IF($C76=\"\",\"\",SUM(OFFSET('General Calc'!$F$26,MATCH($D76,'General Calc'!$E$26:$E$112,0),MATCH($C76,'General Calc'!$G$26:$Z$26,0),MAX(Criteria!$M:$M),1)*OFFSET(Scoring!$E$4,1,MATCH(I$4,Scoring!$F$4:$N$4,0),MAX(Criteria!$M:$M),)))","v":""},{"$f":"IF($C76=\"\",\"\",SUM(OFFSET('General Calc'!$F$26,MATCH($D76,'General Calc'!$E$26:$E$112,0),MATCH($C76,'General Calc'!$G$26:$Z$26,0),MAX(Criteria!$M:$M),1)*OFFSET(Scoring!$E$4,1,MATCH(J$4,Scoring!$F$4:$N$4,0),MAX(Criteria!$M:$M),)))","v":""},{"$f":"IF($C76=\"\",\"\",SUM(OFFSET('General Calc'!$F$26,MATCH($D76,'General Calc'!$E$26:$E$112,0),MATCH($C76,'General Calc'!$G$26:$Z$26,0),MAX(Criteria!$M:$M),1)*OFFSET(Scoring!$E$4,1,MATCH(K$4,Scoring!$F$4:$N$4,0),MAX(Criteria!$M:$M),)))","v":""},{"$f":"IF($C76=\"\",\"\",SUM(OFFSET('General Calc'!$F$26,MATCH($D76,'General Calc'!$E$26:$E$112,0),MATCH($C76,'General Calc'!$G$26:$Z$26,0),MAX(Criteria!$M:$M),1)*OFFSET(Scoring!$E$4,1,MATCH(L$4,Scoring!$F$4:$N$4,0),MAX(Criteria!$M:$M),)))","v":""},{"$f":"IF($C76=\"\",\"\",SUM(OFFSET('General Calc'!$F$26,MATCH($D76,'General Calc'!$E$26:$E$112,0),MATCH($C76,'General Calc'!$G$26:$Z$26,0),MAX(Criteria!$M:$M),1)*OFFSET(Scoring!$E$4,1,MATCH(M$4,Scoring!$F$4:$N$4,0),MAX(Criteria!$M:$M),)))","v":""},{"$f":"IF($C76=\"\",\"\",SUM(OFFSET('General Calc'!$F$26,MATCH($D76,'General Calc'!$E$26:$E$112,0),MATCH($C76,'General Calc'!$G$26:$Z$26,0),MAX(Criteria!$M:$M),1)*OFFSET(Scoring!$E$4,1,MATCH(N$4,Scoring!$F$4:$Z$4,0),MAX(Criteria!$M:$M),)))","v":""},{"$f":"IF($C76=\"\",\"\",SUM(OFFSET('General Calc'!$F$26,MATCH($D76,'General Calc'!$E$26:$E$112,0),MATCH($C76,'General Calc'!$G$26:$Z$26,0),MAX(Criteria!$M:$M),1)*OFFSET(Scoring!$E$4,1,MATCH(O$4,Scoring!$F$4:$Z$4,0),MAX(Criteria!$M:$M),)))","v":""},{"$f":"IF($C76=\"\",\"\",SUM(OFFSET('General Calc'!$F$26,MATCH($D76,'General Calc'!$E$26:$E$112,0),MATCH($C76,'General Calc'!$G$26:$Z$26,0),MAX(Criteria!$M:$M),1)*OFFSET(Scoring!$E$4,1,MATCH(P$4,Scoring!$F$4:$Z$4,0),MAX(Criteria!$M:$M),)))","v":""},{"$f":"IF($C76=\"\",\"\",SUM(OFFSET('General Calc'!$F$26,MATCH($D76,'General Calc'!$E$26:$E$112,0),MATCH($C76,'General Calc'!$G$26:$Z$26,0),MAX(Criteria!$M:$M),1)*OFFSET(Scoring!$E$4,1,MATCH(Q$4,Scoring!$F$4:$Z$4,0),MAX(Criteria!$M:$M),)))","v":""},{"$f":"IF($C76=\"\",\"\",SUM(OFFSET('General Calc'!$F$26,MATCH($D76,'General Calc'!$E$26:$E$112,0),MATCH($C76,'General Calc'!$G$26:$Z$26,0),MAX(Criteria!$M:$M),1)*OFFSET(Scoring!$E$4,1,MATCH(R$4,Scoring!$F$4:$Z$4,0),MAX(Criteria!$M:$M),)))","v":""},{"$f":"IF($C76=\"\",\"\",SUM(OFFSET('General Calc'!$F$26,MATCH($D76,'General Calc'!$E$26:$E$112,0),MATCH($C76,'General Calc'!$G$26:$Z$26,0),MAX(Criteria!$M:$M),1)*OFFSET(Scoring!$E$4,1,MATCH(S$4,Scoring!$F$4:$Z$4,0),MAX(Criteria!$M:$M),)))","v":""},{"$f":"IF($C76=\"\",\"\",SUM(OFFSET('General Calc'!$F$26,MATCH($D76,'General Calc'!$E$26:$E$112,0),MATCH($C76,'General Calc'!$G$26:$Z$26,0),MAX(Criteria!$M:$M),1)*OFFSET(Scoring!$E$4,1,MATCH(T$4,Scoring!$F$4:$Z$4,0),MAX(Criteria!$M:$M),)))","v":""},{"$f":"IF($C76=\"\",\"\",SUM(OFFSET('General Calc'!$F$26,MATCH($D76,'General Calc'!$E$26:$E$112,0),MATCH($C76,'General Calc'!$G$26:$Z$26,0),MAX(Criteria!$M:$M),1)*OFFSET(Scoring!$E$4,1,MATCH(U$4,Scoring!$F$4:$Z$4,0),MAX(Criteria!$M:$M),)))","v":""},{"$f":"IF($C76=\"\",\"\",SUM(OFFSET('General Calc'!$F$26,MATCH($D76,'General Calc'!$E$26:$E$112,0),MATCH($C76,'General Calc'!$G$26:$Z$26,0),MAX(Criteria!$M:$M),1)*OFFSET(Scoring!$E$4,1,MATCH(V$4,Scoring!$F$4:$Z$4,0),MAX(Criteria!$M:$M),)))","v":""},{"$f":"IF($C76=\"\",\"\",SUM(OFFSET('General Calc'!$F$26,MATCH($D76,'General Calc'!$E$26:$E$112,0),MATCH($C76,'General Calc'!$G$26:$Z$26,0),MAX(Criteria!$M:$M),1)*OFFSET(Scoring!$E$4,1,MATCH(W$4,Scoring!$F$4:$Z$4,0),MAX(Criteria!$M:$M),)))","v":""},{"$f":"IF($C76=\"\",\"\",SUM(OFFSET('General Calc'!$F$26,MATCH($D76,'General Calc'!$E$26:$E$112,0),MATCH($C76,'General Calc'!$G$26:$Z$26,0),MAX(Criteria!$M:$M),1)*OFFSET(Scoring!$E$4,1,MATCH(X$4,Scoring!$F$4:$Z$4,0),MAX(Criteria!$M:$M),)))","v":""},{"$f":"IF($C76=\"\",\"\",SUM(OFFSET('General Calc'!$F$26,MATCH($D76,'General Calc'!$E$26:$E$112,0),MATCH($C76,'General Calc'!$G$26:$Z$26,0),MAX(Criteria!$M:$M),1)*OFFSET(Scoring!$E$4,1,MATCH(Y$4,Scoring!$F$4:$Z$4,0),MAX(Criteria!$M:$M),)))","v":""},"",""]
[null,13,{"$f":"IF(INDEX('Selected Criteria'!$E$6:$E$25,$B77)=0,\"\",INDEX('Selected Criteria'!$E$6:$E$25,$B77))","v":""},"",{"$f":"IF($C77=\"\",\"\",SUM(OFFSET('General Calc'!$F$26,MATCH($D77,'General Calc'!$E$26:$E$112,0),MATCH($C77,'General Calc'!$G$26:$Z$26,0),MAX(Criteria!$M:$M),1)*OFFSET(Scoring!$E$4,1,MATCH(E$4,Scoring!$F$4:$N$4,0),MAX(Criteria!$M:$M),)))","v":""},{"$f":"IF($C77=\"\",\"\",SUM(OFFSET('General Calc'!$F$26,MATCH($D77,'General Calc'!$E$26:$E$112,0),MATCH($C77,'General Calc'!$G$26:$Z$26,0),MAX(Criteria!$M:$M),1)*OFFSET(Scoring!$E$4,1,MATCH(F$4,Scoring!$F$4:$Z$4,0),MAX(Criteria!$M:$M),)))","v":""},{"$f":"IF($C77=\"\",\"\",SUM(OFFSET('General Calc'!$F$26,MATCH($D77,'General Calc'!$E$26:$E$112,0),MATCH($C77,'General Calc'!$G$26:$Z$26,0),MAX(Criteria!$M:$M),1)*OFFSET(Scoring!$E$4,1,MATCH(G$4,Scoring!$F$4:$N$4,0),MAX(Criteria!$M:$M),)))","v":""},{"$f":"IF($C77=\"\",\"\",SUM(OFFSET('General Calc'!$F$26,MATCH($D77,'General Calc'!$E$26:$E$112,0),MATCH($C77,'General Calc'!$G$26:$Z$26,0),MAX(Criteria!$M:$M),1)*OFFSET(Scoring!$E$4,1,MATCH(H$4,Scoring!$F$4:$N$4,0),MAX(Criteria!$M:$M),)))","v":""},{"$f":"IF($C77=\"\",\"\",SUM(OFFSET('General Calc'!$F$26,MATCH($D77,'General Calc'!$E$26:$E$112,0),MATCH($C77,'General Calc'!$G$26:$Z$26,0),MAX(Criteria!$M:$M),1)*OFFSET(Scoring!$E$4,1,MATCH(I$4,Scoring!$F$4:$N$4,0),MAX(Criteria!$M:$M),)))","v":""},{"$f":"IF($C77=\"\",\"\",SUM(OFFSET('General Calc'!$F$26,MATCH($D77,'General Calc'!$E$26:$E$112,0),MATCH($C77,'General Calc'!$G$26:$Z$26,0),MAX(Criteria!$M:$M),1)*OFFSET(Scoring!$E$4,1,MATCH(J$4,Scoring!$F$4:$N$4,0),MAX(Criteria!$M:$M),)))","v":""},{"$f":"IF($C77=\"\",\"\",SUM(OFFSET('General Calc'!$F$26,MATCH($D77,'General Calc'!$E$26:$E$112,0),MATCH($C77,'General Calc'!$G$26:$Z$26,0),MAX(Criteria!$M:$M),1)*OFFSET(Scoring!$E$4,1,MATCH(K$4,Scoring!$F$4:$N$4,0),MAX(Criteria!$M:$M),)))","v":""},{"$f":"IF($C77=\"\",\"\",SUM(OFFSET('General Calc'!$F$26,MATCH($D77,'General Calc'!$E$26:$E$112,0),MATCH($C77,'General Calc'!$G$26:$Z$26,0),MAX(Criteria!$M:$M),1)*OFFSET(Scoring!$E$4,1,MATCH(L$4,Scoring!$F$4:$N$4,0),MAX(Criteria!$M:$M),)))","v":""},{"$f":"IF($C77=\"\",\"\",SUM(OFFSET('General Calc'!$F$26,MATCH($D77,'General Calc'!$E$26:$E$112,0),MATCH($C77,'General Calc'!$G$26:$Z$26,0),MAX(Criteria!$M:$M),1)*OFFSET(Scoring!$E$4,1,MATCH(M$4,Scoring!$F$4:$N$4,0),MAX(Criteria!$M:$M),)))","v":""},{"$f":"IF($C77=\"\",\"\",SUM(OFFSET('General Calc'!$F$26,MATCH($D77,'General Calc'!$E$26:$E$112,0),MATCH($C77,'General Calc'!$G$26:$Z$26,0),MAX(Criteria!$M:$M),1)*OFFSET(Scoring!$E$4,1,MATCH(N$4,Scoring!$F$4:$Z$4,0),MAX(Criteria!$M:$M),)))","v":""},{"$f":"IF($C77=\"\",\"\",SUM(OFFSET('General Calc'!$F$26,MATCH($D77,'General Calc'!$E$26:$E$112,0),MATCH($C77,'General Calc'!$G$26:$Z$26,0),MAX(Criteria!$M:$M),1)*OFFSET(Scoring!$E$4,1,MATCH(O$4,Scoring!$F$4:$Z$4,0),MAX(Criteria!$M:$M),)))","v":""},{"$f":"IF($C77=\"\",\"\",SUM(OFFSET('General Calc'!$F$26,MATCH($D77,'General Calc'!$E$26:$E$112,0),MATCH($C77,'General Calc'!$G$26:$Z$26,0),MAX(Criteria!$M:$M),1)*OFFSET(Scoring!$E$4,1,MATCH(P$4,Scoring!$F$4:$Z$4,0),MAX(Criteria!$M:$M),)))","v":""},{"$f":"IF($C77=\"\",\"\",SUM(OFFSET('General Calc'!$F$26,MATCH($D77,'General Calc'!$E$26:$E$112,0),MATCH($C77,'General Calc'!$G$26:$Z$26,0),MAX(Criteria!$M:$M),1)*OFFSET(Scoring!$E$4,1,MATCH(Q$4,Scoring!$F$4:$Z$4,0),MAX(Criteria!$M:$M),)))","v":""},{"$f":"IF($C77=\"\",\"\",SUM(OFFSET('General Calc'!$F$26,MATCH($D77,'General Calc'!$E$26:$E$112,0),MATCH($C77,'General Calc'!$G$26:$Z$26,0),MAX(Criteria!$M:$M),1)*OFFSET(Scoring!$E$4,1,MATCH(R$4,Scoring!$F$4:$Z$4,0),MAX(Criteria!$M:$M),)))","v":""},{"$f":"IF($C77=\"\",\"\",SUM(OFFSET('General Calc'!$F$26,MATCH($D77,'General Calc'!$E$26:$E$112,0),MATCH($C77,'General Calc'!$G$26:$Z$26,0),MAX(Criteria!$M:$M),1)*OFFSET(Scoring!$E$4,1,MATCH(S$4,Scoring!$F$4:$Z$4,0),MAX(Criteria!$M:$M),)))","v":""},{"$f":"IF($C77=\"\",\"\",SUM(OFFSET('General Calc'!$F$26,MATCH($D77,'General Calc'!$E$26:$E$112,0),MATCH($C77,'General Calc'!$G$26:$Z$26,0),MAX(Criteria!$M:$M),1)*OFFSET(Scoring!$E$4,1,MATCH(T$4,Scoring!$F$4:$Z$4,0),MAX(Criteria!$M:$M),)))","v":""},{"$f":"IF($C77=\"\",\"\",SUM(OFFSET('General Calc'!$F$26,MATCH($D77,'General Calc'!$E$26:$E$112,0),MATCH($C77,'General Calc'!$G$26:$Z$26,0),MAX(Criteria!$M:$M),1)*OFFSET(Scoring!$E$4,1,MATCH(U$4,Scoring!$F$4:$Z$4,0),MAX(Criteria!$M:$M),)))","v":""},{"$f":"IF($C77=\"\",\"\",SUM(OFFSET('General Calc'!$F$26,MATCH($D77,'General Calc'!$E$26:$E$112,0),MATCH($C77,'General Calc'!$G$26:$Z$26,0),MAX(Criteria!$M:$M),1)*OFFSET(Scoring!$E$4,1,MATCH(V$4,Scoring!$F$4:$Z$4,0),MAX(Criteria!$M:$M),)))","v":""},{"$f":"IF($C77=\"\",\"\",SUM(OFFSET('General Calc'!$F$26,MATCH($D77,'General Calc'!$E$26:$E$112,0),MATCH($C77,'General Calc'!$G$26:$Z$26,0),MAX(Criteria!$M:$M),1)*OFFSET(Scoring!$E$4,1,MATCH(W$4,Scoring!$F$4:$Z$4,0),MAX(Criteria!$M:$M),)))","v":""},{"$f":"IF($C77=\"\",\"\",SUM(OFFSET('General Calc'!$F$26,MATCH($D77,'General Calc'!$E$26:$E$112,0),MATCH($C77,'General Calc'!$G$26:$Z$26,0),MAX(Criteria!$M:$M),1)*OFFSET(Scoring!$E$4,1,MATCH(X$4,Scoring!$F$4:$Z$4,0),MAX(Criteria!$M:$M),)))","v":""},{"$f":"IF($C77=\"\",\"\",SUM(OFFSET('General Calc'!$F$26,MATCH($D77,'General Calc'!$E$26:$E$112,0),MATCH($C77,'General Calc'!$G$26:$Z$26,0),MAX(Criteria!$M:$M),1)*OFFSET(Scoring!$E$4,1,MATCH(Y$4,Scoring!$F$4:$Z$4,0),MAX(Criteria!$M:$M),)))","v":""},"",""]
[null,14,{"$f":"IF(INDEX('Selected Criteria'!$E$6:$E$25,$B78)=0,\"\",INDEX('Selected Criteria'!$E$6:$E$25,$B78))","v":""},"",{"$f":"IF($C78=\"\",\"\",SUM(OFFSET('General Calc'!$F$26,MATCH($D78,'General Calc'!$E$26:$E$112,0),MATCH($C78,'General Calc'!$G$26:$Z$26,0),MAX(Criteria!$M:$M),1)*OFFSET(Scoring!$E$4,1,MATCH(E$4,Scoring!$F$4:$N$4,0),MAX(Criteria!$M:$M),)))","v":""},{"$f":"IF($C78=\"\",\"\",SUM(OFFSET('General Calc'!$F$26,MATCH($D78,'General Calc'!$E$26:$E$112,0),MATCH($C78,'General Calc'!$G$26:$Z$26,0),MAX(Criteria!$M:$M),1)*OFFSET(Scoring!$E$4,1,MATCH(F$4,Scoring!$F$4:$Z$4,0),MAX(Criteria!$M:$M),)))","v":""},{"$f":"IF($C78=\"\",\"\",SUM(OFFSET('General Calc'!$F$26,MATCH($D78,'General Calc'!$E$26:$E$112,0),MATCH($C78,'General Calc'!$G$26:$Z$26,0),MAX(Criteria!$M:$M),1)*OFFSET(Scoring!$E$4,1,MATCH(G$4,Scoring!$F$4:$N$4,0),MAX(Criteria!$M:$M),)))","v":""},{"$f":"IF($C78=\"\",\"\",SUM(OFFSET('General Calc'!$F$26,MATCH($D78,'General Calc'!$E$26:$E$112,0),MATCH($C78,'General Calc'!$G$26:$Z$26,0),MAX(Criteria!$M:$M),1)*OFFSET(Scoring!$E$4,1,MATCH(H$4,Scoring!$F$4:$N$4,0),MAX(Criteria!$M:$M),)))","v":""},{"$f":"IF($C78=\"\",\"\",SUM(OFFSET('General Calc'!$F$26,MATCH($D78,'General Calc'!$E$26:$E$112,0),MATCH($C78,'General Calc'!$G$26:$Z$26,0),MAX(Criteria!$M:$M),1)*OFFSET(Scoring!$E$4,1,MATCH(I$4,Scoring!$F$4:$N$4,0),MAX(Criteria!$M:$M),)))","v":""},{"$f":"IF($C78=\"\",\"\",SUM(OFFSET('General Calc'!$F$26,MATCH($D78,'General Calc'!$E$26:$E$112,0),MATCH($C78,'General Calc'!$G$26:$Z$26,0),MAX(Criteria!$M:$M),1)*OFFSET(Scoring!$E$4,1,MATCH(J$4,Scoring!$F$4:$N$4,0),MAX(Criteria!$M:$M),)))","v":""},{"$f":"IF($C78=\"\",\"\",SUM(OFFSET('General Calc'!$F$26,MATCH($D78,'General Calc'!$E$26:$E$112,0),MATCH($C78,'General Calc'!$G$26:$Z$26,0),MAX(Criteria!$M:$M),1)*OFFSET(Scoring!$E$4,1,MATCH(K$4,Scoring!$F$4:$N$4,0),MAX(Criteria!$M:$M),)))","v":""},{"$f":"IF($C78=\"\",\"\",SUM(OFFSET('General Calc'!$F$26,MATCH($D78,'General Calc'!$E$26:$E$112,0),MATCH($C78,'General Calc'!$G$26:$Z$26,0),MAX(Criteria!$M:$M),1)*OFFSET(Scoring!$E$4,1,MATCH(L$4,Scoring!$F$4:$N$4,0),MAX(Criteria!$M:$M),)))","v":""},{"$f":"IF($C78=\"\",\"\",SUM(OFFSET('General Calc'!$F$26,MATCH($D78,'General Calc'!$E$26:$E$112,0),MATCH($C78,'General Calc'!$G$26:$Z$26,0),MAX(Criteria!$M:$M),1)*OFFSET(Scoring!$E$4,1,MATCH(M$4,Scoring!$F$4:$N$4,0),MAX(Criteria!$M:$M),)))","v":""},{"$f":"IF($C78=\"\",\"\",SUM(OFFSET('General Calc'!$F$26,MATCH($D78,'General Calc'!$E$26:$E$112,0),MATCH($C78,'General Calc'!$G$26:$Z$26,0),MAX(Criteria!$M:$M),1)*OFFSET(Scoring!$E$4,1,MATCH(N$4,Scoring!$F$4:$Z$4,0),MAX(Criteria!$M:$M),)))","v":""},{"$f":"IF($C78=\"\",\"\",SUM(OFFSET('General Calc'!$F$26,MATCH($D78,'General Calc'!$E$26:$E$112,0),MATCH($C78,'General Calc'!$G$26:$Z$26,0),MAX(Criteria!$M:$M),1)*OFFSET(Scoring!$E$4,1,MATCH(O$4,Scoring!$F$4:$Z$4,0),MAX(Criteria!$M:$M),)))","v":""},{"$f":"IF($C78=\"\",\"\",SUM(OFFSET('General Calc'!$F$26,MATCH($D78,'General Calc'!$E$26:$E$112,0),MATCH($C78,'General Calc'!$G$26:$Z$26,0),MAX(Criteria!$M:$M),1)*OFFSET(Scoring!$E$4,1,MATCH(P$4,Scoring!$F$4:$Z$4,0),MAX(Criteria!$M:$M),)))","v":""},{"$f":"IF($C78=\"\",\"\",SUM(OFFSET('General Calc'!$F$26,MATCH($D78,'General Calc'!$E$26:$E$112,0),MATCH($C78,'General Calc'!$G$26:$Z$26,0),MAX(Criteria!$M:$M),1)*OFFSET(Scoring!$E$4,1,MATCH(Q$4,Scoring!$F$4:$Z$4,0),MAX(Criteria!$M:$M),)))","v":""},{"$f":"IF($C78=\"\",\"\",SUM(OFFSET('General Calc'!$F$26,MATCH($D78,'General Calc'!$E$26:$E$112,0),MATCH($C78,'General Calc'!$G$26:$Z$26,0),MAX(Criteria!$M:$M),1)*OFFSET(Scoring!$E$4,1,MATCH(R$4,Scoring!$F$4:$Z$4,0),MAX(Criteria!$M:$M),)))","v":""},{"$f":"IF($C78=\"\",\"\",SUM(OFFSET('General Calc'!$F$26,MATCH($D78,'General Calc'!$E$26:$E$112,0),MATCH($C78,'General Calc'!$G$26:$Z$26,0),MAX(Criteria!$M:$M),1)*OFFSET(Scoring!$E$4,1,MATCH(S$4,Scoring!$F$4:$Z$4,0),MAX(Criteria!$M:$M),)))","v":""},{"$f":"IF($C78=\"\",\"\",SUM(OFFSET('General Calc'!$F$26,MATCH($D78,'General Calc'!$E$26:$E$112,0),MATCH($C78,'General Calc'!$G$26:$Z$26,0),MAX(Criteria!$M:$M),1)*OFFSET(Scoring!$E$4,1,MATCH(T$4,Scoring!$F$4:$Z$4,0),MAX(Criteria!$M:$M),)))","v":""},{"$f":"IF($C78=\"\",\"\",SUM(OFFSET('General Calc'!$F$26,MATCH($D78,'General Calc'!$E$26:$E$112,0),MATCH($C78,'General Calc'!$G$26:$Z$26,0),MAX(Criteria!$M:$M),1)*OFFSET(Scoring!$E$4,1,MATCH(U$4,Scoring!$F$4:$Z$4,0),MAX(Criteria!$M:$M),)))","v":""},{"$f":"IF($C78=\"\",\"\",SUM(OFFSET('General Calc'!$F$26,MATCH($D78,'General Calc'!$E$26:$E$112,0),MATCH($C78,'General Calc'!$G$26:$Z$26,0),MAX(Criteria!$M:$M),1)*OFFSET(Scoring!$E$4,1,MATCH(V$4,Scoring!$F$4:$Z$4,0),MAX(Criteria!$M:$M),)))","v":""},{"$f":"IF($C78=\"\",\"\",SUM(OFFSET('General Calc'!$F$26,MATCH($D78,'General Calc'!$E$26:$E$112,0),MATCH($C78,'General Calc'!$G$26:$Z$26,0),MAX(Criteria!$M:$M),1)*OFFSET(Scoring!$E$4,1,MATCH(W$4,Scoring!$F$4:$Z$4,0),MAX(Criteria!$M:$M),)))","v":""},{"$f":"IF($C78=\"\",\"\",SUM(OFFSET('General Calc'!$F$26,MATCH($D78,'General Calc'!$E$26:$E$112,0),MATCH($C78,'General Calc'!$G$26:$Z$26,0),MAX(Criteria!$M:$M),1)*OFFSET(Scoring!$E$4,1,MATCH(X$4,Scoring!$F$4:$Z$4,0),MAX(Criteria!$M:$M),)))","v":""},{"$f":"IF($C78=\"\",\"\",SUM(OFFSET('General Calc'!$F$26,MATCH($D78,'General Calc'!$E$26:$E$112,0),MATCH($C78,'General Calc'!$G$26:$Z$26,0),MAX(Criteria!$M:$M),1)*OFFSET(Scoring!$E$4,1,MATCH(Y$4,Scoring!$F$4:$Z$4,0),MAX(Criteria!$M:$M),)))","v":""},"",""]
[null,15,{"$f":"IF(INDEX('Selected Criteria'!$E$6:$E$25,$B79)=0,\"\",INDEX('Selected Criteria'!$E$6:$E$25,$B79))","v":""},"",{"$f":"IF($C79=\"\",\"\",SUM(OFFSET('General Calc'!$F$26,MATCH($D79,'General Calc'!$E$26:$E$112,0),MATCH($C79,'General Calc'!$G$26:$Z$26,0),MAX(Criteria!$M:$M),1)*OFFSET(Scoring!$E$4,1,MATCH(E$4,Scoring!$F$4:$N$4,0),MAX(Criteria!$M:$M),)))","v":""},{"$f":"IF($C79=\"\",\"\",SUM(OFFSET('General Calc'!$F$26,MATCH($D79,'General Calc'!$E$26:$E$112,0),MATCH($C79,'General Calc'!$G$26:$Z$26,0),MAX(Criteria!$M:$M),1)*OFFSET(Scoring!$E$4,1,MATCH(F$4,Scoring!$F$4:$Z$4,0),MAX(Criteria!$M:$M),)))","v":""},{"$f":"IF($C79=\"\",\"\",SUM(OFFSET('General Calc'!$F$26,MATCH($D79,'General Calc'!$E$26:$E$112,0),MATCH($C79,'General Calc'!$G$26:$Z$26,0),MAX(Criteria!$M:$M),1)*OFFSET(Scoring!$E$4,1,MATCH(G$4,Scoring!$F$4:$N$4,0),MAX(Criteria!$M:$M),)))","v":""},{"$f":"IF($C79=\"\",\"\",SUM(OFFSET('General Calc'!$F$26,MATCH($D79,'General Calc'!$E$26:$E$112,0),MATCH($C79,'General Calc'!$G$26:$Z$26,0),MAX(Criteria!$M:$M),1)*OFFSET(Scoring!$E$4,1,MATCH(H$4,Scoring!$F$4:$N$4,0),MAX(Criteria!$M:$M),)))","v":""},{"$f":"IF($C79=\"\",\"\",SUM(OFFSET('General Calc'!$F$26,MATCH($D79,'General Calc'!$E$26:$E$112,0),MATCH($C79,'General Calc'!$G$26:$Z$26,0),MAX(Criteria!$M:$M),1)*OFFSET(Scoring!$E$4,1,MATCH(I$4,Scoring!$F$4:$N$4,0),MAX(Criteria!$M:$M),)))","v":""},{"$f":"IF($C79=\"\",\"\",SUM(OFFSET('General Calc'!$F$26,MATCH($D79,'General Calc'!$E$26:$E$112,0),MATCH($C79,'General Calc'!$G$26:$Z$26,0),MAX(Criteria!$M:$M),1)*OFFSET(Scoring!$E$4,1,MATCH(J$4,Scoring!$F$4:$N$4,0),MAX(Criteria!$M:$M),)))","v":""},{"$f":"IF($C79=\"\",\"\",SUM(OFFSET('General Calc'!$F$26,MATCH($D79,'General Calc'!$E$26:$E$112,0),MATCH($C79,'General Calc'!$G$26:$Z$26,0),MAX(Criteria!$M:$M),1)*OFFSET(Scoring!$E$4,1,MATCH(K$4,Scoring!$F$4:$N$4,0),MAX(Criteria!$M:$M),)))","v":""},{"$f":"IF($C79=\"\",\"\",SUM(OFFSET('General Calc'!$F$26,MATCH($D79,'General Calc'!$E$26:$E$112,0),MATCH($C79,'General Calc'!$G$26:$Z$26,0),MAX(Criteria!$M:$M),1)*OFFSET(Scoring!$E$4,1,MATCH(L$4,Scoring!$F$4:$N$4,0),MAX(Criteria!$M:$M),)))","v":""},{"$f":"IF($C79=\"\",\"\",SUM(OFFSET('General Calc'!$F$26,MATCH($D79,'General Calc'!$E$26:$E$112,0),MATCH($C79,'General Calc'!$G$26:$Z$26,0),MAX(Criteria!$M:$M),1)*OFFSET(Scoring!$E$4,1,MATCH(M$4,Scoring!$F$4:$N$4,0),MAX(Criteria!$M:$M),)))","v":""},{"$f":"IF($C79=\"\",\"\",SUM(OFFSET('General Calc'!$F$26,MATCH($D79,'General Calc'!$E$26:$E$112,0),MATCH($C79,'General Calc'!$G$26:$Z$26,0),MAX(Criteria!$M:$M),1)*OFFSET(Scoring!$E$4,1,MATCH(N$4,Scoring!$F$4:$Z$4,0),MAX(Criteria!$M:$M),)))","v":""},{"$f":"IF($C79=\"\",\"\",SUM(OFFSET('General Calc'!$F$26,MATCH($D79,'General Calc'!$E$26:$E$112,0),MATCH($C79,'General Calc'!$G$26:$Z$26,0),MAX(Criteria!$M:$M),1)*OFFSET(Scoring!$E$4,1,MATCH(O$4,Scoring!$F$4:$Z$4,0),MAX(Criteria!$M:$M),)))","v":""},{"$f":"IF($C79=\"\",\"\",SUM(OFFSET('General Calc'!$F$26,MATCH($D79,'General Calc'!$E$26:$E$112,0),MATCH($C79,'General Calc'!$G$26:$Z$26,0),MAX(Criteria!$M:$M),1)*OFFSET(Scoring!$E$4,1,MATCH(P$4,Scoring!$F$4:$Z$4,0),MAX(Criteria!$M:$M),)))","v":""},{"$f":"IF($C79=\"\",\"\",SUM(OFFSET('General Calc'!$F$26,MATCH($D79,'General Calc'!$E$26:$E$112,0),MATCH($C79,'General Calc'!$G$26:$Z$26,0),MAX(Criteria!$M:$M),1)*OFFSET(Scoring!$E$4,1,MATCH(Q$4,Scoring!$F$4:$Z$4,0),MAX(Criteria!$M:$M),)))","v":""},{"$f":"IF($C79=\"\",\"\",SUM(OFFSET('General Calc'!$F$26,MATCH($D79,'General Calc'!$E$26:$E$112,0),MATCH($C79,'General Calc'!$G$26:$Z$26,0),MAX(Criteria!$M:$M),1)*OFFSET(Scoring!$E$4,1,MATCH(R$4,Scoring!$F$4:$Z$4,0),MAX(Criteria!$M:$M),)))","v":""},{"$f":"IF($C79=\"\",\"\",SUM(OFFSET('General Calc'!$F$26,MATCH($D79,'General Calc'!$E$26:$E$112,0),MATCH($C79,'General Calc'!$G$26:$Z$26,0),MAX(Criteria!$M:$M),1)*OFFSET(Scoring!$E$4,1,MATCH(S$4,Scoring!$F$4:$Z$4,0),MAX(Criteria!$M:$M),)))","v":""},{"$f":"IF($C79=\"\",\"\",SUM(OFFSET('General Calc'!$F$26,MATCH($D79,'General Calc'!$E$26:$E$112,0),MATCH($C79,'General Calc'!$G$26:$Z$26,0),MAX(Criteria!$M:$M),1)*OFFSET(Scoring!$E$4,1,MATCH(T$4,Scoring!$F$4:$Z$4,0),MAX(Criteria!$M:$M),)))","v":""},{"$f":"IF($C79=\"\",\"\",SUM(OFFSET('General Calc'!$F$26,MATCH($D79,'General Calc'!$E$26:$E$112,0),MATCH($C79,'General Calc'!$G$26:$Z$26,0),MAX(Criteria!$M:$M),1)*OFFSET(Scoring!$E$4,1,MATCH(U$4,Scoring!$F$4:$Z$4,0),MAX(Criteria!$M:$M),)))","v":""},{"$f":"IF($C79=\"\",\"\",SUM(OFFSET('General Calc'!$F$26,MATCH($D79,'General Calc'!$E$26:$E$112,0),MATCH($C79,'General Calc'!$G$26:$Z$26,0),MAX(Criteria!$M:$M),1)*OFFSET(Scoring!$E$4,1,MATCH(V$4,Scoring!$F$4:$Z$4,0),MAX(Criteria!$M:$M),)))","v":""},{"$f":"IF($C79=\"\",\"\",SUM(OFFSET('General Calc'!$F$26,MATCH($D79,'General Calc'!$E$26:$E$112,0),MATCH($C79,'General Calc'!$G$26:$Z$26,0),MAX(Criteria!$M:$M),1)*OFFSET(Scoring!$E$4,1,MATCH(W$4,Scoring!$F$4:$Z$4,0),MAX(Criteria!$M:$M),)))","v":""},{"$f":"IF($C79=\"\",\"\",SUM(OFFSET('General Calc'!$F$26,MATCH($D79,'General Calc'!$E$26:$E$112,0),MATCH($C79,'General Calc'!$G$26:$Z$26,0),MAX(Criteria!$M:$M),1)*OFFSET(Scoring!$E$4,1,MATCH(X$4,Scoring!$F$4:$Z$4,0),MAX(Criteria!$M:$M),)))","v":""},{"$f":"IF($C79=\"\",\"\",SUM(OFFSET('General Calc'!$F$26,MATCH($D79,'General Calc'!$E$26:$E$112,0),MATCH($C79,'General Calc'!$G$26:$Z$26,0),MAX(Criteria!$M:$M),1)*OFFSET(Scoring!$E$4,1,MATCH(Y$4,Scoring!$F$4:$Z$4,0),MAX(Criteria!$M:$M),)))","v":""},"",""]
[null,16,{"$f":"IF(INDEX('Selected Criteria'!$E$6:$E$25,$B80)=0,\"\",INDEX('Selected Criteria'!$E$6:$E$25,$B80))","v":""},"",{"$f":"IF($C80=\"\",\"\",SUM(OFFSET('General Calc'!$F$26,MATCH($D80,'General Calc'!$E$26:$E$112,0),MATCH($C80,'General Calc'!$G$26:$Z$26,0),MAX(Criteria!$M:$M),1)*OFFSET(Scoring!$E$4,1,MATCH(E$4,Scoring!$F$4:$N$4,0),MAX(Criteria!$M:$M),)))","v":""},{"$f":"IF($C80=\"\",\"\",SUM(OFFSET('General Calc'!$F$26,MATCH($D80,'General Calc'!$E$26:$E$112,0),MATCH($C80,'General Calc'!$G$26:$Z$26,0),MAX(Criteria!$M:$M),1)*OFFSET(Scoring!$E$4,1,MATCH(F$4,Scoring!$F$4:$Z$4,0),MAX(Criteria!$M:$M),)))","v":""},{"$f":"IF($C80=\"\",\"\",SUM(OFFSET('General Calc'!$F$26,MATCH($D80,'General Calc'!$E$26:$E$112,0),MATCH($C80,'General Calc'!$G$26:$Z$26,0),MAX(Criteria!$M:$M),1)*OFFSET(Scoring!$E$4,1,MATCH(G$4,Scoring!$F$4:$N$4,0),MAX(Criteria!$M:$M),)))","v":""},{"$f":"IF($C80=\"\",\"\",SUM(OFFSET('General Calc'!$F$26,MATCH($D80,'General Calc'!$E$26:$E$112,0),MATCH($C80,'General Calc'!$G$26:$Z$26,0),MAX(Criteria!$M:$M),1)*OFFSET(Scoring!$E$4,1,MATCH(H$4,Scoring!$F$4:$N$4,0),MAX(Criteria!$M:$M),)))","v":""},{"$f":"IF($C80=\"\",\"\",SUM(OFFSET('General Calc'!$F$26,MATCH($D80,'General Calc'!$E$26:$E$112,0),MATCH($C80,'General Calc'!$G$26:$Z$26,0),MAX(Criteria!$M:$M),1)*OFFSET(Scoring!$E$4,1,MATCH(I$4,Scoring!$F$4:$N$4,0),MAX(Criteria!$M:$M),)))","v":""},{"$f":"IF($C80=\"\",\"\",SUM(OFFSET('General Calc'!$F$26,MATCH($D80,'General Calc'!$E$26:$E$112,0),MATCH($C80,'General Calc'!$G$26:$Z$26,0),MAX(Criteria!$M:$M),1)*OFFSET(Scoring!$E$4,1,MATCH(J$4,Scoring!$F$4:$N$4,0),MAX(Criteria!$M:$M),)))","v":""},{"$f":"IF($C80=\"\",\"\",SUM(OFFSET('General Calc'!$F$26,MATCH($D80,'General Calc'!$E$26:$E$112,0),MATCH($C80,'General Calc'!$G$26:$Z$26,0),MAX(Criteria!$M:$M),1)*OFFSET(Scoring!$E$4,1,MATCH(K$4,Scoring!$F$4:$N$4,0),MAX(Criteria!$M:$M),)))","v":""},{"$f":"IF($C80=\"\",\"\",SUM(OFFSET('General Calc'!$F$26,MATCH($D80,'General Calc'!$E$26:$E$112,0),MATCH($C80,'General Calc'!$G$26:$Z$26,0),MAX(Criteria!$M:$M),1)*OFFSET(Scoring!$E$4,1,MATCH(L$4,Scoring!$F$4:$N$4,0),MAX(Criteria!$M:$M),)))","v":""},{"$f":"IF($C80=\"\",\"\",SUM(OFFSET('General Calc'!$F$26,MATCH($D80,'General Calc'!$E$26:$E$112,0),MATCH($C80,'General Calc'!$G$26:$Z$26,0),MAX(Criteria!$M:$M),1)*OFFSET(Scoring!$E$4,1,MATCH(M$4,Scoring!$F$4:$N$4,0),MAX(Criteria!$M:$M),)))","v":""},{"$f":"IF($C80=\"\",\"\",SUM(OFFSET('General Calc'!$F$26,MATCH($D80,'General Calc'!$E$26:$E$112,0),MATCH($C80,'General Calc'!$G$26:$Z$26,0),MAX(Criteria!$M:$M),1)*OFFSET(Scoring!$E$4,1,MATCH(N$4,Scoring!$F$4:$Z$4,0),MAX(Criteria!$M:$M),)))","v":""},{"$f":"IF($C80=\"\",\"\",SUM(OFFSET('General Calc'!$F$26,MATCH($D80,'General Calc'!$E$26:$E$112,0),MATCH($C80,'General Calc'!$G$26:$Z$26,0),MAX(Criteria!$M:$M),1)*OFFSET(Scoring!$E$4,1,MATCH(O$4,Scoring!$F$4:$Z$4,0),MAX(Criteria!$M:$M),)))","v":""},{"$f":"IF($C80=\"\",\"\",SUM(OFFSET('General Calc'!$F$26,MATCH($D80,'General Calc'!$E$26:$E$112,0),MATCH($C80,'General Calc'!$G$26:$Z$26,0),MAX(Criteria!$M:$M),1)*OFFSET(Scoring!$E$4,1,MATCH(P$4,Scoring!$F$4:$Z$4,0),MAX(Criteria!$M:$M),)))","v":""},{"$f":"IF($C80=\"\",\"\",SUM(OFFSET('General Calc'!$F$26,MATCH($D80,'General Calc'!$E$26:$E$112,0),MATCH($C80,'General Calc'!$G$26:$Z$26,0),MAX(Criteria!$M:$M),1)*OFFSET(Scoring!$E$4,1,MATCH(Q$4,Scoring!$F$4:$Z$4,0),MAX(Criteria!$M:$M),)))","v":""},{"$f":"IF($C80=\"\",\"\",SUM(OFFSET('General Calc'!$F$26,MATCH($D80,'General Calc'!$E$26:$E$112,0),MATCH($C80,'General Calc'!$G$26:$Z$26,0),MAX(Criteria!$M:$M),1)*OFFSET(Scoring!$E$4,1,MATCH(R$4,Scoring!$F$4:$Z$4,0),MAX(Criteria!$M:$M),)))","v":""},{"$f":"IF($C80=\"\",\"\",SUM(OFFSET('General Calc'!$F$26,MATCH($D80,'General Calc'!$E$26:$E$112,0),MATCH($C80,'General Calc'!$G$26:$Z$26,0),MAX(Criteria!$M:$M),1)*OFFSET(Scoring!$E$4,1,MATCH(S$4,Scoring!$F$4:$Z$4,0),MAX(Criteria!$M:$M),)))","v":""},{"$f":"IF($C80=\"\",\"\",SUM(OFFSET('General Calc'!$F$26,MATCH($D80,'General Calc'!$E$26:$E$112,0),MATCH($C80,'General Calc'!$G$26:$Z$26,0),MAX(Criteria!$M:$M),1)*OFFSET(Scoring!$E$4,1,MATCH(T$4,Scoring!$F$4:$Z$4,0),MAX(Criteria!$M:$M),)))","v":""},{"$f":"IF($C80=\"\",\"\",SUM(OFFSET('General Calc'!$F$26,MATCH($D80,'General Calc'!$E$26:$E$112,0),MATCH($C80,'General Calc'!$G$26:$Z$26,0),MAX(Criteria!$M:$M),1)*OFFSET(Scoring!$E$4,1,MATCH(U$4,Scoring!$F$4:$Z$4,0),MAX(Criteria!$M:$M),)))","v":""},{"$f":"IF($C80=\"\",\"\",SUM(OFFSET('General Calc'!$F$26,MATCH($D80,'General Calc'!$E$26:$E$112,0),MATCH($C80,'General Calc'!$G$26:$Z$26,0),MAX(Criteria!$M:$M),1)*OFFSET(Scoring!$E$4,1,MATCH(V$4,Scoring!$F$4:$Z$4,0),MAX(Criteria!$M:$M),)))","v":""},{"$f":"IF($C80=\"\",\"\",SUM(OFFSET('General Calc'!$F$26,MATCH($D80,'General Calc'!$E$26:$E$112,0),MATCH($C80,'General Calc'!$G$26:$Z$26,0),MAX(Criteria!$M:$M),1)*OFFSET(Scoring!$E$4,1,MATCH(W$4,Scoring!$F$4:$Z$4,0),MAX(Criteria!$M:$M),)))","v":""},{"$f":"IF($C80=\"\",\"\",SUM(OFFSET('General Calc'!$F$26,MATCH($D80,'General Calc'!$E$26:$E$112,0),MATCH($C80,'General Calc'!$G$26:$Z$26,0),MAX(Criteria!$M:$M),1)*OFFSET(Scoring!$E$4,1,MATCH(X$4,Scoring!$F$4:$Z$4,0),MAX(Criteria!$M:$M),)))","v":""},{"$f":"IF($C80=\"\",\"\",SUM(OFFSET('General Calc'!$F$26,MATCH($D80,'General Calc'!$E$26:$E$112,0),MATCH($C80,'General Calc'!$G$26:$Z$26,0),MAX(Criteria!$M:$M),1)*OFFSET(Scoring!$E$4,1,MATCH(Y$4,Scoring!$F$4:$Z$4,0),MAX(Criteria!$M:$M),)))","v":""},"",""]
[null,17,{"$f":"IF(INDEX('Selected Criteria'!$E$6:$E$25,$B81)=0,\"\",INDEX('Selected Criteria'!$E$6:$E$25,$B81))","v":""},"",{"$f":"IF($C81=\"\",\"\",SUM(OFFSET('General Calc'!$F$26,MATCH($D81,'General Calc'!$E$26:$E$112,0),MATCH($C81,'General Calc'!$G$26:$Z$26,0),MAX(Criteria!$M:$M),1)*OFFSET(Scoring!$E$4,1,MATCH(E$4,Scoring!$F$4:$N$4,0),MAX(Criteria!$M:$M),)))","v":""},{"$f":"IF($C81=\"\",\"\",SUM(OFFSET('General Calc'!$F$26,MATCH($D81,'General Calc'!$E$26:$E$112,0),MATCH($C81,'General Calc'!$G$26:$Z$26,0),MAX(Criteria!$M:$M),1)*OFFSET(Scoring!$E$4,1,MATCH(F$4,Scoring!$F$4:$Z$4,0),MAX(Criteria!$M:$M),)))","v":""},{"$f":"IF($C81=\"\",\"\",SUM(OFFSET('General Calc'!$F$26,MATCH($D81,'General Calc'!$E$26:$E$112,0),MATCH($C81,'General Calc'!$G$26:$Z$26,0),MAX(Criteria!$M:$M),1)*OFFSET(Scoring!$E$4,1,MATCH(G$4,Scoring!$F$4:$N$4,0),MAX(Criteria!$M:$M),)))","v":""},{"$f":"IF($C81=\"\",\"\",SUM(OFFSET('General Calc'!$F$26,MATCH($D81,'General Calc'!$E$26:$E$112,0),MATCH($C81,'General Calc'!$G$26:$Z$26,0),MAX(Criteria!$M:$M),1)*OFFSET(Scoring!$E$4,1,MATCH(H$4,Scoring!$F$4:$N$4,0),MAX(Criteria!$M:$M),)))","v":""},{"$f":"IF($C81=\"\",\"\",SUM(OFFSET('General Calc'!$F$26,MATCH($D81,'General Calc'!$E$26:$E$112,0),MATCH($C81,'General Calc'!$G$26:$Z$26,0),MAX(Criteria!$M:$M),1)*OFFSET(Scoring!$E$4,1,MATCH(I$4,Scoring!$F$4:$N$4,0),MAX(Criteria!$M:$M),)))","v":""},{"$f":"IF($C81=\"\",\"\",SUM(OFFSET('General Calc'!$F$26,MATCH($D81,'General Calc'!$E$26:$E$112,0),MATCH($C81,'General Calc'!$G$26:$Z$26,0),MAX(Criteria!$M:$M),1)*OFFSET(Scoring!$E$4,1,MATCH(J$4,Scoring!$F$4:$N$4,0),MAX(Criteria!$M:$M),)))","v":""},{"$f":"IF($C81=\"\",\"\",SUM(OFFSET('General Calc'!$F$26,MATCH($D81,'General Calc'!$E$26:$E$112,0),MATCH($C81,'General Calc'!$G$26:$Z$26,0),MAX(Criteria!$M:$M),1)*OFFSET(Scoring!$E$4,1,MATCH(K$4,Scoring!$F$4:$N$4,0),MAX(Criteria!$M:$M),)))","v":""},{"$f":"IF($C81=\"\",\"\",SUM(OFFSET('General Calc'!$F$26,MATCH($D81,'General Calc'!$E$26:$E$112,0),MATCH($C81,'General Calc'!$G$26:$Z$26,0),MAX(Criteria!$M:$M),1)*OFFSET(Scoring!$E$4,1,MATCH(L$4,Scoring!$F$4:$N$4,0),MAX(Criteria!$M:$M),)))","v":""},{"$f":"IF($C81=\"\",\"\",SUM(OFFSET('General Calc'!$F$26,MATCH($D81,'General Calc'!$E$26:$E$112,0),MATCH($C81,'General Calc'!$G$26:$Z$26,0),MAX(Criteria!$M:$M),1)*OFFSET(Scoring!$E$4,1,MATCH(M$4,Scoring!$F$4:$N$4,0),MAX(Criteria!$M:$M),)))","v":""},{"$f":"IF($C81=\"\",\"\",SUM(OFFSET('General Calc'!$F$26,MATCH($D81,'General Calc'!$E$26:$E$112,0),MATCH($C81,'General Calc'!$G$26:$Z$26,0),MAX(Criteria!$M:$M),1)*OFFSET(Scoring!$E$4,1,MATCH(N$4,Scoring!$F$4:$Z$4,0),MAX(Criteria!$M:$M),)))","v":""},{"$f":"IF($C81=\"\",\"\",SUM(OFFSET('General Calc'!$F$26,MATCH($D81,'General Calc'!$E$26:$E$112,0),MATCH($C81,'General Calc'!$G$26:$Z$26,0),MAX(Criteria!$M:$M),1)*OFFSET(Scoring!$E$4,1,MATCH(O$4,Scoring!$F$4:$Z$4,0),MAX(Criteria!$M:$M),)))","v":""},{"$f":"IF($C81=\"\",\"\",SUM(OFFSET('General Calc'!$F$26,MATCH($D81,'General Calc'!$E$26:$E$112,0),MATCH($C81,'General Calc'!$G$26:$Z$26,0),MAX(Criteria!$M:$M),1)*OFFSET(Scoring!$E$4,1,MATCH(P$4,Scoring!$F$4:$Z$4,0),MAX(Criteria!$M:$M),)))","v":""},{"$f":"IF($C81=\"\",\"\",SUM(OFFSET('General Calc'!$F$26,MATCH($D81,'General Calc'!$E$26:$E$112,0),MATCH($C81,'General Calc'!$G$26:$Z$26,0),MAX(Criteria!$M:$M),1)*OFFSET(Scoring!$E$4,1,MATCH(Q$4,Scoring!$F$4:$Z$4,0),MAX(Criteria!$M:$M),)))","v":""},{"$f":"IF($C81=\"\",\"\",SUM(OFFSET('General Calc'!$F$26,MATCH($D81,'General Calc'!$E$26:$E$112,0),MATCH($C81,'General Calc'!$G$26:$Z$26,0),MAX(Criteria!$M:$M),1)*OFFSET(Scoring!$E$4,1,MATCH(R$4,Scoring!$F$4:$Z$4,0),MAX(Criteria!$M:$M),)))","v":""},{"$f":"IF($C81=\"\",\"\",SUM(OFFSET('General Calc'!$F$26,MATCH($D81,'General Calc'!$E$26:$E$112,0),MATCH($C81,'General Calc'!$G$26:$Z$26,0),MAX(Criteria!$M:$M),1)*OFFSET(Scoring!$E$4,1,MATCH(S$4,Scoring!$F$4:$Z$4,0),MAX(Criteria!$M:$M),)))","v":""},{"$f":"IF($C81=\"\",\"\",SUM(OFFSET('General Calc'!$F$26,MATCH($D81,'General Calc'!$E$26:$E$112,0),MATCH($C81,'General Calc'!$G$26:$Z$26,0),MAX(Criteria!$M:$M),1)*OFFSET(Scoring!$E$4,1,MATCH(T$4,Scoring!$F$4:$Z$4,0),MAX(Criteria!$M:$M),)))","v":""},{"$f":"IF($C81=\"\",\"\",SUM(OFFSET('General Calc'!$F$26,MATCH($D81,'General Calc'!$E$26:$E$112,0),MATCH($C81,'General Calc'!$G$26:$Z$26,0),MAX(Criteria!$M:$M),1)*OFFSET(Scoring!$E$4,1,MATCH(U$4,Scoring!$F$4:$Z$4,0),MAX(Criteria!$M:$M),)))","v":""},{"$f":"IF($C81=\"\",\"\",SUM(OFFSET('General Calc'!$F$26,MATCH($D81,'General Calc'!$E$26:$E$112,0),MATCH($C81,'General Calc'!$G$26:$Z$26,0),MAX(Criteria!$M:$M),1)*OFFSET(Scoring!$E$4,1,MATCH(V$4,Scoring!$F$4:$Z$4,0),MAX(Criteria!$M:$M),)))","v":""},{"$f":"IF($C81=\"\",\"\",SUM(OFFSET('General Calc'!$F$26,MATCH($D81,'General Calc'!$E$26:$E$112,0),MATCH($C81,'General Calc'!$G$26:$Z$26,0),MAX(Criteria!$M:$M),1)*OFFSET(Scoring!$E$4,1,MATCH(W$4,Scoring!$F$4:$Z$4,0),MAX(Criteria!$M:$M),)))","v":""},{"$f":"IF($C81=\"\",\"\",SUM(OFFSET('General Calc'!$F$26,MATCH($D81,'General Calc'!$E$26:$E$112,0),MATCH($C81,'General Calc'!$G$26:$Z$26,0),MAX(Criteria!$M:$M),1)*OFFSET(Scoring!$E$4,1,MATCH(X$4,Scoring!$F$4:$Z$4,0),MAX(Criteria!$M:$M),)))","v":""},{"$f":"IF($C81=\"\",\"\",SUM(OFFSET('General Calc'!$F$26,MATCH($D81,'General Calc'!$E$26:$E$112,0),MATCH($C81,'General Calc'!$G$26:$Z$26,0),MAX(Criteria!$M:$M),1)*OFFSET(Scoring!$E$4,1,MATCH(Y$4,Scoring!$F$4:$Z$4,0),MAX(Criteria!$M:$M),)))","v":""},"",""]
[null,18,{"$f":"IF(INDEX('Selected Criteria'!$E$6:$E$25,$B82)=0,\"\",INDEX('Selected Criteria'!$E$6:$E$25,$B82))","v":""},"",{"$f":"IF($C82=\"\",\"\",SUM(OFFSET('General Calc'!$F$26,MATCH($D82,'General Calc'!$E$26:$E$112,0),MATCH($C82,'General Calc'!$G$26:$Z$26,0),MAX(Criteria!$M:$M),1)*OFFSET(Scoring!$E$4,1,MATCH(E$4,Scoring!$F$4:$N$4,0),MAX(Criteria!$M:$M),)))","v":""},{"$f":"IF($C82=\"\",\"\",SUM(OFFSET('General Calc'!$F$26,MATCH($D82,'General Calc'!$E$26:$E$112,0),MATCH($C82,'General Calc'!$G$26:$Z$26,0),MAX(Criteria!$M:$M),1)*OFFSET(Scoring!$E$4,1,MATCH(F$4,Scoring!$F$4:$Z$4,0),MAX(Criteria!$M:$M),)))","v":""},{"$f":"IF($C82=\"\",\"\",SUM(OFFSET('General Calc'!$F$26,MATCH($D82,'General Calc'!$E$26:$E$112,0),MATCH($C82,'General Calc'!$G$26:$Z$26,0),MAX(Criteria!$M:$M),1)*OFFSET(Scoring!$E$4,1,MATCH(G$4,Scoring!$F$4:$N$4,0),MAX(Criteria!$M:$M),)))","v":""},{"$f":"IF($C82=\"\",\"\",SUM(OFFSET('General Calc'!$F$26,MATCH($D82,'General Calc'!$E$26:$E$112,0),MATCH($C82,'General Calc'!$G$26:$Z$26,0),MAX(Criteria!$M:$M),1)*OFFSET(Scoring!$E$4,1,MATCH(H$4,Scoring!$F$4:$N$4,0),MAX(Criteria!$M:$M),)))","v":""},{"$f":"IF($C82=\"\",\"\",SUM(OFFSET('General Calc'!$F$26,MATCH($D82,'General Calc'!$E$26:$E$112,0),MATCH($C82,'General Calc'!$G$26:$Z$26,0),MAX(Criteria!$M:$M),1)*OFFSET(Scoring!$E$4,1,MATCH(I$4,Scoring!$F$4:$N$4,0),MAX(Criteria!$M:$M),)))","v":""},{"$f":"IF($C82=\"\",\"\",SUM(OFFSET('General Calc'!$F$26,MATCH($D82,'General Calc'!$E$26:$E$112,0),MATCH($C82,'General Calc'!$G$26:$Z$26,0),MAX(Criteria!$M:$M),1)*OFFSET(Scoring!$E$4,1,MATCH(J$4,Scoring!$F$4:$N$4,0),MAX(Criteria!$M:$M),)))","v":""},{"$f":"IF($C82=\"\",\"\",SUM(OFFSET('General Calc'!$F$26,MATCH($D82,'General Calc'!$E$26:$E$112,0),MATCH($C82,'General Calc'!$G$26:$Z$26,0),MAX(Criteria!$M:$M),1)*OFFSET(Scoring!$E$4,1,MATCH(K$4,Scoring!$F$4:$N$4,0),MAX(Criteria!$M:$M),)))","v":""},{"$f":"IF($C82=\"\",\"\",SUM(OFFSET('General Calc'!$F$26,MATCH($D82,'General Calc'!$E$26:$E$112,0),MATCH($C82,'General Calc'!$G$26:$Z$26,0),MAX(Criteria!$M:$M),1)*OFFSET(Scoring!$E$4,1,MATCH(L$4,Scoring!$F$4:$N$4,0),MAX(Criteria!$M:$M),)))","v":""},{"$f":"IF($C82=\"\",\"\",SUM(OFFSET('General Calc'!$F$26,MATCH($D82,'General Calc'!$E$26:$E$112,0),MATCH($C82,'General Calc'!$G$26:$Z$26,0),MAX(Criteria!$M:$M),1)*OFFSET(Scoring!$E$4,1,MATCH(M$4,Scoring!$F$4:$N$4,0),MAX(Criteria!$M:$M),)))","v":""},{"$f":"IF($C82=\"\",\"\",SUM(OFFSET('General Calc'!$F$26,MATCH($D82,'General Calc'!$E$26:$E$112,0),MATCH($C82,'General Calc'!$G$26:$Z$26,0),MAX(Criteria!$M:$M),1)*OFFSET(Scoring!$E$4,1,MATCH(N$4,Scoring!$F$4:$Z$4,0),MAX(Criteria!$M:$M),)))","v":""},{"$f":"IF($C82=\"\",\"\",SUM(OFFSET('General Calc'!$F$26,MATCH($D82,'General Calc'!$E$26:$E$112,0),MATCH($C82,'General Calc'!$G$26:$Z$26,0),MAX(Criteria!$M:$M),1)*OFFSET(Scoring!$E$4,1,MATCH(O$4,Scoring!$F$4:$Z$4,0),MAX(Criteria!$M:$M),)))","v":""},{"$f":"IF($C82=\"\",\"\",SUM(OFFSET('General Calc'!$F$26,MATCH($D82,'General Calc'!$E$26:$E$112,0),MATCH($C82,'General Calc'!$G$26:$Z$26,0),MAX(Criteria!$M:$M),1)*OFFSET(Scoring!$E$4,1,MATCH(P$4,Scoring!$F$4:$Z$4,0),MAX(Criteria!$M:$M),)))","v":""},{"$f":"IF($C82=\"\",\"\",SUM(OFFSET('General Calc'!$F$26,MATCH($D82,'General Calc'!$E$26:$E$112,0),MATCH($C82,'General Calc'!$G$26:$Z$26,0),MAX(Criteria!$M:$M),1)*OFFSET(Scoring!$E$4,1,MATCH(Q$4,Scoring!$F$4:$Z$4,0),MAX(Criteria!$M:$M),)))","v":""},{"$f":"IF($C82=\"\",\"\",SUM(OFFSET('General Calc'!$F$26,MATCH($D82,'General Calc'!$E$26:$E$112,0),MATCH($C82,'General Calc'!$G$26:$Z$26,0),MAX(Criteria!$M:$M),1)*OFFSET(Scoring!$E$4,1,MATCH(R$4,Scoring!$F$4:$Z$4,0),MAX(Criteria!$M:$M),)))","v":""},{"$f":"IF($C82=\"\",\"\",SUM(OFFSET('General Calc'!$F$26,MATCH($D82,'General Calc'!$E$26:$E$112,0),MATCH($C82,'General Calc'!$G$26:$Z$26,0),MAX(Criteria!$M:$M),1)*OFFSET(Scoring!$E$4,1,MATCH(S$4,Scoring!$F$4:$Z$4,0),MAX(Criteria!$M:$M),)))","v":""},{"$f":"IF($C82=\"\",\"\",SUM(OFFSET('General Calc'!$F$26,MATCH($D82,'General Calc'!$E$26:$E$112,0),MATCH($C82,'General Calc'!$G$26:$Z$26,0),MAX(Criteria!$M:$M),1)*OFFSET(Scoring!$E$4,1,MATCH(T$4,Scoring!$F$4:$Z$4,0),MAX(Criteria!$M:$M),)))","v":""},{"$f":"IF($C82=\"\",\"\",SUM(OFFSET('General Calc'!$F$26,MATCH($D82,'General Calc'!$E$26:$E$112,0),MATCH($C82,'General Calc'!$G$26:$Z$26,0),MAX(Criteria!$M:$M),1)*OFFSET(Scoring!$E$4,1,MATCH(U$4,Scoring!$F$4:$Z$4,0),MAX(Criteria!$M:$M),)))","v":""},{"$f":"IF($C82=\"\",\"\",SUM(OFFSET('General Calc'!$F$26,MATCH($D82,'General Calc'!$E$26:$E$112,0),MATCH($C82,'General Calc'!$G$26:$Z$26,0),MAX(Criteria!$M:$M),1)*OFFSET(Scoring!$E$4,1,MATCH(V$4,Scoring!$F$4:$Z$4,0),MAX(Criteria!$M:$M),)))","v":""},{"$f":"IF($C82=\"\",\"\",SUM(OFFSET('General Calc'!$F$26,MATCH($D82,'General Calc'!$E$26:$E$112,0),MATCH($C82,'General Calc'!$G$26:$Z$26,0),MAX(Criteria!$M:$M),1)*OFFSET(Scoring!$E$4,1,MATCH(W$4,Scoring!$F$4:$Z$4,0),MAX(Criteria!$M:$M),)))","v":""},{"$f":"IF($C82=\"\",\"\",SUM(OFFSET('General Calc'!$F$26,MATCH($D82,'General Calc'!$E$26:$E$112,0),MATCH($C82,'General Calc'!$G$26:$Z$26,0),MAX(Criteria!$M:$M),1)*OFFSET(Scoring!$E$4,1,MATCH(X$4,Scoring!$F$4:$Z$4,0),MAX(Criteria!$M:$M),)))","v":""},{"$f":"IF($C82=\"\",\"\",SUM(OFFSET('General Calc'!$F$26,MATCH($D82,'General Calc'!$E$26:$E$112,0),MATCH($C82,'General Calc'!$G$26:$Z$26,0),MAX(Criteria!$M:$M),1)*OFFSET(Scoring!$E$4,1,MATCH(Y$4,Scoring!$F$4:$Z$4,0),MAX(Criteria!$M:$M),)))","v":""},"",""]
[null,19,{"$f":"IF(INDEX('Selected Criteria'!$E$6:$E$25,$B83)=0,\"\",INDEX('Selected Criteria'!$E$6:$E$25,$B83))","v":""},"",{"$f":"IF($C83=\"\",\"\",SUM(OFFSET('General Calc'!$F$26,MATCH($D83,'General Calc'!$E$26:$E$112,0),MATCH($C83,'General Calc'!$G$26:$Z$26,0),MAX(Criteria!$M:$M),1)*OFFSET(Scoring!$E$4,1,MATCH(E$4,Scoring!$F$4:$N$4,0),MAX(Criteria!$M:$M),)))","v":""},{"$f":"IF($C83=\"\",\"\",SUM(OFFSET('General Calc'!$F$26,MATCH($D83,'General Calc'!$E$26:$E$112,0),MATCH($C83,'General Calc'!$G$26:$Z$26,0),MAX(Criteria!$M:$M),1)*OFFSET(Scoring!$E$4,1,MATCH(F$4,Scoring!$F$4:$Z$4,0),MAX(Criteria!$M:$M),)))","v":""},{"$f":"IF($C83=\"\",\"\",SUM(OFFSET('General Calc'!$F$26,MATCH($D83,'General Calc'!$E$26:$E$112,0),MATCH($C83,'General Calc'!$G$26:$Z$26,0),MAX(Criteria!$M:$M),1)*OFFSET(Scoring!$E$4,1,MATCH(G$4,Scoring!$F$4:$N$4,0),MAX(Criteria!$M:$M),)))","v":""},{"$f":"IF($C83=\"\",\"\",SUM(OFFSET('General Calc'!$F$26,MATCH($D83,'General Calc'!$E$26:$E$112,0),MATCH($C83,'General Calc'!$G$26:$Z$26,0),MAX(Criteria!$M:$M),1)*OFFSET(Scoring!$E$4,1,MATCH(H$4,Scoring!$F$4:$N$4,0),MAX(Criteria!$M:$M),)))","v":""},{"$f":"IF($C83=\"\",\"\",SUM(OFFSET('General Calc'!$F$26,MATCH($D83,'General Calc'!$E$26:$E$112,0),MATCH($C83,'General Calc'!$G$26:$Z$26,0),MAX(Criteria!$M:$M),1)*OFFSET(Scoring!$E$4,1,MATCH(I$4,Scoring!$F$4:$N$4,0),MAX(Criteria!$M:$M),)))","v":""},{"$f":"IF($C83=\"\",\"\",SUM(OFFSET('General Calc'!$F$26,MATCH($D83,'General Calc'!$E$26:$E$112,0),MATCH($C83,'General Calc'!$G$26:$Z$26,0),MAX(Criteria!$M:$M),1)*OFFSET(Scoring!$E$4,1,MATCH(J$4,Scoring!$F$4:$N$4,0),MAX(Criteria!$M:$M),)))","v":""},{"$f":"IF($C83=\"\",\"\",SUM(OFFSET('General Calc'!$F$26,MATCH($D83,'General Calc'!$E$26:$E$112,0),MATCH($C83,'General Calc'!$G$26:$Z$26,0),MAX(Criteria!$M:$M),1)*OFFSET(Scoring!$E$4,1,MATCH(K$4,Scoring!$F$4:$N$4,0),MAX(Criteria!$M:$M),)))","v":""},{"$f":"IF($C83=\"\",\"\",SUM(OFFSET('General Calc'!$F$26,MATCH($D83,'General Calc'!$E$26:$E$112,0),MATCH($C83,'General Calc'!$G$26:$Z$26,0),MAX(Criteria!$M:$M),1)*OFFSET(Scoring!$E$4,1,MATCH(L$4,Scoring!$F$4:$N$4,0),MAX(Criteria!$M:$M),)))","v":""},{"$f":"IF($C83=\"\",\"\",SUM(OFFSET('General Calc'!$F$26,MATCH($D83,'General Calc'!$E$26:$E$112,0),MATCH($C83,'General Calc'!$G$26:$Z$26,0),MAX(Criteria!$M:$M),1)*OFFSET(Scoring!$E$4,1,MATCH(M$4,Scoring!$F$4:$N$4,0),MAX(Criteria!$M:$M),)))","v":""},{"$f":"IF($C83=\"\",\"\",SUM(OFFSET('General Calc'!$F$26,MATCH($D83,'General Calc'!$E$26:$E$112,0),MATCH($C83,'General Calc'!$G$26:$Z$26,0),MAX(Criteria!$M:$M),1)*OFFSET(Scoring!$E$4,1,MATCH(N$4,Scoring!$F$4:$Z$4,0),MAX(Criteria!$M:$M),)))","v":""},{"$f":"IF($C83=\"\",\"\",SUM(OFFSET('General Calc'!$F$26,MATCH($D83,'General Calc'!$E$26:$E$112,0),MATCH($C83,'General Calc'!$G$26:$Z$26,0),MAX(Criteria!$M:$M),1)*OFFSET(Scoring!$E$4,1,MATCH(O$4,Scoring!$F$4:$Z$4,0),MAX(Criteria!$M:$M),)))","v":""},{"$f":"IF($C83=\"\",\"\",SUM(OFFSET('General Calc'!$F$26,MATCH($D83,'General Calc'!$E$26:$E$112,0),MATCH($C83,'General Calc'!$G$26:$Z$26,0),MAX(Criteria!$M:$M),1)*OFFSET(Scoring!$E$4,1,MATCH(P$4,Scoring!$F$4:$Z$4,0),MAX(Criteria!$M:$M),)))","v":""},{"$f":"IF($C83=\"\",\"\",SUM(OFFSET('General Calc'!$F$26,MATCH($D83,'General Calc'!$E$26:$E$112,0),MATCH($C83,'General Calc'!$G$26:$Z$26,0),MAX(Criteria!$M:$M),1)*OFFSET(Scoring!$E$4,1,MATCH(Q$4,Scoring!$F$4:$Z$4,0),MAX(Criteria!$M:$M),)))","v":""},{"$f":"IF($C83=\"\",\"\",SUM(OFFSET('General Calc'!$F$26,MATCH($D83,'General Calc'!$E$26:$E$112,0),MATCH($C83,'General Calc'!$G$26:$Z$26,0),MAX(Criteria!$M:$M),1)*OFFSET(Scoring!$E$4,1,MATCH(R$4,Scoring!$F$4:$Z$4,0),MAX(Criteria!$M:$M),)))","v":""},{"$f":"IF($C83=\"\",\"\",SUM(OFFSET('General Calc'!$F$26,MATCH($D83,'General Calc'!$E$26:$E$112,0),MATCH($C83,'General Calc'!$G$26:$Z$26,0),MAX(Criteria!$M:$M),1)*OFFSET(Scoring!$E$4,1,MATCH(S$4,Scoring!$F$4:$Z$4,0),MAX(Criteria!$M:$M),)))","v":""},{"$f":"IF($C83=\"\",\"\",SUM(OFFSET('General Calc'!$F$26,MATCH($D83,'General Calc'!$E$26:$E$112,0),MATCH($C83,'General Calc'!$G$26:$Z$26,0),MAX(Criteria!$M:$M),1)*OFFSET(Scoring!$E$4,1,MATCH(T$4,Scoring!$F$4:$Z$4,0),MAX(Criteria!$M:$M),)))","v":""},{"$f":"IF($C83=\"\",\"\",SUM(OFFSET('General Calc'!$F$26,MATCH($D83,'General Calc'!$E$26:$E$112,0),MATCH($C83,'General Calc'!$G$26:$Z$26,0),MAX(Criteria!$M:$M),1)*OFFSET(Scoring!$E$4,1,MATCH(U$4,Scoring!$F$4:$Z$4,0),MAX(Criteria!$M:$M),)))","v":""},{"$f":"IF($C83=\"\",\"\",SUM(OFFSET('General Calc'!$F$26,MATCH($D83,'General Calc'!$E$26:$E$112,0),MATCH($C83,'General Calc'!$G$26:$Z$26,0),MAX(Criteria!$M:$M),1)*OFFSET(Scoring!$E$4,1,MATCH(V$4,Scoring!$F$4:$Z$4,0),MAX(Criteria!$M:$M),)))","v":""},{"$f":"IF($C83=\"\",\"\",SUM(OFFSET('General Calc'!$F$26,MATCH($D83,'General Calc'!$E$26:$E$112,0),MATCH($C83,'General Calc'!$G$26:$Z$26,0),MAX(Criteria!$M:$M),1)*OFFSET(Scoring!$E$4,1,MATCH(W$4,Scoring!$F$4:$Z$4,0),MAX(Criteria!$M:$M),)))","v":""},{"$f":"IF($C83=\"\",\"\",SUM(OFFSET('General Calc'!$F$26,MATCH($D83,'General Calc'!$E$26:$E$112,0),MATCH($C83,'General Calc'!$G$26:$Z$26,0),MAX(Criteria!$M:$M),1)*OFFSET(Scoring!$E$4,1,MATCH(X$4,Scoring!$F$4:$Z$4,0),MAX(Criteria!$M:$M),)))","v":""},{"$f":"IF($C83=\"\",\"\",SUM(OFFSET('General Calc'!$F$26,MATCH($D83,'General Calc'!$E$26:$E$112,0),MATCH($C83,'General Calc'!$G$26:$Z$26,0),MAX(Criteria!$M:$M),1)*OFFSET(Scoring!$E$4,1,MATCH(Y$4,Scoring!$F$4:$Z$4,0),MAX(Criteria!$M:$M),)))","v":""},"",""]
[null,20,{"$f":"IF(INDEX('Selected Criteria'!$E$6:$E$25,$B84)=0,\"\",INDEX('Selected Criteria'!$E$6:$E$25,$B84))","v":""},"",{"$f":"IF($C84=\"\",\"\",SUM(OFFSET('General Calc'!$F$26,MATCH($D84,'General Calc'!$E$26:$E$112,0),MATCH($C84,'General Calc'!$G$26:$Z$26,0),MAX(Criteria!$M:$M),1)*OFFSET(Scoring!$E$4,1,MATCH(E$4,Scoring!$F$4:$N$4,0),MAX(Criteria!$M:$M),)))","v":""},{"$f":"IF($C84=\"\",\"\",SUM(OFFSET('General Calc'!$F$26,MATCH($D84,'General Calc'!$E$26:$E$112,0),MATCH($C84,'General Calc'!$G$26:$Z$26,0),MAX(Criteria!$M:$M),1)*OFFSET(Scoring!$E$4,1,MATCH(F$4,Scoring!$F$4:$Z$4,0),MAX(Criteria!$M:$M),)))","v":""},{"$f":"IF($C84=\"\",\"\",SUM(OFFSET('General Calc'!$F$26,MATCH($D84,'General Calc'!$E$26:$E$112,0),MATCH($C84,'General Calc'!$G$26:$Z$26,0),MAX(Criteria!$M:$M),1)*OFFSET(Scoring!$E$4,1,MATCH(G$4,Scoring!$F$4:$N$4,0),MAX(Criteria!$M:$M),)))","v":""},{"$f":"IF($C84=\"\",\"\",SUM(OFFSET('General Calc'!$F$26,MATCH($D84,'General Calc'!$E$26:$E$112,0),MATCH($C84,'General Calc'!$G$26:$Z$26,0),MAX(Criteria!$M:$M),1)*OFFSET(Scoring!$E$4,1,MATCH(H$4,Scoring!$F$4:$N$4,0),MAX(Criteria!$M:$M),)))","v":""},{"$f":"IF($C84=\"\",\"\",SUM(OFFSET('General Calc'!$F$26,MATCH($D84,'General Calc'!$E$26:$E$112,0),MATCH($C84,'General Calc'!$G$26:$Z$26,0),MAX(Criteria!$M:$M),1)*OFFSET(Scoring!$E$4,1,MATCH(I$4,Scoring!$F$4:$N$4,0),MAX(Criteria!$M:$M),)))","v":""},{"$f":"IF($C84=\"\",\"\",SUM(OFFSET('General Calc'!$F$26,MATCH($D84,'General Calc'!$E$26:$E$112,0),MATCH($C84,'General Calc'!$G$26:$Z$26,0),MAX(Criteria!$M:$M),1)*OFFSET(Scoring!$E$4,1,MATCH(J$4,Scoring!$F$4:$N$4,0),MAX(Criteria!$M:$M),)))","v":""},{"$f":"IF($C84=\"\",\"\",SUM(OFFSET('General Calc'!$F$26,MATCH($D84,'General Calc'!$E$26:$E$112,0),MATCH($C84,'General Calc'!$G$26:$Z$26,0),MAX(Criteria!$M:$M),1)*OFFSET(Scoring!$E$4,1,MATCH(K$4,Scoring!$F$4:$N$4,0),MAX(Criteria!$M:$M),)))","v":""},{"$f":"IF($C84=\"\",\"\",SUM(OFFSET('General Calc'!$F$26,MATCH($D84,'General Calc'!$E$26:$E$112,0),MATCH($C84,'General Calc'!$G$26:$Z$26,0),MAX(Criteria!$M:$M),1)*OFFSET(Scoring!$E$4,1,MATCH(L$4,Scoring!$F$4:$N$4,0),MAX(Criteria!$M:$M),)))","v":""},{"$f":"IF($C84=\"\",\"\",SUM(OFFSET('General Calc'!$F$26,MATCH($D84,'General Calc'!$E$26:$E$112,0),MATCH($C84,'General Calc'!$G$26:$Z$26,0),MAX(Criteria!$M:$M),1)*OFFSET(Scoring!$E$4,1,MATCH(M$4,Scoring!$F$4:$N$4,0),MAX(Criteria!$M:$M),)))","v":""},{"$f":"IF($C84=\"\",\"\",SUM(OFFSET('General Calc'!$F$26,MATCH($D84,'General Calc'!$E$26:$E$112,0),MATCH($C84,'General Calc'!$G$26:$Z$26,0),MAX(Criteria!$M:$M),1)*OFFSET(Scoring!$E$4,1,MATCH(N$4,Scoring!$F$4:$Z$4,0),MAX(Criteria!$M:$M),)))","v":""},{"$f":"IF($C84=\"\",\"\",SUM(OFFSET('General Calc'!$F$26,MATCH($D84,'General Calc'!$E$26:$E$112,0),MATCH($C84,'General Calc'!$G$26:$Z$26,0),MAX(Criteria!$M:$M),1)*OFFSET(Scoring!$E$4,1,MATCH(O$4,Scoring!$F$4:$Z$4,0),MAX(Criteria!$M:$M),)))","v":""},{"$f":"IF($C84=\"\",\"\",SUM(OFFSET('General Calc'!$F$26,MATCH($D84,'General Calc'!$E$26:$E$112,0),MATCH($C84,'General Calc'!$G$26:$Z$26,0),MAX(Criteria!$M:$M),1)*OFFSET(Scoring!$E$4,1,MATCH(P$4,Scoring!$F$4:$Z$4,0),MAX(Criteria!$M:$M),)))","v":""},{"$f":"IF($C84=\"\",\"\",SUM(OFFSET('General Calc'!$F$26,MATCH($D84,'General Calc'!$E$26:$E$112,0),MATCH($C84,'General Calc'!$G$26:$Z$26,0),MAX(Criteria!$M:$M),1)*OFFSET(Scoring!$E$4,1,MATCH(Q$4,Scoring!$F$4:$Z$4,0),MAX(Criteria!$M:$M),)))","v":""},{"$f":"IF($C84=\"\",\"\",SUM(OFFSET('General Calc'!$F$26,MATCH($D84,'General Calc'!$E$26:$E$112,0),MATCH($C84,'General Calc'!$G$26:$Z$26,0),MAX(Criteria!$M:$M),1)*OFFSET(Scoring!$E$4,1,MATCH(R$4,Scoring!$F$4:$Z$4,0),MAX(Criteria!$M:$M),)))","v":""},{"$f":"IF($C84=\"\",\"\",SUM(OFFSET('General Calc'!$F$26,MATCH($D84,'General Calc'!$E$26:$E$112,0),MATCH($C84,'General Calc'!$G$26:$Z$26,0),MAX(Criteria!$M:$M),1)*OFFSET(Scoring!$E$4,1,MATCH(S$4,Scoring!$F$4:$Z$4,0),MAX(Criteria!$M:$M),)))","v":""},{"$f":"IF($C84=\"\",\"\",SUM(OFFSET('General Calc'!$F$26,MATCH($D84,'General Calc'!$E$26:$E$112,0),MATCH($C84,'General Calc'!$G$26:$Z$26,0),MAX(Criteria!$M:$M),1)*OFFSET(Scoring!$E$4,1,MATCH(T$4,Scoring!$F$4:$Z$4,0),MAX(Criteria!$M:$M),)))","v":""},{"$f":"IF($C84=\"\",\"\",SUM(OFFSET('General Calc'!$F$26,MATCH($D84,'General Calc'!$E$26:$E$112,0),MATCH($C84,'General Calc'!$G$26:$Z$26,0),MAX(Criteria!$M:$M),1)*OFFSET(Scoring!$E$4,1,MATCH(U$4,Scoring!$F$4:$Z$4,0),MAX(Criteria!$M:$M),)))","v":""},{"$f":"IF($C84=\"\",\"\",SUM(OFFSET('General Calc'!$F$26,MATCH($D84,'General Calc'!$E$26:$E$112,0),MATCH($C84,'General Calc'!$G$26:$Z$26,0),MAX(Criteria!$M:$M),1)*OFFSET(Scoring!$E$4,1,MATCH(V$4,Scoring!$F$4:$Z$4,0),MAX(Criteria!$M:$M),)))","v":""},{"$f":"IF($C84=\"\",\"\",SUM(OFFSET('General Calc'!$F$26,MATCH($D84,'General Calc'!$E$26:$E$112,0),MATCH($C84,'General Calc'!$G$26:$Z$26,0),MAX(Criteria!$M:$M),1)*OFFSET(Scoring!$E$4,1,MATCH(W$4,Scoring!$F$4:$Z$4,0),MAX(Criteria!$M:$M),)))","v":""},{"$f":"IF($C84=\"\",\"\",SUM(OFFSET('General Calc'!$F$26,MATCH($D84,'General Calc'!$E$26:$E$112,0),MATCH($C84,'General Calc'!$G$26:$Z$26,0),MAX(Criteria!$M:$M),1)*OFFSET(Scoring!$E$4,1,MATCH(X$4,Scoring!$F$4:$Z$4,0),MAX(Criteria!$M:$M),)))","v":""},{"$f":"IF($C84=\"\",\"\",SUM(OFFSET('General Calc'!$F$26,MATCH($D84,'General Calc'!$E$26:$E$112,0),MATCH($C84,'General Calc'!$G$26:$Z$26,0),MAX(Criteria!$M:$M),1)*OFFSET(Scoring!$E$4,1,MATCH(Y$4,Scoring!$F$4:$Z$4,0),MAX(Criteria!$M:$M),)))","v":""},"",""]