{"text_format":"1","workbook":"xlsx","n_sheets":28,"sheets":["Instructions","Class-specific TLD analysis","WIM site details","Data to be exported","User-defined CTLD","Presumptive CTLD","11643-2","12058-1","12058-2","30041-1","30041-2","30042-1","30042-2","32559-2","51601-1","51601-2","70164-1","70164-2","91389-2","92206-1","92206-2","100021-2","100088-1","130000-2","131830-1","131830-2","136161-1","136237-1"],"not_rendered":{"charts":1,"images":3,"macros":1,"external_links":0,"defined_names":3,"comments":0,"pivot_tables":0},"unopened":[],"bounds":{"document_bytes":16777216,"sheet_cells":100000,"rows_first":2000,"rows_last":500,"rows_between":2000,"halvings":0,"cell_chars":16384,"cell_head_chars":4096},"cells_cut":0,"cells_raw":0,"read":"whole","date_system":"1900"}

{"sheet":"Instructions","index":0,"n_rows":56,"n_cols":8,"rows_kept":56,"cut":false,"hidden":false,"merged":[[29,1,29,12],[12,1,12,11],[13,1,13,11],[14,1,14,11],[21,1,21,11],[22,1,22,11],[23,1,23,12],[24,1,24,12],[25,1,25,12],[26,1,26,12],[27,1,27,12],[28,1,28,12],[41,1,41,12],[30,1,30,12],[31,1,31,12],[32,1,32,12],[33,2,33,12],[34,2,34,12],[35,1,35,12],[36,2,36,12],[37,2,37,12],[38,1,38,12],[39,2,39,12],[40,2,40,12],[55,1,55,6],[55,7,55,12],[42,2,42,12],[43,1,43,12],[50,1,50,12],[51,1,52,12],[53,1,53,12],[54,1,54,12]]}
[]
[]
[]
[]
[]
[]
[]
[]
[]
[]
[]
[]
[null,"Class-Specific Traffic Load Distributions (CTLD) Spreadsheet"]
[]
[null,"March 2025"]
[]
[]
[]
[]
[]
[]
[]
[null,"Instructions"]
[null,"1. This spreadsheet generates a traffic load distribution (TLD) for use in pavement design. It combines class-specific traffic load\n      distributions (CTLD) with classified vehicle counts to produce a single combined TLD."]
[null,"2. This spreadsheet must be read in conjunction with the Queensland Department of Transport and Main Roads Pavement Design\n      Supplement, with particular reference to Methods 2 and 3 in Appendix E."]
[null,"3. This spreadsheet is intended for use by experienced pavement designers. The pavement designer must assess the suitability of this\n      spreadsheet for project-specific pavement design applications. "]
[null,"4. Vehicle volumes in this spreadsheet were derived from weigh-in-motion (WIM) data recorded within the period indicated. The WIM\n      data sample size typically represents a fraction of the total vehicle volume for each particular WIM site."]
[null,"5. The presumptive CTLDs were derived by summing the recorded number of Heavy Vehicle Axle Group (HVAG) loads, at each load level,\n      from all operational Transport and Main Roads WIM sites within the period indicated."]
[null,"6. For WIM sites where Transport and Main Roads considered there was insufficient data for particular vehicle classes, the Presumptive\n      CTLDs have been adopted for those classes (refer to the \"WIM site details\" worksheet)."]
[null,"7. The preferred option is to use 12 bin classified counts. Where 4 bin classified counts are used, the counts are converted to 12 bin values\n      using classified vehicle proportions from the selected WIM site. "]
[null,"8. Lane descriptions: Lanes 1, 3 = gazettal direction; Lanes 2, 4 = against gazettal direction."]
[null,"9. The worksheets in this spreadsheet are summarised as follows:"]
[null,"            Class-specific TLD analysis"]
[null,null,"• Used to undertake the calculations to combine a set of CTLDs using classified vehicle counts/proportions. The combined TLD\n      can be exported in CSV format for use in AustPADS or CIRCLY."]
[null,null,"• User inputs: (Step 1) Insert project details; (Step 2) Insert classified vehicle counts or proportions; (Step 3) Select the\n      set of CTLDs to use; (Step 4) Export the combined TLD. "]
[null,"            WIM site details"]
[null,null,"• Includes a list of Transport and Main Roads WIM sites, together with summary data for each site."]
[null,null,"• No user input is required in this worksheet."]
[null,"            Data to be exported"]
[null,null,"• Recombined TLD to be exported as a CSV file."]
[null,null,"• No user input is required in this worksheet."]
[null,"            User-defined CTLD"]
[null,null,"• Allows the user to input their own set of CTLDs."]
[]
[]
[]
[]
[]
[]
[]
[null,"Copyright"]
[]
[]
[null,"http://creativecommons.org/licenses/by/4.0/"]
[null,"© State of Queensland (Department of Transport and Main Roads) 2025"]
[null,"Feedback: Please send your feedback regarding this document to:",null,null,null,null,null,"tmr.techdocs@tmr.qld.gov.au"]

{"sheet":"Class-specific TLD analysis","index":1,"n_rows":199,"n_cols":78,"rows_kept":199,"cut":false,"hidden":false,"merged":[[2,1,2,11],[4,2,4,11],[5,2,5,11],[6,2,6,11],[4,0,6,0],[7,0,7,11],[8,1,8,11],[15,0,15,1],[16,0,16,1],[17,0,17,1],[17,2,17,4],[17,5,17,8],[17,9,17,11],[13,8,13,11],[13,0,13,7],[14,0,14,11],[10,0,12,0],[10,2,10,6],[11,2,11,6],[12,2,12,6],[10,8,10,11],[34,24,34,29],[18,0,18,1],[20,1,20,11],[22,0,22,3],[22,4,22,8],[22,10,22,11],[23,0,23,3],[23,4,23,8],[23,10,23,11],[25,2,25,11],[30,0,30,1],[32,1,32,11],[34,6,34,11],[34,18,34,23],[34,30,34,35],[34,36,34,41],[34,42,34,47],[34,48,34,53],[34,54,34,59],[11,8,11,11],[12,8,12,11],[147,60,147,65],[147,66,147,71],[147,72,147,77],[34,66,34,71],[34,72,34,77],[34,60,34,65],[88,6,88,11],[147,18,147,23],[147,24,147,29],[147,30,147,35],[147,36,147,41],[147,42,147,47],[147,48,147,53],[147,54,147,59]]}
["Class-Specific Traffic Load Distributions Spreadsheet (Transport and Main Roads, March 2025)"]
["This is the calculation worksheet. Follow Steps 1 to 4 below to fill in the yellow cells. The resulting traffic load distribution can then be exported for use in pavement design."]
["STEP 1:","Insert project details"]
[]
["Project \nsite details","Project Name"]
[null,"Road Section(s)"]
[null,"Project Info"]
[]
["STEP 2:","Insert classified traffic count details"]
[]
["Classified Traffic Count \nsite details","Road ID/Name",null,null,null,null,null,"Chainage"]
[null,"Site ID",null,null,null,null,null,"Traffic Lane"]
[null,"Site Location",null,null,null,null,null,"Data Year"]
["Classification Type: Select either 12 bin or 4 bin classification inputs from the drop-down list (12 bin preferred) (click cell I14)",null,null,null,null,null,null,null,"12 bin"]
["Classified Traffic Counts or Proportions: Based on your selection above, enter either 12 bin or 4 bin inputs below. Enter as either counts or proportions (% or decimal)."]
[null,null,"Class 3","Class 4","Class 5","Class 6","Class 7","Class 8","Class 9","Class 10","Class 11","Class 12"]
["Counts/proportions (12 bin)"]
["Counts/proportions (4 bin)"]
["Heavy Vehicle Proportions",null,{"$f":"IFERROR(IF($I$14=\"12 bin\",C17/SUM($C$17:$L$17),($C$18*INDIRECT(ADDRESS(3,21,1,1,$K$24))/(INDIRECT(ADDRESS(3,21,1,1,$K$24))+INDIRECT(ADDRESS(3,22,1,1,$K$24))+INDIRECT(ADDRESS(3,23,1,1,$K$24))))/SUM($C$18:$L$18)),0)","v":0},{"$f":"IFERROR(IF($I$14=\"12 bin\",D17/SUM($C$17:$L$17),($C$18*INDIRECT(ADDRESS(3,22,1,1,$K$24))/(INDIRECT(ADDRESS(3,21,1,1,$K$24))+INDIRECT(ADDRESS(3,22,1,1,$K$24))+INDIRECT(ADDRESS(3,23,1,1,$K$24))))/SUM($C$18:$L$18)),0)","v":0},{"$f":"IFERROR(IF($I$14=\"12 bin\",E17/SUM($C$17:$L$17),($C$18*INDIRECT(ADDRESS(3,23,1,1,$K$24))/(INDIRECT(ADDRESS(3,21,1,1,$K$24))+INDIRECT(ADDRESS(3,22,1,1,$K$24))+INDIRECT(ADDRESS(3,23,1,1,$K$24))))/SUM($C$18:$L$18)),0)","v":0},{"$f":"IFERROR(IF($I$14=\"12 bin\",F17/SUM($C$17:$L$17),($F$18*INDIRECT(ADDRESS(3,24,1,1,$K$24))/(INDIRECT(ADDRESS(3,24,1,1,$K$24))+INDIRECT(ADDRESS(3,25,1,1,$K$24))+INDIRECT(ADDRESS(3,26,1,1,$K$24))+INDIRECT(ADDRESS(3,27,1,1,$K$24))))/SUM($C$18:$L$18)),0)","v":0},{"$f":"IFERROR(IF($I$14=\"12 bin\",G17/SUM($C$17:$L$17),($F$18*INDIRECT(ADDRESS(3,25,1,1,$K$24))/(INDIRECT(ADDRESS(3,24,1,1,$K$24))+INDIRECT(ADDRESS(3,25,1,1,$K$24))+INDIRECT(ADDRESS(3,26,1,1,$K$24))+INDIRECT(ADDRESS(3,27,1,1,$K$24))))/SUM($C$18:$L$18)),0)","v":0},{"$f":"IFERROR(IF($I$14=\"12 bin\",H17/SUM($C$17:$L$17),($F$18*INDIRECT(ADDRESS(3,26,1,1,$K$24))/(INDIRECT(ADDRESS(3,24,1,1,$K$24))+INDIRECT(ADDRESS(3,25,1,1,$K$24))+INDIRECT(ADDRESS(3,26,1,1,$K$24))+INDIRECT(ADDRESS(3,27,1,1,$K$24))))/SUM($C$18:$L$18)),0)","v":0},{"$f":"IFERROR(IF($I$14=\"12 bin\",I17/SUM($C$17:$L$17),($F$18*INDIRECT(ADDRESS(3,27,1,1,$K$24))/(INDIRECT(ADDRESS(3,24,1,1,$K$24))+INDIRECT(ADDRESS(3,25,1,1,$K$24))+INDIRECT(ADDRESS(3,26,1,1,$K$24))+INDIRECT(ADDRESS(3,27,1,1,$K$24))))/SUM($C$18:$L$18)),0)","v":0},{"$f":"IFERROR(IF($I$14=\"12 bin\",J17/SUM($C$17:$L$17),($J$18*INDIRECT(ADDRESS(3,28,1,1,$K$24))/(INDIRECT(ADDRESS(3,28,1,1,$K$24))+INDIRECT(ADDRESS(3,29,1,1,$K$24))+INDIRECT(ADDRESS(3,30,1,1,$K$24))))/SUM($C$18:$L$18)),0)","v":0},{"$f":"IFERROR(IF($I$14=\"12 bin\",K17/SUM($C$17:$L$17),($J$18*INDIRECT(ADDRESS(3,29,1,1,$K$24))/(INDIRECT(ADDRESS(3,28,1,1,$K$24))+INDIRECT(ADDRESS(3,29,1,1,$K$24))+INDIRECT(ADDRESS(3,30,1,1,$K$24))))/SUM($C$18:$L$18)),0)","v":0},{"$f":"IFERROR(IF($I$14=\"12 bin\",L17/SUM($C$17:$L$17),($J$18*INDIRECT(ADDRESS(3,30,1,1,$K$24))/(INDIRECT(ADDRESS(3,28,1,1,$K$24))+INDIRECT(ADDRESS(3,29,1,1,$K$24))+INDIRECT(ADDRESS(3,30,1,1,$K$24))))/SUM($C$18:$L$18)),0)","v":0}]
[]
["STEP 3: ","Select a WIM site from the drop-down menu (click cell A24)"]
[]
["District - Road ID - Lane - WIM Site Description",null,null,null,"Road Name",null,null,null,null,"Chainage","WIM Site ID & Lane"]
["Presumptive CTLD (2014-2023)",null,null,null,{"$f":"VLOOKUP(A24,'WIM site details'!F3:N26,7,FALSE)","v":"Presumptive Class-specific Traffic Load Distributions (Year 2014 - 2023)"},null,null,null,null,{"$f":"VLOOKUP(A24,'WIM site details'!F3:N26,8,FALSE)","v":"N/A"},{"$f":"VLOOKUP(A24,'WIM site details'!F3:N26,3,FALSE)","v":"Presumptive CTLD"}]
[]
[null,null," Weigh-in-Motion data based on selected WIM site details"]
[null,"Recombined","Class 3","Class 4","Class 5","Class 6","Class 7","Class 8","Class 9","Class 10","Class 11","Class 12"]
["NHVAG",{"$f":"IFERROR(1/SUM(G37:G86,I37:I86),0)","v":0},{"$f":"IFERROR(1/SUM(S37:S86,U37:U86),0)","v":2.0000582020667572},{"$f":"IFERROR(1/SUM(Y37:Y86,AA37:AA86),0)","v":2.000027191151347},{"$f":"IFERROR(1/SUM(AE37:AE86,AG37:AG86),0)","v":2.0010072777061461},{"$f":"IFERROR(1/SUM(AK37:AK86,AM37:AM86),0)","v":2.9998994573273698},{"$f":"IFERROR(1/SUM(AQ37:AQ86,AS37:AS86),0)","v":3.1077605326147011},{"$f":"IFERROR(1/SUM(AW37:AW86,AY37:AY86),0)","v":3.0359284672960887},{"$f":"IFERROR(1/SUM(BC37:BC86,BE37:BE86),0)","v":3.0275631991112593},{"$f":"IFERROR(1/SUM(BI37:BI86,BK37:BK86),0)","v":3.9990558935082836},{"$f":"IFERROR(1/SUM(BO37:BO86,BQ37:BQ86),0)","v":5.0483169547683708},{"$f":"IFERROR(1/SUM(BU37:BU86,BW37:BW86),0)","v":7.1601343286901447}]
["ESA / HVAG",{"$f":"IFERROR(SUM(G150:L199),0)","v":0},{"$f":"IFERROR(SUM(S150:X199),0)","v":0.52000528962570181},{"$f":"IFERROR(SUM(Y150:AD199),0)","v":1.1347349177848789},{"$f":"IFERROR(SUM(AE150:AJ199),0)","v":1.2702399541926321},{"$f":"IFERROR(SUM(AK150:AP199),0)","v":0.31390000361091996},{"$f":"IFERROR(SUM(AQ150:AV199),0)","v":0.54349143264097965},{"$f":"IFERROR(SUM(AW150:BB199),0)","v":0.89598709701750068},{"$f":"IFERROR(SUM(BC150:BH199),0)","v":1.0761273975290337},{"$f":"IFERROR(SUM(BI150:BN199),0)","v":1.3125141165958869},{"$f":"IFERROR(SUM(BO150:BT199),0)","v":1.1338278711905885},{"$f":"IFERROR(SUM(BU150:BZ199),0)","v":0.96884305433053775}]
["ESA / HV",{"$f":"IFERROR(B28*B29,0)","v":0},1.0400408446339846,2.2695006903186461,2.5417593927725783,0.94166845048745829,1.6890412241758579,2.7201527341654126,3.2580437063142753,5.2488173132856,5.723922465920376,6.9370464124250946]
["WIM recorded heavy vehicles",null,{"$f":"IF(K24=\"User-defined CTLD\",\"N/A\",VLOOKUP(K24,'WIM site details'!H3:X26,8,FALSE))","v":13865487},{"$f":"IF(K24=\"User-defined CTLD\",\"N/A\",VLOOKUP(K24,'WIM site details'!H3:X26,9,FALSE))","v":7355334},{"$f":"IF(K24=\"User-defined CTLD\",\"N/A\",VLOOKUP(K24,'WIM site details'!H3:X26,10,FALSE))","v":2204953},{"$f":"IF(K24=\"User-defined CTLD\",\"N/A\",VLOOKUP(K24,'WIM site details'!H3:X26,11,FALSE))","v":1163685},{"$f":"IF(K24=\"User-defined CTLD\",\"N/A\",VLOOKUP(K24,'WIM site details'!H3:X26,12,FALSE))","v":1911776},{"$f":"IF(K24=\"User-defined CTLD\",\"N/A\",VLOOKUP(K24,'WIM site details'!H3:X26,13,FALSE))","v":2535232},{"$f":"IF(K24=\"User-defined CTLD\",\"N/A\",VLOOKUP(K24,'WIM site details'!H3:X26,14,FALSE))","v":18474706},{"$f":"IF(K24=\"User-defined CTLD\",\"N/A\",VLOOKUP(K24,'WIM site details'!H3:X26,15,FALSE))","v":10066661},{"$f":"IF(K24=\"User-defined CTLD\",\"N/A\",VLOOKUP(K24,'WIM site details'!H3:X26,16,FALSE))","v":1328871},{"$f":"IF(K24=\"User-defined CTLD\",\"N/A\",VLOOKUP(K24,'WIM site details'!H3:X26,17,FALSE))","v":269786}]
[]
["STEP 4: ","Click the \"Export Recombined TLD\" button to export the recombined TLD to a Comma Separated Values (CSV) file"]
["Alternatively, the recombined TLD can be copied from the cells below in AGPT02 format (cells F89:L141).",null,null,null,null,null,null,null,null,null,null,null,null,null,null,null,null,"Class-specific Traffic Load Distributions (CTLD) based on the selected WIM site details (refer to Step 3) - AustPADS / CIRCLY format"]
[null,null,null,null,null,null,"Recombined - Traffic Load Distribution - AustPADS / CIRCLY format",null,null,null,null,null,null,null,null,null,null,null,{"$f":"IF(OR($K$24=\"Presumptive CTLD\",$C$31=\"Presumptive\"),C27&\" - Adopt Presumptive CTLD\",C27)","v":"Class 3 - Adopt Presumptive CTLD"},null,null,null,null,null,{"$f":"IF(OR($K$24=\"Presumptive CTLD\",$D$31=\"Presumptive\"),D27&\" - Adopt Presumptive CTLD\",D27)","v":"Class 4 - Adopt Presumptive CTLD"},null,null,null,null,null,{"$f":"IF(OR($K$24=\"Presumptive CTLD\",$E$31=\"Presumptive\"),E27&\" - Adopt Presumptive CTLD\",E27)","v":"Class 5 - Adopt Presumptive CTLD"},null,null,null,null,null,{"$f":"IF(OR($K$24=\"Presumptive CTLD\",$F$31=\"Presumptive\"),F27&\" - Adopt Presumptive CTLD\",F27)","v":"Class 6 - Adopt Presumptive CTLD"},null,null,null,null,null,{"$f":"IF(OR($K$24=\"Presumptive CTLD\",$G$31=\"Presumptive\"),G27&\" - Adopt Presumptive CTLD\",G27)","v":"Class 7 - Adopt Presumptive CTLD"},null,null,null,null,null,{"$f":"IF(OR($K$24=\"Presumptive CTLD\",$H$31=\"Presumptive\"),H27&\" - Adopt Presumptive CTLD\",H27)","v":"Class 8 - Adopt Presumptive CTLD"},null,null,null,null,null,{"$f":"IF(OR($K$24=\"Presumptive CTLD\",$I$31=\"Presumptive\"),I27&\" - Adopt Presumptive CTLD\",I27)","v":"Class 9 - Adopt Presumptive CTLD"},null,null,null,null,null,{"$f":"IF(OR($K$24=\"Presumptive CTLD\",$J$31=\"Presumptive\"),J27&\" - Adopt Presumptive CTLD\",J27)","v":"Class 10 - Adopt Presumptive CTLD"},null,null,null,null,null,{"$f":"IF(OR($K$24=\"Presumptive CTLD\",$K$31=\"Presumptive\"),K27&\" - Adopt Presumptive CTLD\",K27)","v":"Class 11 - Adopt Presumptive CTLD"},null,null,null,null,null,{"$f":"IF(OR($K$24=\"Presumptive CTLD\",$L$31=\"Presumptive\"),L27&\" - Adopt Presumptive CTLD\",L27)","v":"Class 12 - Adopt Presumptive CTLD"}]
[null,null,null,null,null,"Load (kN)","SAST","SADT","TAST","TADT","TRDT","QADT",null,null,null,null,"Row","Load (kN)","SAST","SADT","TAST","TADT","TRDT","QADT","SAST","SADT","TAST","TADT","TRDT","QADT","SAST","SADT","TAST","TADT","TRDT","QADT","SAST","SADT","TAST","TADT","TRDT","QADT","SAST","SADT","TAST","TADT","TRDT","QADT","SAST","SADT","TAST","TADT","TRDT","QADT","SAST","SADT","TAST","TADT","TRDT","QADT","SAST","SADT","TAST","TADT","TRDT","QADT","SAST","SADT","TAST","TADT","TRDT","QADT","SAST","SADT","TAST","TADT","TRDT","QADT"]
[null,null,null,null,null,{"$f":"R37","v":10},{"$f":"(S37*$C$19*$C$28+Y37*$D$19*$D$28+AE37*$E$19*$E$28+AK37*$F$19*$F$28+AQ37*$G$19*$G$28+AW37*$H$19*$H$28+BC37*$I$19*$I$28+BI37*$J$19*$J$28+BO37*$K$19*$K$28+BU37*$L$19*$L$28)/SUMPRODUCT($C$19:$L$19,$C$28:$L$28)","v":{"$error":"#DIV/0!"}},{"$error":"#DIV/0!"},{"$error":"#DIV/0!"},{"$error":"#DIV/0!"},{"$error":"#DIV/0!"},{"$error":"#DIV/0!"},null,null,null,null,1,{"$f":"INDIRECT(ADDRESS($Q37+6,R$87,1,1,$K$24))","v":10},{"$f":"IF(OR($K$24=\"Presumptive CTLD\",$C$31=\"Presumptive\"),INDIRECT(ADDRESS(($Q37+6),S$87,1,1,\"Presumptive CTLD\"),TRUE),INDIRECT(ADDRESS(($Q37+6),S$87,1,1,$K$24),TRUE))","v":1.5440663307501784E-4},4.1963988901785019E-4,0,0,0,0,{"$f":"IF(OR($K$24=\"Presumptive CTLD\",$D$31=\"Presumptive\"),INDIRECT(ADDRESS(($Q37+6),Y$87,1,1,\"Presumptive CTLD\"),TRUE),INDIRECT(ADDRESS(($Q37+6),Y$87,1,1,$K$24),TRUE))","v":1.417523667542162E-4},2.3814404236720533E-5,5.7874241495814738E-6,5.7917737249323549E-5,0,0,{"$f":"IF(OR($K$24=\"Presumptive CTLD\",$E$31=\"Presumptive\"),INDIRECT(ADDRESS(($Q37+6),AE$87,1,1,\"Presumptive CTLD\"),TRUE),INDIRECT(ADDRESS(($Q37+6),AE$87,1,1,$K$24),TRUE))","v":1.1448525196750228E-5},4.5329610865689044E-7,4.3488227690610616E-5,9.8144493521858933E-5,1.4330991853661698E-5,4.1095583965700657E-6,{"$f":"IF(OR($K$24=\"Presumptive CTLD\",$F$31=\"Presumptive\"),INDIRECT(ADDRESS(($Q37+6),AK$87,1,1,\"Presumptive CTLD\"),TRUE),INDIRECT(ADDRESS(($Q37+6),AK$87,1,1,$K$24),TRUE))","v":6.7980018175745874E-4},6.2625593914641328E-2,0,0,0,0,{"$f":"IF(OR($K$24=\"Presumptive CTLD\",$G$31=\"Presumptive\"),INDIRECT(ADDRESS(($Q37+6),AQ$87,1,1,\"Presumptive CTLD\"),TRUE),INDIRECT(ADDRESS(($Q37+6),AQ$87,1,1,$K$24),TRUE))","v":2.015530064304257E-3},2.1569120831840264E-2,1.5644397839531533E-6,9.0030956950335871E-3,0,0,{"$f":"IF(OR($K$24=\"Presumptive CTLD\",$H$31=\"Presumptive\"),INDIRECT(ADDRESS(($Q37+6),AW$87,1,1,\"Presumptive CTLD\"),TRUE),INDIRECT(ADDRESS(($Q37+6),AW$87,1,1,$K$24),TRUE))","v":2.8612169326106658E-4},1.2451814947324999E-3,1.3194372275752331E-6,3.9770814593998236E-4,1.1655743998983112E-4,0,{"$f":"IF(OR($K$24=\"Presumptive CTLD\",$I$31=\"Presumptive\"),INDIRECT(ADDRESS(($Q37+6),BC$87,1,1,\"Presumptive CTLD\"),TRUE),INDIRECT(ADDRESS(($Q37+6),BC$87,1,1,$K$24),TRUE))","v":1.3188046156290635E-4},1.1483544742915473E-4,1.0696979597330203E-5,6.0734980586051944E-5,7.1213854939614773E-5,5.3331310043374503E-6,{"$f":"IF(OR($K$24=\"Presumptive CTLD\",$J$31=\"Presumptive\"),INDIRECT(ADDRESS(($Q37+6),BI$87,1,1,\"Presumptive CTLD\"),TRUE),INDIRECT(ADDRESS(($Q37+6),BI$87,1,1,$K$24),TRUE))","v":1.4177950152390549E-4},1.5548684922823546E-4,2.2611306040275446E-5,1.06246716714883E-4,2.9044715679890773E-4,8.0765506332545502E-6,{"$f":"IF(OR($K$24=\"Presumptive CTLD\",$K$31=\"Presumptive\"),INDIRECT(ADDRESS(($Q37+6),BO$87,1,1,\"Presumptive CTLD\"),TRUE),INDIRECT(ADDRESS(($Q37+6),BO$87,1,1,$K$24),TRUE))","v":1.4712560310390727E-4},1.8801924921172653E-3,6.5727770366299995E-7,9.0080641168538997E-4,1.6841652938498527E-3,3.8343859531782902E-5,{"$f":"IF(OR($K$24=\"Presumptive CTLD\",$L$31=\"Presumptive\"),INDIRECT(ADDRESS(($Q37+6),BU$87,1,1,\"Presumptive CTLD\"),TRUE),INDIRECT(ADDRESS(($Q37+6),BU$87,1,1,$K$24),TRUE))","v":8.3434375463805569E-5},9.6852714856432009E-4,0,4.7466642938108882E-3,1.6588861316112806E-2,2.0769103588873821E-5]
[null,null,null,null,null,{"$f":"R38","v":20},{"$error":"#DIV/0!"},{"$error":"#DIV/0!"},{"$error":"#DIV/0!"},{"$error":"#DIV/0!"},{"$error":"#DIV/0!"},{"$error":"#DIV/0!"},null,null,null,null,2,20,2.5858561103918768E-2,3.2199576005634014E-3,0,0,0,0,1.8265606925869688E-3,5.4773129744457222E-5,2.1120340078342783E-5,1.345975583963153E-4,0,0,7.3158868330452673E-5,4.0796649779120135E-6,6.5690112353711827E-5,2.8944692431273405E-4,1.3193611547815532E-5,3.1963231973322732E-6,4.6074003689316217E-2,6.9146007049288305E-2,0,0,0,0,6.899016571924875E-2,6.9322593635533364E-2,3.824186138552152E-6,4.2267590265836874E-2,1.6831214227358062E-7,0,2.5157140038007692E-3,3.9424681730925041E-3,6.5971861378761651E-6,1.3279892060282783E-3,1.2473075434363311E-3,0,5.3631984986947693E-4,4.1871486094691488E-4,1.1434082393112621E-5,2.3618165838732591E-4,1.2583557897690405E-4,1.2348524808700807E-6,3.2030003420924501E-4,1.0597649765260463E-4,1.8443438370599948E-5,7.5271960794427641E-4,8.9826968780777486E-5,1.2425462512699309E-6,4.1440877615621949E-4,6.986214209961344E-4,2.1361525369047495E-6,3.2779634275958514E-4,3.0275621453434688E-4,3.5807495282598815E-6,3.1079304860267567E-4,3.7083713281927977E-4,0,1.1906781411020879E-4,9.1631146328547211E-5,3.115365538331073E-6]
[null,null,null,null,null,30,{"$error":"#DIV/0!"},{"$error":"#DIV/0!"},{"$error":"#DIV/0!"},{"$error":"#DIV/0!"},{"$error":"#DIV/0!"},{"$error":"#DIV/0!"},null,null,null,null,3,30,0.18614564085342228,8.8067541813259848E-2,0,0,0,0,1.1022026326448858E-2,1.1825552732405795E-4,1.1589880569681342E-4,3.1210998478030422E-3,4.7583867926759997E-7,0,1.8959874655105865E-4,5.0089220006586396E-5,1.1295494929113863E-3,4.1334018103108992E-3,5.4821730741785227E-5,1.4840071987614124E-5,0.12377165618914407,0.12961341183885666,0,3.1231656872100786E-7,0,0,5.326420766885729E-2,6.6389011347916194E-2,2.4335729972604603E-5,5.3220094342621801E-2,0,0,5.9592930984979434E-3,9.8856752552056101E-3,8.2992601614482157E-5,3.8137625637949374E-3,1.6412898823986144E-3,0,2.7163970559173798E-3,2.9597754739833573E-3,2.596040090511733E-5,1.2342950013949606E-3,7.1054727822124797E-4,3.0244937574933862E-6,1.9365065881491244E-3,3.8232027634167498E-4,2.9424646602080298E-5,7.9084620621736549E-3,4.8716722476765126E-4,2.2365832522858754E-6,1.5245928077243995E-3,1.0464406254715795E-3,3.9436662219779989E-6,2.2568606772988258E-3,2.7076631613992502E-3,7.0123011595089349E-6,8.5989553212384602E-4,5.0135522984505975E-4,0,4.8300117636880345E-4,9.1061687227070353E-4,1.5576827691655365E-6]
[null,null,null,null,null,40,{"$error":"#DIV/0!"},{"$error":"#DIV/0!"},{"$error":"#DIV/0!"},{"$error":"#DIV/0!"},{"$error":"#DIV/0!"},{"$error":"#DIV/0!"},null,null,null,null,4,40,0.14575254532549289,0.11829456856673265,0,0,0,0,5.2474230776223471E-2,9.8319468920174776E-5,1.30630430804839E-4,2.0980020532918985E-2,4.0786172508651426E-7,0,3.1609098835905513E-4,1.5117425223707296E-4,4.2316334397053106E-3,1.4325922791121413E-2,1.2078978848086289E-4,1.7351468785518058E-5,9.4610701438095593E-2,0.10784383951046835,0,1.2492662748840315E-6,0,0,3.564908294573841E-2,4.3810429730043038E-2,1.7556490908807609E-5,2.5931406643317344E-2,0,0,1.6129461391396888E-2,8.6388040569833902E-3,1.1518686996731785E-4,1.2575165179009192E-2,1.5984092188572048E-3,0,8.2994022967306496E-3,1.7555410910627056E-3,4.7498185035540165E-5,3.1086047511087031E-3,3.3888890984457758E-3,3.8119359192076406E-6,5.4150397378796289E-3,4.1205629783491634E-4,6.785887541226152E-5,2.9450660804577838E-2,2.5499581079585251E-3,2.9572600780224352E-6,5.4722633944706851E-3,7.8333896308106267E-4,5.751179907051249E-6,1.3977629589759333E-2,1.7835486361590842E-2,1.0891446481790473E-5,2.405517337590844E-3,4.7649463993538739E-4,1.0941965462740152E-6,2.1152656019752742E-3,8.5097897364331005E-3,4.1538207177747645E-6]
[null,null,null,null,null,50,{"$error":"#DIV/0!"},{"$error":"#DIV/0!"},{"$error":"#DIV/0!"},{"$error":"#DIV/0!"},{"$error":"#DIV/0!"},{"$error":"#DIV/0!"},null,null,null,null,5,50,8.24046579424801E-2,0.10047562466463802,3.6059710697989427E-7,0,0,0,0.14671640293648339,8.5731855252193918E-5,1.2747365399597637E-4,4.4751920724088817E-2,2.7190781672434284E-7,0,4.1633539191108756E-4,1.6839950436603479E-4,1.18049938493207E-2,3.4628233251274822E-2,3.8420706731483504E-4,1.2556983989519644E-5,4.8344317748104354E-2,0.10203059721499824,0,1.2492662748840315E-6,0,0,5.9557070600730302E-2,4.4345048244747699E-2,1.6339704410177378E-5,1.7903015139159421E-2,0,0,8.7566552316260551E-2,1.140003951356974E-2,1.2692986129273742E-4,3.1101400664613945E-2,1.4244176780028193E-3,0,7.137736118020345E-2,6.8461381816764533E-4,6.0424451137187926E-5,8.0947195938578208E-3,1.2529258003778375E-2,4.8678242724153911E-6,3.8781778585619181E-2,2.5733955442647243E-4,8.2433933610408155E-5,3.1921263379017559E-2,9.4083067940404306E-3,5.4920544306130947E-6,3.4409112792731129E-2,9.0683566175416258E-4,7.8873324439559977E-6,3.3027083993548735E-2,4.0378377203132518E-2,1.0742248584779644E-5,2.6987370208614556E-2,3.6358612742895866E-4,5.4709827313700754E-6,6.1718542600952579E-3,2.9950960287220895E-2,5.1922758972184553E-6]
[null,null,null,null,null,60,{"$error":"#DIV/0!"},{"$error":"#DIV/0!"},{"$error":"#DIV/0!"},{"$error":"#DIV/0!"},{"$error":"#DIV/0!"},{"$error":"#DIV/0!"},null,null,null,null,6,60,4.0339005887017214E-2,7.3058009203588958E-2,2.5241797488592599E-7,0,0,0,0.17529832428370432,7.9472068995684519E-5,1.0612782985985769E-4,5.3151896025056447E-2,4.0786172508651426E-7,0,5.2216444190055921E-4,9.0205925622721192E-5,3.4490742266832179E-2,5.2553089687061537E-2,8.5394513362930179E-4,8.2191167931401315E-6,1.3190826623264125E-2,0.10378648980109055,0,2.8108491184890708E-6,2.8645596111990529E-7,0,7.259831610991864E-2,4.7799778344336803E-2,1.2689344914286687E-5,2.3247814237977737E-2,0,0,0.15009432764025987,1.0439897999833938E-2,3.1165107315327004E-4,5.6992577755121634E-2,2.5322980942272342E-3,0,0.16594539980709674,7.7157189677991246E-4,1.3357740908935027E-4,2.4836548525520079E-2,2.480275045523157E-2,7.9996965065061747E-6,0.10334339771450531,2.0847509805453775E-4,1.6384461827197383E-4,3.1001286547869794E-2,1.9754580039193857E-2,7.2813210324417939E-6,8.065449533741223E-2,1.1824659747347041E-3,1.5446026036080499E-5,4.9307337551751595E-2,4.0365855528085304E-2,1.596417498015864E-5,6.0523817426291197E-2,3.3924346647573779E-4,7.6593758239181057E-6,1.3271402097953532E-2,5.7822877163959049E-2,6.7499586663839917E-6]
[null,null,null,null,null,70,{"$error":"#DIV/0!"},{"$error":"#DIV/0!"},{"$error":"#DIV/0!"},{"$error":"#DIV/0!"},{"$error":"#DIV/0!"},{"$error":"#DIV/0!"},null,null,null,null,7,70,1.3360468900711544E-2,4.4051398740991024E-2,1.0817913209396829E-7,0,0,0,8.7044409807501472E-2,6.599992031319691E-5,7.9971679157853109E-5,6.0331588108462314E-2,7.4774649599194287E-7,6.797695418108571E-8,4.1549769494547169E-4,2.0624972943888515E-5,7.0189312836418841E-2,5.4741281235468064E-2,6.7469399742794587E-4,8.9040431925684758E-6,4.6070552926972272E-3,5.1512581829294683E-2,0,3.1231656872100787E-6,1.4322798055995265E-6,0,2.5050863007035653E-2,3.648994471373284E-2,9.0389854183959951E-6,2.4846288715744305E-2,8.4156071136790305E-7,0,5.1895471899732669E-2,7.3291538752584765E-3,4.3422679159500923E-4,7.1297468039292211E-2,5.7374327818405834E-3,1.3064506965943948E-7,7.2121984068886633E-2,9.8727728487363613E-4,2.0428534313355145E-4,4.107483315537911E-2,3.5917618696843713E-2,1.1632668298051486E-5,8.4591463369315931E-2,1.9754456383814161E-4,2.6312472360113029E-4,3.3166637858575009E-2,2.6557681164830951E-2,1.165508383691195E-5,5.9331021343762946E-2,1.2463024325029249E-3,2.9906135516666497E-5,4.7062253095952543E-2,4.9758006218853922E-2,1.7157758156245265E-5,3.5623349533965079E-2,3.1800837926122594E-4,1.1160804771994955E-4,2.3640655648507803E-2,7.6057475283339934E-2,4.6730483074966095E-6]
[null,null,null,null,null,80,{"$error":"#DIV/0!"},{"$error":"#DIV/0!"},{"$error":"#DIV/0!"},{"$error":"#DIV/0!"},{"$error":"#DIV/0!"},{"$error":"#DIV/0!"},null,null,null,null,8,80,4.0294234515333505E-3,2.9373529233905325E-2,7.2119421395978854E-8,0,0,0,1.9343202179444768E-2,6.0556627916232208E-5,4.9606492710698351E-5,6.2814913060874333E-2,1.0196543127162856E-6,6.797695418108571E-8,2.6275761488151134E-4,1.0199162444780035E-5,8.1877117356383797E-2,5.6144996820643285E-2,5.2046522795520572E-4,9.5889695919968201E-6,1.198277223935419E-3,1.9600494835451159E-2,0,4.6847485308151183E-6,5.7291192223981059E-7,0,3.4714265597298988E-3,2.5678190316671033E-2,5.7362792078282281E-6,2.0301989207981888E-2,0,0,7.0157731524888994E-3,5.4625514278833793E-3,5.0468473954752666E-4,7.5882090593241316E-2,4.3981267238972291E-3,0,6.3939446496383322E-3,9.5678920672559681E-4,2.8640938145389489E-4,4.4044088940138768E-2,3.9395064718090365E-2,2.1278834779051103E-5,1.1151351626803847E-2,1.6167253790978694E-4,3.8970810576037643E-4,2.5679510975779689E-2,2.7772208358044715E-2,2.4850925025398616E-5,1.3008180614962978E-2,9.1608299909441888E-4,5.143198031162974E-5,3.3019183490517245E-2,4.1154721056059586E-2,1.7605351847277752E-5,9.7759014801247681E-3,2.8019956544026586E-4,7.495246341977003E-5,2.7159368398538625E-2,5.7722962976154472E-2,8.826869025271374E-6]
[null,null,null,null,null,90,{"$error":"#DIV/0!"},{"$error":"#DIV/0!"},{"$error":"#DIV/0!"},{"$error":"#DIV/0!"},{"$error":"#DIV/0!"},{"$error":"#DIV/0!"},null,null,null,null,9,90,1.9398743760254595E-3,1.8868855551503371E-2,3.6059710697989427E-8,0,0,0,5.336196796987689E-3,6.9810224991072198E-5,3.2995833787873602E-5,4.7434286914371758E-2,8.1572345017302852E-7,0,1.6753939312317407E-4,5.8928494125395759E-6,8.7798611769982673E-2,4.0574928244437612E-2,3.6760131484948102E-4,6.8492639942834421E-6,8.6786672950254248E-4,8.5679993650999275E-3,0,4.6847485308151183E-6,0,0,1.056425128505307E-3,1.8895523106964511E-2,5.9101058504896894E-6,1.5532991013495413E-2,0,0,2.7218174850330316E-3,3.5305704531752502E-3,5.2949015942594106E-4,6.7528790325755747E-2,3.029713791307584E-3,0,1.0865086504522269E-3,6.6912837788834785E-4,2.6648962785079936E-4,3.384833593191848E-2,2.7636214395831717E-2,4.2360809017673641E-5,1.7381449015937023E-3,9.4499436725388672E-5,4.3520524804671433E-4,1.8150228217776239E-2,2.2308959939310289E-2,3.3747556184491319E-5,2.6975524275823322E-3,8.0526410161360586E-4,7.164326969926698E-5,1.497950281380989E-2,1.3982388068491976E-2,1.8052945538310235E-5,2.6396550537361486E-3,2.2322738023059996E-4,9.3553804706428286E-5,2.1766114105494474E-2,3.7199139268836653E-2,1.3499917332767983E-5]
[null,null,null,null,null,100,{"$error":"#DIV/0!"},{"$error":"#DIV/0!"},{"$error":"#DIV/0!"},{"$error":"#DIV/0!"},{"$error":"#DIV/0!"},{"$error":"#DIV/0!"},null,null,null,null,10,100,0,1.0728548983069826E-2,0,0,0,0,0,4.1981392611590194E-5,2.81855072219877E-5,3.6295115342909426E-2,6.797695418108571E-7,0,0,2.2664805432844522E-7,7.6047177106344094E-2,2.8927466146036314E-2,3.6487160211545023E-4,7.5341903937117863E-6,0,4.482855664068904E-3,0,3.7477988246520946E-6,5.7291192223981059E-7,0,0,9.1440813987515943E-3,3.4765328532292293E-6,9.9523845288340997E-3,3.3662428454716124E-7,0,0,1.6735863179724081E-3,7.4350287773864376E-4,5.2477726280679149E-2,2.4282150290858132E-3,1.3064506965943948E-7,0,3.4924495853921227E-4,2.3143229975870877E-4,2.4507825136336932E-2,1.929173139026864E-2,4.0266928724024372E-5,0,4.4815190287224282E-5,4.3473105950944587E-4,1.4447367429017657E-2,1.660228937813038E-2,4.3812180819777764E-5,0,1.0167596556214023E-3,7.4601019365750485E-5,1.0168096467629294E-2,8.3216965417921788E-3,1.8202143435321064E-5,0,1.5952211858706445E-4,4.3767861850960603E-5,1.6798397826357239E-2,2.223893098294763E-2,1.1942234563602447E-5]
[null,null,null,null,null,110,{"$error":"#DIV/0!"},{"$error":"#DIV/0!"},{"$error":"#DIV/0!"},{"$error":"#DIV/0!"},{"$error":"#DIV/0!"},{"$error":"#DIV/0!"},null,null,null,null,11,110,{"$f":"IF(OR($K$24=\"Presumptive CTLD\",$C$31=\"Presumptive\"),INDIRECT(ADDRESS(($Q47+6),S$87,1,1,\"Presumptive CTLD\"),TRUE),INDIRECT(ADDRESS(($Q47+6),S$87,1,1,$K$24),TRUE))","v":0},5.7921058204708177E-3,0,0,0,0,{"$f":"IF(OR($K$24=\"Presumptive CTLD\",$D$31=\"Presumptive\"),INDIRECT(ADDRESS(($Q47+6),Y$87,1,1,\"Presumptive CTLD\"),TRUE),INDIRECT(ADDRESS(($Q47+6),Y$87,1,1,$K$24),TRUE))","v":0},1.6806165275628488E-5,2.6156150702004588E-5,3.2234823643185424E-2,4.7583867926759997E-7,6.797695418108571E-8,{"$f":"IF(OR($K$24=\"Presumptive CTLD\",$E$31=\"Presumptive\"),INDIRECT(ADDRESS(($Q47+6),AE$87,1,1,\"Presumptive CTLD\"),TRUE),INDIRECT(ADDRESS(($Q47+6),AE$87,1,1,$K$24),TRUE))","v":0},0,5.916756485634693E-2,2.5703430866925642E-2,3.7260578819520417E-4,5.9360287950456499E-6,{"$f":"IF(OR($K$24=\"Presumptive CTLD\",$F$31=\"Presumptive\"),INDIRECT(ADDRESS(($Q47+6),AK$87,1,1,\"Presumptive CTLD\"),TRUE),INDIRECT(ADDRESS(($Q47+6),AK$87,1,1,$K$24),TRUE))","v":0},2.7888548532043872E-3,0,3.1231656872100787E-6,0,0,{"$f":"IF(OR($K$24=\"Presumptive CTLD\",$G$31=\"Presumptive\"),INDIRECT(ADDRESS(($Q47+6),AQ$87,1,1,\"Presumptive CTLD\"),TRUE),INDIRECT(ADDRESS(($Q47+6),AQ$87,1,1,$K$24),TRUE))","v":0},3.7147146623305203E-3,5.0409726371823825E-6,8.0950436988715714E-3,0,0,{"$f":"IF(OR($K$24=\"Presumptive CTLD\",$H$31=\"Presumptive\"),INDIRECT(ADDRESS(($Q47+6),AW$87,1,1,\"Presumptive CTLD\"),TRUE),INDIRECT(ADDRESS(($Q47+6),AW$87,1,1,$K$24),TRUE))","v":0},6.9043884133810436E-4,1.0320637994093475E-3,4.3501813326050687E-2,2.2208285472309964E-3,1.3064506965943948E-7,{"$f":"IF(OR($K$24=\"Presumptive CTLD\",$I$31=\"Presumptive\"),INDIRECT(ADDRESS(($Q47+6),BC$87,1,1,\"Presumptive CTLD\"),TRUE),INDIRECT(ADDRESS(($Q47+6),BC$87,1,1,$K$24),TRUE))","v":0},1.2568956088127199E-4,2.1158445862349439E-4,1.8487785303210776E-2,1.5470749589757672E-2,3.6991885187803725E-5,{"$f":"IF(OR($K$24=\"Presumptive CTLD\",$J$31=\"Presumptive\"),INDIRECT(ADDRESS(($Q47+6),BI$87,1,1,\"Presumptive CTLD\"),TRUE),INDIRECT(ADDRESS(($Q47+6),BI$87,1,1,$K$24),TRUE))","v":0},1.4607168452820331E-5,3.5918533833514813E-4,1.2696991896362973E-2,1.1992123905994587E-2,4.5154130771149289E-5,{"$f":"IF(OR($K$24=\"Presumptive CTLD\",$K$31=\"Presumptive\"),INDIRECT(ADDRESS(($Q47+6),BO$87,1,1,\"Presumptive CTLD\"),TRUE),INDIRECT(ADDRESS(($Q47+6),BO$87,1,1,$K$24),TRUE))","v":0},3.0590788523976768E-4,5.077470260796674E-5,9.5354599607299396E-3,7.06192659150672E-3,1.5367383392115324E-5,{"$f":"IF(OR($K$24=\"Presumptive CTLD\",$L$31=\"Presumptive\"),INDIRECT(ADDRESS(($Q47+6),BU$87,1,1,\"Presumptive CTLD\"),TRUE),INDIRECT(ADDRESS(($Q47+6),BU$87,1,1,$K$24),TRUE))","v":0},1.0721129398546215E-4,3.1731699841946437E-5,1.3988397413356312E-2,1.3705845192363205E-2,8.3076414355495291E-6]
[null,null,null,null,null,120,{"$error":"#DIV/0!"},{"$error":"#DIV/0!"},{"$error":"#DIV/0!"},{"$error":"#DIV/0!"},{"$error":"#DIV/0!"},{"$error":"#DIV/0!"},null,null,null,null,12,120,0,3.1828976499209275E-3,0,0,0,0,0,1.8098947219907604E-5,1.9166144910951635E-5,2.7668295571048621E-2,4.7583867926759997E-7,0,0,0,3.6373553640426722E-2,2.4339381070125302E-2,3.4644604116074228E-4,4.3378671963795144E-6,0,1.6131976598726702E-3,0,4.37243196209411E-6,0,0,0,1.5179798141929034E-3,3.3027062105677679E-6,7.6237655544316007E-3,1.6831214227358062E-7,1.6831214227358062E-7,0,3.3417135939011041E-4,6.7858656614194237E-4,3.5045480533334658E-2,1.7145768346330233E-3,6.5322534829719738E-7,0,3.6102891367091779E-5,1.1579705140572075E-4,1.6359057309829235E-2,1.2147603234122081E-2,1.891650829390834E-5,0,5.4404249849790003E-6,2.0220397520784951E-4,1.3786710091857892E-2,9.881612445638923E-3,2.6540787927125723E-5,0,7.9795572210275816E-5,2.4976552739193997E-5,1.0469955309870386E-2,6.2721666581719241E-3,1.2532623348909585E-5,0,7.4063840772565649E-5,2.5166520564302347E-5,1.4428948325564083E-2,9.7848604336489876E-3,6.7499586663839917E-6]
[null,null,null,null,null,130,{"$error":"#DIV/0!"},{"$error":"#DIV/0!"},{"$error":"#DIV/0!"},{"$error":"#DIV/0!"},{"$error":"#DIV/0!"},{"$error":"#DIV/0!"},null,null,null,null,13,130,0,1.9694458872583378E-3,3.6059710697989427E-8,0,0,0,0,2.8985532013836991E-5,1.4130334287289834E-5,2.3722547753091183E-2,5.4381563344868568E-7,0,0,0,1.5334177969118202E-2,2.3296284166689749E-2,3.4621856509957306E-4,3.6529407969511693E-6,0,1.1441382337249687E-3,0,3.7477988246520946E-6,2.8645596111990529E-7,0,0,9.3200424531976933E-4,3.1288795679063065E-6,6.7207629669600128E-3,3.3662428454716124E-7,1.6831214227358062E-7,0,1.7260971033452609E-4,2.7945680480043439E-4,3.1730509727874771E-2,1.4721061735170533E-3,3.9193520897831843E-7,0,1.5592729703865297E-5,3.9605791685577207E-5,1.7153475146856036E-2,1.0665647025102521E-2,1.5122468787466931E-5,0,3.2543181416997673E-6,8.2733421107630356E-5,1.7712597072495413E-2,9.5090143525131277E-3,2.3111360273620713E-5,0,3.9375758997220212E-5,2.1197205943131747E-5,1.3818427000369959E-2,6.044093291240585E-3,1.3129414936952899E-5,0,4.3506032341926676E-5,1.6960046467247236E-5,1.6046199852869703E-2,9.269758791858566E-3,6.7499586663839917E-6]
[null,null,null,null,null,140,{"$error":"#DIV/0!"},{"$error":"#DIV/0!"},{"$error":"#DIV/0!"},{"$error":"#DIV/0!"},{"$error":"#DIV/0!"},{"$error":"#DIV/0!"},null,null,null,null,14,140,0,1.0309306036074438E-3,0,0,0,0,0,1.8983482234414365E-5,9.4703304265878678E-6,2.0320084625387966E-2,5.4381563344868568E-7,6.797695418108571E-8,0,0,7.1599933611456914E-3,2.134246076216683E-2,3.8534444762068122E-4,2.5113967979039289E-6,0,8.587483812856826E-4,0,3.7477988246520946E-6,0,0,0,6.4575181224956011E-4,3.9980127812136143E-6,5.0995661500865134E-3,1.6831214227358062E-7,0,0,8.6694786741813929E-5,1.0489525959223103E-4,2.609945090884869E-2,1.057463151212091E-3,6.5322534829719738E-7,0,6.7771153185377835E-6,1.5982545986599245E-5,1.8277832145418015E-2,9.6080417156904959E-3,1.2259042744869643E-5,0,2.0618962271838223E-6,3.7261236112727637E-5,2.1781744472888543E-2,9.5086417295784723E-3,1.7569603992956822E-5,0,2.1328536123494283E-5,1.5774664887911995E-5,1.8390433198086753E-2,6.4988984170624917E-3,1.1637435966844615E-5,0,2.9004021561284451E-5,1.2036162009014166E-5,1.8329713453044186E-2,1.1267524857857796E-2,2.0769103588873823E-6]
[null,null,null,null,null,150,{"$error":"#DIV/0!"},{"$error":"#DIV/0!"},{"$error":"#DIV/0!"},{"$error":"#DIV/0!"},{"$error":"#DIV/0!"},{"$error":"#DIV/0!"},null,null,null,null,15,150,0,6.4282956255602242E-4,0,0,0,0,0,8.0968974404849801E-6,9.9212985421396709E-6,1.7708620078240062E-2,0,0,0,0,4.9654400606321406E-3,2.0538038573924156E-2,3.9444349006745051E-4,2.5113967979039289E-6,0,5.3496270532544859E-4,0,3.7477988246520946E-6,2.8645596111990529E-7,0,0,4.3139925501522119E-4,2.0859197119375374E-6,3.7039095880521426E-3,0,0,0,4.5881948605487736E-5,7.3888484744213067E-5,1.9465221689691083E-2,7.4365465893177661E-4,1.3064506965943948E-7,0,2.5749461896291315E-6,8.7373648475671915E-6,2.0437490817755657E-2,9.1015883752386933E-3,1.4084476847025414E-5,0,7.9494794301063012E-7,2.2411647708793985E-5,2.7400325228824667E-2,1.015057167987274E-2,1.9905590945344294E-5,0,1.148459637418923E-5,1.5938984313827747E-5,2.2332038880328205E-2,8.1189646600754329E-3,1.0742248584779644E-5,0,8.2868633032241281E-6,9.3006706433291283E-6,1.9534886806298821E-2,1.5088077738675187E-2,3.6345931280529188E-6]
[null,null,null,null,null,160,{"$error":"#DIV/0!"},{"$error":"#DIV/0!"},{"$error":"#DIV/0!"},{"$error":"#DIV/0!"},{"$error":"#DIV/0!"},{"$error":"#DIV/0!"},null,null,null,null,16,160,0,3.7352244313558925E-4,0,0,0,0,0,1.224740789317056E-6,8.4180714903003262E-6,1.6490716110447948E-2,3.3988477090542855E-7,0,0,0,4.0698114556144598E-3,2.2218054707836436E-2,4.5631697870548201E-4,3.424631997141721E-6,0,2.1862696527226422E-4,0,1.8738994123260473E-6,0,0,0,2.6368900599291038E-4,2.4335729972604606E-6,3.417271488058832E-3,0,3.3662428454716124E-7,0,3.1844411921655791E-5,8.8666181693055669E-5,1.5041709263466763E-2,5.6017739553641257E-4,6.5322534829719738E-7,0,1.126538957962745E-6,1.0031789269428998E-5,2.3524622883646859E-2,9.5556191641758218E-3,2.0956699349258907E-5,0,4.9684246438164382E-8,1.6921043593053811E-5,3.8455324670631397E-2,1.1661955144361479E-2,2.8056694353675038E-5,0,1.0440542158353845E-6,1.8075136850732497E-5,2.6651378047132086E-2,1.099417975901117E-2,8.3550822326063907E-6,0,2.5896447822575401E-6,1.2036162009014166E-5,1.7092443558594624E-2,2.0929692739643135E-2,3.6345931280529188E-6]
[null,null,null,null,null,170,{"$error":"#DIV/0!"},{"$error":"#DIV/0!"},{"$error":"#DIV/0!"},{"$error":"#DIV/0!"},{"$error":"#DIV/0!"},{"$error":"#DIV/0!"},null,null,null,null,17,170,0,2.7035360293419327E-4,0,0,0,0,0,1.0886584793929385E-6,5.0358106236618023E-6,1.2618317163960018E-2,1.3595390836217142E-7,0,0,0,2.6248578692416977E-3,2.1208957051579356E-2,5.0931890095791334E-4,2.0547791982850329E-6,0,1.335257743340434E-4,0,1.2492662748840315E-6,0,0,0,1.8623246527979491E-4,1.5644397839531533E-6,3.313421982659024E-3,3.3662428454716124E-7,6.7324856909432249E-7,0,2.3785826047604119E-5,8.9853675197873383E-5,1.096159527883649E-2,4.4582895942598728E-4,1.0451605572755158E-6,0,6.7949968892990966E-7,9.4924457603199116E-6,2.1505135611896396E-2,1.0123381143489773E-2,2.0813528047129042E-5,0,9.9368492876328764E-8,1.1155909271526627E-5,4.4876382381619562E-2,1.3069351968552559E-2,3.1858885882561026E-5,0,8.9490361357318675E-7,1.6924900869322248E-5,2.7326498391087594E-2,1.4704322261987712E-2,9.9962590997255027E-6,0,1.035857912903016E-6,7.1122775507810988E-6,1.311350782272043E-2,2.7997197879063056E-2,3.6345931280529188E-6]
[null,null,null,null,null,180,{"$error":"#DIV/0!"},{"$error":"#DIV/0!"},{"$error":"#DIV/0!"},{"$error":"#DIV/0!"},{"$error":"#DIV/0!"},{"$error":"#DIV/0!"},null,null,null,null,18,180,0,1.9479027611302396E-4,0,0,0,0,0,4.7628808473441062E-7,0,7.7564902061294776E-3,3.3988477090542855E-7,0,0,0,0,1.4527198334417972E-2,6.4148249249723784E-4,2.0547791982850329E-6,0,1.034394947094199E-4,0,6.2463313744201573E-7,8.5936788335971588E-7,0,0,1.0608178402013635E-4,0,3.4219842695032312E-3,0,1.6831214227358062E-7,0,1.7156989280239036E-5,0,6.055402107049598E-3,4.0762618645273163E-4,6.5322534829719738E-7,0,4.2915769827152189E-7,0,1.2766718194653347E-2,1.169498492184582E-2,2.3229543770570503E-5,0,2.4842123219082191E-8,0,2.9290905687628238E-2,1.5698032881839151E-2,3.7127281987945532E-5,0,1.1932048180975822E-6,0,1.9104608858914938E-2,1.895721975123681E-2,5.9679158804331363E-6,0,1.035857912903016E-6,0,9.2199903013166027E-3,3.3246057724402832E-2,5.711503486940301E-6]
[null,null,null,null,null,190,{"$error":"#DIV/0!"},{"$error":"#DIV/0!"},{"$error":"#DIV/0!"},{"$error":"#DIV/0!"},{"$error":"#DIV/0!"},{"$error":"#DIV/0!"},null,null,null,null,19,190,0,0,0,0,0,0,0,0,0,4.2439697819395758E-3,3.3988477090542855E-7,0,0,0,0,8.9331888653198695E-3,7.4020710304468519E-4,2.5113967979039289E-6,0,0,0,3.1231656872100786E-7,0,0,0,0,0,1.9233197701841241E-3,0,0,0,0,0,2.9995067811729613E-3,4.9156833387015739E-4,1.1758056269349553E-6,0,0,0,5.2238340955816599E-3,1.3635245108687912E-2,2.8705846077037821E-5,0,0,0,1.1231472828653241E-2,1.8894591147539618E-2,3.6058692211853388E-5,0,0,0,9.8067602535095895E-3,2.258641856908674E-2,5.2219263953789939E-6,0,0,0,5.9828988159638394E-3,3.6202068151159922E-2,4.6730483074966095E-6]
[null,null,null,null,null,200,{"$error":"#DIV/0!"},{"$error":"#DIV/0!"},{"$error":"#DIV/0!"},{"$error":"#DIV/0!"},{"$error":"#DIV/0!"},{"$error":"#DIV/0!"},null,null,null,null,20,200,0,0,0,0,0,0,0,0,0,2.412423309276988E-3,1.3595390836217142E-7,6.797695418108571E-8,0,0,0,5.903629280070064E-3,8.2232596112677837E-4,1.8264703984755846E-6,0,0,0,0,0,0,0,0,0,7.3553053257238319E-4,0,0,0,0,0,1.9226674758640507E-3,6.716671207440771E-4,1.5677408359132737E-6,0,0,0,2.1657375340978012E-3,1.5579528172095762E-2,3.5327518800544052E-5,0,0,0,4.399488489678729E-3,2.2421094601112395E-2,3.4642189485405669E-5,0,0,0,5.2405676334952135E-3,2.4898158290897993E-2,6.4155095714656215E-6,0,0,0,3.6745362806707045E-3,3.6435546382765423E-2,4.6730483074966095E-6]
[null,null,null,null,null,210,{"$error":"#DIV/0!"},{"$error":"#DIV/0!"},{"$error":"#DIV/0!"},{"$error":"#DIV/0!"},{"$error":"#DIV/0!"},{"$error":"#DIV/0!"},null,null,null,null,21,210,{"$f":"IF(OR($K$24=\"Presumptive CTLD\",$C$31=\"Presumptive\"),INDIRECT(ADDRESS(($Q57+6),S$87,1,1,\"Presumptive CTLD\"),TRUE),INDIRECT(ADDRESS(($Q57+6),S$87,1,1,$K$24),TRUE))","v":0},0,0,0,0,0,{"$f":"IF(OR($K$24=\"Presumptive CTLD\",$D$31=\"Presumptive\"),INDIRECT(ADDRESS(($Q57+6),Y$87,1,1,\"Presumptive CTLD\"),TRUE),INDIRECT(ADDRESS(($Q57+6),Y$87,1,1,$K$24),TRUE))","v":0},0,0,1.4703763576324747E-3,4.0786172508651426E-7,0,{"$f":"IF(OR($K$24=\"Presumptive CTLD\",$E$31=\"Presumptive\"),INDIRECT(ADDRESS(($Q57+6),AE$87,1,1,\"Presumptive CTLD\"),TRUE),INDIRECT(ADDRESS(($Q57+6),AE$87,1,1,$K$24),TRUE))","v":0},0,0,4.0672166091368055E-3,7.9411892954179338E-4,1.3698527988566886E-6,{"$f":"IF(OR($K$24=\"Presumptive CTLD\",$F$31=\"Presumptive\"),INDIRECT(ADDRESS(($Q57+6),AK$87,1,1,\"Presumptive CTLD\"),TRUE),INDIRECT(ADDRESS(($Q57+6),AK$87,1,1,$K$24),TRUE))","v":0},0,0,0,2.8645596111990529E-7,0,{"$f":"IF(OR($K$24=\"Presumptive CTLD\",$G$31=\"Presumptive\"),INDIRECT(ADDRESS(($Q57+6),AQ$87,1,1,\"Presumptive CTLD\"),TRUE),INDIRECT(ADDRESS(($Q57+6),AQ$87,1,1,$K$24),TRUE))","v":0},0,0,3.5295366746093535E-4,1.6831214227358062E-7,0,{"$f":"IF(OR($K$24=\"Presumptive CTLD\",$H$31=\"Presumptive\"),INDIRECT(ADDRESS(($Q57+6),AW$87,1,1,\"Presumptive CTLD\"),TRUE),INDIRECT(ADDRESS(($Q57+6),AW$87,1,1,$K$24),TRUE))","v":0},0,0,1.3735937663761823E-3,6.8284208154577764E-4,1.6983859055727132E-6,{"$f":"IF(OR($K$24=\"Presumptive CTLD\",$I$31=\"Presumptive\"),INDIRECT(ADDRESS(($Q57+6),BC$87,1,1,\"Presumptive CTLD\"),TRUE),INDIRECT(ADDRESS(($Q57+6),BC$87,1,1,$K$24),TRUE))","v":0},0,0,1.0072495146530491E-3,1.5327195474440031E-2,4.6530673192205943E-5,{"$f":"IF(OR($K$24=\"Presumptive CTLD\",$J$31=\"Presumptive\"),INDIRECT(ADDRESS(($Q57+6),BI$87,1,1,\"Presumptive CTLD\"),TRUE),INDIRECT(ADDRESS(($Q57+6),BI$87,1,1,$K$24),TRUE))","v":0},0,0,2.176977091257604E-3,2.2990214029975121E-2,4.0134243916018763E-5,{"$f":"IF(OR($K$24=\"Presumptive CTLD\",$K$31=\"Presumptive\"),INDIRECT(ADDRESS(($Q57+6),BO$87,1,1,\"Presumptive CTLD\"),TRUE),INDIRECT(ADDRESS(($Q57+6),BO$87,1,1,$K$24),TRUE))","v":0},0,0,2.8596839652114052E-3,2.4099007101277787E-2,7.4598948505414202E-6,{"$f":"IF(OR($K$24=\"Presumptive CTLD\",$L$31=\"Presumptive\"),INDIRECT(ADDRESS(($Q57+6),BU$87,1,1,\"Presumptive CTLD\"),TRUE),INDIRECT(ADDRESS(($Q57+6),BU$87,1,1,$K$24),TRUE))","v":0},0,0,2.1789409982168211E-3,2.9391854987589082E-2,4.1538207177747645E-6]
[null,null,null,null,null,220,{"$error":"#DIV/0!"},{"$error":"#DIV/0!"},{"$error":"#DIV/0!"},{"$error":"#DIV/0!"},{"$error":"#DIV/0!"},{"$error":"#DIV/0!"},null,null,null,null,22,220,0,0,0,0,0,0,0,0,0,9.2532422469224435E-4,3.3988477090542855E-7,0,0,0,0,2.6805006475508165E-3,6.0986331999471452E-4,1.1415439990472406E-6,0,0,0,0,2.8645596111990529E-7,0,0,0,0,1.6848193663728959E-4,1.6831214227358062E-7,1.6831214227358062E-7,0,0,0,8.4699751825636886E-4,4.5427515072959831E-4,9.1451548761607634E-7,0,0,0,4.7533123163402322E-4,1.062450640742337E-2,4.9143549456075968E-5,0,0,0,1.0760057363818464E-3,1.8391301770465902E-2,4.9801253750898826E-5,0,0,0,1.4426616667700157E-3,1.8965120331921357E-2,4.7743327043465087E-6,0,0,0,1.1849835934707302E-3,2.0539354410085368E-2,4.1538207177747645E-6]
[null,null,null,null,null,230,{"$error":"#DIV/0!"},{"$error":"#DIV/0!"},{"$error":"#DIV/0!"},{"$error":"#DIV/0!"},{"$error":"#DIV/0!"},{"$error":"#DIV/0!"},null,null,null,null,23,230,0,0,0,0,0,0,0,0,0,6.3947435951219086E-4,2.7190781672434284E-7,0,0,0,0,2.0429014321305182E-3,5.3206650707483664E-4,3.424631997141721E-6,0,0,0,0,2.8645596111990529E-7,0,0,0,0,8.3988497884123384E-5,0,1.6831214227358062E-7,0,0,0,5.0671733719893214E-4,2.6001275074654637E-4,1.8290309752321527E-6,0,0,0,2.5695706240292564E-4,5.8792642460666943E-3,4.9698338251829193E-5,0,0,0,5.8101577209361663E-4,1.2748200681938099E-2,6.0437449661769433E-5,0,0,0,7.8080820526362296E-4,1.2261552154861006E-2,6.4155095714656215E-6,0,0,0,6.3727164856376966E-4,1.3307223821329411E-2,2.5961379486092276E-6]
[null,null,null,null,null,240,{"$error":"#DIV/0!"},{"$error":"#DIV/0!"},{"$error":"#DIV/0!"},{"$error":"#DIV/0!"},{"$error":"#DIV/0!"},{"$error":"#DIV/0!"},null,null,null,null,24,240,0,0,0,0,0,0,0,0,0,5.5083031095219334E-4,2.0393086254325713E-7,0,0,0,0,1.5315527545662836E-3,3.8921154066055814E-4,3.424631997141721E-6,0,0,0,3.1231656872100786E-7,0,0,0,0,0,4.3256601114668757E-5,1.6831214227358062E-7,0,0,0,0,3.1663337198815325E-4,1.3293005697836928E-4,9.1451548761607634E-7,0,0,0,1.5563674006522876E-4,2.9423676790980625E-3,4.2951390638959334E-5,0,0,0,3.3436539793835055E-4,7.0266500449009776E-3,6.0984170012328208E-5,0,0,0,4.4406789680800544E-4,7.4919865023543777E-3,6.4155095714656215E-6,0,0,0,3.2665995958061633E-4,8.0392094425763248E-3,3.115365538331073E-6]
[null,null,null,null,null,250,{"$error":"#DIV/0!"},{"$error":"#DIV/0!"},{"$error":"#DIV/0!"},{"$error":"#DIV/0!"},{"$error":"#DIV/0!"},{"$error":"#DIV/0!"},null,null,null,null,25,250,0,0,0,0,0,0,0,0,0,4.9420416643495559E-4,6.797695418108571E-8,0,0,0,0,1.0993089921039626E-3,2.9617383164234174E-4,3.424631997141721E-6,0,0,0,0,0,0,0,0,0,2.5920297944198402E-5,1.6831214227358062E-7,0,0,0,0,2.0060809452183365E-4,7.4976190495131058E-5,2.2209661842104713E-6,0,0,0,1.0378762505211407E-4,1.5789522328828322E-3,3.6150753787790769E-5,0,0,0,2.1000929228609329E-4,3.4331489876772703E-3,5.5815177607045289E-5,0,0,0,2.5684088157106191E-4,4.2508105434078949E-3,5.072728498368165E-6,0,0,0,1.8274321035175524E-4,4.7482535261324007E-3,2.0769103588873823E-6]
[null,null,null,null,null,260,{"$error":"#DIV/0!"},{"$error":"#DIV/0!"},{"$error":"#DIV/0!"},{"$error":"#DIV/0!"},{"$error":"#DIV/0!"},{"$error":"#DIV/0!"},null,null,null,null,26,260,0,0,0,0,0,0,0,0,0,4.0195725393808702E-4,2.7190781672434284E-7,0,0,0,0,7.2826387456289318E-4,2.2542877661871019E-4,5.0227935958078578E-6,0,0,0,0,0,0,0,0,0,1.582148056334188E-5,1.6831214227358062E-7,1.6831214227358062E-7,0,0,0,1.1459607472037389E-4,5.0547206416994773E-5,1.5677408359132737E-6,0,0,0,6.7135664439395065E-5,8.9686904129574602E-4,2.7864714677024869E-5,0,0,0,1.3419330458120131E-4,1.8774482354935893E-3,4.5775403896784251E-5,0,0,0,1.5145115245281422E-4,2.5518875611095443E-3,4.0283432192923663E-6,0,0,0,1.2165624485173507E-4,2.6267595280850195E-3,4.6730483074966095E-6]
[null,null,null,null,null,270,{"$error":"#DIV/0!"},{"$error":"#DIV/0!"},{"$error":"#DIV/0!"},{"$error":"#DIV/0!"},{"$error":"#DIV/0!"},{"$error":"#DIV/0!"},null,null,null,null,27,270,0,0,0,0,0,0,0,0,0,2.35681684323245E-4,0,0,0,0,0,4.3813696530658959E-4,1.4035272974141693E-4,5.7077199952362021E-6,0,0,0,0,0,0,0,0,0,1.2455208103056373E-5,0,1.6831214227358062E-7,0,0,0,6.1585645598024057E-5,3.1965585549050676E-5,1.3064506965943948E-6,0,0,0,4.5537826185656253E-5,4.880017466035264E-4,2.0026085885414789E-5,0,0,0,7.8523701551495249E-5,1.0836371770340362E-3,3.5735630186523207E-5,0,0,0,9.0184987434992715E-5,1.6357183368219538E-3,5.2219263953789939E-6,0,0,0,6.367539624154644E-5,1.4862882548545707E-3,2.0769103588873823E-6]
[null,null,null,null,null,280,{"$error":"#DIV/0!"},{"$error":"#DIV/0!"},{"$error":"#DIV/0!"},{"$error":"#DIV/0!"},{"$error":"#DIV/0!"},{"$error":"#DIV/0!"},null,null,null,null,28,280,0,0,0,0,0,0,0,0,0,1.286154446898124E-4,6.797695418108571E-8,0,0,0,0,2.4932781264213585E-4,9.8269658425108791E-5,1.1187131190662956E-5,0,0,0,0,0,0,0,0,0,5.0494086904282601E-6,0,0,0,0,0,3.5989923693360051E-5,2.7807460599580672E-5,1.4370957662538342E-6,0,0,0,2.6192742584211389E-5,2.9034441133929308E-4,1.4030787608726713E-5,0,0,0,4.4689699174672557E-5,6.8070757702734085E-4,2.5546750926109775E-5,0,0,0,5.1278736657252057E-5,1.0646405141330898E-3,5.6695200864114792E-6,0,0,0,3.7273402677978405E-5,8.805908469201062E-4,1.0384551794436911E-6]
[null,null,null,null,null,290,{"$error":"#DIV/0!"},{"$error":"#DIV/0!"},{"$error":"#DIV/0!"},{"$error":"#DIV/0!"},{"$error":"#DIV/0!"},{"$error":"#DIV/0!"},null,null,null,null,29,290,0,0,0,0,0,0,0,0,0,5.9277308546256031E-5,1.3595390836217142E-7,0,0,0,0,1.2058399665965114E-4,5.1637065885415959E-5,1.4611763187804677E-5,0,0,0,0,0,0,0,0,0,3.5345860832997819E-6,0,0,0,0,0,2.2867243935131297E-5,1.9621152105311596E-5,1.3064506965943948E-6,0,0,0,1.7288998006097212E-5,1.7627351138580519E-4,9.9325090852593463E-6,0,0,0,2.5934433539943382E-5,4.3745932528470446E-4,1.7793262318185406E-5,0,0,0,2.8918822417171216E-5,6.8988466807728076E-4,4.3267390133140235E-6,0,0,0,2.6919679711873291E-5,5.2700851391220937E-4,4.6730483074966095E-6]
[null,null,null,null,null,300,{"$error":"#DIV/0!"},{"$error":"#DIV/0!"},{"$error":"#DIV/0!"},{"$error":"#DIV/0!"},{"$error":"#DIV/0!"},{"$error":"#DIV/0!"},null,null,null,null,30,300,0,0,0,0,0,0,0,0,0,2.3180690612698744E-5,6.797695418108571E-8,0,0,0,0,5.757205855554773E-5,3.6396169787077323E-5,1.18720575900913E-5,0,0,0,0,0,0,0,0,0,2.1880770991855793E-6,1.6831214227358062E-7,0,0,0,0,1.1303694445206948E-5,1.5073202941828776E-5,1.4370957662538342E-6,0,0,0,1.0888314152754085E-5,1.1221143700753762E-4,6.9974973915971251E-6,0,0,0,1.3265313707212419E-5,2.8207556153366376E-4,1.205269863731833E-5,0,0,0,1.0881824930172675E-5,4.3676795105151956E-4,3.1331558372273963E-6,0,0,0,1.3977526004241903E-5,3.0129563369047719E-4,3.6345931280529188E-6]
[null,null,null,null,null,310,{"$error":"#DIV/0!"},{"$error":"#DIV/0!"},{"$error":"#DIV/0!"},{"$error":"#DIV/0!"},{"$error":"#DIV/0!"},{"$error":"#DIV/0!"},null,null,null,null,31,310,{"$f":"IF(OR($K$24=\"Presumptive CTLD\",$C$31=\"Presumptive\"),INDIRECT(ADDRESS(($Q67+6),S$87,1,1,\"Presumptive CTLD\"),TRUE),INDIRECT(ADDRESS(($Q67+6),S$87,1,1,$K$24),TRUE))","v":0},0,0,0,0,0,{"$f":"IF(OR($K$24=\"Presumptive CTLD\",$D$31=\"Presumptive\"),INDIRECT(ADDRESS(($Q67+6),Y$87,1,1,\"Presumptive CTLD\"),TRUE),INDIRECT(ADDRESS(($Q67+6),Y$87,1,1,$K$24),TRUE))","v":0},0,0,1.1624334588772684E-5,6.797695418108571E-8,0,{"$f":"IF(OR($K$24=\"Presumptive CTLD\",$E$31=\"Presumptive\"),INDIRECT(ADDRESS(($Q67+6),AE$87,1,1,\"Presumptive CTLD\"),TRUE),INDIRECT(ADDRESS(($Q67+6),AE$87,1,1,$K$24),TRUE))","v":0},0,0,3.2185953995621172E-5,2.2747606116923332E-5,1.438345438799523E-5,{"$f":"IF(OR($K$24=\"Presumptive CTLD\",$F$31=\"Presumptive\"),INDIRECT(ADDRESS(($Q67+6),AK$87,1,1,\"Presumptive CTLD\"),TRUE),INDIRECT(ADDRESS(($Q67+6),AK$87,1,1,$K$24),TRUE))","v":0},0,0,0,0,0,{"$f":"IF(OR($K$24=\"Presumptive CTLD\",$G$31=\"Presumptive\"),INDIRECT(ADDRESS(($Q67+6),AQ$87,1,1,\"Presumptive CTLD\"),TRUE),INDIRECT(ADDRESS(($Q67+6),AQ$87,1,1,$K$24),TRUE))","v":0},0,0,1.0098817380856521E-6,0,0,{"$f":"IF(OR($K$24=\"Presumptive CTLD\",$H$31=\"Presumptive\"),INDIRECT(ADDRESS(($Q67+6),AW$87,1,1,\"Presumptive CTLD\"),TRUE),INDIRECT(ADDRESS(($Q67+6),AW$87,1,1,$K$24),TRUE))","v":0},0,0,1.1173766922848247E-5,1.3643847490448461E-5,4.1806422291020633E-6,{"$f":"IF(OR($K$24=\"Presumptive CTLD\",$I$31=\"Presumptive\"),INDIRECT(ADDRESS(($Q67+6),BC$87,1,1,\"Presumptive CTLD\"),TRUE),INDIRECT(ADDRESS(($Q67+6),BC$87,1,1,$K$24),TRUE))","v":0},0,0,7.4376661536054188E-6,7.8526550563592289E-5,4.9930991617790225E-6,{"$f":"IF(OR($K$24=\"Presumptive CTLD\",$J$31=\"Presumptive\"),INDIRECT(ADDRESS(($Q67+6),BI$87,1,1,\"Presumptive CTLD\"),TRUE),INDIRECT(ADDRESS(($Q67+6),BI$87,1,1,$K$24),TRUE))","v":0},0,0,9.5887848145767691E-6,1.9490663635342368E-4,7.9522960081275564E-6,{"$f":"IF(OR($K$24=\"Presumptive CTLD\",$K$31=\"Presumptive\"),INDIRECT(ADDRESS(($Q67+6),BO$87,1,1,\"Presumptive CTLD\"),TRUE),INDIRECT(ADDRESS(($Q67+6),BO$87,1,1,$K$24),TRUE))","v":0},0,0,6.2607759872226346E-6,2.6996135131546146E-4,4.0283432192923663E-6,{"$f":"IF(OR($K$24=\"Presumptive CTLD\",$L$31=\"Presumptive\"),INDIRECT(ADDRESS(($Q67+6),BU$87,1,1,\"Presumptive CTLD\"),TRUE),INDIRECT(ADDRESS(($Q67+6),BU$87,1,1,$K$24),TRUE))","v":0},0,0,1.0871409114410368E-5,2.008637557936515E-4,1.5576827691655365E-6]
[null,null,null,null,null,320,{"$error":"#DIV/0!"},{"$error":"#DIV/0!"},{"$error":"#DIV/0!"},{"$error":"#DIV/0!"},{"$error":"#DIV/0!"},{"$error":"#DIV/0!"},null,null,null,null,32,320,0,0,0,0,0,0,0,0,0,7.6135992628218747E-6,1.3595390836217142E-7,0,0,0,0,2.3799473024931149E-5,1.4330991853661698E-5,1.438345438799523E-5,0,0,0,0,0,0,0,0,0,1.0098817380856521E-6,0,3.3662428454716124E-7,0,0,0,6.1065935508589251E-6,1.4423495918474086E-5,3.6580619504643054E-6,0,0,0,6.0788617601582746E-6,5.2726502188532251E-5,3.4898004894154459E-6,0,0,0,8.4957627113607649E-6,1.2328850831277616E-4,5.4175016555368986E-6,0,0,0,5.5154455125532731E-6,1.8186242330472829E-4,3.8791453222815391E-6,0,0,0,4.6591753347473006E-6,1.3201097352417816E-4,1.5576827691655365E-6]
[null,null,null,null,null,330,{"$f":"(S69*$C$19*$C$28+Y69*$D$19*$D$28+AE69*$E$19*$E$28+AK69*$F$19*$F$28+AQ69*$G$19*$G$28+AW69*$H$19*$H$28+BC69*$I$19*$I$28+BI69*$J$19*$J$28+BO69*$K$19*$K$28+BU69*$L$19*$L$28)/SUMPRODUCT($C$19:$L$19,$C$28:$L$28)","v":{"$error":"#DIV/0!"}},{"$error":"#DIV/0!"},{"$error":"#DIV/0!"},{"$error":"#DIV/0!"},{"$error":"#DIV/0!"},{"$error":"#DIV/0!"},null,null,null,null,33,{"$f":"INDIRECT(ADDRESS($Q69+6,R$87,1,1,$K$24))","v":330},0,0,0,0,0,0,0,0,0,5.6422208822697818E-6,6.797695418108571E-8,6.797695418108571E-8,0,0,0,1.5639653702097614E-5,1.1601279119630898E-5,1.4611763187804677E-5,0,0,0,0,0,0,0,0,0,0,0,1.6831214227358062E-7,0,0,0,4.6773908049132197E-6,1.4423495918474086E-5,4.5725774380803815E-6,0,0,0,4.988242444365173E-6,3.6563478119887576E-5,2.7023583277011911E-6,0,0,0,6.110987213434935E-6,8.2498717732566937E-5,3.4791295035558063E-6,0,0,0,2.9813218986774448E-6,1.0658330546137765E-4,3.7299474252707101E-6,0,0,0,4.1414891864420449E-6,8.5936555313778737E-5,3.115365538331073E-6]
[null,null,null,null,null,340,{"$error":"#DIV/0!"},{"$error":"#DIV/0!"},{"$error":"#DIV/0!"},{"$error":"#DIV/0!"},{"$error":"#DIV/0!"},{"$error":"#DIV/0!"},null,null,null,null,34,340,0,0,0,0,0,0,0,0,0,0,6.797695418108571E-8,6.797695418108571E-8,0,0,0,0,7.0517578962462322E-6,1.1415439990472404E-5,0,0,0,0,0,0,0,0,0,0,0,0,0,0,0,0,1.3383964681106585E-5,6.5322534829719734E-6,0,0,0,0,2.529942373576573E-5,1.986501817051869E-6,0,0,0,0,5.1670380272128638E-5,2.8330054528954423E-6,0,0,0,0,7.0210820800431997E-5,1.6411768671191124E-6,0,0,0,0,4.6592108302651119E-5,1.0384551794436911E-6]
[null,null,null,null,null,350,{"$error":"#DIV/0!"},{"$error":"#DIV/0!"},{"$error":"#DIV/0!"},{"$error":"#DIV/0!"},{"$error":"#DIV/0!"},{"$error":"#DIV/0!"},null,null,null,null,35,350,0,0,0,0,0,0,0,0,0,0,0,0,0,0,0,0,6.824281835076999E-6,1.438345438799523E-5,0,0,0,0,0,0,0,0,0,0,0,0,0,0,0,0,8.9659569222947027E-6,6.0096732043342155E-6,0,0,0,0,1.7217911701443389E-5,1.7180556255583732E-6,0,0,0,0,3.4529725278009045E-5,2.1123286271588825E-6,0,0,0,0,4.2186119504293538E-5,1.1935831760866272E-6,0,0,0,0,3.5720616365365854E-5,5.1922758972184557E-7]
[null,null,null,null,null,360,{"$error":"#DIV/0!"},{"$error":"#DIV/0!"},{"$error":"#DIV/0!"},{"$error":"#DIV/0!"},{"$error":"#DIV/0!"},{"$error":"#DIV/0!"},null,null,null,null,36,360,0,0,0,0,0,0,0,0,0,0,0,0,0,0,0,0,5.0044733457231318E-6,2.260257118113536E-5,0,0,0,0,0,0,0,0,0,0,0,0,0,0,0,0,5.9773046148631346E-6,1.3325797105262826E-5,0,0,0,0,1.3695659774979894E-5,1.6106771489609748E-6,0,0,0,0,2.4046600049721404E-5,1.1928444012191336E-6,0,0,0,0,2.6832160815451718E-5,2.3871663521732544E-6,0,0,0,0,1.9672223505563806E-5,5.1922758972184557E-7]
[null,null,null,null,null,370,{"$error":"#DIV/0!"},{"$error":"#DIV/0!"},{"$error":"#DIV/0!"},{"$error":"#DIV/0!"},{"$error":"#DIV/0!"},{"$error":"#DIV/0!"},null,null,null,null,37,370,0,0,0,0,0,0,0,0,0,0,0,0,0,0,0,0,2.7297127340307995E-6,3.493124637084556E-5,0,0,0,0,0,0,0,0,0,0,0,1.6831214227358062E-7,0,0,0,0,2.4688866887478168E-6,1.3848377383900583E-5,0,0,0,0,9.2079174727345226E-6,1.3780237829999451E-6,0,0,0,0,1.4855234328236983E-5,7.4552775076195852E-7,0,0,0,0,1.4608620888412601E-5,7.4598948505414204E-7,0,0,0,0,1.0871491937285261E-5,0]
[null,null,null,null,null,380,{"$error":"#DIV/0!"},{"$error":"#DIV/0!"},{"$error":"#DIV/0!"},{"$error":"#DIV/0!"},{"$error":"#DIV/0!"},{"$error":"#DIV/0!"},null,null,null,null,38,380,0,0,0,0,0,0,0,0,0,0,0,0,0,0,0,0,5.2319494068923658E-6,4.0867275165891212E-5,0,0,0,0,0,0,0,0,0,0,0,0,0,0,0,0,1.0395312373675018E-6,1.6722568916408253E-5,0,0,0,0,7.79544081186845E-6,1.0021991149090511E-6,0,0,0,0,9.7130378300011048E-6,9.4433515096514738E-7,0,0,0,0,1.0881931886266531E-5,1.6411768671191124E-6,0,0,0,0,9.8361117527819029E-6,1.0384551794436911E-6]
[null,null,null,null,null,390,{"$error":"#DIV/0!"},{"$error":"#DIV/0!"},{"$error":"#DIV/0!"},{"$error":"#DIV/0!"},{"$error":"#DIV/0!"},{"$error":"#DIV/0!"},null,null,null,null,39,390,0,0,0,0,0,0,0,0,0,0,0,0,0,0,0,0,7.2792339574154662E-6,5.4109185554839194E-5,0,0,0,0,0,0,0,0,0,0,0,0,0,0,0,0,6.4970702335468855E-7,1.7506439334364889E-5,0,0,0,0,5.4532326780272422E-6,6.2637444681815685E-7,0,0,0,0,7.0053111715097474E-6,5.9642220060956681E-7,0,0,0,0,5.217364603004501E-6,2.9839579402165679E-7,0,0,0,0,7.7653513837751865E-6,0]
[null,null,null,null,null,400,{"$error":"#DIV/0!"},{"$error":"#DIV/0!"},{"$error":"#DIV/0!"},{"$error":"#DIV/0!"},{"$error":"#DIV/0!"},{"$error":"#DIV/0!"},null,null,null,null,40,400,0,0,0,0,0,0,0,0,0,0,0,0,0,0,0,0,3.8670930398769659E-6,5.2739332755982509E-5,0,0,0,0,0,0,0,0,0,0,0,1.6831214227358062E-7,0,0,0,0,9.0958983269656401E-7,1.6722568916408253E-5,0,0,0,0,4.8453313303127304E-6,7.6954574894802134E-7,0,0,0,0,4.5459998027882405E-6,3.9761480040637784E-7,0,0,0,0,3.1304187618027004E-6,4.4759369103248519E-7,0,0,0,0,2.5884504612583955E-6,5.1922758972184557E-7]
[null,null,null,null,null,410,{"$error":"#DIV/0!"},{"$error":"#DIV/0!"},{"$error":"#DIV/0!"},{"$error":"#DIV/0!"},{"$error":"#DIV/0!"},{"$error":"#DIV/0!"},null,null,null,null,41,410,{"$f":"IF(OR($K$24=\"Presumptive CTLD\",$C$31=\"Presumptive\"),INDIRECT(ADDRESS(($Q77+6),S$87,1,1,\"Presumptive CTLD\"),TRUE),INDIRECT(ADDRESS(($Q77+6),S$87,1,1,$K$24),TRUE))","v":0},0,0,0,0,0,{"$f":"IF(OR($K$24=\"Presumptive CTLD\",$D$31=\"Presumptive\"),INDIRECT(ADDRESS(($Q77+6),Y$87,1,1,\"Presumptive CTLD\"),TRUE),INDIRECT(ADDRESS(($Q77+6),Y$87,1,1,$K$24),TRUE))","v":0},0,0,0,0,0,{"$f":"IF(OR($K$24=\"Presumptive CTLD\",$E$31=\"Presumptive\"),INDIRECT(ADDRESS(($Q77+6),AE$87,1,1,\"Presumptive CTLD\"),TRUE),INDIRECT(ADDRESS(($Q77+6),AE$87,1,1,$K$24),TRUE))","v":0},0,0,0,0,4.8173156759793549E-5,{"$f":"IF(OR($K$24=\"Presumptive CTLD\",$F$31=\"Presumptive\"),INDIRECT(ADDRESS(($Q77+6),AK$87,1,1,\"Presumptive CTLD\"),TRUE),INDIRECT(ADDRESS(($Q77+6),AK$87,1,1,$K$24),TRUE))","v":0},0,0,0,0,0,{"$f":"IF(OR($K$24=\"Presumptive CTLD\",$G$31=\"Presumptive\"),INDIRECT(ADDRESS(($Q77+6),AQ$87,1,1,\"Presumptive CTLD\"),TRUE),INDIRECT(ADDRESS(($Q77+6),AQ$87,1,1,$K$24),TRUE))","v":0},0,0,0,0,0,{"$f":"IF(OR($K$24=\"Presumptive CTLD\",$H$31=\"Presumptive\"),INDIRECT(ADDRESS(($Q77+6),AW$87,1,1,\"Presumptive CTLD\"),TRUE),INDIRECT(ADDRESS(($Q77+6),AW$87,1,1,$K$24),TRUE))","v":0},0,0,0,0,1.4240312592878903E-5,{"$f":"IF(OR($K$24=\"Presumptive CTLD\",$I$31=\"Presumptive\"),INDIRECT(ADDRESS(($Q77+6),BC$87,1,1,\"Presumptive CTLD\"),TRUE),INDIRECT(ADDRESS(($Q77+6),BC$87,1,1,$K$24),TRUE))","v":0},0,0,0,0,5.905816212856907E-7,{"$f":"IF(OR($K$24=\"Presumptive CTLD\",$J$31=\"Presumptive\"),INDIRECT(ADDRESS(($Q77+6),BI$87,1,1,\"Presumptive CTLD\"),TRUE),INDIRECT(ADDRESS(($Q77+6),BI$87,1,1,$K$24),TRUE))","v":0},0,0,0,0,4.2246572543177642E-7,{"$f":"IF(OR($K$24=\"Presumptive CTLD\",$K$31=\"Presumptive\"),INDIRECT(ADDRESS(($Q77+6),BO$87,1,1,\"Presumptive CTLD\"),TRUE),INDIRECT(ADDRESS(($Q77+6),BO$87,1,1,$K$24),TRUE))","v":0},0,0,0,0,1.491978970108284E-7,{"$f":"IF(OR($K$24=\"Presumptive CTLD\",$L$31=\"Presumptive\"),INDIRECT(ADDRESS(($Q77+6),BU$87,1,1,\"Presumptive CTLD\"),TRUE),INDIRECT(ADDRESS(($Q77+6),BU$87,1,1,$K$24),TRUE))","v":0},0,0,0,0,0]
[null,null,null,null,null,420,{"$error":"#DIV/0!"},{"$error":"#DIV/0!"},{"$error":"#DIV/0!"},{"$error":"#DIV/0!"},{"$error":"#DIV/0!"},{"$error":"#DIV/0!"},null,null,null,null,42,420,0,0,0,0,0,0,0,0,0,0,0,0,0,0,0,0,0,2.8081982376562118E-5,0,0,0,0,0,0,0,0,0,0,0,0,0,0,0,0,0,1.005967036377684E-5,0,0,0,0,0,2.8634260425972887E-7,0,0,0,0,0,2.7336017527938477E-7,0,0,0,0,0,0,0,0,0,0,0,5.1922758972184557E-7]
[null,null,null,null,null,430,{"$error":"#DIV/0!"},{"$error":"#DIV/0!"},{"$error":"#DIV/0!"},{"$error":"#DIV/0!"},{"$error":"#DIV/0!"},{"$error":"#DIV/0!"},null,null,null,null,43,430,0,0,0,0,0,0,0,0,0,0,0,0,0,0,0,0,0,2.2830879980944809E-5,0,0,0,0,0,0,0,0,0,0,0,0,0,0,0,0,0,6.5322534829719734E-6,0,0,0,0,0,2.6844619149349585E-7,0,0,0,0,0,1.491055501523917E-7,0,0,0,0,0,1.491978970108284E-7,0,0,0,0,0,5.1922758972184557E-7]
[null,null,null,null,null,440,{"$error":"#DIV/0!"},{"$error":"#DIV/0!"},{"$error":"#DIV/0!"},{"$error":"#DIV/0!"},{"$error":"#DIV/0!"},{"$error":"#DIV/0!"},null,null,null,null,44,440,0,0,0,0,0,0,0,0,0,0,0,0,0,0,0,0,0,1.0958822390853509E-5,0,0,0,0,0,0,0,0,0,0,0,0,0,0,0,0,0,2.3516112538699106E-6,0,0,0,0,0,2.5054977872726277E-7,0,0,0,0,0,2.2365832522858756E-7,0,0,0,0,0,0,0,0,0,0,0,0]
[null,null,null,null,null,450,{"$error":"#DIV/0!"},{"$error":"#DIV/0!"},{"$error":"#DIV/0!"},{"$error":"#DIV/0!"},{"$error":"#DIV/0!"},{"$error":"#DIV/0!"},null,null,null,null,45,450,0,0,0,0,0,0,0,0,0,0,0,6.797695418108571E-8,0,0,0,0,0,8.2191167931401315E-6,0,0,0,0,0,0,0,0,0,0,0,0,0,0,0,0,0,2.8741915325076685E-6,0,0,0,0,0,1.968605404285636E-7,0,0,0,0,0,1.2425462512699307E-7,0,0,0,0,0,1.491978970108284E-7,0,0,0,0,0,0]
[null,null,null,null,null,460,{"$error":"#DIV/0!"},{"$error":"#DIV/0!"},{"$error":"#DIV/0!"},{"$error":"#DIV/0!"},{"$error":"#DIV/0!"},{"$error":"#DIV/0!"},null,null,null,null,46,460,0,0,0,0,0,0,0,0,0,0,0,0,0,0,0,0,0,5.2511023956173065E-6,0,0,0,0,0,0,0,0,0,0,0,0,0,0,0,0,0,1.1758056269349553E-6,0,0,0,0,0,1.4317130212986443E-7,0,0,0,0,0,1.7395647517779031E-7,0,0,0,0,0,1.491978970108284E-7,0,0,0,0,0,0]
[null,null,null,null,null,470,{"$error":"#DIV/0!"},{"$error":"#DIV/0!"},{"$error":"#DIV/0!"},{"$error":"#DIV/0!"},{"$error":"#DIV/0!"},{"$error":"#DIV/0!"},null,null,null,null,47,470,0,0,0,0,0,0,0,0,0,0,0,0,0,0,0,0,0,4.5661759961889622E-6,0,0,0,0,0,0,0,0,0,0,0,0,0,0,0,0,0,1.4370957662538342E-6,0,0,0,0,0,1.2527488936363139E-7,0,0,0,0,0,1.2425462512699307E-7,0,0,0,0,0,0,0,0,0,0,0,0]
[null,null,null,null,null,480,{"$error":"#DIV/0!"},{"$error":"#DIV/0!"},{"$error":"#DIV/0!"},{"$error":"#DIV/0!"},{"$error":"#DIV/0!"},{"$error":"#DIV/0!"},null,null,null,null,48,480,0,0,0,0,0,0,0,0,0,0,0,0,0,0,0,0,0,4.3378671963795144E-6,0,0,0,0,0,0,0,0,0,0,0,0,0,0,0,0,0,1.1758056269349553E-6,0,0,0,0,0,1.7896412766233054E-8,0,0,0,0,0,2.4850925025398615E-8,0,0,0,0,0,2.9839579402165679E-7,0,0,0,0,0,0]
[null,null,null,null,null,490,{"$error":"#DIV/0!"},{"$error":"#DIV/0!"},{"$error":"#DIV/0!"},{"$error":"#DIV/0!"},{"$error":"#DIV/0!"},{"$error":"#DIV/0!"},null,null,null,null,49,490,0,0,0,0,0,0,0,0,0,0,0,0,0,0,0,0,0,0,0,0,0,0,0,0,0,0,0,0,0,0,0,0,0,0,0,0,0,0,0,0,0,0,0,0,0,0,0,0,0,0,0,0,0,0,0,0,0,0,0,0]
[null,null,null,null,null,500,{"$error":"#DIV/0!"},{"$error":"#DIV/0!"},{"$error":"#DIV/0!"},{"$error":"#DIV/0!"},{"$error":"#DIV/0!"},{"$error":"#DIV/0!"},null,null,null,null,50,500,0,0,0,0,0,0,0,0,0,0,0,0,0,0,0,0,0,0,0,0,0,0,0,0,0,0,0,0,0,0,0,0,0,0,0,0,0,0,0,0,0,0,0,0,0,0,0,0,0,0,0,0,0,0,0,0,0,0,0,0]
[null,null,null,null,null,null,null,null,null,null,null,null,null,null,null,null,"Column",1,2,3,4,5,6,7,8,9,10,11,12,13,14,15,16,17,18,19,20,21,22,23,24,25,26,27,28,29,30,31,32,33,34,35,36,37,38,39,40,41,42,43,44,45,46,47,48,49,50,51,52,53,54,55,56,57,58,59,60,61]
[]
[null,null,null,null,null,null,"Recombined - Traffic Load Distribution - AGPT02 format"]
[null,null,null,null,null,"Load (kN)","SAST","SADT","TAST","TADT","TRDT","QADT"]
[null,null,null,null,null,"HVAG %",{"$f":"SUM(G37:G86)*100","v":{"$error":"#DIV/0!"}},{"$f":"SUM(H37:H86)*100","v":{"$error":"#DIV/0!"}},{"$error":"#DIV/0!"},{"$error":"#DIV/0!"},{"$error":"#DIV/0!"},{"$error":"#DIV/0!"}]
[null,null,null,null,null,{"$f":"R37","v":10},{"$f":"IF(G$91=0,0,G37/G$91*10000)","v":{"$error":"#DIV/0!"}},{"$f":"IF(H$91=0,0,H37/H$91*10000)","v":{"$error":"#DIV/0!"}},{"$error":"#DIV/0!"},{"$error":"#DIV/0!"},{"$error":"#DIV/0!"},{"$error":"#DIV/0!"}]
[null,null,null,null,null,{"$f":"R38","v":20},{"$f":"IF(G$91=0,0,G38/G$91*10000)","v":{"$error":"#DIV/0!"}},{"$error":"#DIV/0!"},{"$error":"#DIV/0!"},{"$error":"#DIV/0!"},{"$error":"#DIV/0!"},{"$error":"#DIV/0!"}]
[null,null,null,null,null,30,{"$f":"IF(G$91=0,0,G39/G$91*10000)","v":{"$error":"#DIV/0!"}},{"$error":"#DIV/0!"},{"$error":"#DIV/0!"},{"$error":"#DIV/0!"},{"$error":"#DIV/0!"},{"$error":"#DIV/0!"}]
[null,null,null,null,null,40,{"$f":"IF(G$91=0,0,G40/G$91*10000)","v":{"$error":"#DIV/0!"}},{"$error":"#DIV/0!"},{"$error":"#DIV/0!"},{"$error":"#DIV/0!"},{"$error":"#DIV/0!"},{"$error":"#DIV/0!"}]
[null,null,null,null,null,50,{"$f":"IF(G$91=0,0,G41/G$91*10000)","v":{"$error":"#DIV/0!"}},{"$error":"#DIV/0!"},{"$error":"#DIV/0!"},{"$error":"#DIV/0!"},{"$error":"#DIV/0!"},{"$error":"#DIV/0!"}]
[null,null,null,null,null,60,{"$f":"IF(G$91=0,0,G42/G$91*10000)","v":{"$error":"#DIV/0!"}},{"$error":"#DIV/0!"},{"$error":"#DIV/0!"},{"$error":"#DIV/0!"},{"$error":"#DIV/0!"},{"$error":"#DIV/0!"}]
[null,null,null,null,null,70,{"$f":"IF(G$91=0,0,G43/G$91*10000)","v":{"$error":"#DIV/0!"}},{"$error":"#DIV/0!"},{"$error":"#DIV/0!"},{"$error":"#DIV/0!"},{"$error":"#DIV/0!"},{"$error":"#DIV/0!"}]
[null,null,null,null,null,80,{"$f":"IF(G$91=0,0,G44/G$91*10000)","v":{"$error":"#DIV/0!"}},{"$error":"#DIV/0!"},{"$error":"#DIV/0!"},{"$error":"#DIV/0!"},{"$error":"#DIV/0!"},{"$error":"#DIV/0!"}]
[null,null,null,null,null,90,{"$f":"IF(G$91=0,0,G45/G$91*10000)","v":{"$error":"#DIV/0!"}},{"$error":"#DIV/0!"},{"$error":"#DIV/0!"},{"$error":"#DIV/0!"},{"$error":"#DIV/0!"},{"$error":"#DIV/0!"}]
[null,null,null,null,null,100,{"$f":"IF(G$91=0,0,G46/G$91*10000)","v":{"$error":"#DIV/0!"}},{"$error":"#DIV/0!"},{"$error":"#DIV/0!"},{"$error":"#DIV/0!"},{"$error":"#DIV/0!"},{"$error":"#DIV/0!"}]
[null,null,null,null,null,110,{"$f":"IF(G$91=0,0,G47/G$91*10000)","v":{"$error":"#DIV/0!"}},{"$error":"#DIV/0!"},{"$error":"#DIV/0!"},{"$error":"#DIV/0!"},{"$error":"#DIV/0!"},{"$error":"#DIV/0!"}]
[null,null,null,null,null,120,{"$f":"IF(G$91=0,0,G48/G$91*10000)","v":{"$error":"#DIV/0!"}},{"$error":"#DIV/0!"},{"$error":"#DIV/0!"},{"$error":"#DIV/0!"},{"$error":"#DIV/0!"},{"$error":"#DIV/0!"}]
[null,null,null,null,null,130,{"$f":"IF(G$91=0,0,G49/G$91*10000)","v":{"$error":"#DIV/0!"}},{"$error":"#DIV/0!"},{"$error":"#DIV/0!"},{"$error":"#DIV/0!"},{"$error":"#DIV/0!"},{"$error":"#DIV/0!"}]
[null,null,null,null,null,140,{"$f":"IF(G$91=0,0,G50/G$91*10000)","v":{"$error":"#DIV/0!"}},{"$error":"#DIV/0!"},{"$error":"#DIV/0!"},{"$error":"#DIV/0!"},{"$error":"#DIV/0!"},{"$error":"#DIV/0!"}]
[null,null,null,null,null,150,{"$f":"IF(G$91=0,0,G51/G$91*10000)","v":{"$error":"#DIV/0!"}},{"$error":"#DIV/0!"},{"$error":"#DIV/0!"},{"$error":"#DIV/0!"},{"$error":"#DIV/0!"},{"$error":"#DIV/0!"}]
[null,null,null,null,null,160,{"$f":"IF(G$91=0,0,G52/G$91*10000)","v":{"$error":"#DIV/0!"}},{"$error":"#DIV/0!"},{"$error":"#DIV/0!"},{"$error":"#DIV/0!"},{"$error":"#DIV/0!"},{"$error":"#DIV/0!"}]
[null,null,null,null,null,170,{"$f":"IF(G$91=0,0,G53/G$91*10000)","v":{"$error":"#DIV/0!"}},{"$error":"#DIV/0!"},{"$error":"#DIV/0!"},{"$error":"#DIV/0!"},{"$error":"#DIV/0!"},{"$error":"#DIV/0!"}]
[null,null,null,null,null,180,{"$f":"IF(G$91=0,0,G54/G$91*10000)","v":{"$error":"#DIV/0!"}},{"$error":"#DIV/0!"},{"$error":"#DIV/0!"},{"$error":"#DIV/0!"},{"$error":"#DIV/0!"},{"$error":"#DIV/0!"}]
[null,null,null,null,null,190,{"$f":"IF(G$91=0,0,G55/G$91*10000)","v":{"$error":"#DIV/0!"}},{"$error":"#DIV/0!"},{"$error":"#DIV/0!"},{"$error":"#DIV/0!"},{"$error":"#DIV/0!"},{"$error":"#DIV/0!"}]
[null,null,null,null,null,200,{"$f":"IF(G$91=0,0,G56/G$91*10000)","v":{"$error":"#DIV/0!"}},{"$error":"#DIV/0!"},{"$error":"#DIV/0!"},{"$error":"#DIV/0!"},{"$error":"#DIV/0!"},{"$error":"#DIV/0!"}]
[null,null,null,null,null,210,{"$f":"IF(G$91=0,0,G57/G$91*10000)","v":{"$error":"#DIV/0!"}},{"$error":"#DIV/0!"},{"$error":"#DIV/0!"},{"$error":"#DIV/0!"},{"$error":"#DIV/0!"},{"$error":"#DIV/0!"}]
[null,null,null,null,null,220,{"$f":"IF(G$91=0,0,G58/G$91*10000)","v":{"$error":"#DIV/0!"}},{"$error":"#DIV/0!"},{"$error":"#DIV/0!"},{"$error":"#DIV/0!"},{"$error":"#DIV/0!"},{"$error":"#DIV/0!"}]
[null,null,null,null,null,230,{"$f":"IF(G$91=0,0,G59/G$91*10000)","v":{"$error":"#DIV/0!"}},{"$error":"#DIV/0!"},{"$error":"#DIV/0!"},{"$error":"#DIV/0!"},{"$error":"#DIV/0!"},{"$error":"#DIV/0!"}]
[null,null,null,null,null,240,{"$f":"IF(G$91=0,0,G60/G$91*10000)","v":{"$error":"#DIV/0!"}},{"$error":"#DIV/0!"},{"$error":"#DIV/0!"},{"$error":"#DIV/0!"},{"$error":"#DIV/0!"},{"$error":"#DIV/0!"}]
[null,null,null,null,null,250,{"$f":"IF(G$91=0,0,G61/G$91*10000)","v":{"$error":"#DIV/0!"}},{"$error":"#DIV/0!"},{"$error":"#DIV/0!"},{"$error":"#DIV/0!"},{"$error":"#DIV/0!"},{"$error":"#DIV/0!"}]
[null,null,null,null,null,260,{"$f":"IF(G$91=0,0,G62/G$91*10000)","v":{"$error":"#DIV/0!"}},{"$error":"#DIV/0!"},{"$error":"#DIV/0!"},{"$error":"#DIV/0!"},{"$error":"#DIV/0!"},{"$error":"#DIV/0!"}]
[null,null,null,null,null,270,{"$f":"IF(G$91=0,0,G63/G$91*10000)","v":{"$error":"#DIV/0!"}},{"$error":"#DIV/0!"},{"$error":"#DIV/0!"},{"$error":"#DIV/0!"},{"$error":"#DIV/0!"},{"$error":"#DIV/0!"}]
[null,null,null,null,null,280,{"$f":"IF(G$91=0,0,G64/G$91*10000)","v":{"$error":"#DIV/0!"}},{"$error":"#DIV/0!"},{"$error":"#DIV/0!"},{"$error":"#DIV/0!"},{"$error":"#DIV/0!"},{"$error":"#DIV/0!"}]
[null,null,null,null,null,290,{"$f":"IF(G$91=0,0,G65/G$91*10000)","v":{"$error":"#DIV/0!"}},{"$error":"#DIV/0!"},{"$error":"#DIV/0!"},{"$error":"#DIV/0!"},{"$error":"#DIV/0!"},{"$error":"#DIV/0!"}]
[null,null,null,null,null,300,{"$f":"IF(G$91=0,0,G66/G$91*10000)","v":{"$error":"#DIV/0!"}},{"$error":"#DIV/0!"},{"$error":"#DIV/0!"},{"$error":"#DIV/0!"},{"$error":"#DIV/0!"},{"$error":"#DIV/0!"}]
[null,null,null,null,null,310,{"$f":"IF(G$91=0,0,G67/G$91*10000)","v":{"$error":"#DIV/0!"}},{"$error":"#DIV/0!"},{"$error":"#DIV/0!"},{"$error":"#DIV/0!"},{"$error":"#DIV/0!"},{"$error":"#DIV/0!"}]
[null,null,null,null,null,320,{"$f":"IF(G$91=0,0,G68/G$91*10000)","v":{"$error":"#DIV/0!"}},{"$error":"#DIV/0!"},{"$error":"#DIV/0!"},{"$error":"#DIV/0!"},{"$error":"#DIV/0!"},{"$error":"#DIV/0!"}]
[null,null,null,null,null,330,{"$f":"IF(G$91=0,0,G69/G$91*10000)","v":{"$error":"#DIV/0!"}},{"$error":"#DIV/0!"},{"$error":"#DIV/0!"},{"$error":"#DIV/0!"},{"$error":"#DIV/0!"},{"$error":"#DIV/0!"}]
[null,null,null,null,null,340,{"$f":"IF(G$91=0,0,G70/G$91*10000)","v":{"$error":"#DIV/0!"}},{"$error":"#DIV/0!"},{"$error":"#DIV/0!"},{"$error":"#DIV/0!"},{"$error":"#DIV/0!"},{"$error":"#DIV/0!"}]
[null,null,null,null,null,350,{"$f":"IF(G$91=0,0,G71/G$91*10000)","v":{"$error":"#DIV/0!"}},{"$error":"#DIV/0!"},{"$error":"#DIV/0!"},{"$error":"#DIV/0!"},{"$error":"#DIV/0!"},{"$error":"#DIV/0!"}]
[null,null,null,null,null,360,{"$f":"IF(G$91=0,0,G72/G$91*10000)","v":{"$error":"#DIV/0!"}},{"$error":"#DIV/0!"},{"$error":"#DIV/0!"},{"$error":"#DIV/0!"},{"$error":"#DIV/0!"},{"$error":"#DIV/0!"}]
[null,null,null,null,null,370,{"$f":"IF(G$91=0,0,G73/G$91*10000)","v":{"$error":"#DIV/0!"}},{"$error":"#DIV/0!"},{"$error":"#DIV/0!"},{"$error":"#DIV/0!"},{"$error":"#DIV/0!"},{"$error":"#DIV/0!"}]
[null,null,null,null,null,380,{"$f":"IF(G$91=0,0,G74/G$91*10000)","v":{"$error":"#DIV/0!"}},{"$error":"#DIV/0!"},{"$error":"#DIV/0!"},{"$error":"#DIV/0!"},{"$error":"#DIV/0!"},{"$error":"#DIV/0!"}]
[null,null,null,null,null,390,{"$f":"IF(G$91=0,0,G75/G$91*10000)","v":{"$error":"#DIV/0!"}},{"$error":"#DIV/0!"},{"$error":"#DIV/0!"},{"$error":"#DIV/0!"},{"$error":"#DIV/0!"},{"$error":"#DIV/0!"}]
[null,null,null,null,null,400,{"$f":"IF(G$91=0,0,G76/G$91*10000)","v":{"$error":"#DIV/0!"}},{"$error":"#DIV/0!"},{"$error":"#DIV/0!"},{"$error":"#DIV/0!"},{"$error":"#DIV/0!"},{"$error":"#DIV/0!"}]
[null,null,null,null,null,410,{"$f":"IF(G$91=0,0,G77/G$91*10000)","v":{"$error":"#DIV/0!"}},{"$error":"#DIV/0!"},{"$error":"#DIV/0!"},{"$error":"#DIV/0!"},{"$error":"#DIV/0!"},{"$error":"#DIV/0!"}]
[null,null,null,null,null,420,{"$f":"IF(G$91=0,0,G78/G$91*10000)","v":{"$error":"#DIV/0!"}},{"$error":"#DIV/0!"},{"$error":"#DIV/0!"},{"$error":"#DIV/0!"},{"$error":"#DIV/0!"},{"$error":"#DIV/0!"}]
[null,null,null,null,null,430,{"$f":"IF(G$91=0,0,G79/G$91*10000)","v":{"$error":"#DIV/0!"}},{"$error":"#DIV/0!"},{"$error":"#DIV/0!"},{"$error":"#DIV/0!"},{"$error":"#DIV/0!"},{"$error":"#DIV/0!"}]
[null,null,null,null,null,440,{"$f":"IF(G$91=0,0,G80/G$91*10000)","v":{"$error":"#DIV/0!"}},{"$error":"#DIV/0!"},{"$error":"#DIV/0!"},{"$error":"#DIV/0!"},{"$error":"#DIV/0!"},{"$error":"#DIV/0!"}]
[null,null,null,null,null,450,{"$f":"IF(G$91=0,0,G81/G$91*10000)","v":{"$error":"#DIV/0!"}},{"$error":"#DIV/0!"},{"$error":"#DIV/0!"},{"$error":"#DIV/0!"},{"$error":"#DIV/0!"},{"$error":"#DIV/0!"}]
[null,null,null,null,null,460,{"$f":"IF(G$91=0,0,G82/G$91*10000)","v":{"$error":"#DIV/0!"}},{"$error":"#DIV/0!"},{"$error":"#DIV/0!"},{"$error":"#DIV/0!"},{"$error":"#DIV/0!"},{"$error":"#DIV/0!"}]
[null,null,null,null,null,470,{"$f":"IF(G$91=0,0,G83/G$91*10000)","v":{"$error":"#DIV/0!"}},{"$error":"#DIV/0!"},{"$error":"#DIV/0!"},{"$error":"#DIV/0!"},{"$error":"#DIV/0!"},{"$error":"#DIV/0!"}]
[null,null,null,null,null,480,{"$f":"IF(G$91=0,0,G84/G$91*10000)","v":{"$error":"#DIV/0!"}},{"$error":"#DIV/0!"},{"$error":"#DIV/0!"},{"$error":"#DIV/0!"},{"$error":"#DIV/0!"},{"$error":"#DIV/0!"}]
[null,null,null,null,null,490,{"$f":"IF(G$91=0,0,G85/G$91*10000)","v":{"$error":"#DIV/0!"}},{"$error":"#DIV/0!"},{"$error":"#DIV/0!"},{"$error":"#DIV/0!"},{"$error":"#DIV/0!"},{"$error":"#DIV/0!"}]
[null,null,null,null,null,500,{"$f":"IF(G$91=0,0,G86/G$91*10000)","v":{"$error":"#DIV/0!"}},{"$error":"#DIV/0!"},{"$error":"#DIV/0!"},{"$error":"#DIV/0!"},{"$error":"#DIV/0!"},{"$error":"#DIV/0!"}]
[]
[null,null,null,null,null,"Austroads 2017 - Heavy Vehicle Axle Group loads which cause same damage as a Standard Axle"]
[null,null,null,null,null,"HVAG","SAST","SADT","TAST","TADT","TRDT","QADT"]
[null,null,null,null,null,"Load (kN)",53,80,89,135,182,226]
[]
[null,null,null,null,null,null,null,null,null,null,null,null,null,null,null,null,null,"Calculation of ESA/HVAG for each vehicle class"]
[null,null,null,null,null,"Calculation of ESA/HVAG for the recombined traffic load distribution",null,null,null,null,null,null,null,null,null,null,null,null,"Class 3",null,null,null,null,null,"Class 4",null,null,null,null,null,"Class 5",null,null,null,null,null,"Class 6",null,null,null,null,null,"Class 7",null,null,null,null,null,"Class 8",null,null,null,null,null,"Class 9",null,null,null,null,null,"Class 10",null,null,null,null,null,"Class 11",null,null,null,null,null,"Class 12"]
["STEP 2 drop down list selection options",null,null,null,null,"Load (kN)","SAST","SADT","TAST","TADT","TRDT","QADT",null,null,null,null,null,"Load (kN)","SAST","SADT","TAST","TADT","TRDT","QADT","SAST","SADT","TAST","TADT","TRDT","QADT","SAST","SADT","TAST","TADT","TRDT","QADT","SAST","SADT","TAST","TADT","TRDT","QADT","SAST","SADT","TAST","TADT","TRDT","QADT","SAST","SADT","TAST","TADT","TRDT","QADT","SAST","SADT","TAST","TADT","TRDT","QADT","SAST","SADT","TAST","TADT","TRDT","QADT","SAST","SADT","TAST","TADT","TRDT","QADT","SAST","SADT","TAST","TADT","TRDT","QADT"]
["12 bin",null,null,null,null,{"$f":"R37","v":10},{"$f":"IFERROR(G37*(F150/G145)^4,0)","v":0},{"$f":"IFERROR(H37*(F150/H145)^4,0)","v":0},{"$f":"IFERROR(I37*(F150/I145)^4,0)","v":0},{"$f":"IFERROR(J37*(F150/J145)^4,0)","v":0},{"$f":"IFERROR(K37*(F150/K145)^4,0)","v":0},{"$f":"IFERROR(L37*(F150/L145)^4,0)","v":0},null,null,null,null,null,{"$f":"R37","v":10},{"$f":"IFERROR(S37*(F150/G145)^4,0)","v":1.956872249930237E-7},{"$f":"IFERROR(T37*(F150/H145)^4,0)","v":1.0245114477974858E-7},{"$f":"IFERROR(U37*(F150/I145)^4,0)","v":0},{"$f":"IFERROR(V37*(F150/J145)^4,0)","v":0},{"$f":"IFERROR(W37*(F150/K145)^4,0)","v":0},{"$f":"IFERROR(X37*(F150/L145)^4,0)","v":0},{"$f":"IFERROR(Y37*(F150/G145)^4,0)","v":1.7964984232801044E-7},{"$f":"IFERROR(Z37*(F150/H145)^4,0)","v":5.8140635343555988E-9},{"$f":"IFERROR(AA37*(F150/I145)^4,0)","v":9.2241272503821984E-10},{"$f":"IFERROR(AB37*(F150/J145)^4,0)","v":1.7437190506362447E-9},{"$f":"IFERROR(AC37*(F150/K145)^4,0)","v":0},{"$f":"IFERROR(AD37*(F150/L145)^4,0)","v":0},{"$f":"IFERROR(AE37*(F150/G145)^4,0)","v":1.4509286818826672E-8},{"$f":"IFERROR(AF37*(F150/H145)^4,0)","v":1.1066799527756114E-10},{"$f":"IFERROR(AG37*(F150/I145)^4,0)","v":6.9312518962481124E-9},{"$f":"IFERROR(AH37*(F150/J145)^4,0)","v":2.9548188723672855E-9},{"$f":"IFERROR(AI37*(F150/K145)^4,0)","v":1.3061429095874453E-10},{"$f":"IFERROR(AJ37*(F150/L145)^4,0)","v":1.5752932044427822E-11},{"$f":"IFERROR(AK37*(F150/G145)^4,0)","v":8.6154466598102049E-7},{"$f":"IFERROR(AL37*(F150/H145)^4,0)","v":1.5289451639316731E-5},{"$f":"IFERROR(AM37*(F150/I145)^4,0)","v":0},{"$f":"IFERROR(AN37*(F150/J145)^4,0)","v":0},{"$f":"IFERROR(AO37*(F150/K145)^4,0)","v":0},{"$f":"IFERROR(AP37*(F150/L145)^4,0)","v":0},{"$f":"IFERROR(AQ37*(F150/G145)^4,0)","v":2.5543817472017959E-6},{"$f":"IFERROR(AR37*(F150/H145)^4,0)","v":5.265898640586002E-6},{"$f":"IFERROR(AS37*(F150/I145)^4,0)","v":2.4934394421027339E-10},{"$f":"IFERROR(AT37*(F150/J145)^4,0)","v":2.7105460647661238E-7},{"$f":"IFERROR(AU37*(F150/K145)^4,0)","v":0},{"$f":"IFERROR(AV37*(F150/L145)^4,0)","v":0},{"$f":"IFERROR(AW37*(F150/G145)^4,0)","v":3.6261628823523765E-7},{"$f":"IFERROR(AX37*(F150/H145)^4,0)","v":3.0399938836242674E-7},{"$f":"IFERROR(AY37*(F150/I145)^4,0)","v":2.1029488372518168E-10},{"$f":"IFERROR(AZ37*(F150/J145)^4,0)","v":1.197372866421619E-8},{"$f":"IFERROR(BA37*(F150/K145)^4,0)","v":1.0623177750497655E-9},{"$f":"IFERROR(BB37*(F150/L145)^4,0)","v":0},{"$f":"IFERROR(BC37*(F150/G145)^4,0)","v":1.6713868465421356E-7},{"$f":"IFERROR(BD37*(F150/H145)^4,0)","v":2.8035997907508479E-8},{"$f":"IFERROR(BE37*(F150/I145)^4,0)","v":1.704908754746296E-9},{"$f":"IFERROR(BF37*(F150/J145)^4,0)","v":1.8285372964766192E-9},{"$f":"IFERROR(BG37*(F150/K145)^4,0)","v":6.4905117973394432E-10},{"$f":"IFERROR(BH37*(F150/L145)^4,0)","v":2.0443182013298005E-11},{"$f":"IFERROR(BI37*(F150/G145)^4,0)","v":1.7968423157460934E-7},{"$f":"IFERROR(BJ37*(F150/H145)^4,0)","v":3.7960656549862172E-8},{"$f":"IFERROR(BK37*(F150/I145)^4,0)","v":3.6038409976901272E-9},{"$f":"IFERROR(BL37*(F150/J145)^4,0)","v":3.1987510700870417E-9},{"$f":"IFERROR(BM37*(F150/K145)^4,0)","v":2.6471684467938273E-9},{"$f":"IFERROR(BN37*(F150/L145)^4,0)","v":3.0959373490160899E-11},{"$f":"IFERROR(BO37*(F150/G145)^4,0)","v":1.8645961266988322E-7},{"$f":"IFERROR(BP37*(F150/H145)^4,0)","v":4.5903137014581672E-7},{"$f":"IFERROR(BQ37*(F150/I145)^4,0)","v":1.0475840409701014E-10},{"$f":"IFERROR(BR37*(F150/J145)^4,0)","v":2.7120418987180585E-8},{"$f":"IFERROR(BS37*(F150/K145)^4,0)","v":1.5349674185832316E-8},{"$f":"IFERROR(BT37*(F150/L145)^4,0)","v":1.469812946396864E-10},{"$f":"IFERROR(BU37*(F150/G145)^4,0)","v":1.057405441617635E-7},{"$f":"IFERROR(BV37*(F150/H145)^4,0)","v":2.3645682337996096E-7},{"$f":"IFERROR(BW37*(F150/I145)^4,0)","v":0},{"$f":"IFERROR(BX37*(F150/J145)^4,0)","v":1.4290698064502777E-7},{"$f":"IFERROR(BY37*(F150/K145)^4,0)","v":1.5119277023825799E-7},{"$f":"IFERROR(BZ37*(F150/L145)^4,0)","v":7.9613001176057914E-11}]
["4 bin",null,null,null,null,{"$f":"R38","v":20},{"$f":"IFERROR(G38*(F151/G145)^4,0)","v":0},{"$f":"IFERROR(H38*(F151/H145)^4,0)","v":0},{"$f":"IFERROR(I38*(F151/I145)^4,0)","v":0},{"$f":"IFERROR(J38*(F151/J145)^4,0)","v":0},{"$f":"IFERROR(K38*(F151/K145)^4,0)","v":0},{"$f":"IFERROR(L38*(F151/L145)^4,0)","v":0},null,null,null,null,null,{"$f":"R38","v":20},{"$f":"IFERROR(S38*(F151/G145)^4,0)","v":5.2434950120620069E-4},{"$f":"IFERROR(T38*(F151/H145)^4,0)","v":1.2577959377200787E-5},{"$f":"IFERROR(U38*(F151/I145)^4,0)","v":0},{"$f":"IFERROR(V38*(F151/J145)^4,0)","v":0},{"$f":"IFERROR(W38*(F151/K145)^4,0)","v":0},{"$f":"IFERROR(X38*(F151/L145)^4,0)","v":0},{"$f":"IFERROR(Y38*(F151/G145)^4,0)","v":3.7038263043015382E-5},{"$f":"IFERROR(Z38*(F151/H145)^4,0)","v":2.1395753806428602E-7},{"$f":"IFERROR(AA38*(F151/I145)^4,0)","v":5.3859319633400477E-8},{"$f":"IFERROR(AB38*(F151/J145)^4,0)","v":6.4836877375770236E-8},{"$f":"IFERROR(AC38*(F151/K145)^4,0)","v":0},{"$f":"IFERROR(AD38*(F151/L145)^4,0)","v":0},{"$f":"IFERROR(AE38*(F151/G145)^4,0)","v":1.4834861059639366E-6},{"$f":"IFERROR(AF38*(F151/H145)^4,0)","v":1.5936191319968803E-8},{"$f":"IFERROR(AG38*(F151/I145)^4,0)","v":1.6751741425037545E-7},{"$f":"IFERROR(AH38*(F151/J145)^4,0)","v":1.3942923602819485E-7},{"$f":"IFERROR(AI38*(F151/K145)^4,0)","v":1.9239692382494433E-9},{"$f":"IFERROR(AJ38*(F151/L145)^4,0)","v":1.9603648766399067E-10},{"$f":"IFERROR(AK38*(F151/G145)^4,0)","v":9.3427011487520165E-4},{"$f":"IFERROR(AL38*(F151/H145)^4,0)","v":2.7010159003628244E-4},{"$f":"IFERROR(AM38*(F151/I145)^4,0)","v":0},{"$f":"IFERROR(AN38*(F151/J145)^4,0)","v":0},{"$f":"IFERROR(AO38*(F151/K145)^4,0)","v":0},{"$f":"IFERROR(AP38*(F151/L145)^4,0)","v":0},{"$f":"IFERROR(AQ38*(F151/G145)^4,0)","v":1.3989548311541212E-3},{"$f":"IFERROR(AR38*(F151/H145)^4,0)","v":2.707913813888022E-4},{"$f":"IFERROR(AS38*(F151/I145)^4,0)","v":9.7521187068906925E-9},{"$f":"IFERROR(AT38*(F151/J145)^4,0)","v":2.0360685585143484E-5},{"$f":"IFERROR(AU38*(F151/K145)^4,0)","v":2.4544256361090834E-11},{"$f":"IFERROR(AV38*(F151/L145)^4,0)","v":0},{"$f":"IFERROR(AW38*(F151/G145)^4,0)","v":5.1012636695801325E-5},{"$f":"IFERROR(AX38*(F151/H145)^4,0)","v":1.5400266301142594E-5},{"$f":"IFERROR(AY38*(F151/I145)^4,0)","v":1.6823590698014534E-8},{"$f":"IFERROR(AZ38*(F151/J145)^4,0)","v":6.39704570673394E-7},{"$f":"IFERROR(BA38*(F151/K145)^4,0)","v":1.8188964678176496E-7},{"$f":"IFERROR(BB38*(F151/L145)^4,0)","v":0},{"$f":"IFERROR(BC38*(F151/G145)^4,0)","v":1.087527819648971E-5},{"$f":"IFERROR(BD38*(F151/H145)^4,0)","v":1.6356049255738862E-6},{"$f":"IFERROR(BE38*(F151/I145)^4,0)","v":2.9158237795459346E-8},{"$f":"IFERROR(BF38*(F151/J145)^4,0)","v":1.1377086929152139E-7},{"$f":"IFERROR(BG38*(F151/K145)^4,0)","v":1.8350076637579715E-8},{"$f":"IFERROR(BH38*(F151/L145)^4,0)","v":7.5735815243895958E-11},{"$f":"IFERROR(BI38*(F151/G145)^4,0)","v":6.4949152622608437E-6},{"$f":"IFERROR(BJ38*(F151/H145)^4,0)","v":4.1397069395548685E-7},{"$f":"IFERROR(BK38*(F151/I145)^4,0)","v":4.7032909444468054E-8},{"$f":"IFERROR(BL38*(F151/J145)^4,0)","v":3.6259193331665177E-7},{"$f":"IFERROR(BM38*(F151/K145)^4,0)","v":1.3099091486290087E-8},{"$f":"IFERROR(BN38*(F151/L145)^4,0)","v":7.6207688591165302E-11},{"$f":"IFERROR(BO38*(F151/G145)^4,0)","v":8.4032144789392601E-6},{"$f":"IFERROR(BP38*(F151/H145)^4,0)","v":2.72898992576615E-6},{"$f":"IFERROR(BQ38*(F151/I145)^4,0)","v":5.4474370130445268E-9},{"$f":"IFERROR(BR38*(F151/J145)^4,0)","v":1.579025023407185E-7},{"$f":"IFERROR(BS38*(F151/K145)^4,0)","v":4.4149673600885729E-8},{"$f":"IFERROR(BT38*(F151/L145)^4,0)","v":2.1961407448108785E-10},{"$f":"IFERROR(BU38*(F151/G145)^4,0)","v":6.3021364320411025E-6},{"$f":"IFERROR(BV38*(F151/H145)^4,0)","v":1.4485825500753116E-6},{"$f":"IFERROR(BW38*(F151/I145)^4,0)","v":0},{"$f":"IFERROR(BX38*(F151/J145)^4,0)","v":5.7356057233471717E-8},{"$f":"IFERROR(BY38*(F151/K145)^4,0)","v":1.3362187158742561E-8},{"$f":"IFERROR(BZ38*(F151/L145)^4,0)","v":1.9107120282253899E-10}]
[null,null,null,null,null,30,{"$f":"IFERROR(G39*(F152/G145)^4,0)","v":0},{"$f":"IFERROR(H39*(F152/H145)^4,0)","v":0},{"$f":"IFERROR(I39*(F152/I145)^4,0)","v":0},{"$f":"IFERROR(J39*(F152/J145)^4,0)","v":0},{"$f":"IFERROR(K39*(F152/K145)^4,0)","v":0},{"$f":"IFERROR(L39*(F152/L145)^4,0)","v":0},null,null,null,null,null,30,{"$f":"IFERROR(S39*(F152/G145)^4,0)","v":1.9108843819695149E-2},{"$f":"IFERROR(T39*(F152/H145)^4,0)","v":1.7415700407407344E-3},{"$f":"IFERROR(U39*(F152/I145)^4,0)","v":0},{"$f":"IFERROR(V39*(F152/J145)^4,0)","v":0},{"$f":"IFERROR(W39*(F152/K145)^4,0)","v":0},{"$f":"IFERROR(X39*(F152/L145)^4,0)","v":0},{"$f":"IFERROR(Y39*(F152/G145)^4,0)","v":1.131469846315272E-3},{"$f":"IFERROR(Z39*(F152/H145)^4,0)","v":2.3385492463986068E-6},{"$f":"IFERROR(AA39*(F152/I145)^4,0)","v":1.4962492751003087E-6},{"$f":"IFERROR(AB39*(F152/J145)^4,0)","v":7.6112783973248996E-6},{"$f":"IFERROR(AC39*(F152/K145)^4,0)","v":3.5128467864418104E-10},{"$f":"IFERROR(AD39*(F152/L145)^4,0)","v":0},{"$f":"IFERROR(AE39*(F152/G145)^4,0)","v":1.946332355484507E-5},{"$f":"IFERROR(AF39*(F152/H145)^4,0)","v":9.9053389173181095E-7},{"$f":"IFERROR(AG39*(F152/I145)^4,0)","v":1.4582441982877579E-5},{"$f":"IFERROR(AH39*(F152/J145)^4,0)","v":1.0079931255140128E-5},{"$f":"IFERROR(AI39*(F152/K145)^4,0)","v":4.0471771012788136E-8},{"$f":"IFERROR(AJ39*(F152/L145)^4,0)","v":4.6077326229951394E-9},{"$f":"IFERROR(AK39*(F152/G145)^4,0)","v":1.2705821294444112E-2},{"$f":"IFERROR(AL39*(F152/H145)^4,0)","v":2.5631558493523902E-3},{"$f":"IFERROR(AM39*(F152/I145)^4,0)","v":0},{"$f":"IFERROR(AN39*(F152/J145)^4,0)","v":7.6163162620578034E-10},{"$f":"IFERROR(AO39*(F152/K145)^4,0)","v":0},{"$f":"IFERROR(AP39*(F152/L145)^4,0)","v":0},{"$f":"IFERROR(AQ39*(F152/G145)^4,0)","v":5.4678552817976995E-3},{"$f":"IFERROR(AR39*(F152/H145)^4,0)","v":1.3128686326126006E-3},{"$f":"IFERROR(AS39*(F152/I145)^4,0)","v":3.1417336970494455E-7},{"$f":"IFERROR(AT39*(F152/J145)^4,0)","v":1.2978532380459513E-4},{"$f":"IFERROR(AU39*(F152/K145)^4,0)","v":0},{"$f":"IFERROR(AV39*(F152/L145)^4,0)","v":0},{"$f":"IFERROR(AW39*(F152/G145)^4,0)","v":6.1175325177049826E-4},{"$f":"IFERROR(AX39*(F152/H145)^4,0)","v":1.9549308976358749E-4},{"$f":"IFERROR(AY39*(F152/I145)^4,0)","v":1.0714314030914284E-6},{"$f":"IFERROR(AZ39*(F152/J145)^4,0)","v":9.300442161365492E-6},{"$f":"IFERROR(BA39*(F152/K145)^4,0)","v":1.2116711272563443E-6},{"$f":"IFERROR(BB39*(F152/L145)^4,0)","v":0},{"$f":"IFERROR(BC39*(F152/G145)^4,0)","v":2.78852659970042E-4},{"$f":"IFERROR(BD39*(F152/H145)^4,0)","v":5.8530716160315414E-5},{"$f":"IFERROR(BE39*(F152/I145)^4,0)","v":3.3514781107587529E-7},{"$f":"IFERROR(BF39*(F152/J145)^4,0)","v":3.0100167691387543E-6},{"$f":"IFERROR(BG39*(F152/K145)^4,0)","v":5.2455671042890827E-7},{"$f":"IFERROR(BH39*(F152/L145)^4,0)","v":9.3908294825515611E-10},{"$f":"IFERROR(BI39*(F152/G145)^4,0)","v":1.9879273980899143E-4},{"$f":"IFERROR(BJ39*(F152/H145)^4,0)","v":7.5605328085145686E-6},{"$f":"IFERROR(BK39*(F152/I145)^4,0)","v":3.7987109430288027E-7},{"$f":"IFERROR(BL39*(F152/J145)^4,0)","v":1.928599192116727E-5},{"$f":"IFERROR(BM39*(F152/K145)^4,0)","v":3.5964790054874905E-7},{"$f":"IFERROR(BN39*(F152/L145)^4,0)","v":6.9444256228699398E-10},{"$f":"IFERROR(BO39*(F152/G145)^4,0)","v":1.5650759114137189E-4},{"$f":"IFERROR(BP39*(F152/H145)^4,0)","v":2.069377213456981E-5},{"$f":"IFERROR(BQ39*(F152/I145)^4,0)","v":5.0912584391146931E-8},{"$f":"IFERROR(BR39*(F152/J145)^4,0)","v":5.5036992587686646E-6},{"$f":"IFERROR(BS39*(F152/K145)^4,0)","v":1.9989139701564983E-6},{"$f":"IFERROR(BT39*(F152/L145)^4,0)","v":2.1772676602851608E-9},{"$f":"IFERROR(BU39*(F152/G145)^4,0)","v":8.8272867144641138E-5},{"$f":"IFERROR(BV39*(F152/H145)^4,0)","v":9.9144955120727139E-6},{"$f":"IFERROR(BW39*(F152/I145)^4,0)","v":0},{"$f":"IFERROR(BX39*(F152/J145)^4,0)","v":1.1778720960068364E-6},{"$f":"IFERROR(BY39*(F152/K145)^4,0)","v":6.7225673170567846E-7},{"$f":"IFERROR(BZ39*(F152/L145)^4,0)","v":4.8364898214455196E-10}]
[null,null,null,null,null,40,{"$f":"IFERROR(G40*(F153/G145)^4,0)","v":0},{"$f":"IFERROR(H40*(F153/H145)^4,0)","v":0},{"$f":"IFERROR(I40*(F153/I145)^4,0)","v":0},{"$f":"IFERROR(J40*(F153/J145)^4,0)","v":0},{"$f":"IFERROR(K40*(F153/K145)^4,0)","v":0},{"$f":"IFERROR(L40*(F153/L145)^4,0)","v":0},null,null,null,null,null,40,{"$f":"IFERROR(S40*(F153/G145)^4,0)","v":4.7288183829764227E-2},{"$f":"IFERROR(T40*(F153/H145)^4,0)","v":7.3934105354207906E-3},{"$f":"IFERROR(U40*(F153/I145)^4,0)","v":0},{"$f":"IFERROR(V40*(F153/J145)^4,0)","v":0},{"$f":"IFERROR(W40*(F153/K145)^4,0)","v":0},{"$f":"IFERROR(X40*(F153/L145)^4,0)","v":0},{"$f":"IFERROR(Y40*(F153/G145)^4,0)","v":1.7024821526993361E-2},{"$f":"IFERROR(Z40*(F153/H145)^4,0)","v":6.1449668075109235E-6},{"$f":"IFERROR(AA40*(F153/I145)^4,0)","v":5.329964271763703E-6},{"$f":"IFERROR(AB40*(F153/J145)^4,0)","v":1.6170029053617644E-4},{"$f":"IFERROR(AC40*(F153/K145)^4,0)","v":9.51628335797993E-10},{"$f":"IFERROR(AD40*(F153/L145)^4,0)","v":0},{"$f":"IFERROR(AE40*(F153/G145)^4,0)","v":1.0255305477564438E-4},{"$f":"IFERROR(AF40*(F153/H145)^4,0)","v":9.4483907648170598E-6},{"$f":"IFERROR(AG40*(F153/I145)^4,0)","v":1.7265850618318834E-4},{"$f":"IFERROR(AH40*(F153/J145)^4,0)","v":1.1041485273517341E-4},{"$f":"IFERROR(AI40*(F153/K145)^4,0)","v":2.8182832152012537E-7},{"$f":"IFERROR(AJ40*(F153/L145)^4,0)","v":1.7027169214243764E-8},{"$f":"IFERROR(AK40*(F153/G145)^4,0)","v":3.0695643989450676E-2},{"$f":"IFERROR(AL40*(F153/H145)^4,0)","v":6.7402399694042716E-3},{"$f":"IFERROR(AM40*(F153/I145)^4,0)","v":0},{"$f":"IFERROR(AN40*(F153/J145)^4,0)","v":9.6285282127743089E-9},{"$f":"IFERROR(AO40*(F153/K145)^4,0)","v":0},{"$f":"IFERROR(AP40*(F153/L145)^4,0)","v":0},{"$f":"IFERROR(AQ40*(F153/G145)^4,0)","v":1.1566044242561429E-2},{"$f":"IFERROR(AR40*(F153/H145)^4,0)","v":2.7381518581276899E-3},{"$f":"IFERROR(AS40*(F153/I145)^4,0)","v":7.1633744683342549E-7},{"$f":"IFERROR(AT40*(F153/J145)^4,0)","v":1.9986233958431477E-4},{"$f":"IFERROR(AU40*(F153/K145)^4,0)","v":0},{"$f":"IFERROR(AV40*(F153/L145)^4,0)","v":0},{"$f":"IFERROR(AW40*(F153/G145)^4,0)","v":5.2330676877589645E-3},{"$f":"IFERROR(AX40*(F153/H145)^4,0)","v":5.3992525356146188E-4},{"$f":"IFERROR(AY40*(F153/I145)^4,0)","v":4.6998382973973404E-6},{"$f":"IFERROR(AZ40*(F153/J145)^4,0)","v":9.6921156954810859E-5},{"$f":"IFERROR(BA40*(F153/K145)^4,0)","v":3.7294293906656793E-6},{"$f":"IFERROR(BB40*(F153/L145)^4,0)","v":0},{"$f":"IFERROR(BC40*(F153/G145)^4,0)","v":2.6926710652532418E-3},{"$f":"IFERROR(BD40*(F153/H145)^4,0)","v":1.097213181914191E-4},{"$f":"IFERROR(BE40*(F153/I145)^4,0)","v":1.9380141951095242E-6},{"$f":"IFERROR(BF40*(F153/J145)^4,0)","v":2.3959094350155983E-5},{"$f":"IFERROR(BG40*(F153/K145)^4,0)","v":7.9070005705336672E-6},{"$f":"IFERROR(BH40*(F153/L145)^4,0)","v":3.7406907007419918E-9},{"$f":"IFERROR(BI40*(F153/G145)^4,0)","v":1.7568639641831532E-3},{"$f":"IFERROR(BJ40*(F153/H145)^4,0)","v":2.5753518614682271E-5},{"$f":"IFERROR(BK40*(F153/I145)^4,0)","v":2.7687681900840846E-6},{"$f":"IFERROR(BL40*(F153/J145)^4,0)","v":2.2698645128161132E-4},{"$f":"IFERROR(BM40*(F153/K145)^4,0)","v":5.9495957609565963E-6},{"$f":"IFERROR(BN40*(F153/L145)^4,0)","v":2.9019887815515743E-9},{"$f":"IFERROR(BO40*(F153/G145)^4,0)","v":1.7754296968518085E-3},{"$f":"IFERROR(BP40*(F153/H145)^4,0)","v":4.8958685192566417E-5},{"$f":"IFERROR(BQ40*(F153/I145)^4,0)","v":2.3465882517730269E-7},{"$f":"IFERROR(BR40*(F153/J145)^4,0)","v":1.0773043630366159E-4},{"$f":"IFERROR(BS40*(F153/K145)^4,0)","v":4.1613991116298762E-5},{"$f":"IFERROR(BT40*(F153/L145)^4,0)","v":1.0687884958079609E-8},{"$f":"IFERROR(BU40*(F153/G145)^4,0)","v":7.8044980834914392E-4},{"$f":"IFERROR(BV40*(F153/H145)^4,0)","v":2.9780914995961712E-5},{"$f":"IFERROR(BW40*(F153/I145)^4,0)","v":4.4645251967673234E-8},{"$f":"IFERROR(BX40*(F153/J145)^4,0)","v":1.6303085207371506E-5},{"$f":"IFERROR(BY40*(F153/K145)^4,0)","v":1.9855153221731993E-5},{"$f":"IFERROR(BZ40*(F153/L145)^4,0)","v":4.0761856602141652E-9}]
[null,null,null,null,null,50,{"$f":"IFERROR(G41*(F154/G145)^4,0)","v":0},{"$f":"IFERROR(H41*(F154/H145)^4,0)","v":0},{"$f":"IFERROR(I41*(F154/I145)^4,0)","v":0},{"$f":"IFERROR(J41*(F154/J145)^4,0)","v":0},{"$f":"IFERROR(K41*(F154/K145)^4,0)","v":0},{"$f":"IFERROR(L41*(F154/L145)^4,0)","v":0},null,null,null,null,null,50,{"$f":"IFERROR(S41*(F154/G145)^4,0)","v":6.5272207377535113E-2},{"$f":"IFERROR(T41*(F154/H145)^4,0)","v":1.5331363626806338E-2},{"$f":"IFERROR(U41*(F154/I145)^4,0)","v":3.5920488058823715E-8},{"$f":"IFERROR(V41*(F154/J145)^4,0)","v":0},{"$f":"IFERROR(W41*(F154/K145)^4,0)","v":0},{"$f":"IFERROR(X41*(F154/L145)^4,0)","v":0},{"$f":"IFERROR(Y41*(F154/G145)^4,0)","v":0.1162131330590646},{"$f":"IFERROR(Z41*(F154/H145)^4,0)","v":1.3081642952300098E-5},{"$f":"IFERROR(AA41*(F154/I145)^4,0)","v":1.2698149201824851E-5},{"$f":"IFERROR(AB41*(F154/J145)^4,0)","v":8.4208634117595004E-4},{"$f":"IFERROR(AC41*(F154/K145)^4,0)","v":1.54887424446288E-9},{"$f":"IFERROR(AD41*(F154/L145)^4,0)","v":0},{"$f":"IFERROR(AE41*(F154/G145)^4,0)","v":3.2977662571449031E-4},{"$f":"IFERROR(AF41*(F154/H145)^4,0)","v":2.5695725153508727E-5},{"$f":"IFERROR(AG41*(F154/I145)^4,0)","v":1.1759416046081999E-3},{"$f":"IFERROR(AH41*(F154/J145)^4,0)","v":6.5159130084571594E-4},{"$f":"IFERROR(AI41*(F154/K145)^4,0)","v":2.188566839576584E-6},{"$f":"IFERROR(AJ41*(F154/L145)^4,0)","v":3.0083724390400355E-8},{"$f":"IFERROR(AK41*(F154/G145)^4,0)","v":3.8293227741838833E-2},{"$f":"IFERROR(AL41*(F154/H145)^4,0)","v":1.5568633608245581E-2},{"$f":"IFERROR(AM41*(F154/I145)^4,0)","v":0},{"$f":"IFERROR(AN41*(F154/J145)^4,0)","v":2.3507148956968527E-8},{"$f":"IFERROR(AO41*(F154/K145)^4,0)","v":0},{"$f":"IFERROR(AP41*(F154/L145)^4,0)","v":0},{"$f":"IFERROR(AQ41*(F154/G145)^4,0)","v":4.7174778223857884E-2},{"$f":"IFERROR(AR41*(F154/H145)^4,0)","v":6.7665173713299101E-3},{"$f":"IFERROR(AS41*(F154/I145)^4,0)","v":1.6276618580392854E-6},{"$f":"IFERROR(AT41*(F154/J145)^4,0)","v":3.3687681490813501E-4},{"$f":"IFERROR(AU41*(F154/K145)^4,0)","v":0},{"$f":"IFERROR(AV41*(F154/L145)^4,0)","v":0},{"$f":"IFERROR(AW41*(F154/G145)^4,0)","v":6.9360911201310591E-2},{"$f":"IFERROR(AX41*(F154/H145)^4,0)","v":1.7395079824172575E-3},{"$f":"IFERROR(AY41*(F154/I145)^4,0)","v":1.2643979883976556E-5},{"$f":"IFERROR(AZ41*(F154/J145)^4,0)","v":5.8522772357823228E-4},{"$f":"IFERROR(BA41*(F154/K145)^4,0)","v":8.1139405310030215E-6},{"$f":"IFERROR(BB41*(F154/L145)^4,0)","v":0},{"$f":"IFERROR(BC41*(F154/G145)^4,0)","v":5.6537555489490632E-2},{"$f":"IFERROR(BD41*(F154/H145)^4,0)","v":1.044637784069283E-4},{"$f":"IFERROR(BE41*(F154/I145)^4,0)","v":6.0191158872923367E-6},{"$f":"IFERROR(BF41*(F154/J145)^4,0)","v":1.5231643011844812E-4},{"$f":"IFERROR(BG41*(F154/K145)^4,0)","v":7.1370677231969982E-5},{"$f":"IFERROR(BH41*(F154/L145)^4,0)","v":1.16622179270492E-8},{"$f":"IFERROR(BI41*(F154/G145)^4,0)","v":3.0718801066768917E-2},{"$f":"IFERROR(BJ41*(F154/H145)^4,0)","v":3.9266899784312813E-5},{"$f":"IFERROR(BK41*(F154/I145)^4,0)","v":8.211566511707018E-6},{"$f":"IFERROR(BL41*(F154/J145)^4,0)","v":6.0065488697743589E-4},{"$f":"IFERROR(BM41*(F154/K145)^4,0)","v":5.3592736879894761E-5},{"$f":"IFERROR(BN41*(F154/L145)^4,0)","v":1.3157733733318386E-8},{"$f":"IFERROR(BO41*(F154/G145)^4,0)","v":2.7255240200764638E-2},{"$f":"IFERROR(BP41*(F154/H145)^4,0)","v":1.3837214077059366E-4},{"$f":"IFERROR(BQ41*(F154/I145)^4,0)","v":7.8568803072757625E-7},{"$f":"IFERROR(BR41*(F154/J145)^4,0)","v":6.2146285276350015E-4},{"$f":"IFERROR(BS41*(F154/K145)^4,0)","v":2.3000820364992475E-4},{"$f":"IFERROR(BT41*(F154/L145)^4,0)","v":2.5736024353252484E-8},{"$f":"IFERROR(BU41*(F154/G145)^4,0)","v":2.1376524929702125E-2},{"$f":"IFERROR(BV41*(F154/H145)^4,0)","v":5.5478840244897253E-5},{"$f":"IFERROR(BW41*(F154/I145)^4,0)","v":5.4498598593351136E-7},{"$f":"IFERROR(BX41*(F154/J145)^4,0)","v":1.1613432648394189E-4},{"$f":"IFERROR(BY41*(F154/K145)^4,0)","v":1.7061028823910912E-4},{"$f":"IFERROR(BZ41*(F154/L145)^4,0)","v":1.2439531433759051E-8}]
[null,null,null,null,null,60,{"$f":"IFERROR(G42*(F155/G145)^4,0)","v":0},{"$f":"IFERROR(H42*(F155/H145)^4,0)","v":0},{"$f":"IFERROR(I42*(F155/I145)^4,0)","v":0},{"$f":"IFERROR(J42*(F155/J145)^4,0)","v":0},{"$f":"IFERROR(K42*(F155/K145)^4,0)","v":0},{"$f":"IFERROR(L42*(F155/L145)^4,0)","v":0},null,null,null,null,null,60,{"$f":"IFERROR(S42*(F155/G145)^4,0)","v":6.6256229030364933E-2},{"$f":"IFERROR(T42*(F155/H145)^4,0)","v":2.3116010724573068E-2},{"$f":"IFERROR(U42*(F155/I145)^4,0)","v":5.2139306827143786E-8},{"$f":"IFERROR(V42*(F155/J145)^4,0)","v":0},{"$f":"IFERROR(W42*(F155/K145)^4,0)","v":0},{"$f":"IFERROR(X42*(F155/L145)^4,0)","v":0},{"$f":"IFERROR(Y42*(F155/G145)^4,0)","v":0.28792494180225608},{"$f":"IFERROR(Z42*(F155/H145)^4,0)","v":2.5145459330665806E-5},{"$f":"IFERROR(AA42*(F155/I145)^4,0)","v":2.1921701441677158E-5},{"$f":"IFERROR(AB42*(F155/J145)^4,0)","v":2.0739041887539167E-3},{"$f":"IFERROR(AC42*(F155/K145)^4,0)","v":4.8176184499773399E-9},{"$f":"IFERROR(AD42*(F155/L145)^4,0)","v":0},{"$f":"IFERROR(AE42*(F155/G145)^4,0)","v":8.5764748271128794E-4},{"$f":"IFERROR(AF42*(F155/H145)^4,0)","v":2.8541718654064128E-5},{"$f":"IFERROR(AG42*(F155/I145)^4,0)","v":7.1243872175070231E-3},{"$f":"IFERROR(AH42*(F155/J145)^4,0)","v":2.0505396981996267E-3},{"$f":"IFERROR(AI42*(F155/K145)^4,0)","v":1.0086707278473471E-5},{"$f":"IFERROR(AJ42*(F155/L145)^4,0)","v":4.0831599859156933E-8},{"$f":"IFERROR(AK42*(F155/G145)^4,0)","v":2.1665740407651072E-2},{"$f":"IFERROR(AL42*(F155/H145)^4,0)","v":3.2838694038626305E-2},{"$f":"IFERROR(AM42*(F155/I145)^4,0)","v":0},{"$f":"IFERROR(AN42*(F155/J145)^4,0)","v":1.0967495417363237E-7},{"$f":"IFERROR(AO42*(F155/K145)^4,0)","v":3.3835867366679695E-9},{"$f":"IFERROR(AP42*(F155/L145)^4,0)","v":0},{"$f":"IFERROR(AQ42*(F155/G145)^4,0)","v":0.11924167573365241},{"$f":"IFERROR(AR42*(F155/H145)^4,0)","v":1.5124148616762817E-2},{"$f":"IFERROR(AS42*(F155/I145)^4,0)","v":2.6211035415383947E-6},{"$f":"IFERROR(AT42*(F155/J145)^4,0)","v":9.0709349869262299E-4},{"$f":"IFERROR(AU42*(F155/K145)^4,0)","v":0},{"$f":"IFERROR(AV42*(F155/L145)^4,0)","v":0},{"$f":"IFERROR(AW42*(F155/G145)^4,0)","v":0.24652774478739223},{"$f":"IFERROR(AX42*(F155/H145)^4,0)","v":3.303248976509957E-3},{"$f":"IFERROR(AY42*(F155/I145)^4,0)","v":6.4374460390510753E-5},{"$f":"IFERROR(AZ42*(F155/J145)^4,0)","v":2.2237616072719305E-3},{"$f":"IFERROR(BA42*(F155/K145)^4,0)","v":2.9911230373489527E-5},{"$f":"IFERROR(BB42*(F155/L145)^4,0)","v":0},{"$f":"IFERROR(BC42*(F155/G145)^4,0)","v":0.27256289971422187},{"$f":"IFERROR(BD42*(F155/H145)^4,0)","v":2.4413017046551918E-4},{"$f":"IFERROR(BE42*(F155/I145)^4,0)","v":2.7591670208241041E-5},{"$f":"IFERROR(BF42*(F155/J145)^4,0)","v":9.690834358380032E-4},{"$f":"IFERROR(BG42*(F155/K145)^4,0)","v":2.9296739765900223E-4},{"$f":"IFERROR(BH42*(F155/L145)^4,0)","v":3.9741545833851338E-8},{"$f":"IFERROR(BI42*(F155/G145)^4,0)","v":0.1697400240086743},{"$f":"IFERROR(BJ42*(F155/H145)^4,0)","v":6.5962823993818588E-5},{"$f":"IFERROR(BK42*(F155/I145)^4,0)","v":3.3843646942811314E-5},{"$f":"IFERROR(BL42*(F155/J145)^4,0)","v":1.2096219107231619E-3},{"$f":"IFERROR(BM42*(F155/K145)^4,0)","v":2.3333895635386544E-4},{"$f":"IFERROR(BN42*(F155/L145)^4,0)","v":3.6172741466682532E-8},{"$f":"IFERROR(BO42*(F155/G145)^4,0)","v":0.13247383265644544},{"$f":"IFERROR(BP42*(F155/H145)^4,0)","v":3.7413962481840248E-4},{"$f":"IFERROR(BQ42*(F155/I145)^4,0)","v":3.1905219551785417E-6},{"$f":"IFERROR(BR42*(F155/J145)^4,0)","v":1.9238955057534531E-3},{"$f":"IFERROR(BS42*(F155/K145)^4,0)","v":4.7679710642123581E-4},{"$f":"IFERROR(BT42*(F155/L145)^4,0)","v":7.930813264698289E-8},{"$f":"IFERROR(BU42*(F155/G145)^4,0)","v":9.9409487690894097E-2},{"$f":"IFERROR(BV42*(F155/H145)^4,0)","v":1.0733875306458891E-4},{"$f":"IFERROR(BW42*(F155/I145)^4,0)","v":1.5821161166044206E-6},{"$f":"IFERROR(BX42*(F155/J145)^4,0)","v":5.1782943714008588E-4},{"$f":"IFERROR(BY42*(F155/K145)^4,0)","v":6.8299755216494882E-4},{"$f":"IFERROR(BZ42*(F155/L145)^4,0)","v":3.3532996095355606E-8}]
[null,null,null,null,null,70,{"$f":"IFERROR(G43*(F156/G145)^4,0)","v":0},{"$f":"IFERROR(H43*(F156/H145)^4,0)","v":0},{"$f":"IFERROR(I43*(F156/I145)^4,0)","v":0},{"$f":"IFERROR(J43*(F156/J145)^4,0)","v":0},{"$f":"IFERROR(K43*(F156/K145)^4,0)","v":0},{"$f":"IFERROR(L43*(F156/L145)^4,0)","v":0},null,null,null,null,null,70,{"$f":"IFERROR(S43*(F156/G145)^4,0)","v":4.0654664564312881E-2},{"$f":"IFERROR(T43*(F156/H145)^4,0)","v":2.5822121185820179E-2},{"$f":"IFERROR(U43*(F156/I145)^4,0)","v":4.1397644078033152E-8},{"$f":"IFERROR(V43*(F156/J145)^4,0)","v":0},{"$f":"IFERROR(W43*(F156/K145)^4,0)","v":0},{"$f":"IFERROR(X43*(F156/L145)^4,0)","v":0},{"$f":"IFERROR(Y43*(F156/G145)^4,0)","v":0.26486804536733688},{"$f":"IFERROR(Z43*(F156/H145)^4,0)","v":3.868794157030903E-5},{"$f":"IFERROR(AA43*(F156/I145)^4,0)","v":3.0603306257104412E-5},{"$f":"IFERROR(AB43*(F156/J145)^4,0)","v":4.361158225983105E-3},{"$f":"IFERROR(AC43*(F156/K145)^4,0)","v":1.6362927068203648E-8},{"$f":"IFERROR(AD43*(F156/L145)^4,0)","v":6.2563365786700303E-10},{"$f":"IFERROR(AE43*(F156/G145)^4,0)","v":1.2643208513702488E-3},{"$f":"IFERROR(AF43*(F156/H145)^4,0)","v":1.2089980478094806E-5},{"$f":"IFERROR(AG43*(F156/I145)^4,0)","v":2.6859821618459824E-2},{"$f":"IFERROR(AH43*(F156/J145)^4,0)","v":3.9570546117852039E-3},{"$f":"IFERROR(AI43*(F156/K145)^4,0)","v":1.4764320170598587E-5},{"$f":"IFERROR(AJ43*(F156/L145)^4,0)","v":8.1949377983787587E-8},{"$f":"IFERROR(AK43*(F156/G145)^4,0)","v":1.4018840876451055E-2},{"$f":"IFERROR(AL43*(F156/H145)^4,0)","v":3.0195729729525521E-2},{"$f":"IFERROR(AM43*(F156/I145)^4,0)","v":0},{"$f":"IFERROR(AN43*(F156/J145)^4,0)","v":2.2576265858272572E-7},{"$f":"IFERROR(AO43*(F156/K145)^4,0)","v":3.1342560782175142E-8},{"$f":"IFERROR(AP43*(F156/L145)^4,0)","v":0},{"$f":"IFERROR(AQ43*(F156/G145)^4,0)","v":7.622744681837848E-2},{"$f":"IFERROR(AR43*(F156/H145)^4,0)","v":2.1389735658611461E-2},{"$f":"IFERROR(AS43*(F156/I145)^4,0)","v":3.4590100136156731E-6},{"$f":"IFERROR(AT43*(F156/J145)^4,0)","v":1.7960507889004291E-3},{"$f":"IFERROR(AU43*(F156/K145)^4,0)","v":1.8415862350930971E-8},{"$f":"IFERROR(AV43*(F156/L145)^4,0)","v":0},{"$f":"IFERROR(AW43*(F156/G145)^4,0)","v":0.15791309557840402},{"$f":"IFERROR(AX43*(F156/H145)^4,0)","v":4.29621544299209E-3},{"$f":"IFERROR(AY43*(F156/I145)^4,0)","v":1.6616851900773153E-4},{"$f":"IFERROR(AZ43*(F156/J145)^4,0)","v":5.1538431024280183E-3},{"$f":"IFERROR(BA43*(F156/K145)^4,0)","v":1.2555216864431796E-4},{"$f":"IFERROR(BB43*(F156/L145)^4,0)","v":1.2024068126910458E-9},{"$f":"IFERROR(BC43*(F156/G145)^4,0)","v":0.21946049138119306},{"$f":"IFERROR(BD43*(F156/H145)^4,0)","v":5.7872381859902348E-4},{"$f":"IFERROR(BE43*(F156/I145)^4,0)","v":7.8175261362382166E-5},{"$f":"IFERROR(BF43*(F156/J145)^4,0)","v":2.9691551658548049E-3},{"$f":"IFERROR(BG43*(F156/K145)^4,0)","v":7.8598479344306308E-4},{"$f":"IFERROR(BH43*(F156/L145)^4,0)","v":1.070625906344078E-7},{"$f":"IFERROR(BI43*(F156/G145)^4,0)","v":0.25740395743900468},{"$f":"IFERROR(BJ43*(F156/H145)^4,0)","v":1.157969965271919E-4},{"$f":"IFERROR(BK43*(F156/I145)^4,0)","v":1.0069172718365508E-4},{"$f":"IFERROR(BL43*(F156/J145)^4,0)","v":2.3974995530548398E-3},{"$f":"IFERROR(BM43*(F156/K145)^4,0)","v":5.8116139939145498E-4},{"$f":"IFERROR(BN43*(F156/L145)^4,0)","v":1.072688946052061E-7},{"$f":"IFERROR(BO43*(F156/G145)^4,0)","v":0.18053878115462771},{"$f":"IFERROR(BP43*(F156/H145)^4,0)","v":7.3055960459949285E-4},{"$f":"IFERROR(BQ43*(F156/I145)^4,0)","v":1.1444384234779924E-5},{"$f":"IFERROR(BR43*(F156/J145)^4,0)","v":3.4019646864545871E-3},{"$f":"IFERROR(BS43*(F156/K145)^4,0)","v":1.0888538176808832E-3},{"$f":"IFERROR(BT43*(F156/L145)^4,0)","v":1.5791338587329572E-7},{"$f":"IFERROR(BU43*(F156/G145)^4,0)","v":0.10839854025508727},{"$f":"IFERROR(BV43*(F156/H145)^4,0)","v":1.8641067348784264E-4},{"$f":"IFERROR(BW43*(F156/I145)^4,0)","v":4.270981053666841E-5},{"$f":"IFERROR(BX43*(F156/J145)^4,0)","v":1.708899816523519E-3},{"$f":"IFERROR(BY43*(F156/K145)^4,0)","v":1.6643647649622726E-3},{"$f":"IFERROR(BZ43*(F156/L145)^4,0)","v":4.3008933560335873E-8}]
[null,null,null,null,null,80,{"$f":"IFERROR(G44*(F157/G145)^4,0)","v":0},{"$f":"IFERROR(H44*(F157/H145)^4,0)","v":0},{"$f":"IFERROR(I44*(F157/I145)^4,0)","v":0},{"$f":"IFERROR(J44*(F157/J145)^4,0)","v":0},{"$f":"IFERROR(K44*(F157/K145)^4,0)","v":0},{"$f":"IFERROR(L44*(F157/L145)^4,0)","v":0},null,null,null,null,null,80,{"$f":"IFERROR(S44*(F157/G145)^4,0)","v":2.0916999175944542E-2},{"$f":"IFERROR(T44*(F157/H145)^4,0)","v":2.9373529233905325E-2},{"$f":"IFERROR(U44*(F157/I145)^4,0)","v":4.70817021084614E-8},{"$f":"IFERROR(V44*(F157/J145)^4,0)","v":0},{"$f":"IFERROR(W44*(F157/K145)^4,0)","v":0},{"$f":"IFERROR(X44*(F157/L145)^4,0)","v":0},{"$f":"IFERROR(Y44*(F157/G145)^4,0)","v":0.10041182042895203},{"$f":"IFERROR(Z44*(F157/H145)^4,0)","v":6.0556627916232208E-5},{"$f":"IFERROR(AA44*(F157/I145)^4,0)","v":3.2384593043627559E-5},{"$f":"IFERROR(AB44*(F157/J145)^4,0)","v":7.7461809351507685E-3},{"$f":"IFERROR(AC44*(F157/K145)^4,0)","v":3.8065133431919712E-8},{"$f":"IFERROR(AD44*(F157/L145)^4,0)","v":1.0673033996764868E-9},{"$f":"IFERROR(AE44*(F157/G145)^4,0)","v":1.3639918663446127E-3},{"$f":"IFERROR(AF44*(F157/H145)^4,0)","v":1.0199162444780035E-5},{"$f":"IFERROR(AG44*(F157/I145)^4,0)","v":5.3451816088581849E-2},{"$f":"IFERROR(AH44*(F157/J145)^4,0)","v":6.9236632319254207E-3},{"$f":"IFERROR(AI44*(F157/K145)^4,0)","v":1.9429700930713271E-5},{"$f":"IFERROR(AJ44*(F157/L145)^4,0)","v":1.5055602252594485E-7},{"$f":"IFERROR(AK44*(F157/G145)^4,0)","v":6.2203349950902577E-3},{"$f":"IFERROR(AL44*(F157/H145)^4,0)","v":1.9600494835451159E-2},{"$f":"IFERROR(AM44*(F157/I145)^4,0)","v":0},{"$f":"IFERROR(AN44*(F157/J145)^4,0)","v":5.7771169276645857E-7},{"$f":"IFERROR(AO44*(F157/K145)^4,0)","v":2.1387609989802472E-8},{"$f":"IFERROR(AP44*(F157/L145)^4,0)","v":0},{"$f":"IFERROR(AQ44*(F157/G145)^4,0)","v":1.8020401023275599E-2},{"$f":"IFERROR(AR44*(F157/H145)^4,0)","v":2.5678190316671033E-2},{"$f":"IFERROR(AS44*(F157/I145)^4,0)","v":3.7448135834460259E-6},{"$f":"IFERROR(AT44*(F157/J145)^4,0)","v":2.5035914894302488E-3},{"$f":"IFERROR(AU44*(F157/K145)^4,0)","v":0},{"$f":"IFERROR(AV44*(F157/L145)^4,0)","v":0},{"$f":"IFERROR(AW44*(F157/G145)^4,0)","v":3.6419334680096858E-2},{"$f":"IFERROR(AX44*(F157/H145)^4,0)","v":5.4625514278833793E-3},{"$f":"IFERROR(AY44*(F157/I145)^4,0)","v":3.2947320022991668E-4},{"$f":"IFERROR(AZ44*(F157/J145)^4,0)","v":9.3575932024790379E-3},{"$f":"IFERROR(BA44*(F157/K145)^4,0)","v":1.6418827293502805E-4},{"$f":"IFERROR(BB44*(F157/L145)^4,0)","v":0},{"$f":"IFERROR(BC44*(F157/G145)^4,0)","v":3.3191382483423522E-2},{"$f":"IFERROR(BD44*(F157/H145)^4,0)","v":9.5678920672559681E-4},{"$f":"IFERROR(BE44*(F157/I145)^4,0)","v":1.8697655801538126E-4},{"$f":"IFERROR(BF44*(F157/J145)^4,0)","v":5.4314089669049506E-3},{"$f":"IFERROR(BG44*(F157/K145)^4,0)","v":1.4706733216853206E-3},{"$f":"IFERROR(BH44*(F157/L145)^4,0)","v":3.3409812155359466E-7},{"$f":"IFERROR(BI44*(F157/G145)^4,0)","v":5.788739148271007E-2},{"$f":"IFERROR(BJ44*(F157/H145)^4,0)","v":1.6167253790978694E-4},{"$f":"IFERROR(BK44*(F157/I145)^4,0)","v":2.5441303589945116E-4},{"$f":"IFERROR(BL44*(F157/J145)^4,0)","v":3.1667342777630956E-3},{"$f":"IFERROR(BM44*(F157/K145)^4,0)","v":1.0367757029653207E-3},{"$f":"IFERROR(BN44*(F157/L145)^4,0)","v":3.9018336558676629E-7},{"$f":"IFERROR(BO44*(F157/G145)^4,0)","v":6.7526311512426634E-2},{"$f":"IFERROR(BP44*(F157/H145)^4,0)","v":9.1608299909441888E-4},{"$f":"IFERROR(BQ44*(F157/I145)^4,0)","v":3.3576325613940913E-5},{"$f":"IFERROR(BR44*(F157/J145)^4,0)","v":4.0718446812243276E-3},{"$f":"IFERROR(BS44*(F157/K145)^4,0)","v":1.5363637742865433E-3},{"$f":"IFERROR(BT44*(F157/L145)^4,0)","v":2.7642091508019593E-7},{"$f":"IFERROR(BU44*(F157/G145)^4,0)","v":5.0747340323854848E-2},{"$f":"IFERROR(BV44*(F157/H145)^4,0)","v":2.8019956544026586E-4},{"$f":"IFERROR(BW44*(F157/I145)^4,0)","v":4.8931196156569858E-5},{"$f":"IFERROR(BX44*(F157/J145)^4,0)","v":3.3492266636684542E-3},{"$f":"IFERROR(BY44*(F157/K145)^4,0)","v":2.1548796100511877E-3},{"$f":"IFERROR(BZ44*(F157/L145)^4,0)","v":1.3859031244728162E-7}]
[null,null,null,null,null,90,{"$f":"IFERROR(G45*(F158/G145)^4,0)","v":0},{"$f":"IFERROR(H45*(F158/H145)^4,0)","v":0},{"$f":"IFERROR(I45*(F158/I145)^4,0)","v":0},{"$f":"IFERROR(J45*(F158/J145)^4,0)","v":0},{"$f":"IFERROR(K45*(F158/K145)^4,0)","v":0},{"$f":"IFERROR(L45*(F158/L145)^4,0)","v":0},null,null,null,null,null,90,{"$f":"IFERROR(S45*(F158/G145)^4,0)","v":1.6130215358357802E-2},{"$f":"IFERROR(T45*(F158/H145)^4,0)","v":3.0224258123391995E-2},{"$f":"IFERROR(U45*(F158/I145)^4,0)","v":3.7707891544630787E-8},{"$f":"IFERROR(V45*(F158/J145)^4,0)","v":0},{"$f":"IFERROR(W45*(F158/K145)^4,0)","v":0},{"$f":"IFERROR(X45*(F158/L145)^4,0)","v":0},{"$f":"IFERROR(Y45*(F158/G145)^4,0)","v":4.4370916278787351E-2},{"$f":"IFERROR(Z45*(F158/H145)^4,0)","v":1.1182248197422477E-4},{"$f":"IFERROR(AA45*(F158/I145)^4,0)","v":3.4503974042342346E-5},{"$f":"IFERROR(AB45*(F158/J145)^4,0)","v":9.3697356867894818E-3},{"$f":"IFERROR(AC45*(F158/K145)^4,0)","v":4.8778386806020571E-8},{"$f":"IFERROR(AD45*(F158/L145)^4,0)","v":0},{"$f":"IFERROR(AE45*(F158/G145)^4,0)","v":1.3931038656339774E-3},{"$f":"IFERROR(AF45*(F158/H145)^4,0)","v":9.4392053212090235E-6},{"$f":"IFERROR(AG45*(F158/I145)^4,0)","v":9.1811622065405107E-2},{"$f":"IFERROR(AH45*(F158/J145)^4,0)","v":8.0148006408765644E-3},{"$f":"IFERROR(AI45*(F158/K145)^4,0)","v":2.1981713437717495E-5},{"$f":"IFERROR(AJ45*(F158/L145)^4,0)","v":1.7225831190581822E-7},{"$f":"IFERROR(AK45*(F158/G145)^4,0)","v":7.2163834020589892E-3},{"$f":"IFERROR(AL45*(F158/H145)^4,0)","v":1.3724278279887848E-2},{"$f":"IFERROR(AM45*(F158/I145)^4,0)","v":0},{"$f":"IFERROR(AN45*(F158/J145)^4,0)","v":9.2538242584002327E-7},{"$f":"IFERROR(AO45*(F158/K145)^4,0)","v":0},{"$f":"IFERROR(AP45*(F158/L145)^4,0)","v":0},{"$f":"IFERROR(AQ45*(F158/G145)^4,0)","v":8.7842620343719473E-3},{"$f":"IFERROR(AR45*(F158/H145)^4,0)","v":3.0266974390818886E-2},{"$f":"IFERROR(AS45*(F158/I145)^4,0)","v":6.1802390011958392E-6},{"$f":"IFERROR(AT45*(F158/J145)^4,0)","v":3.0682451384682293E-3},{"$f":"IFERROR(AU45*(F158/K145)^4,0)","v":0},{"$f":"IFERROR(AV45*(F158/L145)^4,0)","v":0},{"$f":"IFERROR(AW45*(F158/G145)^4,0)","v":2.2632136772525936E-2},{"$f":"IFERROR(AX45*(F158/H145)^4,0)","v":5.6552911970905312E-3},{"$f":"IFERROR(AY45*(F158/I145)^4,0)","v":5.5369156100012432E-4},{"$f":"IFERROR(AZ45*(F158/J145)^4,0)","v":1.3339020311260394E-2},{"$f":"IFERROR(BA45*(F158/K145)^4,0)","v":1.8116991879121394E-4},{"$f":"IFERROR(BB45*(F158/L145)^4,0)","v":0},{"$f":"IFERROR(BC45*(F158/G145)^4,0)","v":9.0344089994222939E-3},{"$f":"IFERROR(BD45*(F158/H145)^4,0)","v":1.0718142791321899E-3},{"$f":"IFERROR(BE45*(F158/I145)^4,0)","v":2.7867006668268272E-4},{"$f":"IFERROR(BF45*(F158/J145)^4,0)","v":6.6860910482801931E-3},{"$f":"IFERROR(BG45*(F158/K145)^4,0)","v":1.6525820795859796E-3},{"$f":"IFERROR(BH45*(F158/L145)^4,0)","v":1.0653701563320487E-6},{"$f":"IFERROR(BI45*(F158/G145)^4,0)","v":1.4452818148039748E-2},{"$f":"IFERROR(BJ45*(F158/H145)^4,0)","v":1.5136982528204959E-4},{"$f":"IFERROR(BK45*(F158/I145)^4,0)","v":4.5509717009223398E-4},{"$f":"IFERROR(BL45*(F158/J145)^4,0)","v":3.5852302652397508E-3},{"$f":"IFERROR(BM45*(F158/K145)^4,0)","v":1.3340245115288402E-3},{"$f":"IFERROR(BN45*(F158/L145)^4,0)","v":8.4874769962716378E-7},{"$f":"IFERROR(BO45*(F158/G145)^4,0)","v":2.2430370819431264E-2},{"$f":"IFERROR(BP45*(F158/H145)^4,0)","v":1.2898773854215985E-3},{"$f":"IFERROR(BQ45*(F158/I145)^4,0)","v":7.4917867931572737E-5},{"$f":"IFERROR(BR45*(F158/J145)^4,0)","v":2.9589141360612126E-3},{"$f":"IFERROR(BS45*(F158/K145)^4,0)","v":8.3611465813826589E-4},{"$f":"IFERROR(BT45*(F158/L145)^4,0)","v":4.5402979443520965E-7},{"$f":"IFERROR(BU45*(F158/G145)^4,0)","v":2.1948949382886638E-2},{"$f":"IFERROR(BV45*(F158/H145)^4,0)","v":3.5756710002269687E-4},{"$f":"IFERROR(BW45*(F158/I145)^4,0)","v":9.7829867549499255E-5},{"$f":"IFERROR(BX45*(F158/J145)^4,0)","v":4.2994793294803893E-3},{"$f":"IFERROR(BY45*(F158/K145)^4,0)","v":2.2244229998799898E-3},{"$f":"IFERROR(BZ45*(F158/L145)^4,0)","v":3.3952158546547541E-7}]
[null,null,null,null,null,100,{"$f":"IFERROR(G46*(F159/G145)^4,0)","v":0},{"$f":"IFERROR(H46*(F159/H145)^4,0)","v":0},{"$f":"IFERROR(I46*(F159/I145)^4,0)","v":0},{"$f":"IFERROR(J46*(F159/J145)^4,0)","v":0},{"$f":"IFERROR(K46*(F159/K145)^4,0)","v":0},{"$f":"IFERROR(L46*(F159/L145)^4,0)","v":0},null,null,null,null,null,100,{"$f":"IFERROR(S46*(F159/G145)^4,0)","v":0},{"$f":"IFERROR(T46*(F159/H145)^4,0)","v":2.6192746540697819E-2},{"$f":"IFERROR(U46*(F159/I145)^4,0)","v":0},{"$f":"IFERROR(V46*(F159/J145)^4,0)","v":0},{"$f":"IFERROR(W46*(F159/K145)^4,0)","v":0},{"$f":"IFERROR(X46*(F159/L145)^4,0)","v":0},{"$f":"IFERROR(Y46*(F159/G145)^4,0)","v":0},{"$f":"IFERROR(Z46*(F159/H145)^4,0)","v":1.0249363430564013E-4},{"$f":"IFERROR(AA46*(F159/I145)^4,0)","v":4.4922697647965278E-5},{"$f":"IFERROR(AB46*(F159/J145)^4,0)","v":1.09273060506538E-2},{"$f":"IFERROR(AC46*(F159/K145)^4,0)","v":6.1954969778515203E-8},{"$f":"IFERROR(AD46*(F159/L145)^4,0)","v":0},{"$f":"IFERROR(AE46*(F159/G145)^4,0)","v":0},{"$f":"IFERROR(AF46*(F159/H145)^4,0)","v":5.5333997638780569E-7},{"$f":"IFERROR(AG46*(F159/I145)^4,0)","v":0.12120570750149666},{"$f":"IFERROR(AH46*(F159/J145)^4,0)","v":8.7091409645958986E-3},{"$f":"IFERROR(AI46*(F159/K145)^4,0)","v":3.3254813126639111E-5},{"$f":"IFERROR(AJ46*(F159/L145)^4,0)","v":2.8880375414784341E-7},{"$f":"IFERROR(AK46*(F159/G145)^4,0)","v":0},{"$f":"IFERROR(AL46*(F159/H145)^4,0)","v":1.0944471836105722E-2},{"$f":"IFERROR(AM46*(F159/I145)^4,0)","v":0},{"$f":"IFERROR(AN46*(F159/J145)^4,0)","v":1.1283431499344893E-6},{"$f":"IFERROR(AO46*(F159/K145)^4,0)","v":5.2215844701666224E-8},{"$f":"IFERROR(AP46*(F159/L145)^4,0)","v":0},{"$f":"IFERROR(AQ46*(F159/G145)^4,0)","v":0},{"$f":"IFERROR(AR46*(F159/H145)^4,0)","v":2.2324417477420883E-2},{"$f":"IFERROR(AS46*(F159/I145)^4,0)","v":5.5409765380060777E-6},{"$f":"IFERROR(AT46*(F159/J145)^4,0)","v":2.9963467715389959E-3},{"$f":"IFERROR(AU46*(F159/K145)^4,0)","v":3.0680320451363565E-8},{"$f":"IFERROR(AV46*(F159/L145)^4,0)","v":0},{"$f":"IFERROR(AW46*(F159/G145)^4,0)","v":0},{"$f":"IFERROR(AX46*(F159/H145)^4,0)","v":4.0859040966123245E-3},{"$f":"IFERROR(AY46*(F159/I145)^4,0)","v":1.1850116697913993E-3},{"$f":"IFERROR(AZ46*(F159/J145)^4,0)","v":1.5799376045334594E-2},{"$f":"IFERROR(BA46*(F159/K145)^4,0)","v":2.2131028163160514E-4},{"$f":"IFERROR(BB46*(F159/L145)^4,0)","v":5.0079417438194344E-9},{"$f":"IFERROR(BC46*(F159/G145)^4,0)","v":0},{"$f":"IFERROR(BD46*(F159/H145)^4,0)","v":8.5264882455862376E-4},{"$f":"IFERROR(BE46*(F159/I145)^4,0)","v":3.6886202352687535E-4},{"$f":"IFERROR(BF46*(F159/J145)^4,0)","v":7.3785274787114804E-3},{"$f":"IFERROR(BG46*(F159/K145)^4,0)","v":1.7582703574440101E-3},{"$f":"IFERROR(BH46*(F159/L145)^4,0)","v":1.5435288432859234E-6},{"$f":"IFERROR(BI46*(F159/G145)^4,0)","v":0},{"$f":"IFERROR(BJ46*(F159/H145)^4,0)","v":1.0941208566216866E-4},{"$f":"IFERROR(BK46*(F159/I145)^4,0)","v":6.9288417592455135E-4},{"$f":"IFERROR(BL46*(F159/J145)^4,0)","v":4.3496433068634611E-3},{"$f":"IFERROR(BM46*(F159/K145)^4,0)","v":1.5131515512391603E-3},{"$f":"IFERROR(BN46*(F159/L145)^4,0)","v":1.6794269373278055E-6},{"$f":"IFERROR(BO46*(F159/G145)^4,0)","v":0},{"$f":"IFERROR(BP46*(F159/H145)^4,0)","v":2.4823233779819394E-3},{"$f":"IFERROR(BQ46*(F159/I145)^4,0)","v":1.1890078865010655E-4},{"$f":"IFERROR(BR46*(F159/J145)^4,0)","v":3.0612907826469667E-3},{"$f":"IFERROR(BS46*(F159/K145)^4,0)","v":7.5844889486996773E-4},{"$f":"IFERROR(BT46*(F159/L145)^4,0)","v":6.9773221579928959E-7},{"$f":"IFERROR(BU46*(F159/G145)^4,0)","v":0},{"$f":"IFERROR(BV46*(F159/H145)^4,0)","v":3.894582973317003E-4},{"$f":"IFERROR(BW46*(F159/I145)^4,0)","v":6.9758206199489455E-5},{"$f":"IFERROR(BX46*(F159/J145)^4,0)","v":5.0574638618720753E-3},{"$f":"IFERROR(BY46*(F159/K145)^4,0)","v":2.0268814829281891E-3},{"$f":"IFERROR(BZ46*(F159/L145)^4,0)","v":4.5777475676233304E-7}]
[null,null,null,null,null,110,{"$f":"IFERROR(G47*(F160/G145)^4,0)","v":0},{"$f":"IFERROR(H47*(F160/H145)^4,0)","v":0},{"$f":"IFERROR(I47*(F160/I145)^4,0)","v":0},{"$f":"IFERROR(J47*(F160/J145)^4,0)","v":0},{"$f":"IFERROR(K47*(F160/K145)^4,0)","v":0},{"$f":"IFERROR(L47*(F160/L145)^4,0)","v":0},null,null,null,null,null,110,{"$f":"IFERROR(S47*(F160/G145)^4,0)","v":0},{"$f":"IFERROR(T47*(F160/H145)^4,0)","v":2.0703667313846007E-2},{"$f":"IFERROR(U47*(F160/I145)^4,0)","v":0},{"$f":"IFERROR(V47*(F160/J145)^4,0)","v":0},{"$f":"IFERROR(W47*(F160/K145)^4,0)","v":0},{"$f":"IFERROR(X47*(F160/L145)^4,0)","v":0},{"$f":"IFERROR(Y47*(F160/G145)^4,0)","v":0},{"$f":"IFERROR(Z47*(F160/H145)^4,0)","v":6.0073014111444502E-5},{"$f":"IFERROR(AA47*(F160/I145)^4,0)","v":6.1035786469286154E-5},{"$f":"IFERROR(AB47*(F160/J145)^4,0)","v":1.4208916601011295E-2},{"$f":"IFERROR(AC47*(F160/K145)^4,0)","v":6.349578987690685E-8},{"$f":"IFERROR(AD47*(F160/L145)^4,0)","v":3.815036395181504E-9},{"$f":"IFERROR(AE47*(F160/G145)^4,0)","v":0},{"$f":"IFERROR(AF47*(F160/H145)^4,0)","v":0},{"$f":"IFERROR(AG47*(F160/I145)^4,0)","v":0.13806843734857593},{"$f":"IFERROR(AH47*(F160/J145)^4,0)","v":1.1329917904645166E-2},{"$f":"IFERROR(AI47*(F160/K145)^4,0)","v":4.9720419682101461E-5},{"$f":"IFERROR(AJ47*(F160/L145)^4,0)","v":3.3314475720134225E-7},{"$f":"IFERROR(AK47*(F160/G145)^4,0)","v":0},{"$f":"IFERROR(AL47*(F160/H145)^4,0)","v":9.9686581801185139E-3},{"$f":"IFERROR(AM47*(F160/I145)^4,0)","v":0},{"$f":"IFERROR(AN47*(F160/J145)^4,0)","v":1.3766726715159051E-6},{"$f":"IFERROR(AO47*(F160/K145)^4,0)","v":0},{"$f":"IFERROR(AP47*(F160/L145)^4,0)","v":0},{"$f":"IFERROR(AQ47*(F160/G145)^4,0)","v":0},{"$f":"IFERROR(AR47*(F160/H145)^4,0)","v":1.3278109709761022E-2},{"$f":"IFERROR(AS47*(F160/I145)^4,0)","v":1.1763188436477309E-5},{"$f":"IFERROR(AT47*(F160/J145)^4,0)","v":3.5682466289256162E-3},{"$f":"IFERROR(AU47*(F160/K145)^4,0)","v":0},{"$f":"IFERROR(AV47*(F160/L145)^4,0)","v":0},{"$f":"IFERROR(AW47*(F160/G145)^4,0)","v":0},{"$f":"IFERROR(AX47*(F160/H145)^4,0)","v":2.4679480166091765E-3},{"$f":"IFERROR(AY47*(F160/I145)^4,0)","v":2.4083370065076659E-3},{"$f":"IFERROR(AZ47*(F160/J145)^4,0)","v":1.9175337963211962E-2},{"$f":"IFERROR(BA47*(F160/K145)^4,0)","v":2.9634678501684652E-4},{"$f":"IFERROR(BB47*(F160/L145)^4,0)","v":7.3321275071260328E-9},{"$f":"IFERROR(BC47*(F160/G145)^4,0)","v":0},{"$f":"IFERROR(BD47*(F160/H145)^4,0)","v":4.4927267110905843E-4},{"$f":"IFERROR(BE47*(F160/I145)^4,0)","v":4.9373564114590376E-4},{"$f":"IFERROR(BF47*(F160/J145)^4,0)","v":8.1493046904340134E-3},{"$f":"IFERROR(BG47*(F160/K145)^4,0)","v":2.0644128104538957E-3},{"$f":"IFERROR(BH47*(F160/L145)^4,0)","v":2.0760769589925862E-6},{"$f":"IFERROR(BI47*(F160/G145)^4,0)","v":0},{"$f":"IFERROR(BJ47*(F160/H145)^4,0)","v":5.2212781571714467E-5},{"$f":"IFERROR(BK47*(F160/I145)^4,0)","v":8.3816460087310287E-4},{"$f":"IFERROR(BL47*(F160/J145)^4,0)","v":5.5967577467195872E-3},{"$f":"IFERROR(BM47*(F160/K145)^4,0)","v":1.6002259019482594E-3},{"$f":"IFERROR(BN47*(F160/L145)^4,0)","v":2.5341625608264089E-6},{"$f":"IFERROR(BO47*(F160/G145)^4,0)","v":0},{"$f":"IFERROR(BP47*(F160/H145)^4,0)","v":1.0934563837391208E-3},{"$f":"IFERROR(BQ47*(F160/I145)^4,0)","v":1.1848356211618914E-4},{"$f":"IFERROR(BR47*(F160/J145)^4,0)","v":4.2031734633962235E-3},{"$f":"IFERROR(BS47*(F160/K145)^4,0)","v":9.4234165173504329E-4},{"$f":"IFERROR(BT47*(F160/L145)^4,0)","v":8.6245592562810796E-7},{"$f":"IFERROR(BU47*(F160/G145)^4,0)","v":0},{"$f":"IFERROR(BV47*(F160/H145)^4,0)","v":3.8322279180692174E-4},{"$f":"IFERROR(BW47*(F160/I145)^4,0)","v":7.4046417530087533E-5},{"$f":"IFERROR(BX47*(F160/J145)^4,0)","v":6.1660015400828985E-3},{"$f":"IFERROR(BY47*(F160/K145)^4,0)","v":1.8289044256746794E-3},{"$f":"IFERROR(BZ47*(F160/L145)^4,0)","v":4.6624558008746551E-7}]
[null,null,null,null,null,120,{"$f":"IFERROR(G48*(F161/G145)^4,0)","v":0},{"$f":"IFERROR(H48*(F161/H145)^4,0)","v":0},{"$f":"IFERROR(I48*(F161/I145)^4,0)","v":0},{"$f":"IFERROR(J48*(F161/J145)^4,0)","v":0},{"$f":"IFERROR(K48*(F161/K145)^4,0)","v":0},{"$f":"IFERROR(L48*(F161/L145)^4,0)","v":0},null,null,null,null,null,120,{"$f":"IFERROR(S48*(F161/G145)^4,0)","v":0},{"$f":"IFERROR(T48*(F161/H145)^4,0)","v":1.6113419352724697E-2},{"$f":"IFERROR(U48*(F161/I145)^4,0)","v":0},{"$f":"IFERROR(V48*(F161/J145)^4,0)","v":0},{"$f":"IFERROR(W48*(F161/K145)^4,0)","v":0},{"$f":"IFERROR(X48*(F161/L145)^4,0)","v":0},{"$f":"IFERROR(Y48*(F161/G145)^4,0)","v":0},{"$f":"IFERROR(Z48*(F161/H145)^4,0)","v":9.1625920300782241E-5},{"$f":"IFERROR(AA48*(F161/I145)^4,0)","v":6.3343159973118133E-5},{"$f":"IFERROR(AB48*(F161/J145)^4,0)","v":1.727318071315579E-2},{"$f":"IFERROR(AC48*(F161/K145)^4,0)","v":8.9928877732910347E-8},{"$f":"IFERROR(AD48*(F161/L145)^4,0)","v":0},{"$f":"IFERROR(AE48*(F161/G145)^4,0)","v":0},{"$f":"IFERROR(AF48*(F161/H145)^4,0)","v":0},{"$f":"IFERROR(AG48*(F161/I145)^4,0)","v":0.12021279384775059},{"$f":"IFERROR(AH48*(F161/J145)^4,0)","v":1.5194955778575403E-2},{"$f":"IFERROR(AI48*(F161/K145)^4,0)","v":6.5474928865700993E-5},{"$f":"IFERROR(AJ48*(F161/L145)^4,0)","v":3.4480017658843635E-7},{"$f":"IFERROR(AK48*(F161/G145)^4,0)","v":0},{"$f":"IFERROR(AL48*(F161/H145)^4,0)","v":8.1668131531053931E-3},{"$f":"IFERROR(AM48*(F161/I145)^4,0)","v":0},{"$f":"IFERROR(AN48*(F161/J145)^4,0)","v":2.7296877483215167E-6},{"$f":"IFERROR(AO48*(F161/K145)^4,0)","v":0},{"$f":"IFERROR(AP48*(F161/L145)^4,0)","v":0},{"$f":"IFERROR(AQ48*(F161/G145)^4,0)","v":0},{"$f":"IFERROR(AR48*(F161/H145)^4,0)","v":7.6847728093515739E-3},{"$f":"IFERROR(AS48*(F161/I145)^4,0)","v":1.091528050174893E-5},{"$f":"IFERROR(AT48*(F161/J145)^4,0)","v":4.7594793036049125E-3},{"$f":"IFERROR(AU48*(F161/K145)^4,0)","v":3.1809356243973724E-8},{"$f":"IFERROR(AV48*(F161/L145)^4,0)","v":1.3378476968208065E-8},{"$f":"IFERROR(AW48*(F161/G145)^4,0)","v":0},{"$f":"IFERROR(AX48*(F161/H145)^4,0)","v":1.6917425069124339E-3},{"$f":"IFERROR(AY48*(F161/I145)^4,0)","v":2.2426950028003171E-3},{"$f":"IFERROR(AZ48*(F161/J145)^4,0)","v":2.1878720967007884E-2},{"$f":"IFERROR(BA48*(F161/K145)^4,0)","v":3.2403832904613655E-4},{"$f":"IFERROR(BB48*(F161/L145)^4,0)","v":5.1922339999919912E-8},{"$f":"IFERROR(BC48*(F161/G145)^4,0)","v":0},{"$f":"IFERROR(BD48*(F161/H145)^4,0)","v":1.8277088754590213E-4},{"$f":"IFERROR(BE48*(F161/I145)^4,0)","v":3.8270352153169432E-4},{"$f":"IFERROR(BF48*(F161/J145)^4,0)","v":1.0212878942396059E-2},{"$f":"IFERROR(BG48*(F161/K145)^4,0)","v":2.2957787451635906E-3},{"$f":"IFERROR(BH48*(F161/L145)^4,0)","v":1.503599604344729E-6},{"$f":"IFERROR(BI48*(F161/G145)^4,0)","v":0},{"$f":"IFERROR(BJ48*(F161/H145)^4,0)","v":2.754215148645619E-5},{"$f":"IFERROR(BK48*(F161/I145)^4,0)","v":6.6827412650274432E-4},{"$f":"IFERROR(BL48*(F161/J145)^4,0)","v":8.6069752379591396E-3},{"$f":"IFERROR(BM48*(F161/K145)^4,0)","v":1.8675285472707806E-3},{"$f":"IFERROR(BN48*(F161/L145)^4,0)","v":2.1096239118862494E-6},{"$f":"IFERROR(BO48*(F161/G145)^4,0)","v":0},{"$f":"IFERROR(BP48*(F161/H145)^4,0)","v":4.0396508431452135E-4},{"$f":"IFERROR(BQ48*(F161/I145)^4,0)","v":8.2546270159512903E-5},{"$f":"IFERROR(BR48*(F161/J145)^4,0)","v":6.5363415560477202E-3},{"$f":"IFERROR(BS48*(F161/K145)^4,0)","v":1.1853784341183677E-3},{"$f":"IFERROR(BT48*(F161/L145)^4,0)","v":9.9616944184621481E-7},{"$f":"IFERROR(BU48*(F161/G145)^4,0)","v":0},{"$f":"IFERROR(BV48*(F161/H145)^4,0)","v":3.7494819391111362E-4},{"$f":"IFERROR(BW48*(F161/I145)^4,0)","v":8.3174104415775248E-5},{"$f":"IFERROR(BX48*(F161/J145)^4,0)","v":9.0079214055038062E-3},{"$f":"IFERROR(BY48*(F161/K145)^4,0)","v":1.84924335895854E-3},{"$f":"IFERROR(BZ48*(F161/L145)^4,0)","v":5.365279375256897E-7}]
[null,null,null,null,null,130,{"$f":"IFERROR(G49*(F162/G145)^4,0)","v":0},{"$f":"IFERROR(H49*(F162/H145)^4,0)","v":0},{"$f":"IFERROR(I49*(F162/I145)^4,0)","v":0},{"$f":"IFERROR(J49*(F162/J145)^4,0)","v":0},{"$f":"IFERROR(K49*(F162/K145)^4,0)","v":0},{"$f":"IFERROR(L49*(F162/L145)^4,0)","v":0},null,null,null,null,null,130,{"$f":"IFERROR(S49*(F162/G145)^4,0)","v":0},{"$f":"IFERROR(T49*(F162/H145)^4,0)","v":1.3732749996578463E-2},{"$f":"IFERROR(U49*(F162/I145)^4,0)","v":1.6414800951169025E-7},{"$f":"IFERROR(V49*(F162/J145)^4,0)","v":0},{"$f":"IFERROR(W49*(F162/K145)^4,0)","v":0},{"$f":"IFERROR(X49*(F162/L145)^4,0)","v":0},{"$f":"IFERROR(Y49*(F162/G145)^4,0)","v":0},{"$f":"IFERROR(Z49*(F162/H145)^4,0)","v":2.0211322750175739E-4},{"$f":"IFERROR(AA49*(F162/I145)^4,0)","v":6.4322929998513283E-5},{"$f":"IFERROR(AB49*(F162/J145)^4,0)","v":2.0398567257732453E-2},{"$f":"IFERROR(AC49*(F162/K145)^4,0)","v":1.4155967134753376E-7},{"$f":"IFERROR(AD49*(F162/L145)^4,0)","v":0},{"$f":"IFERROR(AE49*(F162/G145)^4,0)","v":0},{"$f":"IFERROR(AF49*(F162/H145)^4,0)","v":0},{"$f":"IFERROR(AG49*(F162/I145)^4,0)","v":6.980296686820367E-2},{"$f":"IFERROR(AH49*(F162/J145)^4,0)","v":2.0032031313649515E-2},{"$f":"IFERROR(AI49*(F162/K145)^4,0)","v":9.0123533189185001E-5},{"$f":"IFERROR(AJ49*(F162/L145)^4,0)","v":3.9992843744080257E-7},{"$f":"IFERROR(AK49*(F162/G145)^4,0)","v":0},{"$f":"IFERROR(AL49*(F162/H145)^4,0)","v":7.9779619368698321E-3},{"$f":"IFERROR(AM49*(F162/I145)^4,0)","v":0},{"$f":"IFERROR(AN49*(F162/J145)^4,0)","v":3.2226608705278949E-6},{"$f":"IFERROR(AO49*(F162/K145)^4,0)","v":7.4566837026214425E-8},{"$f":"IFERROR(AP49*(F162/L145)^4,0)","v":0},{"$f":"IFERROR(AQ49*(F162/G145)^4,0)","v":0},{"$f":"IFERROR(AR49*(F162/H145)^4,0)","v":6.4987727662543775E-3},{"$f":"IFERROR(AS49*(F162/I145)^4,0)","v":1.4243024781179242E-5},{"$f":"IFERROR(AT49*(F162/J145)^4,0)","v":5.7790561465703959E-3},{"$f":"IFERROR(AU49*(F162/K145)^4,0)","v":8.7626063241139438E-8},{"$f":"IFERROR(AV49*(F162/L145)^4,0)","v":1.8427019709152695E-8},{"$f":"IFERROR(AW49*(F162/G145)^4,0)","v":0},{"$f":"IFERROR(AX49*(F162/H145)^4,0)","v":1.2035903166172852E-3},{"$f":"IFERROR(AY49*(F162/I145)^4,0)","v":1.2721199744690674E-3},{"$f":"IFERROR(AZ49*(F162/J145)^4,0)","v":2.7284461329489626E-2},{"$f":"IFERROR(BA49*(F162/K145)^4,0)","v":3.8320131547195266E-4},{"$f":"IFERROR(BB49*(F162/L145)^4,0)","v":4.2909547243568046E-8},{"$f":"IFERROR(BC49*(F162/G145)^4,0)","v":0},{"$f":"IFERROR(BD49*(F162/H145)^4,0)","v":1.0872655104299237E-4},{"$f":"IFERROR(BE49*(F162/I145)^4,0)","v":1.8029018382237426E-4},{"$f":"IFERROR(BF49*(F162/J145)^4,0)","v":1.4749946764946027E-2},{"$f":"IFERROR(BG49*(F162/K145)^4,0)","v":2.7763554313573829E-3},{"$f":"IFERROR(BH49*(F162/L145)^4,0)","v":1.6556264250071294E-6},{"$f":"IFERROR(BI49*(F162/G145)^4,0)","v":0},{"$f":"IFERROR(BJ49*(F162/H145)^4,0)","v":2.2692036241476331E-5},{"$f":"IFERROR(BK49*(F162/I145)^4,0)","v":3.7661218384836315E-4},{"$f":"IFERROR(BL49*(F162/J145)^4,0)","v":1.5230725066001044E-2},{"$f":"IFERROR(BM49*(F162/K145)^4,0)","v":2.4752744566100397E-3},{"$f":"IFERROR(BN49*(F162/L145)^4,0)","v":2.5302600603532654E-6},{"$f":"IFERROR(BO49*(F162/G145)^4,0)","v":0},{"$f":"IFERROR(BP49*(F162/H145)^4,0)","v":2.7456324529287268E-4},{"$f":"IFERROR(BQ49*(F162/I145)^4,0)","v":9.6492154136124312E-5},{"$f":"IFERROR(BR49*(F162/J145)^4,0)","v":1.1882202345925625E-2},{"$f":"IFERROR(BS49*(F162/K145)^4,0)","v":1.5733270749793277E-3},{"$f":"IFERROR(BT49*(F162/L145)^4,0)","v":1.4374244457041216E-6},{"$f":"IFERROR(BU49*(F162/G145)^4,0)","v":0},{"$f":"IFERROR(BV49*(F162/H145)^4,0)","v":3.0336322991156441E-4},{"$f":"IFERROR(BW49*(F162/I145)^4,0)","v":7.7204109931465205E-5},{"$f":"IFERROR(BX49*(F162/J145)^4,0)","v":1.3797821816466894E-2},{"$f":"IFERROR(BY49*(F162/K145)^4,0)","v":2.4129942711002099E-3},{"$f":"IFERROR(BZ49*(F162/L145)^4,0)","v":7.3899375114155152E-7}]
[null,null,null,null,null,140,{"$f":"IFERROR(G50*(F163/G145)^4,0)","v":0},{"$f":"IFERROR(H50*(F163/H145)^4,0)","v":0},{"$f":"IFERROR(I50*(F163/I145)^4,0)","v":0},{"$f":"IFERROR(J50*(F163/J145)^4,0)","v":0},{"$f":"IFERROR(K50*(F163/K145)^4,0)","v":0},{"$f":"IFERROR(L50*(F163/L145)^4,0)","v":0},null,null,null,null,null,140,{"$f":"IFERROR(S50*(F163/G145)^4,0)","v":0},{"$f":"IFERROR(T50*(F163/H145)^4,0)","v":9.6690014814901273E-3},{"$f":"IFERROR(U50*(F163/I145)^4,0)","v":0},{"$f":"IFERROR(V50*(F163/J145)^4,0)","v":0},{"$f":"IFERROR(W50*(F163/K145)^4,0)","v":0},{"$f":"IFERROR(X50*(F163/L145)^4,0)","v":0},{"$f":"IFERROR(Y50*(F163/G145)^4,0)","v":0},{"$f":"IFERROR(Z50*(F163/H145)^4,0)","v":1.7804430017511285E-4},{"$f":"IFERROR(AA50*(F163/I145)^4,0)","v":5.7985211855566261E-5},{"$f":"IFERROR(AB50*(F163/J145)^4,0)","v":2.3501878732545025E-2},{"$f":"IFERROR(AC50*(F163/K145)^4,0)","v":1.9040496952091516E-7},{"$f":"IFERROR(AD50*(F163/L145)^4,0)","v":1.0010138525872048E-8},{"$f":"IFERROR(AE50*(F163/G145)^4,0)","v":0},{"$f":"IFERROR(AF50*(F163/H145)^4,0)","v":0},{"$f":"IFERROR(AG50*(F163/I145)^4,0)","v":4.3839413539878642E-2},{"$f":"IFERROR(AH50*(F163/J145)^4,0)","v":2.4684342311245108E-2},{"$f":"IFERROR(AI50*(F163/K145)^4,0)","v":1.3491980239511267E-4},{"$f":"IFERROR(AJ50*(F163/L145)^4,0)","v":3.698228339781183E-7},{"$f":"IFERROR(AK50*(F163/G145)^4,0)","v":0},{"$f":"IFERROR(AL50*(F163/H145)^4,0)","v":8.054120560417672E-3},{"$f":"IFERROR(AM50*(F163/I145)^4,0)","v":0},{"$f":"IFERROR(AN50*(F163/J145)^4,0)","v":4.3346430447883342E-6},{"$f":"IFERROR(AO50*(F163/K145)^4,0)","v":0},{"$f":"IFERROR(AP50*(F163/L145)^4,0)","v":0},{"$f":"IFERROR(AQ50*(F163/G145)^4,0)","v":0},{"$f":"IFERROR(AR50*(F163/H145)^4,0)","v":6.0564457078562256E-3},{"$f":"IFERROR(AS50*(F163/I145)^4,0)","v":2.447914778866477E-5},{"$f":"IFERROR(AT50*(F163/J145)^4,0)","v":5.8980751043814367E-3},{"$f":"IFERROR(AU50*(F163/K145)^4,0)","v":5.8930759522979112E-8},{"$f":"IFERROR(AV50*(F163/L145)^4,0)","v":0},{"$f":"IFERROR(AW50*(F163/G145)^4,0)","v":0},{"$f":"IFERROR(AX50*(F163/H145)^4,0)","v":8.1310227721521574E-4},{"$f":"IFERROR(AY50*(F163/I145)^4,0)","v":6.4225571612833328E-4},{"$f":"IFERROR(AZ50*(F163/J145)^4,0)","v":3.0186199592860345E-2},{"$f":"IFERROR(BA50*(F163/K145)^4,0)","v":3.7024724316798822E-4},{"$f":"IFERROR(BB50*(F163/L145)^4,0)","v":9.6192545015283674E-8},{"$f":"IFERROR(BC50*(F163/G145)^4,0)","v":0},{"$f":"IFERROR(BD50*(F163/H145)^4,0)","v":6.3561929218004757E-5},{"$f":"IFERROR(BE50*(F163/I145)^4,0)","v":9.7858392820428038E-5},{"$f":"IFERROR(BF50*(F163/J145)^4,0)","v":2.1139842795670737E-2},{"$f":"IFERROR(BG50*(F163/K145)^4,0)","v":3.3640424759954122E-3},{"$f":"IFERROR(BH50*(F163/L145)^4,0)","v":1.8052399897740147E-6},{"$f":"IFERROR(BI50*(F163/G145)^4,0)","v":0},{"$f":"IFERROR(BJ50*(F163/H145)^4,0)","v":1.9338331411985772E-5},{"$f":"IFERROR(BK50*(F163/I145)^4,0)","v":2.281441694928533E-4},{"$f":"IFERROR(BL50*(F163/J145)^4,0)","v":2.5192410692302204E-2},{"$f":"IFERROR(BM50*(F163/K145)^4,0)","v":3.3292397778713887E-3},{"$f":"IFERROR(BN50*(F163/L145)^4,0)","v":2.587261696746464E-6},{"$f":"IFERROR(BO50*(F163/G145)^4,0)","v":0},{"$f":"IFERROR(BP50*(F163/H145)^4,0)","v":2.0003834075199131E-4},{"$f":"IFERROR(BQ50*(F163/I145)^4,0)","v":9.658557244297781E-5},{"$f":"IFERROR(BR50*(F163/J145)^4,0)","v":2.1270075338190329E-2},{"$f":"IFERROR(BS50*(F163/K145)^4,0)","v":2.2754449833908099E-3},{"$f":"IFERROR(BT50*(F163/L145)^4,0)","v":1.7137035266945483E-6},{"$f":"IFERROR(BU50*(F163/G145)^4,0)","v":0},{"$f":"IFERROR(BV50*(F163/H145)^4,0)","v":2.7202599909626548E-4},{"$f":"IFERROR(BW50*(F163/I145)^4,0)","v":7.3695359357388619E-5},{"$f":"IFERROR(BX50*(F163/J145)^4,0)","v":2.1199847870590195E-2},{"$f":"IFERROR(BY50*(F163/K145)^4,0)","v":3.9450736521332574E-3},{"$f":"IFERROR(BZ50*(F163/L145)^4,0)","v":3.0584130531794405E-7}]
[null,null,null,null,null,150,{"$f":"IFERROR(G51*(F164/G145)^4,0)","v":0},{"$f":"IFERROR(H51*(F164/H145)^4,0)","v":0},{"$f":"IFERROR(I51*(F164/I145)^4,0)","v":0},{"$f":"IFERROR(J51*(F164/J145)^4,0)","v":0},{"$f":"IFERROR(K51*(F164/K145)^4,0)","v":0},{"$f":"IFERROR(L51*(F164/L145)^4,0)","v":0},null,null,null,null,null,150,{"$f":"IFERROR(S51*(F164/G145)^4,0)","v":0},{"$f":"IFERROR(T51*(F164/H145)^4,0)","v":7.9451285655270099E-3},{"$f":"IFERROR(U51*(F164/I145)^4,0)","v":0},{"$f":"IFERROR(V51*(F164/J145)^4,0)","v":0},{"$f":"IFERROR(W51*(F164/K145)^4,0)","v":0},{"$f":"IFERROR(X51*(F164/L145)^4,0)","v":0},{"$f":"IFERROR(Y51*(F164/G145)^4,0)","v":0},{"$f":"IFERROR(Z51*(F164/H145)^4,0)","v":1.0007456858509573E-4},{"$f":"IFERROR(AA51*(F164/I145)^4,0)","v":8.0052247208674089E-5},{"$f":"IFERROR(AB51*(F164/J145)^4,0)","v":2.6990733239201443E-2},{"$f":"IFERROR(AC51*(F164/K145)^4,0)","v":0},{"$f":"IFERROR(AD51*(F164/L145)^4,0)","v":0},{"$f":"IFERROR(AE51*(F164/G145)^4,0)","v":0},{"$f":"IFERROR(AF51*(F164/H145)^4,0)","v":0},{"$f":"IFERROR(AG51*(F164/I145)^4,0)","v":4.0064779176360955E-2},{"$f":"IFERROR(AH51*(F164/J145)^4,0)","v":3.1303213799610062E-2},{"$f":"IFERROR(AI51*(F164/K145)^4,0)","v":1.8199702006269349E-4},{"$f":"IFERROR(AJ51*(F164/L145)^4,0)","v":4.8735633512448588E-7},{"$f":"IFERROR(AK51*(F164/G145)^4,0)","v":0},{"$f":"IFERROR(AL51*(F164/H145)^4,0)","v":6.6119352922609457E-3},{"$f":"IFERROR(AM51*(F164/I145)^4,0)","v":0},{"$f":"IFERROR(AN51*(F164/J145)^4,0)","v":5.7122371965433555E-6},{"$f":"IFERROR(AO51*(F164/K145)^4,0)","v":1.3217135690109254E-7},{"$f":"IFERROR(AP51*(F164/L145)^4,0)","v":0},{"$f":"IFERROR(AQ51*(F164/G145)^4,0)","v":0},{"$f":"IFERROR(AR51*(F164/H145)^4,0)","v":5.3319304895374934E-3},{"$f":"IFERROR(AS51*(F164/I145)^4,0)","v":1.6830716234193451E-5},{"$f":"IFERROR(AT51*(F164/J145)^4,0)","v":5.6453430697334913E-3},{"$f":"IFERROR(AU51*(F164/K145)^4,0)","v":0},{"$f":"IFERROR(AV51*(F164/L145)^4,0)","v":0},{"$f":"IFERROR(AW51*(F164/G145)^4,0)","v":0},{"$f":"IFERROR(AX51*(F164/H145)^4,0)","v":5.6708341019355872E-4},{"$f":"IFERROR(AY51*(F164/I145)^4,0)","v":5.9618599536089023E-4},{"$f":"IFERROR(AZ51*(F164/J145)^4,0)","v":2.9668071467293229E-2},{"$f":"IFERROR(BA51*(F164/K145)^4,0)","v":3.4312375610046997E-4},{"$f":"IFERROR(BB51*(F164/L145)^4,0)","v":2.535270507808589E-8},{"$f":"IFERROR(BC51*(F164/G145)^4,0)","v":0},{"$f":"IFERROR(BD51*(F164/H145)^4,0)","v":3.1825354211419623E-5},{"$f":"IFERROR(BE51*(F164/I145)^4,0)","v":7.0499409705191909E-5},{"$f":"IFERROR(BF51*(F164/J145)^4,0)","v":3.1149963142441187E-2},{"$f":"IFERROR(BG51*(F164/K145)^4,0)","v":4.1994911916214831E-3},{"$f":"IFERROR(BH51*(F164/L145)^4,0)","v":2.733203699248549E-6},{"$f":"IFERROR(BI51*(F164/G145)^4,0)","v":0},{"$f":"IFERROR(BJ51*(F164/H145)^4,0)","v":9.8252538122346556E-6},{"$f":"IFERROR(BK51*(F164/I145)^4,0)","v":1.8083346198260517E-4},{"$f":"IFERROR(BL51*(F164/J145)^4,0)","v":4.176242223567242E-2},{"$f":"IFERROR(BM51*(F164/K145)^4,0)","v":4.6834941992671842E-3},{"$f":"IFERROR(BN51*(F164/L145)^4,0)","v":3.8628367527214036E-6},{"$f":"IFERROR(BO51*(F164/G145)^4,0)","v":0},{"$f":"IFERROR(BP51*(F164/H145)^4,0)","v":1.4194523716878167E-4},{"$f":"IFERROR(BQ51*(F164/I145)^4,0)","v":1.2860730952972009E-4},{"$f":"IFERROR(BR51*(F164/J145)^4,0)","v":3.4037553544167369E-2},{"$f":"IFERROR(BS51*(F164/K145)^4,0)","v":3.7461066320941721E-3},{"$f":"IFERROR(BT51*(F164/L145)^4,0)","v":2.0846179726134512E-6},{"$f":"IFERROR(BU51*(F164/G145)^4,0)","v":0},{"$f":"IFERROR(BV51*(F164/H145)^4,0)","v":1.0242247429827184E-4},{"$f":"IFERROR(BW51*(F164/I145)^4,0)","v":7.5044570263044477E-5},{"$f":"IFERROR(BX51*(F164/J145)^4,0)","v":2.9774252105317523E-2},{"$f":"IFERROR(BY51*(F164/K145)^4,0)","v":6.9616694306289069E-3},{"$f":"IFERROR(BZ51*(F164/L145)^4,0)","v":7.053214322941382E-7}]
[null,null,null,null,null,160,{"$f":"IFERROR(G52*(F165/G145)^4,0)","v":0},{"$f":"IFERROR(H52*(F165/H145)^4,0)","v":0},{"$f":"IFERROR(I52*(F165/I145)^4,0)","v":0},{"$f":"IFERROR(J52*(F165/J145)^4,0)","v":0},{"$f":"IFERROR(K52*(F165/K145)^4,0)","v":0},{"$f":"IFERROR(L52*(F165/L145)^4,0)","v":0},null,null,null,null,null,160,{"$f":"IFERROR(S52*(F165/G145)^4,0)","v":0},{"$f":"IFERROR(T52*(F165/H145)^4,0)","v":5.976359090169428E-3},{"$f":"IFERROR(U52*(F165/I145)^4,0)","v":0},{"$f":"IFERROR(V52*(F165/J145)^4,0)","v":0},{"$f":"IFERROR(W52*(F165/K145)^4,0)","v":0},{"$f":"IFERROR(X52*(F165/L145)^4,0)","v":0},{"$f":"IFERROR(Y52*(F165/G145)^4,0)","v":0},{"$f":"IFERROR(Z52*(F165/H145)^4,0)","v":1.9595852629072896E-5},{"$f":"IFERROR(AA52*(F165/I145)^4,0)","v":8.7929076869970585E-5},{"$f":"IFERROR(AB52*(F165/J145)^4,0)","v":3.2537514298349328E-2},{"$f":"IFERROR(AC52*(F165/K145)^4,0)","v":2.0301404497023849E-7},{"$f":"IFERROR(AD52*(F165/L145)^4,0)","v":0},{"$f":"IFERROR(AE52*(F165/G145)^4,0)","v":0},{"$f":"IFERROR(AF52*(F165/H145)^4,0)","v":0},{"$f":"IFERROR(AG52*(F165/I145)^4,0)","v":4.2510302358366378E-2},{"$f":"IFERROR(AH52*(F165/J145)^4,0)","v":4.383801575965026E-2},{"$f":"IFERROR(AI52*(F165/K145)^4,0)","v":2.725593011679079E-4},{"$f":"IFERROR(AJ52*(F165/L145)^4,0)","v":8.6032012871968472E-7},{"$f":"IFERROR(AK52*(F165/G145)^4,0)","v":0},{"$f":"IFERROR(AL52*(F165/H145)^4,0)","v":3.4980314443562276E-3},{"$f":"IFERROR(AM52*(F165/I145)^4,0)","v":0},{"$f":"IFERROR(AN52*(F165/J145)^4,0)","v":3.6973548337053353E-6},{"$f":"IFERROR(AO52*(F165/K145)^4,0)","v":0},{"$f":"IFERROR(AP52*(F165/L145)^4,0)","v":0},{"$f":"IFERROR(AQ52*(F165/G145)^4,0)","v":0},{"$f":"IFERROR(AR52*(F165/H145)^4,0)","v":4.2190240958865661E-3},{"$f":"IFERROR(AS52*(F165/I145)^4,0)","v":2.5419340687633634E-5},{"$f":"IFERROR(AT52*(F165/J145)^4,0)","v":6.742552546496746E-3},{"$f":"IFERROR(AU52*(F165/K145)^4,0)","v":0},{"$f":"IFERROR(AV52*(F165/L145)^4,0)","v":8.4565187749660826E-8},{"$f":"IFERROR(AW52*(F165/G145)^4,0)","v":0},{"$f":"IFERROR(AX52*(F165/H145)^4,0)","v":5.0951059074649265E-4},{"$f":"IFERROR(AY52*(F165/I145)^4,0)","v":9.2614270558746782E-4},{"$f":"IFERROR(AZ52*(F165/J145)^4,0)","v":2.9678506800658814E-2},{"$f":"IFERROR(BA52*(F165/K145)^4,0)","v":3.3459539439142303E-4},{"$f":"IFERROR(BB52*(F165/L145)^4,0)","v":1.6410023506147522E-7},{"$f":"IFERROR(BC52*(F165/G145)^4,0)","v":0},{"$f":"IFERROR(BD52*(F165/H145)^4,0)","v":1.8024623327403919E-5},{"$f":"IFERROR(BE52*(F165/I145)^4,0)","v":1.0478480383913903E-4},{"$f":"IFERROR(BF52*(F165/J145)^4,0)","v":4.6415980259037003E-2},{"$f":"IFERROR(BG52*(F165/K145)^4,0)","v":5.7075958229803672E-3},{"$f":"IFERROR(BH52*(F165/L145)^4,0)","v":5.2646445798386452E-6},{"$f":"IFERROR(BI52*(F165/G145)^4,0)","v":0},{"$f":"IFERROR(BJ52*(F165/H145)^4,0)","v":7.9494794301063012E-7},{"$f":"IFERROR(BK52*(F165/I145)^4,0)","v":1.7674496403696744E-4},{"$f":"IFERROR(BL52*(F165/J145)^4,0)","v":7.5875460346175733E-2},{"$f":"IFERROR(BM52*(F165/K145)^4,0)","v":6.9657157036231649E-3},{"$f":"IFERROR(BN52*(F165/L145)^4,0)","v":7.0482723159593465E-6},{"$f":"IFERROR(BO52*(F165/G145)^4,0)","v":0},{"$f":"IFERROR(BP52*(F165/H145)^4,0)","v":1.6704867453366152E-5},{"$f":"IFERROR(BQ52*(F165/I145)^4,0)","v":1.8879978619979555E-4},{"$f":"IFERROR(BR52*(F165/J145)^4,0)","v":5.2585320641707296E-2},{"$f":"IFERROR(BS52*(F165/K145)^4,0)","v":6.5668517540840802E-3},{"$f":"IFERROR(BT52*(F165/L145)^4,0)","v":2.0989249145072502E-6},{"$f":"IFERROR(BU52*(F165/G145)^4,0)","v":0},{"$f":"IFERROR(BV52*(F165/H145)^4,0)","v":4.1434316516120642E-5},{"$f":"IFERROR(BW52*(F165/I145)^4,0)","v":1.2572102954096781E-4},{"$f":"IFERROR(BX52*(F165/J145)^4,0)","v":3.3724771135266028E-2},{"$f":"IFERROR(BY52*(F165/K145)^4,0)","v":1.2501359127506943E-2},{"$f":"IFERROR(BZ52*(F165/L145)^4,0)","v":9.13065587887973E-7}]
[null,null,null,null,null,170,{"$f":"IFERROR(G53*(F166/G145)^4,0)","v":0},{"$f":"IFERROR(H53*(F166/H145)^4,0)","v":0},{"$f":"IFERROR(I53*(F166/I145)^4,0)","v":0},{"$f":"IFERROR(J53*(F166/J145)^4,0)","v":0},{"$f":"IFERROR(K53*(F166/K145)^4,0)","v":0},{"$f":"IFERROR(L53*(F166/L145)^4,0)","v":0},null,null,null,null,null,170,{"$f":"IFERROR(S53*(F166/G145)^4,0)","v":0},{"$f":"IFERROR(T53*(F166/H145)^4,0)","v":5.5127449391276263E-3},{"$f":"IFERROR(U53*(F166/I145)^4,0)","v":0},{"$f":"IFERROR(V53*(F166/J145)^4,0)","v":0},{"$f":"IFERROR(W53*(F166/K145)^4,0)","v":0},{"$f":"IFERROR(X53*(F166/L145)^4,0)","v":0},{"$f":"IFERROR(Y53*(F166/G145)^4,0)","v":0},{"$f":"IFERROR(Z53*(F166/H145)^4,0)","v":2.2198692592133208E-5},{"$f":"IFERROR(AA53*(F166/I145)^4,0)","v":6.7035530193901963E-5},{"$f":"IFERROR(AB53*(F166/J145)^4,0)","v":3.172941396244866E-2},{"$f":"IFERROR(AC53*(F166/K145)^4,0)","v":1.0349082061742733E-7},{"$f":"IFERROR(AD53*(F166/L145)^4,0)","v":0},{"$f":"IFERROR(AE53*(F166/G145)^4,0)","v":0},{"$f":"IFERROR(AF53*(F166/H145)^4,0)","v":0},{"$f":"IFERROR(AG53*(F166/I145)^4,0)","v":3.4941492462300772E-2},{"$f":"IFERROR(AH53*(F166/J145)^4,0)","v":5.3331024197379125E-2},{"$f":"IFERROR(AI53*(F166/K145)^4,0)","v":3.8770368319008126E-4},{"$f":"IFERROR(AJ53*(F166/L145)^4,0)","v":6.5785031864132779E-7},{"$f":"IFERROR(AK53*(F166/G145)^4,0)","v":0},{"$f":"IFERROR(AL53*(F166/H145)^4,0)","v":2.7227065913461032E-3},{"$f":"IFERROR(AM53*(F166/I145)^4,0)","v":0},{"$f":"IFERROR(AN53*(F166/J145)^4,0)","v":3.1413449408559512E-6},{"$f":"IFERROR(AO53*(F166/K145)^4,0)","v":0},{"$f":"IFERROR(AP53*(F166/L145)^4,0)","v":0},{"$f":"IFERROR(AQ53*(F166/G145)^4,0)","v":0},{"$f":"IFERROR(AR53*(F166/H145)^4,0)","v":3.7974418292562868E-3},{"$f":"IFERROR(AS53*(F166/I145)^4,0)","v":2.0825455564386251E-5},{"$f":"IFERROR(AT53*(F166/J145)^4,0)","v":8.3317716898369358E-3},{"$f":"IFERROR(AU53*(F166/K145)^4,0)","v":2.5624510444183352E-7},{"$f":"IFERROR(AV53*(F166/L145)^4,0)","v":2.1554470965696468E-7},{"$f":"IFERROR(AW53*(F166/G145)^4,0)","v":0},{"$f":"IFERROR(AX53*(F166/H145)^4,0)","v":4.8501366633836514E-4},{"$f":"IFERROR(AY53*(F166/I145)^4,0)","v":1.1961110547839028E-3},{"$f":"IFERROR(AZ53*(F166/J145)^4,0)","v":2.7563500724519269E-2},{"$f":"IFERROR(BA53*(F166/K145)^4,0)","v":3.3937387620440907E-4},{"$f":"IFERROR(BB53*(F166/L145)^4,0)","v":3.3461464190843421E-7},{"$f":"IFERROR(BC53*(F166/G145)^4,0)","v":0},{"$f":"IFERROR(BD53*(F166/H145)^4,0)","v":1.3855589238065183E-5},{"$f":"IFERROR(BE53*(F166/I145)^4,0)","v":1.2636121211349134E-4},{"$f":"IFERROR(BF53*(F166/J145)^4,0)","v":5.4075780572178649E-2},{"$f":"IFERROR(BG53*(F166/K145)^4,0)","v":7.7061191883635322E-3},{"$f":"IFERROR(BH53*(F166/L145)^4,0)","v":6.6635802373714284E-6},{"$f":"IFERROR(BI53*(F166/G145)^4,0)","v":0},{"$f":"IFERROR(BJ53*(F166/H145)^4,0)","v":2.0262099349423475E-6},{"$f":"IFERROR(BK53*(F166/I145)^4,0)","v":1.4850484831537583E-4},{"$f":"IFERROR(BL53*(F166/J145)^4,0)","v":0.11284399458514488},{"$f":"IFERROR(BM53*(F166/K145)^4,0)","v":9.9486508071572072E-3},{"$f":"IFERROR(BN53*(F166/L145)^4,0)","v":1.0199820130013398E-5},{"$f":"IFERROR(BO53*(F166/G145)^4,0)","v":0},{"$f":"IFERROR(BP53*(F166/H145)^4,0)","v":1.8247862477843295E-5},{"$f":"IFERROR(BQ53*(F166/I145)^4,0)","v":2.2530031171609944E-4},{"$f":"IFERROR(BR53*(F166/J145)^4,0)","v":6.8713899668923634E-2},{"$f":"IFERROR(BS53*(F166/K145)^4,0)","v":1.1193222731503593E-2},{"$f":"IFERROR(BT53*(F166/L145)^4,0)","v":3.2003644184563549E-6},{"$f":"IFERROR(BU53*(F166/G145)^4,0)","v":0},{"$f":"IFERROR(BV53*(F166/H145)^4,0)","v":2.1122043150286328E-5},{"$f":"IFERROR(BW53*(F166/I145)^4,0)","v":9.4676971024797814E-5},{"$f":"IFERROR(BX53*(F166/J145)^4,0)","v":3.297459659639157E-2},{"$f":"IFERROR(BY53*(F166/K145)^4,0)","v":2.1312024188183881E-2},{"$f":"IFERROR(BZ53*(F166/L145)^4,0)","v":1.1636375574644677E-6}]
[null,null,null,null,null,180,{"$f":"IFERROR(G54*(F167/G145)^4,0)","v":0},{"$f":"IFERROR(H54*(F167/H145)^4,0)","v":0},{"$f":"IFERROR(I54*(F167/I145)^4,0)","v":0},{"$f":"IFERROR(J54*(F167/J145)^4,0)","v":0},{"$f":"IFERROR(K54*(F167/K145)^4,0)","v":0},{"$f":"IFERROR(L54*(F167/L145)^4,0)","v":0},null,null,null,null,null,180,{"$f":"IFERROR(S54*(F167/G145)^4,0)","v":0},{"$f":"IFERROR(T54*(F167/H145)^4,0)","v":4.9922617249123051E-3},{"$f":"IFERROR(U54*(F167/I145)^4,0)","v":0},{"$f":"IFERROR(V54*(F167/J145)^4,0)","v":0},{"$f":"IFERROR(W54*(F167/K145)^4,0)","v":0},{"$f":"IFERROR(X54*(F167/L145)^4,0)","v":0},{"$f":"IFERROR(Y54*(F167/G145)^4,0)","v":0},{"$f":"IFERROR(Z54*(F167/H145)^4,0)","v":1.2206742671650265E-5},{"$f":"IFERROR(AA54*(F167/I145)^4,0)","v":0},{"$f":"IFERROR(AB54*(F167/J145)^4,0)","v":2.4514339416903039E-2},{"$f":"IFERROR(AC54*(F167/K145)^4,0)","v":3.2518924537347046E-7},{"$f":"IFERROR(AD54*(F167/L145)^4,0)","v":0},{"$f":"IFERROR(AE54*(F167/G145)^4,0)","v":0},{"$f":"IFERROR(AF54*(F167/H145)^4,0)","v":0},{"$f":"IFERROR(AG54*(F167/I145)^4,0)","v":0},{"$f":"IFERROR(AH54*(F167/J145)^4,0)","v":4.5913120661864204E-2},{"$f":"IFERROR(AI54*(F167/K145)^4,0)","v":6.1374685043924092E-4},{"$f":"IFERROR(AJ54*(F167/L145)^4,0)","v":8.2683989714792759E-7},{"$f":"IFERROR(AK54*(F167/G145)^4,0)","v":0},{"$f":"IFERROR(AL54*(F167/H145)^4,0)","v":2.6510411124550937E-3},{"$f":"IFERROR(AM54*(F167/I145)^4,0)","v":0},{"$f":"IFERROR(AN54*(F167/J145)^4,0)","v":1.974149175125383E-6},{"$f":"IFERROR(AO54*(F167/K145)^4,0)","v":8.2221157701031665E-7},{"$f":"IFERROR(AP54*(F167/L145)^4,0)","v":0},{"$f":"IFERROR(AQ54*(F167/G145)^4,0)","v":0},{"$f":"IFERROR(AR54*(F167/H145)^4,0)","v":2.7187600974848225E-3},{"$f":"IFERROR(AS54*(F167/I145)^4,0)","v":0},{"$f":"IFERROR(AT54*(F167/J145)^4,0)","v":1.0815160160405273E-2},{"$f":"IFERROR(AU54*(F167/K145)^4,0)","v":0},{"$f":"IFERROR(AV54*(F167/L145)^4,0)","v":6.77285396515533E-8},{"$f":"IFERROR(AW54*(F167/G145)^4,0)","v":0},{"$f":"IFERROR(AX54*(F167/H145)^4,0)","v":4.3971486979550126E-4},{"$f":"IFERROR(AY54*(F167/I145)^4,0)","v":0},{"$f":"IFERROR(AZ54*(F167/J145)^4,0)","v":1.9138060980304902E-2},{"$f":"IFERROR(BA54*(F167/K145)^4,0)","v":3.9000173974818194E-4},{"$f":"IFERROR(BB54*(F167/L145)^4,0)","v":2.6285684624959446E-7},{"$f":"IFERROR(BC54*(F167/G145)^4,0)","v":0},{"$f":"IFERROR(BD54*(F167/H145)^4,0)","v":1.0998842415466622E-5},{"$f":"IFERROR(BE54*(F167/I145)^4,0)","v":0},{"$f":"IFERROR(BF54*(F167/J145)^4,0)","v":4.0349134047299465E-2},{"$f":"IFERROR(BG54*(F167/K145)^4,0)","v":1.1189331346791497E-2},{"$f":"IFERROR(BH54*(F167/L145)^4,0)","v":9.3475316462627756E-6},{"$f":"IFERROR(BI54*(F167/G145)^4,0)","v":0},{"$f":"IFERROR(BJ54*(F167/H145)^4,0)","v":6.3667644703280568E-7},{"$f":"IFERROR(BK54*(F167/I145)^4,0)","v":0},{"$f":"IFERROR(BL54*(F167/J145)^4,0)","v":9.2573726617689242E-2},{"$f":"IFERROR(BM54*(F167/K145)^4,0)","v":1.5019300373754011E-2},{"$f":"IFERROR(BN54*(F167/L145)^4,0)","v":1.4939959508017469E-5},{"$f":"IFERROR(BO54*(F167/G145)^4,0)","v":0},{"$f":"IFERROR(BP54*(F167/H145)^4,0)","v":3.0580534420071234E-5},{"$f":"IFERROR(BQ54*(F167/I145)^4,0)","v":0},{"$f":"IFERROR(BR54*(F167/J145)^4,0)","v":6.0379998368916346E-2},{"$f":"IFERROR(BS54*(F167/K145)^4,0)","v":1.8137570473844632E-2},{"$f":"IFERROR(BT54*(F167/L145)^4,0)","v":2.4014799044506958E-6},{"$f":"IFERROR(BU54*(F167/G145)^4,0)","v":0},{"$f":"IFERROR(BV54*(F167/H145)^4,0)","v":2.6547905338112063E-5},{"$f":"IFERROR(BW54*(F167/I145)^4,0)","v":0},{"$f":"IFERROR(BX54*(F167/J145)^4,0)","v":2.9139722433790743E-2},{"$f":"IFERROR(BY54*(F167/K145)^4,0)","v":3.1808604999397229E-2},{"$f":"IFERROR(BZ54*(F167/L145)^4,0)","v":2.2982999631509104E-6}]
[null,null,null,null,null,190,{"$f":"IFERROR(G55*(F168/G145)^4,0)","v":0},{"$f":"IFERROR(H55*(F168/H145)^4,0)","v":0},{"$f":"IFERROR(I55*(F168/I145)^4,0)","v":0},{"$f":"IFERROR(J55*(F168/J145)^4,0)","v":0},{"$f":"IFERROR(K55*(F168/K145)^4,0)","v":0},{"$f":"IFERROR(L55*(F168/L145)^4,0)","v":0},null,null,null,null,null,190,{"$f":"IFERROR(S55*(F168/G145)^4,0)","v":0},{"$f":"IFERROR(T55*(F168/H145)^4,0)","v":0},{"$f":"IFERROR(U55*(F168/I145)^4,0)","v":0},{"$f":"IFERROR(V55*(F168/J145)^4,0)","v":0},{"$f":"IFERROR(W55*(F168/K145)^4,0)","v":0},{"$f":"IFERROR(X55*(F168/L145)^4,0)","v":0},{"$f":"IFERROR(Y55*(F168/G145)^4,0)","v":0},{"$f":"IFERROR(Z55*(F168/H145)^4,0)","v":0},{"$f":"IFERROR(AA55*(F168/I145)^4,0)","v":0},{"$f":"IFERROR(AB55*(F168/J145)^4,0)","v":1.6651432944079139E-2},{"$f":"IFERROR(AC55*(F168/K145)^4,0)","v":4.037016808252938E-7},{"$f":"IFERROR(AD55*(F168/L145)^4,0)","v":0},{"$f":"IFERROR(AE55*(F168/G145)^4,0)","v":0},{"$f":"IFERROR(AF55*(F168/H145)^4,0)","v":0},{"$f":"IFERROR(AG55*(F168/I145)^4,0)","v":0},{"$f":"IFERROR(AH55*(F168/J145)^4,0)","v":3.5049824341512256E-2},{"$f":"IFERROR(AI55*(F168/K145)^4,0)","v":8.791887052247687E-4},{"$f":"IFERROR(AJ55*(F168/L145)^4,0)","v":1.2545731348100366E-6},{"$f":"IFERROR(AK55*(F168/G145)^4,0)","v":0},{"$f":"IFERROR(AL55*(F168/H145)^4,0)","v":0},{"$f":"IFERROR(AM55*(F168/I145)^4,0)","v":0},{"$f":"IFERROR(AN55*(F168/J145)^4,0)","v":1.2253900636884387E-6},{"$f":"IFERROR(AO55*(F168/K145)^4,0)","v":0},{"$f":"IFERROR(AP55*(F168/L145)^4,0)","v":0},{"$f":"IFERROR(AQ55*(F168/G145)^4,0)","v":0},{"$f":"IFERROR(AR55*(F168/H145)^4,0)","v":0},{"$f":"IFERROR(AS55*(F168/I145)^4,0)","v":0},{"$f":"IFERROR(AT55*(F168/J145)^4,0)","v":7.5462436889939706E-3},{"$f":"IFERROR(AU55*(F168/K145)^4,0)","v":0},{"$f":"IFERROR(AV55*(F168/L145)^4,0)","v":0},{"$f":"IFERROR(AW55*(F168/G145)^4,0)","v":0},{"$f":"IFERROR(AX55*(F168/H145)^4,0)","v":0},{"$f":"IFERROR(AY55*(F168/I145)^4,0)","v":0},{"$f":"IFERROR(AZ55*(F168/J145)^4,0)","v":1.1768718581494211E-2},{"$f":"IFERROR(BA55*(F168/K145)^4,0)","v":5.8386541443214218E-4},{"$f":"IFERROR(BB55*(F168/L145)^4,0)","v":5.8737597839666318E-7},{"$f":"IFERROR(BC55*(F168/G145)^4,0)","v":0},{"$f":"IFERROR(BD55*(F168/H145)^4,0)","v":0},{"$f":"IFERROR(BE55*(F168/I145)^4,0)","v":0},{"$f":"IFERROR(BF55*(F168/J145)^4,0)","v":2.0495980796974192E-2},{"$f":"IFERROR(BG55*(F168/K145)^4,0)","v":1.6195404560723315E-2},{"$f":"IFERROR(BH55*(F168/L145)^4,0)","v":1.4340061009196762E-5},{"$f":"IFERROR(BI55*(F168/G145)^4,0)","v":0},{"$f":"IFERROR(BJ55*(F168/H145)^4,0)","v":0},{"$f":"IFERROR(BK55*(F168/I145)^4,0)","v":0},{"$f":"IFERROR(BL55*(F168/J145)^4,0)","v":4.4067259259347152E-2},{"$f":"IFERROR(BM55*(F168/K145)^4,0)","v":2.2442247660725161E-2},{"$f":"IFERROR(BN55*(F168/L145)^4,0)","v":1.8013189537842878E-5},{"$f":"IFERROR(BO55*(F168/G145)^4,0)","v":0},{"$f":"IFERROR(BP55*(F168/H145)^4,0)","v":0},{"$f":"IFERROR(BQ55*(F168/I145)^4,0)","v":0},{"$f":"IFERROR(BR55*(F168/J145)^4,0)","v":3.8477326453852781E-2},{"$f":"IFERROR(BS55*(F168/K145)^4,0)","v":2.6827254177566658E-2},{"$f":"IFERROR(BT55*(F168/L145)^4,0)","v":2.6086234453535017E-6},{"$f":"IFERROR(BU55*(F168/G145)^4,0)","v":0},{"$f":"IFERROR(BV55*(F168/H145)^4,0)","v":0},{"$f":"IFERROR(BW55*(F168/I145)^4,0)","v":0},{"$f":"IFERROR(BX55*(F168/J145)^4,0)","v":2.3474210129673056E-2},{"$f":"IFERROR(BY55*(F168/K145)^4,0)","v":4.2999383947219014E-2},{"$f":"IFERROR(BZ55*(F168/L145)^4,0)","v":2.3344303334096343E-6}]
[null,null,null,null,null,200,{"$f":"IFERROR(G56*(F169/G145)^4,0)","v":0},{"$f":"IFERROR(H56*(F169/H145)^4,0)","v":0},{"$f":"IFERROR(I56*(F169/I145)^4,0)","v":0},{"$f":"IFERROR(J56*(F169/J145)^4,0)","v":0},{"$f":"IFERROR(K56*(F169/K145)^4,0)","v":0},{"$f":"IFERROR(L56*(F169/L145)^4,0)","v":0},null,null,null,null,null,200,{"$f":"IFERROR(S56*(F169/G145)^4,0)","v":0},{"$f":"IFERROR(T56*(F169/H145)^4,0)","v":0},{"$f":"IFERROR(U56*(F169/I145)^4,0)","v":0},{"$f":"IFERROR(V56*(F169/J145)^4,0)","v":0},{"$f":"IFERROR(W56*(F169/K145)^4,0)","v":0},{"$f":"IFERROR(X56*(F169/L145)^4,0)","v":0},{"$f":"IFERROR(Y56*(F169/G145)^4,0)","v":0},{"$f":"IFERROR(Z56*(F169/H145)^4,0)","v":0},{"$f":"IFERROR(AA56*(F169/I145)^4,0)","v":0},{"$f":"IFERROR(AB56*(F169/J145)^4,0)","v":1.1620864163188553E-2},{"$f":"IFERROR(AC56*(F169/K145)^4,0)","v":1.9825590329124864E-7},{"$f":"IFERROR(AD56*(F169/L145)^4,0)","v":4.1691539049862774E-8},{"$f":"IFERROR(AE56*(F169/G145)^4,0)","v":0},{"$f":"IFERROR(AF56*(F169/H145)^4,0)","v":0},{"$f":"IFERROR(AG56*(F169/I145)^4,0)","v":0},{"$f":"IFERROR(AH56*(F169/J145)^4,0)","v":2.8438323270088984E-2},{"$f":"IFERROR(AI56*(F169/K145)^4,0)","v":1.1991635855640934E-3},{"$f":"IFERROR(AJ56*(F169/L145)^4,0)","v":1.1202085009370897E-6},{"$f":"IFERROR(AK56*(F169/G145)^4,0)","v":0},{"$f":"IFERROR(AL56*(F169/H145)^4,0)","v":0},{"$f":"IFERROR(AM56*(F169/I145)^4,0)","v":0},{"$f":"IFERROR(AN56*(F169/J145)^4,0)","v":0},{"$f":"IFERROR(AO56*(F169/K145)^4,0)","v":0},{"$f":"IFERROR(AP56*(F169/L145)^4,0)","v":0},{"$f":"IFERROR(AQ56*(F169/G145)^4,0)","v":0},{"$f":"IFERROR(AR56*(F169/H145)^4,0)","v":0},{"$f":"IFERROR(AS56*(F169/I145)^4,0)","v":0},{"$f":"IFERROR(AT56*(F169/J145)^4,0)","v":3.5431179818367427E-3},{"$f":"IFERROR(AU56*(F169/K145)^4,0)","v":0},{"$f":"IFERROR(AV56*(F169/L145)^4,0)","v":0},{"$f":"IFERROR(AW56*(F169/G145)^4,0)","v":0},{"$f":"IFERROR(AX56*(F169/H145)^4,0)","v":0},{"$f":"IFERROR(AY56*(F169/I145)^4,0)","v":0},{"$f":"IFERROR(AZ56*(F169/J145)^4,0)","v":9.2616654308041134E-3},{"$f":"IFERROR(BA56*(F169/K145)^4,0)","v":9.7946409440039981E-4},{"$f":"IFERROR(BB56*(F169/L145)^4,0)","v":9.6152481481333145E-7},{"$f":"IFERROR(BC56*(F169/G145)^4,0)","v":0},{"$f":"IFERROR(BD56*(F169/H145)^4,0)","v":0},{"$f":"IFERROR(BE56*(F169/I145)^4,0)","v":0},{"$f":"IFERROR(BF56*(F169/J145)^4,0)","v":1.0432556177055156E-2},{"$f":"IFERROR(BG56*(F169/K145)^4,0)","v":2.271897489244765E-2},{"$f":"IFERROR(BH56*(F169/L145)^4,0)","v":2.1667028882818938E-5},{"$f":"IFERROR(BI56*(F169/G145)^4,0)","v":0},{"$f":"IFERROR(BJ56*(F169/H145)^4,0)","v":0},{"$f":"IFERROR(BK56*(F169/I145)^4,0)","v":0},{"$f":"IFERROR(BL56*(F169/J145)^4,0)","v":2.1192739238368029E-2},{"$f":"IFERROR(BM56*(F169/K145)^4,0)","v":3.2695745318925377E-2},{"$f":"IFERROR(BN56*(F169/L145)^4,0)","v":2.1246703579216887E-5},{"$f":"IFERROR(BO56*(F169/G145)^4,0)","v":0},{"$f":"IFERROR(BP56*(F169/H145)^4,0)","v":0},{"$f":"IFERROR(BQ56*(F169/I145)^4,0)","v":0},{"$f":"IFERROR(BR56*(F169/J145)^4,0)","v":2.5244294553389262E-2},{"$f":"IFERROR(BS56*(F169/K145)^4,0)","v":3.6307943785630452E-2},{"$f":"IFERROR(BT56*(F169/L145)^4,0)","v":3.9347521677861582E-6},{"$f":"IFERROR(BU56*(F169/G145)^4,0)","v":0},{"$f":"IFERROR(BV56*(F169/H145)^4,0)","v":0},{"$f":"IFERROR(BW56*(F169/I145)^4,0)","v":0},{"$f":"IFERROR(BX56*(F169/J145)^4,0)","v":1.7700578010573141E-2},{"$f":"IFERROR(BY56*(F169/K145)^4,0)","v":5.3132434712963875E-2},{"$f":"IFERROR(BZ56*(F169/L145)^4,0)","v":2.866068042338085E-6}]
[null,null,null,null,null,210,{"$f":"IFERROR(G57*(F170/G145)^4,0)","v":0},{"$f":"IFERROR(H57*(F170/H145)^4,0)","v":0},{"$f":"IFERROR(I57*(F170/I145)^4,0)","v":0},{"$f":"IFERROR(J57*(F170/J145)^4,0)","v":0},{"$f":"IFERROR(K57*(F170/K145)^4,0)","v":0},{"$f":"IFERROR(L57*(F170/L145)^4,0)","v":0},null,null,null,null,null,210,{"$f":"IFERROR(S57*(F170/G145)^4,0)","v":0},{"$f":"IFERROR(T57*(F170/H145)^4,0)","v":0},{"$f":"IFERROR(U57*(F170/I145)^4,0)","v":0},{"$f":"IFERROR(V57*(F170/J145)^4,0)","v":0},{"$f":"IFERROR(W57*(F170/K145)^4,0)","v":0},{"$f":"IFERROR(X57*(F170/L145)^4,0)","v":0},{"$f":"IFERROR(Y57*(F170/G145)^4,0)","v":0},{"$f":"IFERROR(Z57*(F170/H145)^4,0)","v":0},{"$f":"IFERROR(AA57*(F170/I145)^4,0)","v":0},{"$f":"IFERROR(AB57*(F170/J145)^4,0)","v":8.6093549999709112E-3},{"$f":"IFERROR(AC57*(F170/K145)^4,0)","v":7.2294386864972434E-7},{"$f":"IFERROR(AD57*(F170/L145)^4,0)","v":0},{"$f":"IFERROR(AE57*(F170/G145)^4,0)","v":0},{"$f":"IFERROR(AF57*(F170/H145)^4,0)","v":0},{"$f":"IFERROR(AG57*(F170/I145)^4,0)","v":0},{"$f":"IFERROR(AH57*(F170/J145)^4,0)","v":2.381438702280133E-2},{"$f":"IFERROR(AI57*(F170/K145)^4,0)","v":1.4075932498180481E-3},{"$f":"IFERROR(AJ57*(F170/L145)^4,0)","v":1.0212153256441225E-6},{"$f":"IFERROR(AK57*(F170/G145)^4,0)","v":0},{"$f":"IFERROR(AL57*(F170/H145)^4,0)","v":0},{"$f":"IFERROR(AM57*(F170/I145)^4,0)","v":0},{"$f":"IFERROR(AN57*(F170/J145)^4,0)","v":0},{"$f":"IFERROR(AO57*(F170/K145)^4,0)","v":5.0774948467123693E-7},{"$f":"IFERROR(AP57*(F170/L145)^4,0)","v":0},{"$f":"IFERROR(AQ57*(F170/G145)^4,0)","v":0},{"$f":"IFERROR(AR57*(F170/H145)^4,0)","v":0},{"$f":"IFERROR(AS57*(F170/I145)^4,0)","v":0},{"$f":"IFERROR(AT57*(F170/J145)^4,0)","v":2.0666160782166275E-3},{"$f":"IFERROR(AU57*(F170/K145)^4,0)","v":2.9833697008508158E-7},{"$f":"IFERROR(AV57*(F170/L145)^4,0)","v":0},{"$f":"IFERROR(AW57*(F170/G145)^4,0)","v":0},{"$f":"IFERROR(AX57*(F170/H145)^4,0)","v":0},{"$f":"IFERROR(AY57*(F170/I145)^4,0)","v":0},{"$f":"IFERROR(AZ57*(F170/J145)^4,0)","v":8.0426730878078688E-3},{"$f":"IFERROR(BA57*(F170/K145)^4,0)","v":1.2103525919349805E-3},{"$f":"IFERROR(BB57*(F170/L145)^4,0)","v":1.2661343737636717E-6},{"$f":"IFERROR(BC57*(F170/G145)^4,0)","v":0},{"$f":"IFERROR(BD57*(F170/H145)^4,0)","v":0},{"$f":"IFERROR(BE57*(F170/I145)^4,0)","v":0},{"$f":"IFERROR(BF57*(F170/J145)^4,0)","v":5.8976523936765035E-3},{"$f":"IFERROR(BG57*(F170/K145)^4,0)","v":2.7167790724888001E-2},{"$f":"IFERROR(BH57*(F170/L145)^4,0)","v":3.4688279365548134E-5},{"$f":"IFERROR(BI57*(F170/G145)^4,0)","v":0},{"$f":"IFERROR(BJ57*(F170/H145)^4,0)","v":0},{"$f":"IFERROR(BK57*(F170/I145)^4,0)","v":0},{"$f":"IFERROR(BL57*(F170/J145)^4,0)","v":1.2746647147957951E-2},{"$f":"IFERROR(BM57*(F170/K145)^4,0)","v":4.0750659475070554E-2},{"$f":"IFERROR(BN57*(F170/L145)^4,0)","v":2.9919787735138681E-5},{"$f":"IFERROR(BO57*(F170/G145)^4,0)","v":0},{"$f":"IFERROR(BP57*(F170/H145)^4,0)","v":0},{"$f":"IFERROR(BQ57*(F170/I145)^4,0)","v":0},{"$f":"IFERROR(BR57*(F170/J145)^4,0)","v":1.6744035849346341E-2},{"$f":"IFERROR(BS57*(F170/K145)^4,0)","v":4.2716019554714033E-2},{"$f":"IFERROR(BT57*(F170/L145)^4,0)","v":5.5612975024943293E-6},{"$f":"IFERROR(BU57*(F170/G145)^4,0)","v":0},{"$f":"IFERROR(BV57*(F170/H145)^4,0)","v":0},{"$f":"IFERROR(BW57*(F170/I145)^4,0)","v":0},{"$f":"IFERROR(BX57*(F170/J145)^4,0)","v":1.2758146225803598E-2},{"$f":"IFERROR(BY57*(F170/K145)^4,0)","v":5.2097708719817115E-2},{"$f":"IFERROR(BZ57*(F170/L145)^4,0)","v":3.096643216344184E-6}]
[null,null,null,null,null,220,{"$f":"IFERROR(G58*(F171/G145)^4,0)","v":0},{"$f":"IFERROR(H58*(F171/H145)^4,0)","v":0},{"$f":"IFERROR(I58*(F171/I145)^4,0)","v":0},{"$f":"IFERROR(J58*(F171/J145)^4,0)","v":0},{"$f":"IFERROR(K58*(F171/K145)^4,0)","v":0},{"$f":"IFERROR(L58*(F171/L145)^4,0)","v":0},null,null,null,null,null,220,{"$f":"IFERROR(S58*(F171/G145)^4,0)","v":0},{"$f":"IFERROR(T58*(F171/H145)^4,0)","v":0},{"$f":"IFERROR(U58*(F171/I145)^4,0)","v":0},{"$f":"IFERROR(V58*(F171/J145)^4,0)","v":0},{"$f":"IFERROR(W58*(F171/K145)^4,0)","v":0},{"$f":"IFERROR(X58*(F171/L145)^4,0)","v":0},{"$f":"IFERROR(Y58*(F171/G145)^4,0)","v":0},{"$f":"IFERROR(Z58*(F171/H145)^4,0)","v":0},{"$f":"IFERROR(AA58*(F171/I145)^4,0)","v":0},{"$f":"IFERROR(AB58*(F171/J145)^4,0)","v":6.5260377450593798E-3},{"$f":"IFERROR(AC58*(F171/K145)^4,0)","v":7.2566617002179256E-7},{"$f":"IFERROR(AD58*(F171/L145)^4,0)","v":0},{"$f":"IFERROR(AE58*(F171/G145)^4,0)","v":0},{"$f":"IFERROR(AF58*(F171/H145)^4,0)","v":0},{"$f":"IFERROR(AG58*(F171/I145)^4,0)","v":0},{"$f":"IFERROR(AH58*(F171/J145)^4,0)","v":1.8904777303750789E-2},{"$f":"IFERROR(AI58*(F171/K145)^4,0)","v":1.302080050478281E-3},{"$f":"IFERROR(AJ58*(F171/L145)^4,0)","v":1.0250607913887455E-6},{"$f":"IFERROR(AK58*(F171/G145)^4,0)","v":0},{"$f":"IFERROR(AL58*(F171/H145)^4,0)","v":0},{"$f":"IFERROR(AM58*(F171/I145)^4,0)","v":0},{"$f":"IFERROR(AN58*(F171/J145)^4,0)","v":0},{"$f":"IFERROR(AO58*(F171/K145)^4,0)","v":6.1159374582167582E-7},{"$f":"IFERROR(AP58*(F171/L145)^4,0)","v":0},{"$f":"IFERROR(AQ58*(F171/G145)^4,0)","v":0},{"$f":"IFERROR(AR58*(F171/H145)^4,0)","v":0},{"$f":"IFERROR(AS58*(F171/I145)^4,0)","v":0},{"$f":"IFERROR(AT58*(F171/J145)^4,0)","v":1.1882532073785772E-3},{"$f":"IFERROR(AU58*(F171/K145)^4,0)","v":3.5935245738273095E-7},{"$f":"IFERROR(AV58*(F171/L145)^4,0)","v":1.511375627249492E-7},{"$f":"IFERROR(AW58*(F171/G145)^4,0)","v":0},{"$f":"IFERROR(AX58*(F171/H145)^4,0)","v":0},{"$f":"IFERROR(AY58*(F171/I145)^4,0)","v":0},{"$f":"IFERROR(AZ58*(F171/J145)^4,0)","v":5.9736226790680861E-3},{"$f":"IFERROR(BA58*(F171/K145)^4,0)","v":9.6989373159571304E-4},{"$f":"IFERROR(BB58*(F171/L145)^4,0)","v":8.2119828079811561E-7},{"$f":"IFERROR(BC58*(F171/G145)^4,0)","v":0},{"$f":"IFERROR(BD58*(F171/H145)^4,0)","v":0},{"$f":"IFERROR(BE58*(F171/I145)^4,0)","v":0},{"$f":"IFERROR(BF58*(F171/J145)^4,0)","v":3.3523704192234991E-3},{"$f":"IFERROR(BG58*(F171/K145)^4,0)","v":2.2683702045573975E-2},{"$f":"IFERROR(BH58*(F171/L145)^4,0)","v":4.4128939172858381E-5},{"$f":"IFERROR(BI58*(F171/G145)^4,0)","v":0},{"$f":"IFERROR(BJ58*(F171/H145)^4,0)","v":0},{"$f":"IFERROR(BK58*(F171/I145)^4,0)","v":0},{"$f":"IFERROR(BL58*(F171/J145)^4,0)","v":7.5887498264338889E-3},{"$f":"IFERROR(BM58*(F171/K145)^4,0)","v":3.9266088568594482E-2},{"$f":"IFERROR(BN58*(F171/L145)^4,0)","v":4.4719531288023094E-5},{"$f":"IFERROR(BO58*(F171/G145)^4,0)","v":0},{"$f":"IFERROR(BP58*(F171/H145)^4,0)","v":0},{"$f":"IFERROR(BQ58*(F171/I145)^4,0)","v":0},{"$f":"IFERROR(BR58*(F171/J145)^4,0)","v":1.017466552745089E-2},{"$f":"IFERROR(BS58*(F171/K145)^4,0)","v":4.0491211767464307E-2},{"$f":"IFERROR(BT58*(F171/L145)^4,0)","v":4.2871595526368087E-6},{"$f":"IFERROR(BU58*(F171/G145)^4,0)","v":0},{"$f":"IFERROR(BV58*(F171/H145)^4,0)","v":0},{"$f":"IFERROR(BW58*(F171/I145)^4,0)","v":0},{"$f":"IFERROR(BX58*(F171/J145)^4,0)","v":8.3573383814069084E-3},{"$f":"IFERROR(BY58*(F171/K145)^4,0)","v":4.3852257957253504E-2},{"$f":"IFERROR(BZ58*(F171/L145)^4,0)","v":3.7299646406997241E-6}]
[null,null,null,null,null,230,{"$f":"IFERROR(G59*(F172/G145)^4,0)","v":0},{"$f":"IFERROR(H59*(F172/H145)^4,0)","v":0},{"$f":"IFERROR(I59*(F172/I145)^4,0)","v":0},{"$f":"IFERROR(J59*(F172/J145)^4,0)","v":0},{"$f":"IFERROR(K59*(F172/K145)^4,0)","v":0},{"$f":"IFERROR(L59*(F172/L145)^4,0)","v":0},null,null,null,null,null,230,{"$f":"IFERROR(S59*(F172/G145)^4,0)","v":0},{"$f":"IFERROR(T59*(F172/H145)^4,0)","v":0},{"$f":"IFERROR(U59*(F172/I145)^4,0)","v":0},{"$f":"IFERROR(V59*(F172/J145)^4,0)","v":0},{"$f":"IFERROR(W59*(F172/K145)^4,0)","v":0},{"$f":"IFERROR(X59*(F172/L145)^4,0)","v":0},{"$f":"IFERROR(Y59*(F172/G145)^4,0)","v":0},{"$f":"IFERROR(Z59*(F172/H145)^4,0)","v":0},{"$f":"IFERROR(AA59*(F172/I145)^4,0)","v":0},{"$f":"IFERROR(AB59*(F172/J145)^4,0)","v":5.3876503842270659E-3},{"$f":"IFERROR(AC59*(F172/K145)^4,0)","v":6.9350162791157843E-7},{"$f":"IFERROR(AD59*(F172/L145)^4,0)","v":0},{"$f":"IFERROR(AE59*(F172/G145)^4,0)","v":0},{"$f":"IFERROR(AF59*(F172/H145)^4,0)","v":0},{"$f":"IFERROR(AG59*(F172/I145)^4,0)","v":0},{"$f":"IFERROR(AH59*(F172/J145)^4,0)","v":1.7211696641210184E-2},{"$f":"IFERROR(AI59*(F172/K145)^4,0)","v":1.3570370769726843E-3},{"$f":"IFERROR(AJ59*(F172/L145)^4,0)","v":3.6735968802039371E-6},{"$f":"IFERROR(AK59*(F172/G145)^4,0)","v":0},{"$f":"IFERROR(AL59*(F172/H145)^4,0)","v":0},{"$f":"IFERROR(AM59*(F172/I145)^4,0)","v":0},{"$f":"IFERROR(AN59*(F172/J145)^4,0)","v":0},{"$f":"IFERROR(AO59*(F172/K145)^4,0)","v":7.3060670985794827E-7},{"$f":"IFERROR(AP59*(F172/L145)^4,0)","v":0},{"$f":"IFERROR(AQ59*(F172/G145)^4,0)","v":0},{"$f":"IFERROR(AR59*(F172/H145)^4,0)","v":0},{"$f":"IFERROR(AS59*(F172/I145)^4,0)","v":0},{"$f":"IFERROR(AT59*(F172/J145)^4,0)","v":7.076134580927244E-4},{"$f":"IFERROR(AU59*(F172/K145)^4,0)","v":0},{"$f":"IFERROR(AV59*(F172/L145)^4,0)","v":1.8054814685861838E-7},{"$f":"IFERROR(AW59*(F172/G145)^4,0)","v":0},{"$f":"IFERROR(AX59*(F172/H145)^4,0)","v":0},{"$f":"IFERROR(AY59*(F172/I145)^4,0)","v":0},{"$f":"IFERROR(AZ59*(F172/J145)^4,0)","v":4.269156090225221E-3},{"$f":"IFERROR(BA59*(F172/K145)^4,0)","v":6.6316322970333386E-4},{"$f":"IFERROR(BB59*(F172/L145)^4,0)","v":1.9619983957450436E-6},{"$f":"IFERROR(BC59*(F172/G145)^4,0)","v":0},{"$f":"IFERROR(BD59*(F172/H145)^4,0)","v":0},{"$f":"IFERROR(BE59*(F172/I145)^4,0)","v":0},{"$f":"IFERROR(BF59*(F172/J145)^4,0)","v":2.1648949569159207E-3},{"$f":"IFERROR(BG59*(F172/K145)^4,0)","v":1.499507948939582E-2},{"$f":"IFERROR(BH59*(F172/L145)^4,0)","v":5.3311322356860048E-5},{"$f":"IFERROR(BI59*(F172/G145)^4,0)","v":0},{"$f":"IFERROR(BJ59*(F172/H145)^4,0)","v":0},{"$f":"IFERROR(BK59*(F172/I145)^4,0)","v":0},{"$f":"IFERROR(BL59*(F172/J145)^4,0)","v":4.8951295719660247E-3},{"$f":"IFERROR(BM59*(F172/K145)^4,0)","v":3.2514320597227885E-2},{"$f":"IFERROR(BN59*(F172/L145)^4,0)","v":6.4831148780442451E-5},{"$f":"IFERROR(BO59*(F172/G145)^4,0)","v":0},{"$f":"IFERROR(BP59*(F172/H145)^4,0)","v":0},{"$f":"IFERROR(BQ59*(F172/I145)^4,0)","v":0},{"$f":"IFERROR(BR59*(F172/J145)^4,0)","v":6.5784054739977532E-3},{"$f":"IFERROR(BS59*(F172/K145)^4,0)","v":3.1273122202071485E-2},{"$f":"IFERROR(BT59*(F172/L145)^4,0)","v":6.8819061336590368E-6},{"$f":"IFERROR(BU59*(F172/G145)^4,0)","v":0},{"$f":"IFERROR(BV59*(F172/H145)^4,0)","v":0},{"$f":"IFERROR(BW59*(F172/I145)^4,0)","v":0},{"$f":"IFERROR(BX59*(F172/J145)^4,0)","v":5.3690922726920614E-3},{"$f":"IFERROR(BY59*(F172/K145)^4,0)","v":3.3940110638420944E-2},{"$f":"IFERROR(BZ59*(F172/L145)^4,0)","v":2.7848727327636523E-6}]
[null,null,null,null,null,240,{"$f":"IFERROR(G60*(F173/G145)^4,0)","v":0},{"$f":"IFERROR(H60*(F173/H145)^4,0)","v":0},{"$f":"IFERROR(I60*(F173/I145)^4,0)","v":0},{"$f":"IFERROR(J60*(F173/J145)^4,0)","v":0},{"$f":"IFERROR(K60*(F173/K145)^4,0)","v":0},{"$f":"IFERROR(L60*(F173/L145)^4,0)","v":0},null,null,null,null,null,240,{"$f":"IFERROR(S60*(F173/G145)^4,0)","v":0},{"$f":"IFERROR(T60*(F173/H145)^4,0)","v":0},{"$f":"IFERROR(U60*(F173/I145)^4,0)","v":0},{"$f":"IFERROR(V60*(F173/J145)^4,0)","v":0},{"$f":"IFERROR(W60*(F173/K145)^4,0)","v":0},{"$f":"IFERROR(X60*(F173/L145)^4,0)","v":0},{"$f":"IFERROR(Y60*(F173/G145)^4,0)","v":0},{"$f":"IFERROR(Z60*(F173/H145)^4,0)","v":0},{"$f":"IFERROR(AA60*(F173/I145)^4,0)","v":0},{"$f":"IFERROR(AB60*(F173/J145)^4,0)","v":5.5020904219727079E-3},{"$f":"IFERROR(AC60*(F173/K145)^4,0)","v":6.166551615970995E-7},{"$f":"IFERROR(AD60*(F173/L145)^4,0)","v":0},{"$f":"IFERROR(AE60*(F173/G145)^4,0)","v":0},{"$f":"IFERROR(AF60*(F173/H145)^4,0)","v":0},{"$f":"IFERROR(AG60*(F173/I145)^4,0)","v":0},{"$f":"IFERROR(AH60*(F173/J145)^4,0)","v":1.529825351672854E-2},{"$f":"IFERROR(AI60*(F173/K145)^4,0)","v":1.1769150706680436E-3},{"$f":"IFERROR(AJ60*(F173/L145)^4,0)","v":4.3553706516434056E-6},{"$f":"IFERROR(AK60*(F173/G145)^4,0)","v":0},{"$f":"IFERROR(AL60*(F173/H145)^4,0)","v":0},{"$f":"IFERROR(AM60*(F173/I145)^4,0)","v":0},{"$f":"IFERROR(AN60*(F173/J145)^4,0)","v":3.1196431409388763E-6},{"$f":"IFERROR(AO60*(F173/K145)^4,0)","v":0},{"$f":"IFERROR(AP60*(F173/L145)^4,0)","v":0},{"$f":"IFERROR(AQ60*(F173/G145)^4,0)","v":0},{"$f":"IFERROR(AR60*(F173/H145)^4,0)","v":0},{"$f":"IFERROR(AS60*(F173/I145)^4,0)","v":0},{"$f":"IFERROR(AT60*(F173/J145)^4,0)","v":4.3207812995746549E-4},{"$f":"IFERROR(AU60*(F173/K145)^4,0)","v":5.0894969990357958E-7},{"$f":"IFERROR(AV60*(F173/L145)^4,0)","v":0},{"$f":"IFERROR(AW60*(F173/G145)^4,0)","v":0},{"$f":"IFERROR(AX60*(F173/H145)^4,0)","v":0},{"$f":"IFERROR(AY60*(F173/I145)^4,0)","v":0},{"$f":"IFERROR(AZ60*(F173/J145)^4,0)","v":3.1627624853857047E-3},{"$f":"IFERROR(BA60*(F173/K145)^4,0)","v":4.0195978551172128E-4},{"$f":"IFERROR(BB60*(F173/L145)^4,0)","v":1.1630604159982061E-6},{"$f":"IFERROR(BC60*(F173/G145)^4,0)","v":0},{"$f":"IFERROR(BD60*(F173/H145)^4,0)","v":0},{"$f":"IFERROR(BE60*(F173/I145)^4,0)","v":0},{"$f":"IFERROR(BF60*(F173/J145)^4,0)","v":1.5546120098940451E-3},{"$f":"IFERROR(BG60*(F173/K145)^4,0)","v":8.8972615228723826E-3},{"$f":"IFERROR(BH60*(F173/L145)^4,0)","v":5.4624621387736605E-5},{"$f":"IFERROR(BI60*(F173/G145)^4,0)","v":0},{"$f":"IFERROR(BJ60*(F173/H145)^4,0)","v":0},{"$f":"IFERROR(BK60*(F173/I145)^4,0)","v":0},{"$f":"IFERROR(BL60*(F173/J145)^4,0)","v":3.3398827494722965E-3},{"$f":"IFERROR(BM60*(F173/K145)^4,0)","v":2.1247495179919484E-2},{"$f":"IFERROR(BN60*(F173/L145)^4,0)","v":7.7558308311143927E-5},{"$f":"IFERROR(BO60*(F173/G145)^4,0)","v":0},{"$f":"IFERROR(BP60*(F173/H145)^4,0)","v":0},{"$f":"IFERROR(BQ60*(F173/I145)^4,0)","v":0},{"$f":"IFERROR(BR60*(F173/J145)^4,0)","v":4.4356704290823713E-3},{"$f":"IFERROR(BS60*(F173/K145)^4,0)","v":2.2654600140832797E-2},{"$f":"IFERROR(BT60*(F173/L145)^4,0)","v":8.1591020951213798E-6},{"$f":"IFERROR(BU60*(F173/G145)^4,0)","v":0},{"$f":"IFERROR(BV60*(F173/H145)^4,0)","v":0},{"$f":"IFERROR(BW60*(F173/I145)^4,0)","v":0},{"$f":"IFERROR(BX60*(F173/J145)^4,0)","v":3.2629152737502316E-3},{"$f":"IFERROR(BY60*(F173/K145)^4,0)","v":2.4309317070010827E-2},{"$f":"IFERROR(BZ60*(F173/L145)^4,0)","v":3.9620524617281696E-6}]
[null,null,null,null,null,250,{"$f":"IFERROR(G61*(F174/G145)^4,0)","v":0},{"$f":"IFERROR(H61*(F174/H145)^4,0)","v":0},{"$f":"IFERROR(I61*(F174/I145)^4,0)","v":0},{"$f":"IFERROR(J61*(F174/J145)^4,0)","v":0},{"$f":"IFERROR(K61*(F174/K145)^4,0)","v":0},{"$f":"IFERROR(L61*(F174/L145)^4,0)","v":0},null,null,null,null,null,250,{"$f":"IFERROR(S61*(F174/G145)^4,0)","v":0},{"$f":"IFERROR(T61*(F174/H145)^4,0)","v":0},{"$f":"IFERROR(U61*(F174/I145)^4,0)","v":0},{"$f":"IFERROR(V61*(F174/J145)^4,0)","v":0},{"$f":"IFERROR(W61*(F174/K145)^4,0)","v":0},{"$f":"IFERROR(X61*(F174/L145)^4,0)","v":0},{"$f":"IFERROR(Y61*(F174/G145)^4,0)","v":0},{"$f":"IFERROR(Z61*(F174/H145)^4,0)","v":0},{"$f":"IFERROR(AA61*(F174/I145)^4,0)","v":0},{"$f":"IFERROR(AB61*(F174/J145)^4,0)","v":5.8120770512972708E-3},{"$f":"IFERROR(AC61*(F174/K145)^4,0)","v":2.4201160069732492E-7},{"$f":"IFERROR(AD61*(F174/L145)^4,0)","v":0},{"$f":"IFERROR(AE61*(F174/G145)^4,0)","v":0},{"$f":"IFERROR(AF61*(F174/H145)^4,0)","v":0},{"$f":"IFERROR(AG61*(F174/I145)^4,0)","v":0},{"$f":"IFERROR(AH61*(F174/J145)^4,0)","v":1.2928398826303892E-2},{"$f":"IFERROR(AI61*(F174/K145)^4,0)","v":1.0544382863856983E-3},{"$f":"IFERROR(AJ61*(F174/L145)^4,0)","v":5.127907566545514E-6},{"$f":"IFERROR(AK61*(F174/G145)^4,0)","v":0},{"$f":"IFERROR(AL61*(F174/H145)^4,0)","v":0},{"$f":"IFERROR(AM61*(F174/I145)^4,0)","v":0},{"$f":"IFERROR(AN61*(F174/J145)^4,0)","v":0},{"$f":"IFERROR(AO61*(F174/K145)^4,0)","v":0},{"$f":"IFERROR(AP61*(F174/L145)^4,0)","v":0},{"$f":"IFERROR(AQ61*(F174/G145)^4,0)","v":0},{"$f":"IFERROR(AR61*(F174/H145)^4,0)","v":0},{"$f":"IFERROR(AS61*(F174/I145)^4,0)","v":0},{"$f":"IFERROR(AT61*(F174/J145)^4,0)","v":3.048350845178299E-4},{"$f":"IFERROR(AU61*(F174/K145)^4,0)","v":5.9922500881569442E-7},{"$f":"IFERROR(AV61*(F174/L145)^4,0)","v":0},{"$f":"IFERROR(AW61*(F174/G145)^4,0)","v":0},{"$f":"IFERROR(AX61*(F174/H145)^4,0)","v":0},{"$f":"IFERROR(AY61*(F174/I145)^4,0)","v":0},{"$f":"IFERROR(AZ61*(F174/J145)^4,0)","v":2.3592470109785667E-3},{"$f":"IFERROR(BA61*(F174/K145)^4,0)","v":2.6693028680833459E-4},{"$f":"IFERROR(BB61*(F174/L145)^4,0)","v":3.3255863142550925E-6},{"$f":"IFERROR(BC61*(F174/G145)^4,0)","v":0},{"$f":"IFERROR(BD61*(F174/H145)^4,0)","v":0},{"$f":"IFERROR(BE61*(F174/I145)^4,0)","v":0},{"$f":"IFERROR(BF61*(F174/J145)^4,0)","v":1.2205920442263827E-3},{"$f":"IFERROR(BG61*(F174/K145)^4,0)","v":5.6213868642398532E-3},{"$f":"IFERROR(BH61*(F174/L145)^4,0)","v":5.4130699018013271E-5},{"$f":"IFERROR(BI61*(F174/G145)^4,0)","v":0},{"$f":"IFERROR(BJ61*(F174/H145)^4,0)","v":0},{"$f":"IFERROR(BK61*(F174/I145)^4,0)","v":0},{"$f":"IFERROR(BL61*(F174/J145)^4,0)","v":2.4698095871189523E-3},{"$f":"IFERROR(BM61*(F174/K145)^4,0)","v":1.2222699471453526E-2},{"$f":"IFERROR(BN61*(F174/L145)^4,0)","v":8.3575424109256447E-5},{"$f":"IFERROR(BO61*(F174/G145)^4,0)","v":0},{"$f":"IFERROR(BP61*(F174/H145)^4,0)","v":0},{"$f":"IFERROR(BQ61*(F174/I145)^4,0)","v":0},{"$f":"IFERROR(BR61*(F174/J145)^4,0)","v":3.0205714459726235E-3},{"$f":"IFERROR(BS61*(F174/K145)^4,0)","v":1.5133738724608143E-2},{"$f":"IFERROR(BT61*(F174/L145)^4,0)","v":7.5957016320363207E-6},{"$f":"IFERROR(BU61*(F174/G145)^4,0)","v":0},{"$f":"IFERROR(BV61*(F174/H145)^4,0)","v":0},{"$f":"IFERROR(BW61*(F174/I145)^4,0)","v":0},{"$f":"IFERROR(BX61*(F174/J145)^4,0)","v":2.149147440070432E-3},{"$f":"IFERROR(BY61*(F174/K145)^4,0)","v":1.6904735586046025E-2},{"$f":"IFERROR(BZ61*(F174/L145)^4,0)","v":3.1098828584397621E-6}]
[null,null,null,null,null,260,{"$f":"IFERROR(G62*(F175/G145)^4,0)","v":0},{"$f":"IFERROR(H62*(F175/H145)^4,0)","v":0},{"$f":"IFERROR(I62*(F175/I145)^4,0)","v":0},{"$f":"IFERROR(J62*(F175/J145)^4,0)","v":0},{"$f":"IFERROR(K62*(F175/K145)^4,0)","v":0},{"$f":"IFERROR(L62*(F175/L145)^4,0)","v":0},null,null,null,null,null,260,{"$f":"IFERROR(S62*(F175/G145)^4,0)","v":0},{"$f":"IFERROR(T62*(F175/H145)^4,0)","v":0},{"$f":"IFERROR(U62*(F175/I145)^4,0)","v":0},{"$f":"IFERROR(V62*(F175/J145)^4,0)","v":0},{"$f":"IFERROR(W62*(F175/K145)^4,0)","v":0},{"$f":"IFERROR(X62*(F175/L145)^4,0)","v":0},{"$f":"IFERROR(Y62*(F175/G145)^4,0)","v":0},{"$f":"IFERROR(Z62*(F175/H145)^4,0)","v":0},{"$f":"IFERROR(AA62*(F175/I145)^4,0)","v":0},{"$f":"IFERROR(AB62*(F175/J145)^4,0)","v":5.5301662634418105E-3},{"$f":"IFERROR(AC62*(F175/K145)^4,0)","v":1.1324773707802701E-6},{"$f":"IFERROR(AD62*(F175/L145)^4,0)","v":0},{"$f":"IFERROR(AE62*(F175/G145)^4,0)","v":0},{"$f":"IFERROR(AF62*(F175/H145)^4,0)","v":0},{"$f":"IFERROR(AG62*(F175/I145)^4,0)","v":0},{"$f":"IFERROR(AH62*(F175/J145)^4,0)","v":1.0019523893482138E-2},{"$f":"IFERROR(AI62*(F175/K145)^4,0)","v":9.3889536284344109E-4},{"$f":"IFERROR(AJ62*(F175/L145)^4,0)","v":8.7984256236976576E-6},{"$f":"IFERROR(AK62*(F175/G145)^4,0)","v":0},{"$f":"IFERROR(AL62*(F175/H145)^4,0)","v":0},{"$f":"IFERROR(AM62*(F175/I145)^4,0)","v":0},{"$f":"IFERROR(AN62*(F175/J145)^4,0)","v":0},{"$f":"IFERROR(AO62*(F175/K145)^4,0)","v":0},{"$f":"IFERROR(AP62*(F175/L145)^4,0)","v":0},{"$f":"IFERROR(AQ62*(F175/G145)^4,0)","v":0},{"$f":"IFERROR(AR62*(F175/H145)^4,0)","v":0},{"$f":"IFERROR(AS62*(F175/I145)^4,0)","v":0},{"$f":"IFERROR(AT62*(F175/J145)^4,0)","v":2.1767343963040011E-4},{"$f":"IFERROR(AU62*(F175/K145)^4,0)","v":7.010085059291155E-7},{"$f":"IFERROR(AV62*(F175/L145)^4,0)","v":2.9483231534644313E-7},{"$f":"IFERROR(AW62*(F175/G145)^4,0)","v":0},{"$f":"IFERROR(AX62*(F175/H145)^4,0)","v":0},{"$f":"IFERROR(AY62*(F175/I145)^4,0)","v":0},{"$f":"IFERROR(AZ62*(F175/J145)^4,0)","v":1.5766237333263353E-3},{"$f":"IFERROR(BA62*(F175/K145)^4,0)","v":2.1052564105370587E-4},{"$f":"IFERROR(BB62*(F175/L145)^4,0)","v":2.7462110235883549E-6},{"$f":"IFERROR(BC62*(F175/G145)^4,0)","v":0},{"$f":"IFERROR(BD62*(F175/H145)^4,0)","v":0},{"$f":"IFERROR(BE62*(F175/I145)^4,0)","v":0},{"$f":"IFERROR(BF62*(F175/J145)^4,0)","v":9.236588789455684E-4},{"$f":"IFERROR(BG62*(F175/K145)^4,0)","v":3.7353979229310542E-3},{"$f":"IFERROR(BH62*(F175/L145)^4,0)","v":4.8810610058908415E-5},{"$f":"IFERROR(BI62*(F175/G145)^4,0)","v":0},{"$f":"IFERROR(BJ62*(F175/H145)^4,0)","v":0},{"$f":"IFERROR(BK62*(F175/I145)^4,0)","v":0},{"$f":"IFERROR(BL62*(F175/J145)^4,0)","v":1.8462442921580841E-3},{"$f":"IFERROR(BM62*(F175/K145)^4,0)","v":7.8194428800232793E-3},{"$f":"IFERROR(BN62*(F175/L145)^4,0)","v":8.0184757525517673E-5},{"$f":"IFERROR(BO62*(F175/G145)^4,0)","v":0},{"$f":"IFERROR(BP62*(F175/H145)^4,0)","v":0},{"$f":"IFERROR(BQ62*(F175/I145)^4,0)","v":0},{"$f":"IFERROR(BR62*(F175/J145)^4,0)","v":2.0836794103060081E-3},{"$f":"IFERROR(BS62*(F175/K145)^4,0)","v":1.0628436322821927E-2},{"$f":"IFERROR(BT62*(F175/L145)^4,0)","v":7.0564472789111411E-6},{"$f":"IFERROR(BU62*(F175/G145)^4,0)","v":0},{"$f":"IFERROR(BV62*(F175/H145)^4,0)","v":0},{"$f":"IFERROR(BW62*(F175/I145)^4,0)","v":0},{"$f":"IFERROR(BX62*(F175/J145)^4,0)","v":1.6737582278331243E-3},{"$f":"IFERROR(BY62*(F175/K145)^4,0)","v":1.0940272919970927E-2},{"$f":"IFERROR(BZ62*(F175/L145)^4,0)","v":8.1857769357218012E-6}]
[null,null,null,null,null,270,{"$f":"IFERROR(G63*(F176/G145)^4,0)","v":0},{"$f":"IFERROR(H63*(F176/H145)^4,0)","v":0},{"$f":"IFERROR(I63*(F176/I145)^4,0)","v":0},{"$f":"IFERROR(J63*(F176/J145)^4,0)","v":0},{"$f":"IFERROR(K63*(F176/K145)^4,0)","v":0},{"$f":"IFERROR(L63*(F176/L145)^4,0)","v":0},null,null,null,null,null,270,{"$f":"IFERROR(S63*(F176/G145)^4,0)","v":0},{"$f":"IFERROR(T63*(F176/H145)^4,0)","v":0},{"$f":"IFERROR(U63*(F176/I145)^4,0)","v":0},{"$f":"IFERROR(V63*(F176/J145)^4,0)","v":0},{"$f":"IFERROR(W63*(F176/K145)^4,0)","v":0},{"$f":"IFERROR(X63*(F176/L145)^4,0)","v":0},{"$f":"IFERROR(Y63*(F176/G145)^4,0)","v":0},{"$f":"IFERROR(Z63*(F176/H145)^4,0)","v":0},{"$f":"IFERROR(AA63*(F176/I145)^4,0)","v":0},{"$f":"IFERROR(AB63*(F176/J145)^4,0)","v":3.77090694917192E-3},{"$f":"IFERROR(AC63*(F176/K145)^4,0)","v":0},{"$f":"IFERROR(AD63*(F176/L145)^4,0)","v":0},{"$f":"IFERROR(AE63*(F176/G145)^4,0)","v":0},{"$f":"IFERROR(AF63*(F176/H145)^4,0)","v":0},{"$f":"IFERROR(AG63*(F176/I145)^4,0)","v":0},{"$f":"IFERROR(AH63*(F176/J145)^4,0)","v":7.0101914449054335E-3},{"$f":"IFERROR(AI63*(F176/K145)^4,0)","v":6.7981441366139067E-4},{"$f":"IFERROR(AJ63*(F176/L145)^4,0)","v":1.1627436053642735E-5},{"$f":"IFERROR(AK63*(F176/G145)^4,0)","v":0},{"$f":"IFERROR(AL63*(F176/H145)^4,0)","v":0},{"$f":"IFERROR(AM63*(F176/I145)^4,0)","v":0},{"$f":"IFERROR(AN63*(F176/J145)^4,0)","v":0},{"$f":"IFERROR(AO63*(F176/K145)^4,0)","v":0},{"$f":"IFERROR(AP63*(F176/L145)^4,0)","v":0},{"$f":"IFERROR(AQ63*(F176/G145)^4,0)","v":0},{"$f":"IFERROR(AR63*(F176/H145)^4,0)","v":0},{"$f":"IFERROR(AS63*(F176/I145)^4,0)","v":0},{"$f":"IFERROR(AT63*(F176/J145)^4,0)","v":1.9928332964890198E-4},{"$f":"IFERROR(AU63*(F176/K145)^4,0)","v":0},{"$f":"IFERROR(AV63*(F176/L145)^4,0)","v":3.4287573198598874E-7},{"$f":"IFERROR(AW63*(F176/G145)^4,0)","v":0},{"$f":"IFERROR(AX63*(F176/H145)^4,0)","v":0},{"$f":"IFERROR(AY63*(F176/I145)^4,0)","v":0},{"$f":"IFERROR(AZ63*(F176/J145)^4,0)","v":9.853703295683849E-4},{"$f":"IFERROR(BA63*(F176/K145)^4,0)","v":1.5482895015584702E-4},{"$f":"IFERROR(BB63*(F176/L145)^4,0)","v":2.661425568277145E-6},{"$f":"IFERROR(BC63*(F176/G145)^4,0)","v":0},{"$f":"IFERROR(BD63*(F176/H145)^4,0)","v":0},{"$f":"IFERROR(BE63*(F176/I145)^4,0)","v":0},{"$f":"IFERROR(BF63*(F176/J145)^4,0)","v":7.2860521897050005E-4},{"$f":"IFERROR(BG63*(F176/K145)^4,0)","v":2.3636919769513681E-3},{"$f":"IFERROR(BH63*(F176/L145)^4,0)","v":4.0795980397034475E-5},{"$f":"IFERROR(BI63*(F176/G145)^4,0)","v":0},{"$f":"IFERROR(BJ63*(F176/H145)^4,0)","v":0},{"$f":"IFERROR(BK63*(F176/I145)^4,0)","v":0},{"$f":"IFERROR(BL63*(F176/J145)^4,0)","v":1.256379224823924E-3},{"$f":"IFERROR(BM63*(F176/K145)^4,0)","v":5.2487199464115028E-3},{"$f":"IFERROR(BN63*(F176/L145)^4,0)","v":7.2798552693058031E-5},{"$f":"IFERROR(BO63*(F176/G145)^4,0)","v":0},{"$f":"IFERROR(BP63*(F176/H145)^4,0)","v":0},{"$f":"IFERROR(BQ63*(F176/I145)^4,0)","v":0},{"$f":"IFERROR(BR63*(F176/J145)^4,0)","v":1.4429597989598834E-3},{"$f":"IFERROR(BS63*(F176/K145)^4,0)","v":7.9227878510841968E-3},{"$f":"IFERROR(BT63*(F176/L145)^4,0)","v":1.0637805514246445E-5},{"$f":"IFERROR(BU63*(F176/G145)^4,0)","v":0},{"$f":"IFERROR(BV63*(F176/H145)^4,0)","v":0},{"$f":"IFERROR(BW63*(F176/I145)^4,0)","v":0},{"$f":"IFERROR(BX63*(F176/J145)^4,0)","v":1.018806339864743E-3},{"$f":"IFERROR(BY63*(F176/K145)^4,0)","v":7.1990062492358559E-3},{"$f":"IFERROR(BZ63*(F176/L145)^4,0)","v":4.2309612958005415E-6}]
[null,null,null,null,null,280,{"$f":"IFERROR(G64*(F177/G145)^4,0)","v":0},{"$f":"IFERROR(H64*(F177/H145)^4,0)","v":0},{"$f":"IFERROR(I64*(F177/I145)^4,0)","v":0},{"$f":"IFERROR(J64*(F177/J145)^4,0)","v":0},{"$f":"IFERROR(K64*(F177/K145)^4,0)","v":0},{"$f":"IFERROR(L64*(F177/L145)^4,0)","v":0},null,null,null,null,null,280,{"$f":"IFERROR(S64*(F177/G145)^4,0)","v":0},{"$f":"IFERROR(T64*(F177/H145)^4,0)","v":0},{"$f":"IFERROR(U64*(F177/I145)^4,0)","v":0},{"$f":"IFERROR(V64*(F177/J145)^4,0)","v":0},{"$f":"IFERROR(W64*(F177/K145)^4,0)","v":0},{"$f":"IFERROR(X64*(F177/L145)^4,0)","v":0},{"$f":"IFERROR(Y64*(F177/G145)^4,0)","v":0},{"$f":"IFERROR(Z64*(F177/H145)^4,0)","v":0},{"$f":"IFERROR(AA64*(F177/I145)^4,0)","v":0},{"$f":"IFERROR(AB64*(F177/J145)^4,0)","v":2.3800724376556964E-3},{"$f":"IFERROR(AC64*(F177/K145)^4,0)","v":3.8080993904183032E-7},{"$f":"IFERROR(AD64*(F177/L145)^4,0)","v":0},{"$f":"IFERROR(AE64*(F177/G145)^4,0)","v":0},{"$f":"IFERROR(AF64*(F177/H145)^4,0)","v":0},{"$f":"IFERROR(AG64*(F177/I145)^4,0)","v":0},{"$f":"IFERROR(AH64*(F177/J145)^4,0)","v":4.6138957591112346E-3},{"$f":"IFERROR(AI64*(F177/K145)^4,0)","v":5.5051102370426137E-4},{"$f":"IFERROR(AJ64*(F177/L145)^4,0)","v":2.6358281985349524E-5},{"$f":"IFERROR(AK64*(F177/G145)^4,0)","v":0},{"$f":"IFERROR(AL64*(F177/H145)^4,0)","v":0},{"$f":"IFERROR(AM64*(F177/I145)^4,0)","v":0},{"$f":"IFERROR(AN64*(F177/J145)^4,0)","v":0},{"$f":"IFERROR(AO64*(F177/K145)^4,0)","v":0},{"$f":"IFERROR(AP64*(F177/L145)^4,0)","v":0},{"$f":"IFERROR(AQ64*(F177/G145)^4,0)","v":0},{"$f":"IFERROR(AR64*(F177/H145)^4,0)","v":0},{"$f":"IFERROR(AS64*(F177/I145)^4,0)","v":0},{"$f":"IFERROR(AT64*(F177/J145)^4,0)","v":9.3441020862865203E-5},{"$f":"IFERROR(AU64*(F177/K145)^4,0)","v":0},{"$f":"IFERROR(AV64*(F177/L145)^4,0)","v":0},{"$f":"IFERROR(AW64*(F177/G145)^4,0)","v":0},{"$f":"IFERROR(AX64*(F177/H145)^4,0)","v":0},{"$f":"IFERROR(AY64*(F177/I145)^4,0)","v":0},{"$f":"IFERROR(AZ64*(F177/J145)^4,0)","v":6.660057477737971E-4},{"$f":"IFERROR(BA64*(F177/K145)^4,0)","v":1.5577863856072646E-4},{"$f":"IFERROR(BB64*(F177/L145)^4,0)","v":3.3859775845379852E-6},{"$f":"IFERROR(BC64*(F177/G145)^4,0)","v":0},{"$f":"IFERROR(BD64*(F177/H145)^4,0)","v":0},{"$f":"IFERROR(BE64*(F177/I145)^4,0)","v":0},{"$f":"IFERROR(BF64*(F177/J145)^4,0)","v":4.8470558758819228E-4},{"$f":"IFERROR(BG64*(F177/K145)^4,0)","v":1.6265223841702636E-3},{"$f":"IFERROR(BH64*(F177/L145)^4,0)","v":3.305829260105874E-5},{"$f":"IFERROR(BI64*(F177/G145)^4,0)","v":0},{"$f":"IFERROR(BJ64*(F177/H145)^4,0)","v":0},{"$f":"IFERROR(BK64*(F177/I145)^4,0)","v":0},{"$f":"IFERROR(BL64*(F177/J145)^4,0)","v":8.2699804451391676E-4},{"$f":"IFERROR(BM64*(F177/K145)^4,0)","v":3.8133543056746806E-3},{"$f":"IFERROR(BN64*(F177/L145)^4,0)","v":6.0191344254718292E-5},{"$f":"IFERROR(BO64*(F177/G145)^4,0)","v":0},{"$f":"IFERROR(BP64*(F177/H145)^4,0)","v":0},{"$f":"IFERROR(BQ64*(F177/I145)^4,0)","v":0},{"$f":"IFERROR(BR64*(F177/J145)^4,0)","v":9.4893041850515594E-4},{"$f":"IFERROR(BS64*(F177/K145)^4,0)","v":5.9641637989319134E-3},{"$f":"IFERROR(BT64*(F177/L145)^4,0)","v":1.335809928500366E-5},{"$f":"IFERROR(BU64*(F177/G145)^4,0)","v":0},{"$f":"IFERROR(BV64*(F177/H145)^4,0)","v":0},{"$f":"IFERROR(BW64*(F177/I145)^4,0)","v":0},{"$f":"IFERROR(BX64*(F177/J145)^4,0)","v":6.8975696181319802E-4},{"$f":"IFERROR(BY64*(F177/K145)^4,0)","v":4.9331093276571902E-3},{"$f":"IFERROR(BZ64*(F177/L145)^4,0)","v":2.4467304425435524E-6}]
[null,null,null,null,null,290,{"$f":"IFERROR(G65*(F178/G145)^4,0)","v":0},{"$f":"IFERROR(H65*(F178/H145)^4,0)","v":0},{"$f":"IFERROR(I65*(F178/I145)^4,0)","v":0},{"$f":"IFERROR(J65*(F178/J145)^4,0)","v":0},{"$f":"IFERROR(K65*(F178/K145)^4,0)","v":0},{"$f":"IFERROR(L65*(F178/L145)^4,0)","v":0},null,null,null,null,null,290,{"$f":"IFERROR(S65*(F178/G145)^4,0)","v":0},{"$f":"IFERROR(T65*(F178/H145)^4,0)","v":0},{"$f":"IFERROR(U65*(F178/I145)^4,0)","v":0},{"$f":"IFERROR(V65*(F178/J145)^4,0)","v":0},{"$f":"IFERROR(W65*(F178/K145)^4,0)","v":0},{"$f":"IFERROR(X65*(F178/L145)^4,0)","v":0},{"$f":"IFERROR(Y65*(F178/G145)^4,0)","v":0},{"$f":"IFERROR(Z65*(F178/H145)^4,0)","v":0},{"$f":"IFERROR(AA65*(F178/I145)^4,0)","v":0},{"$f":"IFERROR(AB65*(F178/J145)^4,0)","v":1.2622500429106381E-3},{"$f":"IFERROR(AC65*(F178/K145)^4,0)","v":8.7639145959835966E-7},{"$f":"IFERROR(AD65*(F178/L145)^4,0)","v":0},{"$f":"IFERROR(AE65*(F178/G145)^4,0)","v":0},{"$f":"IFERROR(AF65*(F178/H145)^4,0)","v":0},{"$f":"IFERROR(AG65*(F178/I145)^4,0)","v":0},{"$f":"IFERROR(AH65*(F178/J145)^4,0)","v":2.5677136612774626E-3},{"$f":"IFERROR(AI65*(F178/K145)^4,0)","v":3.3286489580087834E-4},{"$f":"IFERROR(AJ65*(F178/L145)^4,0)","v":3.9615109437564275E-5},{"$f":"IFERROR(AK65*(F178/G145)^4,0)","v":0},{"$f":"IFERROR(AL65*(F178/H145)^4,0)","v":0},{"$f":"IFERROR(AM65*(F178/I145)^4,0)","v":0},{"$f":"IFERROR(AN65*(F178/J145)^4,0)","v":0},{"$f":"IFERROR(AO65*(F178/K145)^4,0)","v":0},{"$f":"IFERROR(AP65*(F178/L145)^4,0)","v":0},{"$f":"IFERROR(AQ65*(F178/G145)^4,0)","v":0},{"$f":"IFERROR(AR65*(F178/H145)^4,0)","v":0},{"$f":"IFERROR(AS65*(F178/I145)^4,0)","v":0},{"$f":"IFERROR(AT65*(F178/J145)^4,0)","v":7.5265418500487661E-5},{"$f":"IFERROR(AU65*(F178/K145)^4,0)","v":0},{"$f":"IFERROR(AV65*(F178/L145)^4,0)","v":0},{"$f":"IFERROR(AW65*(F178/G145)^4,0)","v":0},{"$f":"IFERROR(AX65*(F178/H145)^4,0)","v":0},{"$f":"IFERROR(AY65*(F178/I145)^4,0)","v":0},{"$f":"IFERROR(AZ65*(F178/J145)^4,0)","v":4.8693471998385087E-4},{"$f":"IFERROR(BA65*(F178/K145)^4,0)","v":1.2648264650669003E-4},{"$f":"IFERROR(BB65*(F178/L145)^4,0)","v":3.5420220445103527E-6},{"$f":"IFERROR(BC65*(F178/G145)^4,0)","v":0},{"$f":"IFERROR(BD65*(F178/H145)^4,0)","v":0},{"$f":"IFERROR(BE65*(F178/I145)^4,0)","v":0},{"$f":"IFERROR(BF65*(F178/J145)^4,0)","v":3.6815164200731059E-4},{"$f":"IFERROR(BG65*(F178/K145)^4,0)","v":1.1363012788157441E-3},{"$f":"IFERROR(BH65*(F178/L145)^4,0)","v":2.6928812720600071E-5},{"$f":"IFERROR(BI65*(F178/G145)^4,0)","v":0},{"$f":"IFERROR(BJ65*(F178/H145)^4,0)","v":0},{"$f":"IFERROR(BK65*(F178/I145)^4,0)","v":0},{"$f":"IFERROR(BL65*(F178/J145)^4,0)","v":5.5224740548251872E-4},{"$f":"IFERROR(BM65*(F178/K145)^4,0)","v":2.8199675994592527E-3},{"$f":"IFERROR(BN65*(F178/L145)^4,0)","v":4.8240723924030929E-5},{"$f":"IFERROR(BO65*(F178/G145)^4,0)","v":0},{"$f":"IFERROR(BP65*(F178/H145)^4,0)","v":0},{"$f":"IFERROR(BQ65*(F178/I145)^4,0)","v":0},{"$f":"IFERROR(BR65*(F178/J145)^4,0)","v":6.1579693363633691E-4},{"$f":"IFERROR(BS65*(F178/K145)^4,0)","v":4.4471618248748176E-3},{"$f":"IFERROR(BT65*(F178/L145)^4,0)","v":1.173056511504867E-5},{"$f":"IFERROR(BU65*(F178/G145)^4,0)","v":0},{"$f":"IFERROR(BV65*(F178/H145)^4,0)","v":0},{"$f":"IFERROR(BW65*(F178/I145)^4,0)","v":0},{"$f":"IFERROR(BX65*(F178/J145)^4,0)","v":5.7322722142381824E-4},{"$f":"IFERROR(BY65*(F178/K145)^4,0)","v":3.397223119896682E-3},{"$f":"IFERROR(BZ65*(F178/L145)^4,0)","v":1.2669471694080766E-5}]
[null,null,null,null,null,300,{"$f":"IFERROR(G66*(F179/G145)^4,0)","v":0},{"$f":"IFERROR(H66*(F179/H145)^4,0)","v":0},{"$f":"IFERROR(I66*(F179/I145)^4,0)","v":0},{"$f":"IFERROR(J66*(F179/J145)^4,0)","v":0},{"$f":"IFERROR(K66*(F179/K145)^4,0)","v":0},{"$f":"IFERROR(L66*(F179/L145)^4,0)","v":0},null,null,null,null,null,300,{"$f":"IFERROR(S66*(F179/G145)^4,0)","v":0},{"$f":"IFERROR(T66*(F179/H145)^4,0)","v":0},{"$f":"IFERROR(U66*(F179/I145)^4,0)","v":0},{"$f":"IFERROR(V66*(F179/J145)^4,0)","v":0},{"$f":"IFERROR(W66*(F179/K145)^4,0)","v":0},{"$f":"IFERROR(X66*(F179/L145)^4,0)","v":0},{"$f":"IFERROR(Y66*(F179/G145)^4,0)","v":0},{"$f":"IFERROR(Z66*(F179/H145)^4,0)","v":0},{"$f":"IFERROR(AA66*(F179/I145)^4,0)","v":0},{"$f":"IFERROR(AB66*(F179/J145)^4,0)","v":5.6529652461999693E-4},{"$f":"IFERROR(AC66*(F179/K145)^4,0)","v":5.0183525520597289E-7},{"$f":"IFERROR(AD66*(F179/L145)^4,0)","v":0},{"$f":"IFERROR(AE66*(F179/G145)^4,0)","v":0},{"$f":"IFERROR(AF66*(F179/H145)^4,0)","v":0},{"$f":"IFERROR(AG66*(F179/I145)^4,0)","v":0},{"$f":"IFERROR(AH66*(F179/J145)^4,0)","v":1.4039825284084193E-3},{"$f":"IFERROR(AI66*(F179/K145)^4,0)","v":2.6869225568656015E-4},{"$f":"IFERROR(AJ66*(F179/L145)^4,0)","v":3.6861860983961106E-5},{"$f":"IFERROR(AK66*(F179/G145)^4,0)","v":0},{"$f":"IFERROR(AL66*(F179/H145)^4,0)","v":0},{"$f":"IFERROR(AM66*(F179/I145)^4,0)","v":0},{"$f":"IFERROR(AN66*(F179/J145)^4,0)","v":0},{"$f":"IFERROR(AO66*(F179/K145)^4,0)","v":0},{"$f":"IFERROR(AP66*(F179/L145)^4,0)","v":0},{"$f":"IFERROR(AQ66*(F179/G145)^4,0)","v":0},{"$f":"IFERROR(AR66*(F179/H145)^4,0)","v":0},{"$f":"IFERROR(AS66*(F179/I145)^4,0)","v":0},{"$f":"IFERROR(AT66*(F179/J145)^4,0)","v":5.3359600041105442E-5},{"$f":"IFERROR(AU66*(F179/K145)^4,0)","v":1.2425529782802236E-6},{"$f":"IFERROR(AV66*(F179/L145)^4,0)","v":0},{"$f":"IFERROR(AW66*(F179/G145)^4,0)","v":0},{"$f":"IFERROR(AX66*(F179/H145)^4,0)","v":0},{"$f":"IFERROR(AY66*(F179/I145)^4,0)","v":0},{"$f":"IFERROR(AZ66*(F179/J145)^4,0)","v":2.7565784350451337E-4},{"$f":"IFERROR(BA66*(F179/K145)^4,0)","v":1.1127689871089852E-4},{"$f":"IFERROR(BB66*(F179/L145)^4,0)","v":4.4620760937431168E-6},{"$f":"IFERROR(BC66*(F179/G145)^4,0)","v":0},{"$f":"IFERROR(BD66*(F179/H145)^4,0)","v":0},{"$f":"IFERROR(BE66*(F179/I145)^4,0)","v":0},{"$f":"IFERROR(BF66*(F179/J145)^4,0)","v":2.6552816101823716E-4},{"$f":"IFERROR(BG66*(F179/K145)^4,0)","v":8.283933254452148E-4},{"$f":"IFERROR(BH66*(F179/L145)^4,0)","v":2.1726711998092661E-5},{"$f":"IFERROR(BI66*(F179/G145)^4,0)","v":0},{"$f":"IFERROR(BJ66*(F179/H145)^4,0)","v":0},{"$f":"IFERROR(BK66*(F179/I145)^4,0)","v":0},{"$f":"IFERROR(BL66*(F179/J145)^4,0)","v":3.2349492351074343E-4},{"$f":"IFERROR(BM66*(F179/K145)^4,0)","v":2.082403707475929E-3},{"$f":"IFERROR(BN66*(F179/L145)^4,0)","v":3.7422738078799117E-5},{"$f":"IFERROR(BO66*(F179/G145)^4,0)","v":0},{"$f":"IFERROR(BP66*(F179/H145)^4,0)","v":0},{"$f":"IFERROR(BQ66*(F179/I145)^4,0)","v":0},{"$f":"IFERROR(BR66*(F179/J145)^4,0)","v":2.653699114201537E-4},{"$f":"IFERROR(BS66*(F179/K145)^4,0)","v":3.2244097844960017E-3},{"$f":"IFERROR(BT66*(F179/L145)^4,0)","v":9.7282172055294404E-6},{"$f":"IFERROR(BU66*(F179/G145)^4,0)","v":0},{"$f":"IFERROR(BV66*(F179/H145)^4,0)","v":0},{"$f":"IFERROR(BW66*(F179/I145)^4,0)","v":0},{"$f":"IFERROR(BX66*(F179/J145)^4,0)","v":3.4086330752609433E-4},{"$f":"IFERROR(BY66*(F179/K145)^4,0)","v":2.2242945869966162E-3},{"$f":"IFERROR(BZ66*(F179/L145)^4,0)","v":1.1285142916706211E-5}]
[null,null,null,null,null,310,{"$f":"IFERROR(G67*(F180/G145)^4,0)","v":0},{"$f":"IFERROR(H67*(F180/H145)^4,0)","v":0},{"$f":"IFERROR(I67*(F180/I145)^4,0)","v":0},{"$f":"IFERROR(J67*(F180/J145)^4,0)","v":0},{"$f":"IFERROR(K67*(F180/K145)^4,0)","v":0},{"$f":"IFERROR(L67*(F180/L145)^4,0)","v":0},null,null,null,null,null,310,{"$f":"IFERROR(S67*(F180/G145)^4,0)","v":0},{"$f":"IFERROR(T67*(F180/H145)^4,0)","v":0},{"$f":"IFERROR(U67*(F180/I145)^4,0)","v":0},{"$f":"IFERROR(V67*(F180/J145)^4,0)","v":0},{"$f":"IFERROR(W67*(F180/K145)^4,0)","v":0},{"$f":"IFERROR(X67*(F180/L145)^4,0)","v":0},{"$f":"IFERROR(Y67*(F180/G145)^4,0)","v":0},{"$f":"IFERROR(Z67*(F180/H145)^4,0)","v":0},{"$f":"IFERROR(AA67*(F180/I145)^4,0)","v":0},{"$f":"IFERROR(AB67*(F180/J145)^4,0)","v":3.2320628942841633E-4},{"$f":"IFERROR(AC67*(F180/K145)^4,0)","v":5.7216715644824123E-7},{"$f":"IFERROR(AD67*(F180/L145)^4,0)","v":0},{"$f":"IFERROR(AE67*(F180/G145)^4,0)","v":0},{"$f":"IFERROR(AF67*(F180/H145)^4,0)","v":0},{"$f":"IFERROR(AG67*(F180/I145)^4,0)","v":0},{"$f":"IFERROR(AH67*(F180/J145)^4,0)","v":8.9490737583257775E-4},{"$f":"IFERROR(AI67*(F180/K145)^4,0)","v":1.9146831841350916E-4},{"$f":"IFERROR(AJ67*(F180/L145)^4,0)","v":5.0918572441107085E-5},{"$f":"IFERROR(AK67*(F180/G145)^4,0)","v":0},{"$f":"IFERROR(AL67*(F180/H145)^4,0)","v":0},{"$f":"IFERROR(AM67*(F180/I145)^4,0)","v":0},{"$f":"IFERROR(AN67*(F180/J145)^4,0)","v":0},{"$f":"IFERROR(AO67*(F180/K145)^4,0)","v":0},{"$f":"IFERROR(AP67*(F180/L145)^4,0)","v":0},{"$f":"IFERROR(AQ67*(F180/G145)^4,0)","v":0},{"$f":"IFERROR(AR67*(F180/H145)^4,0)","v":0},{"$f":"IFERROR(AS67*(F180/I145)^4,0)","v":0},{"$f":"IFERROR(AT67*(F180/J145)^4,0)","v":2.8079037714849988E-5},{"$f":"IFERROR(AU67*(F180/K145)^4,0)","v":0},{"$f":"IFERROR(AV67*(F180/L145)^4,0)","v":0},{"$f":"IFERROR(AW67*(F180/G145)^4,0)","v":0},{"$f":"IFERROR(AX67*(F180/H145)^4,0)","v":0},{"$f":"IFERROR(AY67*(F180/I145)^4,0)","v":0},{"$f":"IFERROR(AZ67*(F180/J145)^4,0)","v":3.1067857850201956E-4},{"$f":"IFERROR(BA67*(F180/K145)^4,0)","v":1.1484129460739372E-4},{"$f":"IFERROR(BB67*(F180/L145)^4,0)","v":1.4799805975020373E-5},{"$f":"IFERROR(BC67*(F180/G145)^4,0)","v":0},{"$f":"IFERROR(BD67*(F180/H145)^4,0)","v":0},{"$f":"IFERROR(BE67*(F180/I145)^4,0)","v":0},{"$f":"IFERROR(BF67*(F180/J145)^4,0)","v":2.0679897512894429E-4},{"$f":"IFERROR(BG67*(F180/K145)^4,0)","v":6.6096390582562011E-4},{"$f":"IFERROR(BH67*(F180/L145)^4,0)","v":1.7675968130915211E-5},{"$f":"IFERROR(BI67*(F180/G145)^4,0)","v":0},{"$f":"IFERROR(BJ67*(F180/H145)^4,0)","v":0},{"$f":"IFERROR(BK67*(F180/I145)^4,0)","v":0},{"$f":"IFERROR(BL67*(F180/J145)^4,0)","v":2.6660928729978309E-4},{"$f":"IFERROR(BM67*(F180/K145)^4,0)","v":1.6405438760635077E-3},{"$f":"IFERROR(BN67*(F180/L145)^4,0)","v":2.8151760310160617E-5},{"$f":"IFERROR(BO67*(F180/G145)^4,0)","v":0},{"$f":"IFERROR(BP67*(F180/H145)^4,0)","v":0},{"$f":"IFERROR(BQ67*(F180/I145)^4,0)","v":0},{"$f":"IFERROR(BR67*(F180/J145)^4,0)","v":1.74076387798332E-4},{"$f":"IFERROR(BS67*(F180/K145)^4,0)","v":2.2722850794640471E-3},{"$f":"IFERROR(BT67*(F180/L145)^4,0)","v":1.4260655368044048E-5},{"$f":"IFERROR(BU67*(F180/G145)^4,0)","v":0},{"$f":"IFERROR(BV67*(F180/H145)^4,0)","v":0},{"$f":"IFERROR(BW67*(F180/I145)^4,0)","v":0},{"$f":"IFERROR(BX67*(F180/J145)^4,0)","v":3.0227173640722123E-4},{"$f":"IFERROR(BY67*(F180/K145)^4,0)","v":1.690685400228562E-3},{"$f":"IFERROR(BZ67*(F180/L145)^4,0)","v":5.5143208844335621E-6}]
[null,null,null,null,null,320,{"$f":"IFERROR(G68*(F181/G145)^4,0)","v":0},{"$f":"IFERROR(H68*(F181/H145)^4,0)","v":0},{"$f":"IFERROR(I68*(F181/I145)^4,0)","v":0},{"$f":"IFERROR(J68*(F181/J145)^4,0)","v":0},{"$f":"IFERROR(K68*(F181/K145)^4,0)","v":0},{"$f":"IFERROR(L68*(F181/L145)^4,0)","v":0},null,null,null,null,null,320,{"$f":"IFERROR(S68*(F181/G145)^4,0)","v":0},{"$f":"IFERROR(T68*(F181/H145)^4,0)","v":0},{"$f":"IFERROR(U68*(F181/I145)^4,0)","v":0},{"$f":"IFERROR(V68*(F181/J145)^4,0)","v":0},{"$f":"IFERROR(W68*(F181/K145)^4,0)","v":0},{"$f":"IFERROR(X68*(F181/L145)^4,0)","v":0},{"$f":"IFERROR(Y68*(F181/G145)^4,0)","v":0},{"$f":"IFERROR(Z68*(F181/H145)^4,0)","v":0},{"$f":"IFERROR(AA68*(F181/I145)^4,0)","v":0},{"$f":"IFERROR(AB68*(F181/J145)^4,0)","v":2.4035593672637852E-4},{"$f":"IFERROR(AC68*(F181/K145)^4,0)","v":1.2992898878095264E-6},{"$f":"IFERROR(AD68*(F181/L145)^4,0)","v":0},{"$f":"IFERROR(AE68*(F181/G145)^4,0)","v":0},{"$f":"IFERROR(AF68*(F181/H145)^4,0)","v":0},{"$f":"IFERROR(AG68*(F181/I145)^4,0)","v":0},{"$f":"IFERROR(AH68*(F181/J145)^4,0)","v":7.513325084542653E-4},{"$f":"IFERROR(AI68*(F181/K145)^4,0)","v":1.369590107563565E-4},{"$f":"IFERROR(AJ68*(F181/L145)^4,0)","v":5.7813512649962822E-5},{"$f":"IFERROR(AK68*(F181/G145)^4,0)","v":0},{"$f":"IFERROR(AL68*(F181/H145)^4,0)","v":0},{"$f":"IFERROR(AM68*(F181/I145)^4,0)","v":0},{"$f":"IFERROR(AN68*(F181/J145)^4,0)","v":0},{"$f":"IFERROR(AO68*(F181/K145)^4,0)","v":0},{"$f":"IFERROR(AP68*(F181/L145)^4,0)","v":0},{"$f":"IFERROR(AQ68*(F181/G145)^4,0)","v":0},{"$f":"IFERROR(AR68*(F181/H145)^4,0)","v":0},{"$f":"IFERROR(AS68*(F181/I145)^4,0)","v":0},{"$f":"IFERROR(AT68*(F181/J145)^4,0)","v":3.1881251266496957E-5},{"$f":"IFERROR(AU68*(F181/K145)^4,0)","v":0},{"$f":"IFERROR(AV68*(F181/L145)^4,0)","v":1.3530430039945732E-6},{"$f":"IFERROR(AW68*(F181/G145)^4,0)","v":0},{"$f":"IFERROR(AX68*(F181/H145)^4,0)","v":0},{"$f":"IFERROR(AY68*(F181/I145)^4,0)","v":0},{"$f":"IFERROR(AZ68*(F181/J145)^4,0)","v":1.9278083367103244E-4},{"$f":"IFERROR(BA68*(F181/K145)^4,0)","v":1.3784305739716242E-4},{"$f":"IFERROR(BB68*(F181/L145)^4,0)","v":1.4703381061508179E-5},{"$f":"IFERROR(BC68*(F181/G145)^4,0)","v":0},{"$f":"IFERROR(BD68*(F181/H145)^4,0)","v":0},{"$f":"IFERROR(BE68*(F181/I145)^4,0)","v":0},{"$f":"IFERROR(BF68*(F181/J145)^4,0)","v":1.9190536067844886E-4},{"$f":"IFERROR(BG68*(F181/K145)^4,0)","v":5.0389879877987083E-4},{"$f":"IFERROR(BH68*(F181/L145)^4,0)","v":1.4027063269937297E-5},{"$f":"IFERROR(BI68*(F181/G145)^4,0)","v":0},{"$f":"IFERROR(BJ68*(F181/H145)^4,0)","v":0},{"$f":"IFERROR(BK68*(F181/I145)^4,0)","v":0},{"$f":"IFERROR(BL68*(F181/J145)^4,0)","v":2.6820521204281412E-4},{"$f":"IFERROR(BM68*(F181/K145)^4,0)","v":1.17824867312518E-3},{"$f":"IFERROR(BN68*(F181/L145)^4,0)","v":2.1775353266666256E-5},{"$f":"IFERROR(BO68*(F181/G145)^4,0)","v":0},{"$f":"IFERROR(BP68*(F181/H145)^4,0)","v":0},{"$f":"IFERROR(BQ68*(F181/I145)^4,0)","v":0},{"$f":"IFERROR(BR68*(F181/J145)^4,0)","v":1.7411870875663895E-4},{"$f":"IFERROR(BS68*(F181/K145)^4,0)","v":1.7380302664260605E-3},{"$f":"IFERROR(BT68*(F181/L145)^4,0)","v":1.559201365062529E-5},{"$f":"IFERROR(BU68*(F181/G145)^4,0)","v":0},{"$f":"IFERROR(BV68*(F181/H145)^4,0)","v":0},{"$f":"IFERROR(BW68*(F181/I145)^4,0)","v":0},{"$f":"IFERROR(BX68*(F181/J145)^4,0)","v":1.4708686565945749E-4},{"$f":"IFERROR(BY68*(F181/K145)^4,0)","v":1.2616078864238127E-3},{"$f":"IFERROR(BZ68*(F181/L145)^4,0)","v":6.2610211740889577E-6}]
[null,null,null,null,null,330,{"$f":"IFERROR(G69*(F182/G145)^4,0)","v":0},{"$f":"IFERROR(H69*(F182/H145)^4,0)","v":0},{"$f":"IFERROR(I69*(F182/I145)^4,0)","v":0},{"$f":"IFERROR(J69*(F182/J145)^4,0)","v":0},{"$f":"IFERROR(K69*(F182/K145)^4,0)","v":0},{"$f":"IFERROR(L69*(F182/L145)^4,0)","v":0},null,null,null,null,null,330,{"$f":"IFERROR(S69*(F182/G145)^4,0)","v":0},{"$f":"IFERROR(T69*(F182/H145)^4,0)","v":0},{"$f":"IFERROR(U69*(F182/I145)^4,0)","v":0},{"$f":"IFERROR(V69*(F182/J145)^4,0)","v":0},{"$f":"IFERROR(W69*(F182/K145)^4,0)","v":0},{"$f":"IFERROR(X69*(F182/L145)^4,0)","v":0},{"$f":"IFERROR(Y69*(F182/G145)^4,0)","v":0},{"$f":"IFERROR(Z69*(F182/H145)^4,0)","v":0},{"$f":"IFERROR(AA69*(F182/I145)^4,0)","v":0},{"$f":"IFERROR(AB69*(F182/J145)^4,0)","v":2.0145162246562877E-4},{"$f":"IFERROR(AC69*(F182/K145)^4,0)","v":7.3473699714706492E-7},{"$f":"IFERROR(AD69*(F182/L145)^4,0)","v":3.0901794800970193E-7},{"$f":"IFERROR(AE69*(F182/G145)^4,0)","v":0},{"$f":"IFERROR(AF69*(F182/H145)^4,0)","v":0},{"$f":"IFERROR(AG69*(F182/I145)^4,0)","v":0},{"$f":"IFERROR(AH69*(F182/J145)^4,0)","v":5.5840309672894068E-4},{"$f":"IFERROR(AI69*(F182/K145)^4,0)","v":1.2539380568178332E-4},{"$f":"IFERROR(AJ69*(F182/L145)^4,0)","v":6.6423939281990712E-5},{"$f":"IFERROR(AK69*(F182/G145)^4,0)","v":0},{"$f":"IFERROR(AL69*(F182/H145)^4,0)","v":0},{"$f":"IFERROR(AM69*(F182/I145)^4,0)","v":0},{"$f":"IFERROR(AN69*(F182/J145)^4,0)","v":0},{"$f":"IFERROR(AO69*(F182/K145)^4,0)","v":0},{"$f":"IFERROR(AP69*(F182/L145)^4,0)","v":0},{"$f":"IFERROR(AQ69*(F182/G145)^4,0)","v":0},{"$f":"IFERROR(AR69*(F182/H145)^4,0)","v":0},{"$f":"IFERROR(AS69*(F182/I145)^4,0)","v":0},{"$f":"IFERROR(AT69*(F182/J145)^4,0)","v":0},{"$f":"IFERROR(AU69*(F182/K145)^4,0)","v":0},{"$f":"IFERROR(AV69*(F182/L145)^4,0)","v":7.6513391129505553E-7},{"$f":"IFERROR(AW69*(F182/G145)^4,0)","v":0},{"$f":"IFERROR(AX69*(F182/H145)^4,0)","v":0},{"$f":"IFERROR(AY69*(F182/I145)^4,0)","v":0},{"$f":"IFERROR(AZ69*(F182/J145)^4,0)","v":1.6700302703791364E-4},{"$f":"IFERROR(BA69*(F182/K145)^4,0)","v":1.5589807173872021E-4},{"$f":"IFERROR(BB69*(F182/L145)^4,0)","v":2.0786581482702304E-5},{"$f":"IFERROR(BC69*(F182/G145)^4,0)","v":0},{"$f":"IFERROR(BD69*(F182/H145)^4,0)","v":0},{"$f":"IFERROR(BE69*(F182/I145)^4,0)","v":0},{"$f":"IFERROR(BF69*(F182/J145)^4,0)","v":1.7810177138350986E-4},{"$f":"IFERROR(BG69*(F182/K145)^4,0)","v":3.9520070357217547E-4},{"$f":"IFERROR(BH69*(F182/L145)^4,0)","v":1.2284710829916946E-5},{"$f":"IFERROR(BI69*(F182/G145)^4,0)","v":0},{"$f":"IFERROR(BJ69*(F182/H145)^4,0)","v":0},{"$f":"IFERROR(BK69*(F182/I145)^4,0)","v":0},{"$f":"IFERROR(BL69*(F182/J145)^4,0)","v":2.1818860244938494E-4},{"$f":"IFERROR(BM69*(F182/K145)^4,0)","v":8.9169720628900085E-4},{"$f":"IFERROR(BN69*(F182/L145)^4,0)","v":1.5815852195801587E-5},{"$f":"IFERROR(BO69*(F182/G145)^4,0)","v":0},{"$f":"IFERROR(BP69*(F182/H145)^4,0)","v":0},{"$f":"IFERROR(BQ69*(F182/I145)^4,0)","v":0},{"$f":"IFERROR(BR69*(F182/J145)^4,0)","v":1.0644605131787588E-4},{"$f":"IFERROR(BS69*(F182/K145)^4,0)","v":1.1520183383340024E-3},{"$f":"IFERROR(BT69*(F182/L145)^4,0)","v":1.6956050965018635E-5},{"$f":"IFERROR(BU69*(F182/G145)^4,0)","v":0},{"$f":"IFERROR(BV69*(F182/H145)^4,0)","v":0},{"$f":"IFERROR(BW69*(F182/I145)^4,0)","v":0},{"$f":"IFERROR(BX69*(F182/J145)^4,0)","v":1.4786902771820879E-4},{"$f":"IFERROR(BY69*(F182/K145)^4,0)","v":9.2885548281857367E-4},{"$f":"IFERROR(BZ69*(F182/L145)^4,0)","v":1.4162209495156766E-5}]
[null,null,null,null,null,340,{"$f":"IFERROR(G70*(F183/G145)^4,0)","v":0},{"$f":"IFERROR(H70*(F183/H145)^4,0)","v":0},{"$f":"IFERROR(I70*(F183/I145)^4,0)","v":0},{"$f":"IFERROR(J70*(F183/J145)^4,0)","v":0},{"$f":"IFERROR(K70*(F183/K145)^4,0)","v":0},{"$f":"IFERROR(L70*(F183/L145)^4,0)","v":0},null,null,null,null,null,340,{"$f":"IFERROR(S70*(F183/G145)^4,0)","v":0},{"$f":"IFERROR(T70*(F183/H145)^4,0)","v":0},{"$f":"IFERROR(U70*(F183/I145)^4,0)","v":0},{"$f":"IFERROR(V70*(F183/J145)^4,0)","v":0},{"$f":"IFERROR(W70*(F183/K145)^4,0)","v":0},{"$f":"IFERROR(X70*(F183/L145)^4,0)","v":0},{"$f":"IFERROR(Y70*(F183/G145)^4,0)","v":0},{"$f":"IFERROR(Z70*(F183/H145)^4,0)","v":0},{"$f":"IFERROR(AA70*(F183/I145)^4,0)","v":0},{"$f":"IFERROR(AB70*(F183/J145)^4,0)","v":0},{"$f":"IFERROR(AC70*(F183/K145)^4,0)","v":8.2792656493941868E-7},{"$f":"IFERROR(AD70*(F183/L145)^4,0)","v":3.4821190329835866E-7},{"$f":"IFERROR(AE70*(F183/G145)^4,0)","v":0},{"$f":"IFERROR(AF70*(F183/H145)^4,0)","v":0},{"$f":"IFERROR(AG70*(F183/I145)^4,0)","v":0},{"$f":"IFERROR(AH70*(F183/J145)^4,0)","v":0},{"$f":"IFERROR(AI70*(F183/K145)^4,0)","v":8.5887015123841144E-5},{"$f":"IFERROR(AJ70*(F183/L145)^4,0)","v":5.8475583879229137E-5},{"$f":"IFERROR(AK70*(F183/G145)^4,0)","v":0},{"$f":"IFERROR(AL70*(F183/H145)^4,0)","v":0},{"$f":"IFERROR(AM70*(F183/I145)^4,0)","v":0},{"$f":"IFERROR(AN70*(F183/J145)^4,0)","v":0},{"$f":"IFERROR(AO70*(F183/K145)^4,0)","v":0},{"$f":"IFERROR(AP70*(F183/L145)^4,0)","v":0},{"$f":"IFERROR(AQ70*(F183/G145)^4,0)","v":0},{"$f":"IFERROR(AR70*(F183/H145)^4,0)","v":0},{"$f":"IFERROR(AS70*(F183/I145)^4,0)","v":0},{"$f":"IFERROR(AT70*(F183/J145)^4,0)","v":0},{"$f":"IFERROR(AU70*(F183/K145)^4,0)","v":0},{"$f":"IFERROR(AV70*(F183/L145)^4,0)","v":0},{"$f":"IFERROR(AW70*(F183/G145)^4,0)","v":0},{"$f":"IFERROR(AX70*(F183/H145)^4,0)","v":0},{"$f":"IFERROR(AY70*(F183/I145)^4,0)","v":0},{"$f":"IFERROR(AZ70*(F183/J145)^4,0)","v":0},{"$f":"IFERROR(BA70*(F183/K145)^4,0)","v":1.6301024423924984E-4},{"$f":"IFERROR(BB70*(F183/L145)^4,0)","v":3.3461464190843421E-5},{"$f":"IFERROR(BC70*(F183/G145)^4,0)","v":0},{"$f":"IFERROR(BD70*(F183/H145)^4,0)","v":0},{"$f":"IFERROR(BE70*(F183/I145)^4,0)","v":0},{"$f":"IFERROR(BF70*(F183/J145)^4,0)","v":0},{"$f":"IFERROR(BG70*(F183/K145)^4,0)","v":3.0813479716523497E-4},{"$f":"IFERROR(BH70*(F183/L145)^4,0)","v":1.017585425758526E-5},{"$f":"IFERROR(BI70*(F183/G145)^4,0)","v":0},{"$f":"IFERROR(BJ70*(F183/H145)^4,0)","v":0},{"$f":"IFERROR(BK70*(F183/I145)^4,0)","v":0},{"$f":"IFERROR(BL70*(F183/J145)^4,0)","v":0},{"$f":"IFERROR(BM70*(F183/K145)^4,0)","v":6.2932034780281633E-4},{"$f":"IFERROR(BN70*(F183/L145)^4,0)","v":1.4512068578115787E-5},{"$f":"IFERROR(BO70*(F183/G145)^4,0)","v":0},{"$f":"IFERROR(BP70*(F183/H145)^4,0)","v":0},{"$f":"IFERROR(BQ70*(F183/I145)^4,0)","v":0},{"$f":"IFERROR(BR70*(F183/J145)^4,0)","v":0},{"$f":"IFERROR(BS70*(F183/K145)^4,0)","v":8.5513398455638661E-4},{"$f":"IFERROR(BT70*(F183/L145)^4,0)","v":8.4069274275868426E-6},{"$f":"IFERROR(BU70*(F183/G145)^4,0)","v":0},{"$f":"IFERROR(BV70*(F183/H145)^4,0)","v":0},{"$f":"IFERROR(BW70*(F183/I145)^4,0)","v":0},{"$f":"IFERROR(BX70*(F183/J145)^4,0)","v":0},{"$f":"IFERROR(BY70*(F183/K145)^4,0)","v":5.6746944085695134E-4},{"$f":"IFERROR(BZ70*(F183/L145)^4,0)","v":5.3194859769804241E-6}]
[null,null,null,null,null,350,{"$f":"IFERROR(G71*(F184/G145)^4,0)","v":0},{"$f":"IFERROR(H71*(F184/H145)^4,0)","v":0},{"$f":"IFERROR(I71*(F184/I145)^4,0)","v":0},{"$f":"IFERROR(J71*(F184/J145)^4,0)","v":0},{"$f":"IFERROR(K71*(F184/K145)^4,0)","v":0},{"$f":"IFERROR(L71*(F184/L145)^4,0)","v":0},null,null,null,null,null,350,{"$f":"IFERROR(S71*(F184/G145)^4,0)","v":0},{"$f":"IFERROR(T71*(F184/H145)^4,0)","v":0},{"$f":"IFERROR(U71*(F184/I145)^4,0)","v":0},{"$f":"IFERROR(V71*(F184/J145)^4,0)","v":0},{"$f":"IFERROR(W71*(F184/K145)^4,0)","v":0},{"$f":"IFERROR(X71*(F184/L145)^4,0)","v":0},{"$f":"IFERROR(Y71*(F184/G145)^4,0)","v":0},{"$f":"IFERROR(Z71*(F184/H145)^4,0)","v":0},{"$f":"IFERROR(AA71*(F184/I145)^4,0)","v":0},{"$f":"IFERROR(AB71*(F184/J145)^4,0)","v":0},{"$f":"IFERROR(AC71*(F184/K145)^4,0)","v":0},{"$f":"IFERROR(AD71*(F184/L145)^4,0)","v":0},{"$f":"IFERROR(AE71*(F184/G145)^4,0)","v":0},{"$f":"IFERROR(AF71*(F184/H145)^4,0)","v":0},{"$f":"IFERROR(AG71*(F184/I145)^4,0)","v":0},{"$f":"IFERROR(AH71*(F184/J145)^4,0)","v":0},{"$f":"IFERROR(AI71*(F184/K145)^4,0)","v":9.333479541426955E-5},{"$f":"IFERROR(AJ71*(F184/L145)^4,0)","v":8.2737352772093253E-5},{"$f":"IFERROR(AK71*(F184/G145)^4,0)","v":0},{"$f":"IFERROR(AL71*(F184/H145)^4,0)","v":0},{"$f":"IFERROR(AM71*(F184/I145)^4,0)","v":0},{"$f":"IFERROR(AN71*(F184/J145)^4,0)","v":0},{"$f":"IFERROR(AO71*(F184/K145)^4,0)","v":0},{"$f":"IFERROR(AP71*(F184/L145)^4,0)","v":0},{"$f":"IFERROR(AQ71*(F184/G145)^4,0)","v":0},{"$f":"IFERROR(AR71*(F184/H145)^4,0)","v":0},{"$f":"IFERROR(AS71*(F184/I145)^4,0)","v":0},{"$f":"IFERROR(AT71*(F184/J145)^4,0)","v":0},{"$f":"IFERROR(AU71*(F184/K145)^4,0)","v":0},{"$f":"IFERROR(AV71*(F184/L145)^4,0)","v":0},{"$f":"IFERROR(AW71*(F184/G145)^4,0)","v":0},{"$f":"IFERROR(AX71*(F184/H145)^4,0)","v":0},{"$f":"IFERROR(AY71*(F184/I145)^4,0)","v":0},{"$f":"IFERROR(AZ71*(F184/J145)^4,0)","v":0},{"$f":"IFERROR(BA71*(F184/K145)^4,0)","v":1.2262620086031189E-4},{"$f":"IFERROR(BB71*(F184/L145)^4,0)","v":3.4569195864867572E-5},{"$f":"IFERROR(BC71*(F184/G145)^4,0)","v":0},{"$f":"IFERROR(BD71*(F184/H145)^4,0)","v":0},{"$f":"IFERROR(BE71*(F184/I145)^4,0)","v":0},{"$f":"IFERROR(BF71*(F184/J145)^4,0)","v":0},{"$f":"IFERROR(BG71*(F184/K145)^4,0)","v":2.3548708933077706E-4},{"$f":"IFERROR(BH71*(F184/L145)^4,0)","v":9.8827006739453367E-6},{"$f":"IFERROR(BI71*(F184/G145)^4,0)","v":0},{"$f":"IFERROR(BJ71*(F184/H145)^4,0)","v":0},{"$f":"IFERROR(BK71*(F184/I145)^4,0)","v":0},{"$f":"IFERROR(BL71*(F184/J145)^4,0)","v":0},{"$f":"IFERROR(BM71*(F184/K145)^4,0)","v":4.7225846212395513E-4},{"$f":"IFERROR(BN71*(F184/L145)^4,0)","v":1.2150661036037475E-5},{"$f":"IFERROR(BO71*(F184/G145)^4,0)","v":0},{"$f":"IFERROR(BP71*(F184/H145)^4,0)","v":0},{"$f":"IFERROR(BQ71*(F184/I145)^4,0)","v":0},{"$f":"IFERROR(BR71*(F184/J145)^4,0)","v":0},{"$f":"IFERROR(BS71*(F184/K145)^4,0)","v":5.7697394808881562E-4},{"$f":"IFERROR(BT71*(F184/L145)^4,0)","v":6.8657993857954675E-6},{"$f":"IFERROR(BU71*(F184/G145)^4,0)","v":0},{"$f":"IFERROR(BV71*(F184/H145)^4,0)","v":0},{"$f":"IFERROR(BW71*(F184/I145)^4,0)","v":0},{"$f":"IFERROR(BX71*(F184/J145)^4,0)","v":0},{"$f":"IFERROR(BY71*(F184/K145)^4,0)","v":4.8854612120447589E-4},{"$f":"IFERROR(BZ71*(F184/L145)^4,0)","v":2.9867314972455476E-6}]
[null,null,null,null,null,360,{"$f":"IFERROR(G72*(F185/G145)^4,0)","v":0},{"$f":"IFERROR(H72*(F185/H145)^4,0)","v":0},{"$f":"IFERROR(I72*(F185/I145)^4,0)","v":0},{"$f":"IFERROR(J72*(F185/J145)^4,0)","v":0},{"$f":"IFERROR(K72*(F185/K145)^4,0)","v":0},{"$f":"IFERROR(L72*(F185/L145)^4,0)","v":0},null,null,null,null,null,360,{"$f":"IFERROR(S72*(F185/G145)^4,0)","v":0},{"$f":"IFERROR(T72*(F185/H145)^4,0)","v":0},{"$f":"IFERROR(U72*(F185/I145)^4,0)","v":0},{"$f":"IFERROR(V72*(F185/J145)^4,0)","v":0},{"$f":"IFERROR(W72*(F185/K145)^4,0)","v":0},{"$f":"IFERROR(X72*(F185/L145)^4,0)","v":0},{"$f":"IFERROR(Y72*(F185/G145)^4,0)","v":0},{"$f":"IFERROR(Z72*(F185/H145)^4,0)","v":0},{"$f":"IFERROR(AA72*(F185/I145)^4,0)","v":0},{"$f":"IFERROR(AB72*(F185/J145)^4,0)","v":0},{"$f":"IFERROR(AC72*(F185/K145)^4,0)","v":0},{"$f":"IFERROR(AD72*(F185/L145)^4,0)","v":0},{"$f":"IFERROR(AE72*(F185/G145)^4,0)","v":0},{"$f":"IFERROR(AF72*(F185/H145)^4,0)","v":0},{"$f":"IFERROR(AG72*(F185/I145)^4,0)","v":0},{"$f":"IFERROR(AH72*(F185/J145)^4,0)","v":0},{"$f":"IFERROR(AI72*(F185/K145)^4,0)","v":7.6609535941352046E-5},{"$f":"IFERROR(AJ72*(F185/L145)^4,0)","v":1.4552382189803525E-4},{"$f":"IFERROR(AK72*(F185/G145)^4,0)","v":0},{"$f":"IFERROR(AL72*(F185/H145)^4,0)","v":0},{"$f":"IFERROR(AM72*(F185/I145)^4,0)","v":0},{"$f":"IFERROR(AN72*(F185/J145)^4,0)","v":0},{"$f":"IFERROR(AO72*(F185/K145)^4,0)","v":0},{"$f":"IFERROR(AP72*(F185/L145)^4,0)","v":0},{"$f":"IFERROR(AQ72*(F185/G145)^4,0)","v":0},{"$f":"IFERROR(AR72*(F185/H145)^4,0)","v":0},{"$f":"IFERROR(AS72*(F185/I145)^4,0)","v":0},{"$f":"IFERROR(AT72*(F185/J145)^4,0)","v":0},{"$f":"IFERROR(AU72*(F185/K145)^4,0)","v":0},{"$f":"IFERROR(AV72*(F185/L145)^4,0)","v":0},{"$f":"IFERROR(AW72*(F185/G145)^4,0)","v":0},{"$f":"IFERROR(AX72*(F185/H145)^4,0)","v":0},{"$f":"IFERROR(AY72*(F185/I145)^4,0)","v":0},{"$f":"IFERROR(AZ72*(F185/J145)^4,0)","v":0},{"$f":"IFERROR(BA72*(F185/K145)^4,0)","v":9.1501842669640382E-5},{"$f":"IFERROR(BB72*(F185/L145)^4,0)","v":8.5796474615867634E-5},{"$f":"IFERROR(BC72*(F185/G145)^4,0)","v":0},{"$f":"IFERROR(BD72*(F185/H145)^4,0)","v":0},{"$f":"IFERROR(BE72*(F185/I145)^4,0)","v":0},{"$f":"IFERROR(BF72*(F185/J145)^4,0)","v":0},{"$f":"IFERROR(BG72*(F185/K145)^4,0)","v":2.0965605515084281E-4},{"$f":"IFERROR(BH72*(F185/L145)^4,0)","v":1.0370142966578116E-5},{"$f":"IFERROR(BI72*(F185/G145)^4,0)","v":0},{"$f":"IFERROR(BJ72*(F185/H145)^4,0)","v":0},{"$f":"IFERROR(BK72*(F185/I145)^4,0)","v":0},{"$f":"IFERROR(BL72*(F185/J145)^4,0)","v":0},{"$f":"IFERROR(BM72*(F185/K145)^4,0)","v":3.6811043710539685E-4},{"$f":"IFERROR(BN72*(F185/L145)^4,0)","v":7.6799791848443225E-6},{"$f":"IFERROR(BO72*(F185/G145)^4,0)","v":0},{"$f":"IFERROR(BP72*(F185/H145)^4,0)","v":0},{"$f":"IFERROR(BQ72*(F185/I145)^4,0)","v":0},{"$f":"IFERROR(BR72*(F185/J145)^4,0)","v":0},{"$f":"IFERROR(BS72*(F185/K145)^4,0)","v":4.1075239018551678E-4},{"$f":"IFERROR(BT72*(F185/L145)^4,0)","v":1.5369471388484455E-5},{"$f":"IFERROR(BU72*(F185/G145)^4,0)","v":0},{"$f":"IFERROR(BV72*(F185/H145)^4,0)","v":0},{"$f":"IFERROR(BW72*(F185/I145)^4,0)","v":0},{"$f":"IFERROR(BX72*(F185/J145)^4,0)","v":0},{"$f":"IFERROR(BY72*(F185/K145)^4,0)","v":3.0114655620731102E-4},{"$f":"IFERROR(BZ72*(F185/L145)^4,0)","v":3.3429817645831427E-6}]
[null,null,null,null,null,370,{"$f":"IFERROR(G73*(F186/G145)^4,0)","v":0},{"$f":"IFERROR(H73*(F186/H145)^4,0)","v":0},{"$f":"IFERROR(I73*(F186/I145)^4,0)","v":0},{"$f":"IFERROR(J73*(F186/J145)^4,0)","v":0},{"$f":"IFERROR(K73*(F186/K145)^4,0)","v":0},{"$f":"IFERROR(L73*(F186/L145)^4,0)","v":0},null,null,null,null,null,370,{"$f":"IFERROR(S73*(F186/G145)^4,0)","v":0},{"$f":"IFERROR(T73*(F186/H145)^4,0)","v":0},{"$f":"IFERROR(U73*(F186/I145)^4,0)","v":0},{"$f":"IFERROR(V73*(F186/J145)^4,0)","v":0},{"$f":"IFERROR(W73*(F186/K145)^4,0)","v":0},{"$f":"IFERROR(X73*(F186/L145)^4,0)","v":0},{"$f":"IFERROR(Y73*(F186/G145)^4,0)","v":0},{"$f":"IFERROR(Z73*(F186/H145)^4,0)","v":0},{"$f":"IFERROR(AA73*(F186/I145)^4,0)","v":0},{"$f":"IFERROR(AB73*(F186/J145)^4,0)","v":0},{"$f":"IFERROR(AC73*(F186/K145)^4,0)","v":0},{"$f":"IFERROR(AD73*(F186/L145)^4,0)","v":0},{"$f":"IFERROR(AE73*(F186/G145)^4,0)","v":0},{"$f":"IFERROR(AF73*(F186/H145)^4,0)","v":0},{"$f":"IFERROR(AG73*(F186/I145)^4,0)","v":0},{"$f":"IFERROR(AH73*(F186/J145)^4,0)","v":0},{"$f":"IFERROR(AI73*(F186/K145)^4,0)","v":4.6627087649053637E-5},{"$f":"IFERROR(AJ73*(F186/L145)^4,0)","v":2.5095001242319366E-4},{"$f":"IFERROR(AK73*(F186/G145)^4,0)","v":0},{"$f":"IFERROR(AL73*(F186/H145)^4,0)","v":0},{"$f":"IFERROR(AM73*(F186/I145)^4,0)","v":0},{"$f":"IFERROR(AN73*(F186/J145)^4,0)","v":0},{"$f":"IFERROR(AO73*(F186/K145)^4,0)","v":0},{"$f":"IFERROR(AP73*(F186/L145)^4,0)","v":0},{"$f":"IFERROR(AQ73*(F186/G145)^4,0)","v":0},{"$f":"IFERROR(AR73*(F186/H145)^4,0)","v":0},{"$f":"IFERROR(AS73*(F186/I145)^4,0)","v":0},{"$f":"IFERROR(AT73*(F186/J145)^4,0)","v":0},{"$f":"IFERROR(AU73*(F186/K145)^4,0)","v":0},{"$f":"IFERROR(AV73*(F186/L145)^4,0)","v":1.2091734072730417E-6},{"$f":"IFERROR(AW73*(F186/G145)^4,0)","v":0},{"$f":"IFERROR(AX73*(F186/H145)^4,0)","v":0},{"$f":"IFERROR(AY73*(F186/I145)^4,0)","v":0},{"$f":"IFERROR(AZ73*(F186/J145)^4,0)","v":0},{"$f":"IFERROR(BA73*(F186/K145)^4,0)","v":4.2171835371790215E-5},{"$f":"IFERROR(BB73*(F186/L145)^4,0)","v":9.9488304529306781E-5},{"$f":"IFERROR(BC73*(F186/G145)^4,0)","v":0},{"$f":"IFERROR(BD73*(F186/H145)^4,0)","v":0},{"$f":"IFERROR(BE73*(F186/I145)^4,0)","v":0},{"$f":"IFERROR(BF73*(F186/J145)^4,0)","v":0},{"$f":"IFERROR(BG73*(F186/K145)^4,0)","v":1.5728335429364662E-4},{"$f":"IFERROR(BH73*(F186/L145)^4,0)","v":9.8998782291352174E-6},{"$f":"IFERROR(BI73*(F186/G145)^4,0)","v":0},{"$f":"IFERROR(BJ73*(F186/H145)^4,0)","v":0},{"$f":"IFERROR(BK73*(F186/I145)^4,0)","v":0},{"$f":"IFERROR(BL73*(F186/J145)^4,0)","v":0},{"$f":"IFERROR(BM73*(F186/K145)^4,0)","v":2.5374696188163836E-4},{"$f":"IFERROR(BN73*(F186/L145)^4,0)","v":5.3559554196640114E-6},{"$f":"IFERROR(BO73*(F186/G145)^4,0)","v":0},{"$f":"IFERROR(BP73*(F186/H145)^4,0)","v":0},{"$f":"IFERROR(BQ73*(F186/I145)^4,0)","v":0},{"$f":"IFERROR(BR73*(F186/J145)^4,0)","v":0},{"$f":"IFERROR(BS73*(F186/K145)^4,0)","v":2.4953447961902813E-4},{"$f":"IFERROR(BT73*(F186/L145)^4,0)","v":5.3592725708795598E-6},{"$f":"IFERROR(BU73*(F186/G145)^4,0)","v":0},{"$f":"IFERROR(BV73*(F186/H145)^4,0)","v":0},{"$f":"IFERROR(BW73*(F186/I145)^4,0)","v":0},{"$f":"IFERROR(BX73*(F186/J145)^4,0)","v":0},{"$f":"IFERROR(BY73*(F186/K145)^4,0)","v":1.8569939653952626E-4},{"$f":"IFERROR(BZ73*(F186/L145)^4,0)","v":0}]
[null,null,null,null,null,380,{"$f":"IFERROR(G74*(F187/G145)^4,0)","v":0},{"$f":"IFERROR(H74*(F187/H145)^4,0)","v":0},{"$f":"IFERROR(I74*(F187/I145)^4,0)","v":0},{"$f":"IFERROR(J74*(F187/J145)^4,0)","v":0},{"$f":"IFERROR(K74*(F187/K145)^4,0)","v":0},{"$f":"IFERROR(L74*(F187/L145)^4,0)","v":0},null,null,null,null,null,380,{"$f":"IFERROR(S74*(F187/G145)^4,0)","v":0},{"$f":"IFERROR(T74*(F187/H145)^4,0)","v":0},{"$f":"IFERROR(U74*(F187/I145)^4,0)","v":0},{"$f":"IFERROR(V74*(F187/J145)^4,0)","v":0},{"$f":"IFERROR(W74*(F187/K145)^4,0)","v":0},{"$f":"IFERROR(X74*(F187/L145)^4,0)","v":0},{"$f":"IFERROR(Y74*(F187/G145)^4,0)","v":0},{"$f":"IFERROR(Z74*(F187/H145)^4,0)","v":0},{"$f":"IFERROR(AA74*(F187/I145)^4,0)","v":0},{"$f":"IFERROR(AB74*(F187/J145)^4,0)","v":0},{"$f":"IFERROR(AC74*(F187/K145)^4,0)","v":0},{"$f":"IFERROR(AD74*(F187/L145)^4,0)","v":0},{"$f":"IFERROR(AE74*(F187/G145)^4,0)","v":0},{"$f":"IFERROR(AF74*(F187/H145)^4,0)","v":0},{"$f":"IFERROR(AG74*(F187/I145)^4,0)","v":0},{"$f":"IFERROR(AH74*(F187/J145)^4,0)","v":0},{"$f":"IFERROR(AI74*(F187/K145)^4,0)","v":9.9428839435376418E-5},{"$f":"IFERROR(AJ74*(F187/L145)^4,0)","v":3.2664522346326777E-4},{"$f":"IFERROR(AK74*(F187/G145)^4,0)","v":0},{"$f":"IFERROR(AL74*(F187/H145)^4,0)","v":0},{"$f":"IFERROR(AM74*(F187/I145)^4,0)","v":0},{"$f":"IFERROR(AN74*(F187/J145)^4,0)","v":0},{"$f":"IFERROR(AO74*(F187/K145)^4,0)","v":0},{"$f":"IFERROR(AP74*(F187/L145)^4,0)","v":0},{"$f":"IFERROR(AQ74*(F187/G145)^4,0)","v":0},{"$f":"IFERROR(AR74*(F187/H145)^4,0)","v":0},{"$f":"IFERROR(AS74*(F187/I145)^4,0)","v":0},{"$f":"IFERROR(AT74*(F187/J145)^4,0)","v":0},{"$f":"IFERROR(AU74*(F187/K145)^4,0)","v":0},{"$f":"IFERROR(AV74*(F187/L145)^4,0)","v":0},{"$f":"IFERROR(AW74*(F187/G145)^4,0)","v":0},{"$f":"IFERROR(AX74*(F187/H145)^4,0)","v":0},{"$f":"IFERROR(AY74*(F187/I145)^4,0)","v":0},{"$f":"IFERROR(AZ74*(F187/J145)^4,0)","v":0},{"$f":"IFERROR(BA74*(F187/K145)^4,0)","v":1.9755425071983668E-5},{"$f":"IFERROR(BB74*(F187/L145)^4,0)","v":1.3366066708404069E-4},{"$f":"IFERROR(BC74*(F187/G145)^4,0)","v":0},{"$f":"IFERROR(BD74*(F187/H145)^4,0)","v":0},{"$f":"IFERROR(BE74*(F187/I145)^4,0)","v":0},{"$f":"IFERROR(BF74*(F187/J145)^4,0)","v":0},{"$f":"IFERROR(BG74*(F187/K145)^4,0)","v":1.4814585779254156E-4},{"$f":"IFERROR(BH74*(F187/L145)^4,0)","v":8.0104081447882161E-6},{"$f":"IFERROR(BI74*(F187/G145)^4,0)","v":0},{"$f":"IFERROR(BJ74*(F187/H145)^4,0)","v":0},{"$f":"IFERROR(BK74*(F187/I145)^4,0)","v":0},{"$f":"IFERROR(BL74*(F187/J145)^4,0)","v":0},{"$f":"IFERROR(BM74*(F187/K145)^4,0)","v":1.8458819146008321E-4},{"$f":"IFERROR(BN74*(F187/L145)^4,0)","v":7.5479112605158312E-6},{"$f":"IFERROR(BO74*(F187/G145)^4,0)","v":0},{"$f":"IFERROR(BP74*(F187/H145)^4,0)","v":0},{"$f":"IFERROR(BQ74*(F187/I145)^4,0)","v":0},{"$f":"IFERROR(BR74*(F187/J145)^4,0)","v":0},{"$f":"IFERROR(BS74*(F187/K145)^4,0)","v":2.0680204912550232E-4},{"$f":"IFERROR(BT74*(F187/L145)^4,0)","v":1.3117649325206181E-5},{"$f":"IFERROR(BU74*(F187/G145)^4,0)","v":0},{"$f":"IFERROR(BV74*(F187/H145)^4,0)","v":0},{"$f":"IFERROR(BW74*(F187/I145)^4,0)","v":0},{"$f":"IFERROR(BX74*(F187/J145)^4,0)","v":0},{"$f":"IFERROR(BY74*(F187/K145)^4,0)","v":1.8692710882245933E-4},{"$f":"IFERROR(BZ74*(F187/L145)^4,0)","v":8.3001967410120352E-6}]
[null,null,null,null,null,390,{"$f":"IFERROR(G75*(F188/G145)^4,0)","v":0},{"$f":"IFERROR(H75*(F188/H145)^4,0)","v":0},{"$f":"IFERROR(I75*(F188/I145)^4,0)","v":0},{"$f":"IFERROR(J75*(F188/J145)^4,0)","v":0},{"$f":"IFERROR(K75*(F188/K145)^4,0)","v":0},{"$f":"IFERROR(L75*(F188/L145)^4,0)","v":0},null,null,null,null,null,390,{"$f":"IFERROR(S75*(F188/G145)^4,0)","v":0},{"$f":"IFERROR(T75*(F188/H145)^4,0)","v":0},{"$f":"IFERROR(U75*(F188/I145)^4,0)","v":0},{"$f":"IFERROR(V75*(F188/J145)^4,0)","v":0},{"$f":"IFERROR(W75*(F188/K145)^4,0)","v":0},{"$f":"IFERROR(X75*(F188/L145)^4,0)","v":0},{"$f":"IFERROR(Y75*(F188/G145)^4,0)","v":0},{"$f":"IFERROR(Z75*(F188/H145)^4,0)","v":0},{"$f":"IFERROR(AA75*(F188/I145)^4,0)","v":0},{"$f":"IFERROR(AB75*(F188/J145)^4,0)","v":0},{"$f":"IFERROR(AC75*(F188/K145)^4,0)","v":0},{"$f":"IFERROR(AD75*(F188/L145)^4,0)","v":0},{"$f":"IFERROR(AE75*(F188/G145)^4,0)","v":0},{"$f":"IFERROR(AF75*(F188/H145)^4,0)","v":0},{"$f":"IFERROR(AG75*(F188/I145)^4,0)","v":0},{"$f":"IFERROR(AH75*(F188/J145)^4,0)","v":0},{"$f":"IFERROR(AI75*(F188/K145)^4,0)","v":1.5348239029327692E-4},{"$f":"IFERROR(AJ75*(F188/L145)^4,0)","v":4.7983913834694303E-4},{"$f":"IFERROR(AK75*(F188/G145)^4,0)","v":0},{"$f":"IFERROR(AL75*(F188/H145)^4,0)","v":0},{"$f":"IFERROR(AM75*(F188/I145)^4,0)","v":0},{"$f":"IFERROR(AN75*(F188/J145)^4,0)","v":0},{"$f":"IFERROR(AO75*(F188/K145)^4,0)","v":0},{"$f":"IFERROR(AP75*(F188/L145)^4,0)","v":0},{"$f":"IFERROR(AQ75*(F188/G145)^4,0)","v":0},{"$f":"IFERROR(AR75*(F188/H145)^4,0)","v":0},{"$f":"IFERROR(AS75*(F188/I145)^4,0)","v":0},{"$f":"IFERROR(AT75*(F188/J145)^4,0)","v":0},{"$f":"IFERROR(AU75*(F188/K145)^4,0)","v":0},{"$f":"IFERROR(AV75*(F188/L145)^4,0)","v":0},{"$f":"IFERROR(AW75*(F188/G145)^4,0)","v":0},{"$f":"IFERROR(AX75*(F188/H145)^4,0)","v":0},{"$f":"IFERROR(AY75*(F188/I145)^4,0)","v":0},{"$f":"IFERROR(AZ75*(F188/J145)^4,0)","v":0},{"$f":"IFERROR(BA75*(F188/K145)^4,0)","v":1.3699049586560226E-5},{"$f":"IFERROR(BB75*(F188/L145)^4,0)","v":1.5524674192722923E-4},{"$f":"IFERROR(BC75*(F188/G145)^4,0)","v":0},{"$f":"IFERROR(BD75*(F188/H145)^4,0)","v":0},{"$f":"IFERROR(BE75*(F188/I145)^4,0)","v":0},{"$f":"IFERROR(BF75*(F188/J145)^4,0)","v":0},{"$f":"IFERROR(BG75*(F188/K145)^4,0)","v":1.1498121796131989E-4},{"$f":"IFERROR(BH75*(F188/L145)^4,0)","v":5.5546756389292454E-6},{"$f":"IFERROR(BI75*(F188/G145)^4,0)","v":0},{"$f":"IFERROR(BJ75*(F188/H145)^4,0)","v":0},{"$f":"IFERROR(BK75*(F188/I145)^4,0)","v":0},{"$f":"IFERROR(BL75*(F188/J145)^4,0)","v":0},{"$f":"IFERROR(BM75*(F188/K145)^4,0)","v":1.4770673804984628E-4},{"$f":"IFERROR(BN75*(F188/L145)^4,0)","v":5.2890597390610207E-6},{"$f":"IFERROR(BO75*(F188/G145)^4,0)","v":0},{"$f":"IFERROR(BP75*(F188/H145)^4,0)","v":0},{"$f":"IFERROR(BQ75*(F188/I145)^4,0)","v":0},{"$f":"IFERROR(BR75*(F188/J145)^4,0)","v":0},{"$f":"IFERROR(BS75*(F188/K145)^4,0)","v":1.1000794794964716E-4},{"$f":"IFERROR(BT75*(F188/L145)^4,0)","v":2.6461677295916787E-6},{"$f":"IFERROR(BU75*(F188/G145)^4,0)","v":0},{"$f":"IFERROR(BV75*(F188/H145)^4,0)","v":0},{"$f":"IFERROR(BW75*(F188/I145)^4,0)","v":0},{"$f":"IFERROR(BX75*(F188/J145)^4,0)","v":0},{"$f":"IFERROR(BY75*(F188/K145)^4,0)","v":1.6373215901858339E-4},{"$f":"IFERROR(BZ75*(F188/L145)^4,0)","v":0}]
[null,null,null,null,null,400,{"$f":"IFERROR(G76*(F189/G145)^4,0)","v":0},{"$f":"IFERROR(H76*(F189/H145)^4,0)","v":0},{"$f":"IFERROR(I76*(F189/I145)^4,0)","v":0},{"$f":"IFERROR(J76*(F189/J145)^4,0)","v":0},{"$f":"IFERROR(K76*(F189/K145)^4,0)","v":0},{"$f":"IFERROR(L76*(F189/L145)^4,0)","v":0},null,null,null,null,null,400,{"$f":"IFERROR(S76*(F189/G145)^4,0)","v":0},{"$f":"IFERROR(T76*(F189/H145)^4,0)","v":0},{"$f":"IFERROR(U76*(F189/I145)^4,0)","v":0},{"$f":"IFERROR(V76*(F189/J145)^4,0)","v":0},{"$f":"IFERROR(W76*(F189/K145)^4,0)","v":0},{"$f":"IFERROR(X76*(F189/L145)^4,0)","v":0},{"$f":"IFERROR(Y76*(F189/G145)^4,0)","v":0},{"$f":"IFERROR(Z76*(F189/H145)^4,0)","v":0},{"$f":"IFERROR(AA76*(F189/I145)^4,0)","v":0},{"$f":"IFERROR(AB76*(F189/J145)^4,0)","v":0},{"$f":"IFERROR(AC76*(F189/K145)^4,0)","v":0},{"$f":"IFERROR(AD76*(F189/L145)^4,0)","v":0},{"$f":"IFERROR(AE76*(F189/G145)^4,0)","v":0},{"$f":"IFERROR(AF76*(F189/H145)^4,0)","v":0},{"$f":"IFERROR(AG76*(F189/I145)^4,0)","v":0},{"$f":"IFERROR(AH76*(F189/J145)^4,0)","v":0},{"$f":"IFERROR(AI76*(F189/K145)^4,0)","v":9.0227522897215329E-5},{"$f":"IFERROR(AJ76*(F189/L145)^4,0)","v":5.1753632743293545E-4},{"$f":"IFERROR(AK76*(F189/G145)^4,0)","v":0},{"$f":"IFERROR(AL76*(F189/H145)^4,0)","v":0},{"$f":"IFERROR(AM76*(F189/I145)^4,0)","v":0},{"$f":"IFERROR(AN76*(F189/J145)^4,0)","v":0},{"$f":"IFERROR(AO76*(F189/K145)^4,0)","v":0},{"$f":"IFERROR(AP76*(F189/L145)^4,0)","v":0},{"$f":"IFERROR(AQ76*(F189/G145)^4,0)","v":0},{"$f":"IFERROR(AR76*(F189/H145)^4,0)","v":0},{"$f":"IFERROR(AS76*(F189/I145)^4,0)","v":0},{"$f":"IFERROR(AT76*(F189/J145)^4,0)","v":0},{"$f":"IFERROR(AU76*(F189/K145)^4,0)","v":0},{"$f":"IFERROR(AV76*(F189/L145)^4,0)","v":1.6516638232355632E-6},{"$f":"IFERROR(AW76*(F189/G145)^4,0)","v":0},{"$f":"IFERROR(AX76*(F189/H145)^4,0)","v":0},{"$f":"IFERROR(AY76*(F189/I145)^4,0)","v":0},{"$f":"IFERROR(AZ76*(F189/J145)^4,0)","v":0},{"$f":"IFERROR(BA76*(F189/K145)^4,0)","v":2.1222669485944046E-5},{"$f":"IFERROR(BB76*(F189/L145)^4,0)","v":1.6410023506147523E-4},{"$f":"IFERROR(BC76*(F189/G145)^4,0)","v":0},{"$f":"IFERROR(BD76*(F189/H145)^4,0)","v":0},{"$f":"IFERROR(BE76*(F189/I145)^4,0)","v":0},{"$f":"IFERROR(BF76*(F189/J145)^4,0)","v":0},{"$f":"IFERROR(BG76*(F189/K145)^4,0)","v":1.1305190721873502E-4},{"$f":"IFERROR(BH76*(F189/L145)^4,0)","v":7.5516291141739757E-6},{"$f":"IFERROR(BI76*(F189/G145)^4,0)","v":0},{"$f":"IFERROR(BJ76*(F189/H145)^4,0)","v":0},{"$f":"IFERROR(BK76*(F189/I145)^4,0)","v":0},{"$f":"IFERROR(BL76*(F189/J145)^4,0)","v":0},{"$f":"IFERROR(BM76*(F189/K145)^4,0)","v":1.060678646898711E-4},{"$f":"IFERROR(BN76*(F189/L145)^4,0)","v":3.9018336558676636E-6},{"$f":"IFERROR(BO76*(F189/G145)^4,0)","v":0},{"$f":"IFERROR(BP76*(F189/H145)^4,0)","v":0},{"$f":"IFERROR(BQ76*(F189/I145)^4,0)","v":0},{"$f":"IFERROR(BR76*(F189/J145)^4,0)","v":0},{"$f":"IFERROR(BS76*(F189/K145)^4,0)","v":7.3039341850800654E-5},{"$f":"IFERROR(BT76*(F189/L145)^4,0)","v":4.3922814896217573E-6},{"$f":"IFERROR(BU76*(F189/G145)^4,0)","v":0},{"$f":"IFERROR(BV76*(F189/H145)^4,0)","v":0},{"$f":"IFERROR(BW76*(F189/I145)^4,0)","v":0},{"$f":"IFERROR(BX76*(F189/J145)^4,0)","v":0},{"$f":"IFERROR(BY76*(F189/K145)^4,0)","v":6.0394066254203693E-5},{"$f":"IFERROR(BZ76*(F189/L145)^4,0)","v":5.0952320752677077E-6}]
[null,null,null,null,null,410,{"$f":"IFERROR(G77*(F190/G145)^4,0)","v":0},{"$f":"IFERROR(H77*(F190/H145)^4,0)","v":0},{"$f":"IFERROR(I77*(F190/I145)^4,0)","v":0},{"$f":"IFERROR(J77*(F190/J145)^4,0)","v":0},{"$f":"IFERROR(K77*(F190/K145)^4,0)","v":0},{"$f":"IFERROR(L77*(F190/L145)^4,0)","v":0},null,null,null,null,null,410,{"$f":"IFERROR(S77*(F190/G145)^4,0)","v":0},{"$f":"IFERROR(T77*(F190/H145)^4,0)","v":0},{"$f":"IFERROR(U77*(F190/I145)^4,0)","v":0},{"$f":"IFERROR(V77*(F190/J145)^4,0)","v":0},{"$f":"IFERROR(W77*(F190/K145)^4,0)","v":0},{"$f":"IFERROR(X77*(F190/L145)^4,0)","v":0},{"$f":"IFERROR(Y77*(F190/G145)^4,0)","v":0},{"$f":"IFERROR(Z77*(F190/H145)^4,0)","v":0},{"$f":"IFERROR(AA77*(F190/I145)^4,0)","v":0},{"$f":"IFERROR(AB77*(F190/J145)^4,0)","v":0},{"$f":"IFERROR(AC77*(F190/K145)^4,0)","v":0},{"$f":"IFERROR(AD77*(F190/L145)^4,0)","v":0},{"$f":"IFERROR(AE77*(F190/G145)^4,0)","v":0},{"$f":"IFERROR(AF77*(F190/H145)^4,0)","v":0},{"$f":"IFERROR(AG77*(F190/I145)^4,0)","v":0},{"$f":"IFERROR(AH77*(F190/J145)^4,0)","v":0},{"$f":"IFERROR(AI77*(F190/K145)^4,0)","v":0},{"$f":"IFERROR(AJ77*(F190/L145)^4,0)","v":5.2180324624631212E-4},{"$f":"IFERROR(AK77*(F190/G145)^4,0)","v":0},{"$f":"IFERROR(AL77*(F190/H145)^4,0)","v":0},{"$f":"IFERROR(AM77*(F190/I145)^4,0)","v":0},{"$f":"IFERROR(AN77*(F190/J145)^4,0)","v":0},{"$f":"IFERROR(AO77*(F190/K145)^4,0)","v":0},{"$f":"IFERROR(AP77*(F190/L145)^4,0)","v":0},{"$f":"IFERROR(AQ77*(F190/G145)^4,0)","v":0},{"$f":"IFERROR(AR77*(F190/H145)^4,0)","v":0},{"$f":"IFERROR(AS77*(F190/I145)^4,0)","v":0},{"$f":"IFERROR(AT77*(F190/J145)^4,0)","v":0},{"$f":"IFERROR(AU77*(F190/K145)^4,0)","v":0},{"$f":"IFERROR(AV77*(F190/L145)^4,0)","v":0},{"$f":"IFERROR(AW77*(F190/G145)^4,0)","v":0},{"$f":"IFERROR(AX77*(F190/H145)^4,0)","v":0},{"$f":"IFERROR(AY77*(F190/I145)^4,0)","v":0},{"$f":"IFERROR(AZ77*(F190/J145)^4,0)","v":0},{"$f":"IFERROR(BA77*(F190/K145)^4,0)","v":0},{"$f":"IFERROR(BB77*(F190/L145)^4,0)","v":1.5424858652253072E-4},{"$f":"IFERROR(BC77*(F190/G145)^4,0)","v":0},{"$f":"IFERROR(BD77*(F190/H145)^4,0)","v":0},{"$f":"IFERROR(BE77*(F190/I145)^4,0)","v":0},{"$f":"IFERROR(BF77*(F190/J145)^4,0)","v":0},{"$f":"IFERROR(BG77*(F190/K145)^4,0)","v":0},{"$f":"IFERROR(BH77*(F190/L145)^4,0)","v":6.3970772913409596E-6},{"$f":"IFERROR(BI77*(F190/G145)^4,0)","v":0},{"$f":"IFERROR(BJ77*(F190/H145)^4,0)","v":0},{"$f":"IFERROR(BK77*(F190/I145)^4,0)","v":0},{"$f":"IFERROR(BL77*(F190/J145)^4,0)","v":0},{"$f":"IFERROR(BM77*(F190/K145)^4,0)","v":0},{"$f":"IFERROR(BN77*(F190/L145)^4,0)","v":4.5760751793225205E-6},{"$f":"IFERROR(BO77*(F190/G145)^4,0)","v":0},{"$f":"IFERROR(BP77*(F190/H145)^4,0)","v":0},{"$f":"IFERROR(BQ77*(F190/I145)^4,0)","v":0},{"$f":"IFERROR(BR77*(F190/J145)^4,0)","v":0},{"$f":"IFERROR(BS77*(F190/K145)^4,0)","v":0},{"$f":"IFERROR(BT77*(F190/L145)^4,0)","v":1.6160856424993571E-6},{"$f":"IFERROR(BU77*(F190/G145)^4,0)","v":0},{"$f":"IFERROR(BV77*(F190/H145)^4,0)","v":0},{"$f":"IFERROR(BW77*(F190/I145)^4,0)","v":0},{"$f":"IFERROR(BX77*(F190/J145)^4,0)","v":0},{"$f":"IFERROR(BY77*(F190/K145)^4,0)","v":0},{"$f":"IFERROR(BZ77*(F190/L145)^4,0)","v":0}]
[null,null,null,null,null,420,{"$f":"IFERROR(G78*(F191/G145)^4,0)","v":0},{"$f":"IFERROR(H78*(F191/H145)^4,0)","v":0},{"$f":"IFERROR(I78*(F191/I145)^4,0)","v":0},{"$f":"IFERROR(J78*(F191/J145)^4,0)","v":0},{"$f":"IFERROR(K78*(F191/K145)^4,0)","v":0},{"$f":"IFERROR(L78*(F191/L145)^4,0)","v":0},null,null,null,null,null,420,{"$f":"IFERROR(S78*(F191/G145)^4,0)","v":0},{"$f":"IFERROR(T78*(F191/H145)^4,0)","v":0},{"$f":"IFERROR(U78*(F191/I145)^4,0)","v":0},{"$f":"IFERROR(V78*(F191/J145)^4,0)","v":0},{"$f":"IFERROR(W78*(F191/K145)^4,0)","v":0},{"$f":"IFERROR(X78*(F191/L145)^4,0)","v":0},{"$f":"IFERROR(Y78*(F191/G145)^4,0)","v":0},{"$f":"IFERROR(Z78*(F191/H145)^4,0)","v":0},{"$f":"IFERROR(AA78*(F191/I145)^4,0)","v":0},{"$f":"IFERROR(AB78*(F191/J145)^4,0)","v":0},{"$f":"IFERROR(AC78*(F191/K145)^4,0)","v":0},{"$f":"IFERROR(AD78*(F191/L145)^4,0)","v":0},{"$f":"IFERROR(AE78*(F191/G145)^4,0)","v":0},{"$f":"IFERROR(AF78*(F191/H145)^4,0)","v":0},{"$f":"IFERROR(AG78*(F191/I145)^4,0)","v":0},{"$f":"IFERROR(AH78*(F191/J145)^4,0)","v":0},{"$f":"IFERROR(AI78*(F191/K145)^4,0)","v":0},{"$f":"IFERROR(AJ78*(F191/L145)^4,0)","v":3.3495862681127221E-4},{"$f":"IFERROR(AK78*(F191/G145)^4,0)","v":0},{"$f":"IFERROR(AL78*(F191/H145)^4,0)","v":0},{"$f":"IFERROR(AM78*(F191/I145)^4,0)","v":0},{"$f":"IFERROR(AN78*(F191/J145)^4,0)","v":0},{"$f":"IFERROR(AO78*(F191/K145)^4,0)","v":0},{"$f":"IFERROR(AP78*(F191/L145)^4,0)","v":0},{"$f":"IFERROR(AQ78*(F191/G145)^4,0)","v":0},{"$f":"IFERROR(AR78*(F191/H145)^4,0)","v":0},{"$f":"IFERROR(AS78*(F191/I145)^4,0)","v":0},{"$f":"IFERROR(AT78*(F191/J145)^4,0)","v":0},{"$f":"IFERROR(AU78*(F191/K145)^4,0)","v":0},{"$f":"IFERROR(AV78*(F191/L145)^4,0)","v":0},{"$f":"IFERROR(AW78*(F191/G145)^4,0)","v":0},{"$f":"IFERROR(AX78*(F191/H145)^4,0)","v":0},{"$f":"IFERROR(AY78*(F191/I145)^4,0)","v":0},{"$f":"IFERROR(AZ78*(F191/J145)^4,0)","v":0},{"$f":"IFERROR(BA78*(F191/K145)^4,0)","v":0},{"$f":"IFERROR(BB78*(F191/L145)^4,0)","v":1.1999058065206488E-4},{"$f":"IFERROR(BC78*(F191/G145)^4,0)","v":0},{"$f":"IFERROR(BD78*(F191/H145)^4,0)","v":0},{"$f":"IFERROR(BE78*(F191/I145)^4,0)","v":0},{"$f":"IFERROR(BF78*(F191/J145)^4,0)","v":0},{"$f":"IFERROR(BG78*(F191/K145)^4,0)","v":0},{"$f":"IFERROR(BH78*(F191/L145)^4,0)","v":3.4154613529155085E-6},{"$f":"IFERROR(BI78*(F191/G145)^4,0)","v":0},{"$f":"IFERROR(BJ78*(F191/H145)^4,0)","v":0},{"$f":"IFERROR(BK78*(F191/I145)^4,0)","v":0},{"$f":"IFERROR(BL78*(F191/J145)^4,0)","v":0},{"$f":"IFERROR(BM78*(F191/K145)^4,0)","v":0},{"$f":"IFERROR(BN78*(F191/L145)^4,0)","v":3.2606084466776519E-6},{"$f":"IFERROR(BO78*(F191/G145)^4,0)","v":0},{"$f":"IFERROR(BP78*(F191/H145)^4,0)","v":0},{"$f":"IFERROR(BQ78*(F191/I145)^4,0)","v":0},{"$f":"IFERROR(BR78*(F191/J145)^4,0)","v":0},{"$f":"IFERROR(BS78*(F191/K145)^4,0)","v":0},{"$f":"IFERROR(BT78*(F191/L145)^4,0)","v":0},{"$f":"IFERROR(BU78*(F191/G145)^4,0)","v":0},{"$f":"IFERROR(BV78*(F191/H145)^4,0)","v":0},{"$f":"IFERROR(BW78*(F191/I145)^4,0)","v":0},{"$f":"IFERROR(BX78*(F191/J145)^4,0)","v":0},{"$f":"IFERROR(BY78*(F191/K145)^4,0)","v":0},{"$f":"IFERROR(BZ78*(F191/L145)^4,0)","v":6.193286432688368E-6}]
[null,null,null,null,null,430,{"$f":"IFERROR(G79*(F192/G145)^4,0)","v":0},{"$f":"IFERROR(H79*(F192/H145)^4,0)","v":0},{"$f":"IFERROR(I79*(F192/I145)^4,0)","v":0},{"$f":"IFERROR(J79*(F192/J145)^4,0)","v":0},{"$f":"IFERROR(K79*(F192/K145)^4,0)","v":0},{"$f":"IFERROR(L79*(F192/L145)^4,0)","v":0},null,null,null,null,null,430,{"$f":"IFERROR(S79*(F192/G145)^4,0)","v":0},{"$f":"IFERROR(T79*(F192/H145)^4,0)","v":0},{"$f":"IFERROR(U79*(F192/I145)^4,0)","v":0},{"$f":"IFERROR(V79*(F192/J145)^4,0)","v":0},{"$f":"IFERROR(W79*(F192/K145)^4,0)","v":0},{"$f":"IFERROR(X79*(F192/L145)^4,0)","v":0},{"$f":"IFERROR(Y79*(F192/G145)^4,0)","v":0},{"$f":"IFERROR(Z79*(F192/H145)^4,0)","v":0},{"$f":"IFERROR(AA79*(F192/I145)^4,0)","v":0},{"$f":"IFERROR(AB79*(F192/J145)^4,0)","v":0},{"$f":"IFERROR(AC79*(F192/K145)^4,0)","v":0},{"$f":"IFERROR(AD79*(F192/L145)^4,0)","v":0},{"$f":"IFERROR(AE79*(F192/G145)^4,0)","v":0},{"$f":"IFERROR(AF79*(F192/H145)^4,0)","v":0},{"$f":"IFERROR(AG79*(F192/I145)^4,0)","v":0},{"$f":"IFERROR(AH79*(F192/J145)^4,0)","v":0},{"$f":"IFERROR(AI79*(F192/K145)^4,0)","v":0},{"$f":"IFERROR(AJ79*(F192/L145)^4,0)","v":2.9920077681345493E-4},{"$f":"IFERROR(AK79*(F192/G145)^4,0)","v":0},{"$f":"IFERROR(AL79*(F192/H145)^4,0)","v":0},{"$f":"IFERROR(AM79*(F192/I145)^4,0)","v":0},{"$f":"IFERROR(AN79*(F192/J145)^4,0)","v":0},{"$f":"IFERROR(AO79*(F192/K145)^4,0)","v":0},{"$f":"IFERROR(AP79*(F192/L145)^4,0)","v":0},{"$f":"IFERROR(AQ79*(F192/G145)^4,0)","v":0},{"$f":"IFERROR(AR79*(F192/H145)^4,0)","v":0},{"$f":"IFERROR(AS79*(F192/I145)^4,0)","v":0},{"$f":"IFERROR(AT79*(F192/J145)^4,0)","v":0},{"$f":"IFERROR(AU79*(F192/K145)^4,0)","v":0},{"$f":"IFERROR(AV79*(F192/L145)^4,0)","v":0},{"$f":"IFERROR(AW79*(F192/G145)^4,0)","v":0},{"$f":"IFERROR(AX79*(F192/H145)^4,0)","v":0},{"$f":"IFERROR(AY79*(F192/I145)^4,0)","v":0},{"$f":"IFERROR(AZ79*(F192/J145)^4,0)","v":0},{"$f":"IFERROR(BA79*(F192/K145)^4,0)","v":0},{"$f":"IFERROR(BB79*(F192/L145)^4,0)","v":8.560578120855812E-5},{"$f":"IFERROR(BC79*(F192/G145)^4,0)","v":0},{"$f":"IFERROR(BD79*(F192/H145)^4,0)","v":0},{"$f":"IFERROR(BE79*(F192/I145)^4,0)","v":0},{"$f":"IFERROR(BF79*(F192/J145)^4,0)","v":0},{"$f":"IFERROR(BG79*(F192/K145)^4,0)","v":0},{"$f":"IFERROR(BH79*(F192/L145)^4,0)","v":3.5180119686365057E-6},{"$f":"IFERROR(BI79*(F192/G145)^4,0)","v":0},{"$f":"IFERROR(BJ79*(F192/H145)^4,0)","v":0},{"$f":"IFERROR(BK79*(F192/I145)^4,0)","v":0},{"$f":"IFERROR(BL79*(F192/J145)^4,0)","v":0},{"$f":"IFERROR(BM79*(F192/K145)^4,0)","v":0},{"$f":"IFERROR(BN79*(F192/L145)^4,0)","v":1.9540419147237338E-6},{"$f":"IFERROR(BO79*(F192/G145)^4,0)","v":0},{"$f":"IFERROR(BP79*(F192/H145)^4,0)","v":0},{"$f":"IFERROR(BQ79*(F192/I145)^4,0)","v":0},{"$f":"IFERROR(BR79*(F192/J145)^4,0)","v":0},{"$f":"IFERROR(BS79*(F192/K145)^4,0)","v":0},{"$f":"IFERROR(BT79*(F192/L145)^4,0)","v":1.9552521287760877E-6},{"$f":"IFERROR(BU79*(F192/G145)^4,0)","v":0},{"$f":"IFERROR(BV79*(F192/H145)^4,0)","v":0},{"$f":"IFERROR(BW79*(F192/I145)^4,0)","v":0},{"$f":"IFERROR(BX79*(F192/J145)^4,0)","v":0},{"$f":"IFERROR(BY79*(F192/K145)^4,0)","v":0},{"$f":"IFERROR(BZ79*(F192/L145)^4,0)","v":6.8045252008427001E-6}]
[null,null,null,null,null,440,{"$f":"IFERROR(G80*(F193/G145)^4,0)","v":0},{"$f":"IFERROR(H80*(F193/H145)^4,0)","v":0},{"$f":"IFERROR(I80*(F193/I145)^4,0)","v":0},{"$f":"IFERROR(J80*(F193/J145)^4,0)","v":0},{"$f":"IFERROR(K80*(F193/K145)^4,0)","v":0},{"$f":"IFERROR(L80*(F193/L145)^4,0)","v":0},null,null,null,null,null,440,{"$f":"IFERROR(S80*(F193/G145)^4,0)","v":0},{"$f":"IFERROR(T80*(F193/H145)^4,0)","v":0},{"$f":"IFERROR(U80*(F193/I145)^4,0)","v":0},{"$f":"IFERROR(V80*(F193/J145)^4,0)","v":0},{"$f":"IFERROR(W80*(F193/K145)^4,0)","v":0},{"$f":"IFERROR(X80*(F193/L145)^4,0)","v":0},{"$f":"IFERROR(Y80*(F193/G145)^4,0)","v":0},{"$f":"IFERROR(Z80*(F193/H145)^4,0)","v":0},{"$f":"IFERROR(AA80*(F193/I145)^4,0)","v":0},{"$f":"IFERROR(AB80*(F193/J145)^4,0)","v":0},{"$f":"IFERROR(AC80*(F193/K145)^4,0)","v":0},{"$f":"IFERROR(AD80*(F193/L145)^4,0)","v":0},{"$f":"IFERROR(AE80*(F193/G145)^4,0)","v":0},{"$f":"IFERROR(AF80*(F193/H145)^4,0)","v":0},{"$f":"IFERROR(AG80*(F193/I145)^4,0)","v":0},{"$f":"IFERROR(AH80*(F193/J145)^4,0)","v":0},{"$f":"IFERROR(AI80*(F193/K145)^4,0)","v":0},{"$f":"IFERROR(AJ80*(F193/L145)^4,0)","v":1.574493375573113E-4},{"$f":"IFERROR(AK80*(F193/G145)^4,0)","v":0},{"$f":"IFERROR(AL80*(F193/H145)^4,0)","v":0},{"$f":"IFERROR(AM80*(F193/I145)^4,0)","v":0},{"$f":"IFERROR(AN80*(F193/J145)^4,0)","v":0},{"$f":"IFERROR(AO80*(F193/K145)^4,0)","v":0},{"$f":"IFERROR(AP80*(F193/L145)^4,0)","v":0},{"$f":"IFERROR(AQ80*(F193/G145)^4,0)","v":0},{"$f":"IFERROR(AR80*(F193/H145)^4,0)","v":0},{"$f":"IFERROR(AS80*(F193/I145)^4,0)","v":0},{"$f":"IFERROR(AT80*(F193/J145)^4,0)","v":0},{"$f":"IFERROR(AU80*(F193/K145)^4,0)","v":0},{"$f":"IFERROR(AV80*(F193/L145)^4,0)","v":0},{"$f":"IFERROR(AW80*(F193/G145)^4,0)","v":0},{"$f":"IFERROR(AX80*(F193/H145)^4,0)","v":0},{"$f":"IFERROR(AY80*(F193/I145)^4,0)","v":0},{"$f":"IFERROR(AZ80*(F193/J145)^4,0)","v":0},{"$f":"IFERROR(BA80*(F193/K145)^4,0)","v":0},{"$f":"IFERROR(BB80*(F193/L145)^4,0)","v":3.3786443552836758E-5},{"$f":"IFERROR(BC80*(F193/G145)^4,0)","v":0},{"$f":"IFERROR(BD80*(F193/H145)^4,0)","v":0},{"$f":"IFERROR(BE80*(F193/I145)^4,0)","v":0},{"$f":"IFERROR(BF80*(F193/J145)^4,0)","v":0},{"$f":"IFERROR(BG80*(F193/K145)^4,0)","v":0},{"$f":"IFERROR(BH80*(F193/L145)^4,0)","v":3.5997386652295256E-6},{"$f":"IFERROR(BI80*(F193/G145)^4,0)","v":0},{"$f":"IFERROR(BJ80*(F193/H145)^4,0)","v":0},{"$f":"IFERROR(BK80*(F193/I145)^4,0)","v":0},{"$f":"IFERROR(BL80*(F193/J145)^4,0)","v":0},{"$f":"IFERROR(BM80*(F193/K145)^4,0)","v":0},{"$f":"IFERROR(BN80*(F193/L145)^4,0)","v":3.2133794937501629E-6},{"$f":"IFERROR(BO80*(F193/G145)^4,0)","v":0},{"$f":"IFERROR(BP80*(F193/H145)^4,0)","v":0},{"$f":"IFERROR(BQ80*(F193/I145)^4,0)","v":0},{"$f":"IFERROR(BR80*(F193/J145)^4,0)","v":0},{"$f":"IFERROR(BS80*(F193/K145)^4,0)","v":0},{"$f":"IFERROR(BT80*(F193/L145)^4,0)","v":0},{"$f":"IFERROR(BU80*(F193/G145)^4,0)","v":0},{"$f":"IFERROR(BV80*(F193/H145)^4,0)","v":0},{"$f":"IFERROR(BW80*(F193/I145)^4,0)","v":0},{"$f":"IFERROR(BX80*(F193/J145)^4,0)","v":0},{"$f":"IFERROR(BY80*(F193/K145)^4,0)","v":0},{"$f":"IFERROR(BZ80*(F193/L145)^4,0)","v":0}]
[null,null,null,null,null,450,{"$f":"IFERROR(G81*(F194/G145)^4,0)","v":0},{"$f":"IFERROR(H81*(F194/H145)^4,0)","v":0},{"$f":"IFERROR(I81*(F194/I145)^4,0)","v":0},{"$f":"IFERROR(J81*(F194/J145)^4,0)","v":0},{"$f":"IFERROR(K81*(F194/K145)^4,0)","v":0},{"$f":"IFERROR(L81*(F194/L145)^4,0)","v":0},null,null,null,null,null,450,{"$f":"IFERROR(S81*(F194/G145)^4,0)","v":0},{"$f":"IFERROR(T81*(F194/H145)^4,0)","v":0},{"$f":"IFERROR(U81*(F194/I145)^4,0)","v":0},{"$f":"IFERROR(V81*(F194/J145)^4,0)","v":0},{"$f":"IFERROR(W81*(F194/K145)^4,0)","v":0},{"$f":"IFERROR(X81*(F194/L145)^4,0)","v":0},{"$f":"IFERROR(Y81*(F194/G145)^4,0)","v":0},{"$f":"IFERROR(Z81*(F194/H145)^4,0)","v":0},{"$f":"IFERROR(AA81*(F194/I145)^4,0)","v":0},{"$f":"IFERROR(AB81*(F194/J145)^4,0)","v":0},{"$f":"IFERROR(AC81*(F194/K145)^4,0)","v":0},{"$f":"IFERROR(AD81*(F194/L145)^4,0)","v":1.0685085457271469E-6},{"$f":"IFERROR(AE81*(F194/G145)^4,0)","v":0},{"$f":"IFERROR(AF81*(F194/H145)^4,0)","v":0},{"$f":"IFERROR(AG81*(F194/I145)^4,0)","v":0},{"$f":"IFERROR(AH81*(F194/J145)^4,0)","v":0},{"$f":"IFERROR(AI81*(F194/K145)^4,0)","v":0},{"$f":"IFERROR(AJ81*(F194/L145)^4,0)","v":1.2919373392936368E-4},{"$f":"IFERROR(AK81*(F194/G145)^4,0)","v":0},{"$f":"IFERROR(AL81*(F194/H145)^4,0)","v":0},{"$f":"IFERROR(AM81*(F194/I145)^4,0)","v":0},{"$f":"IFERROR(AN81*(F194/J145)^4,0)","v":0},{"$f":"IFERROR(AO81*(F194/K145)^4,0)","v":0},{"$f":"IFERROR(AP81*(F194/L145)^4,0)","v":0},{"$f":"IFERROR(AQ81*(F194/G145)^4,0)","v":0},{"$f":"IFERROR(AR81*(F194/H145)^4,0)","v":0},{"$f":"IFERROR(AS81*(F194/I145)^4,0)","v":0},{"$f":"IFERROR(AT81*(F194/J145)^4,0)","v":0},{"$f":"IFERROR(AU81*(F194/K145)^4,0)","v":0},{"$f":"IFERROR(AV81*(F194/L145)^4,0)","v":0},{"$f":"IFERROR(AW81*(F194/G145)^4,0)","v":0},{"$f":"IFERROR(AX81*(F194/H145)^4,0)","v":0},{"$f":"IFERROR(AY81*(F194/I145)^4,0)","v":0},{"$f":"IFERROR(AZ81*(F194/J145)^4,0)","v":0},{"$f":"IFERROR(BA81*(F194/K145)^4,0)","v":0},{"$f":"IFERROR(BB81*(F194/L145)^4,0)","v":4.5178520449149048E-5},{"$f":"IFERROR(BC81*(F194/G145)^4,0)","v":0},{"$f":"IFERROR(BD81*(F194/H145)^4,0)","v":0},{"$f":"IFERROR(BE81*(F194/I145)^4,0)","v":0},{"$f":"IFERROR(BF81*(F194/J145)^4,0)","v":0},{"$f":"IFERROR(BG81*(F194/K145)^4,0)","v":0},{"$f":"IFERROR(BH81*(F194/L145)^4,0)","v":3.0943894485774544E-6},{"$f":"IFERROR(BI81*(F194/G145)^4,0)","v":0},{"$f":"IFERROR(BJ81*(F194/H145)^4,0)","v":0},{"$f":"IFERROR(BK81*(F194/I145)^4,0)","v":0},{"$f":"IFERROR(BL81*(F194/J145)^4,0)","v":0},{"$f":"IFERROR(BM81*(F194/K145)^4,0)","v":0},{"$f":"IFERROR(BN81*(F194/L145)^4,0)","v":1.9531197064321694E-6},{"$f":"IFERROR(BO81*(F194/G145)^4,0)","v":0},{"$f":"IFERROR(BP81*(F194/H145)^4,0)","v":0},{"$f":"IFERROR(BQ81*(F194/I145)^4,0)","v":0},{"$f":"IFERROR(BR81*(F194/J145)^4,0)","v":0},{"$f":"IFERROR(BS81*(F194/K145)^4,0)","v":0},{"$f":"IFERROR(BT81*(F194/L145)^4,0)","v":2.3451952191901324E-6},{"$f":"IFERROR(BU81*(F194/G145)^4,0)","v":0},{"$f":"IFERROR(BV81*(F194/H145)^4,0)","v":0},{"$f":"IFERROR(BW81*(F194/I145)^4,0)","v":0},{"$f":"IFERROR(BX81*(F194/J145)^4,0)","v":0},{"$f":"IFERROR(BY81*(F194/K145)^4,0)","v":0},{"$f":"IFERROR(BZ81*(F194/L145)^4,0)","v":0}]
[null,null,null,null,null,460,{"$f":"IFERROR(G82*(F195/G145)^4,0)","v":0},{"$f":"IFERROR(H82*(F195/H145)^4,0)","v":0},{"$f":"IFERROR(I82*(F195/I145)^4,0)","v":0},{"$f":"IFERROR(J82*(F195/J145)^4,0)","v":0},{"$f":"IFERROR(K82*(F195/K145)^4,0)","v":0},{"$f":"IFERROR(L82*(F195/L145)^4,0)","v":0},null,null,null,null,null,460,{"$f":"IFERROR(S82*(F195/G145)^4,0)","v":0},{"$f":"IFERROR(T82*(F195/H145)^4,0)","v":0},{"$f":"IFERROR(U82*(F195/I145)^4,0)","v":0},{"$f":"IFERROR(V82*(F195/J145)^4,0)","v":0},{"$f":"IFERROR(W82*(F195/K145)^4,0)","v":0},{"$f":"IFERROR(X82*(F195/L145)^4,0)","v":0},{"$f":"IFERROR(Y82*(F195/G145)^4,0)","v":0},{"$f":"IFERROR(Z82*(F195/H145)^4,0)","v":0},{"$f":"IFERROR(AA82*(F195/I145)^4,0)","v":0},{"$f":"IFERROR(AB82*(F195/J145)^4,0)","v":0},{"$f":"IFERROR(AC82*(F195/K145)^4,0)","v":0},{"$f":"IFERROR(AD82*(F195/L145)^4,0)","v":0},{"$f":"IFERROR(AE82*(F195/G145)^4,0)","v":0},{"$f":"IFERROR(AF82*(F195/H145)^4,0)","v":0},{"$f":"IFERROR(AG82*(F195/I145)^4,0)","v":0},{"$f":"IFERROR(AH82*(F195/J145)^4,0)","v":0},{"$f":"IFERROR(AI82*(F195/K145)^4,0)","v":0},{"$f":"IFERROR(AJ82*(F195/L145)^4,0)","v":9.0125576794336613E-5},{"$f":"IFERROR(AK82*(F195/G145)^4,0)","v":0},{"$f":"IFERROR(AL82*(F195/H145)^4,0)","v":0},{"$f":"IFERROR(AM82*(F195/I145)^4,0)","v":0},{"$f":"IFERROR(AN82*(F195/J145)^4,0)","v":0},{"$f":"IFERROR(AO82*(F195/K145)^4,0)","v":0},{"$f":"IFERROR(AP82*(F195/L145)^4,0)","v":0},{"$f":"IFERROR(AQ82*(F195/G145)^4,0)","v":0},{"$f":"IFERROR(AR82*(F195/H145)^4,0)","v":0},{"$f":"IFERROR(AS82*(F195/I145)^4,0)","v":0},{"$f":"IFERROR(AT82*(F195/J145)^4,0)","v":0},{"$f":"IFERROR(AU82*(F195/K145)^4,0)","v":0},{"$f":"IFERROR(AV82*(F195/L145)^4,0)","v":0},{"$f":"IFERROR(AW82*(F195/G145)^4,0)","v":0},{"$f":"IFERROR(AX82*(F195/H145)^4,0)","v":0},{"$f":"IFERROR(AY82*(F195/I145)^4,0)","v":0},{"$f":"IFERROR(AZ82*(F195/J145)^4,0)","v":0},{"$f":"IFERROR(BA82*(F195/K145)^4,0)","v":0},{"$f":"IFERROR(BB82*(F195/L145)^4,0)","v":2.0180554927663303E-5},{"$f":"IFERROR(BC82*(F195/G145)^4,0)","v":0},{"$f":"IFERROR(BD82*(F195/H145)^4,0)","v":0},{"$f":"IFERROR(BE82*(F195/I145)^4,0)","v":0},{"$f":"IFERROR(BF82*(F195/J145)^4,0)","v":0},{"$f":"IFERROR(BG82*(F195/K145)^4,0)","v":0},{"$f":"IFERROR(BH82*(F195/L145)^4,0)","v":2.457273770859952E-6},{"$f":"IFERROR(BI82*(F195/G145)^4,0)","v":0},{"$f":"IFERROR(BJ82*(F195/H145)^4,0)","v":0},{"$f":"IFERROR(BK82*(F195/I145)^4,0)","v":0},{"$f":"IFERROR(BL82*(F195/J145)^4,0)","v":0},{"$f":"IFERROR(BM82*(F195/K145)^4,0)","v":0},{"$f":"IFERROR(BN82*(F195/L145)^4,0)","v":2.9856450096256392E-6},{"$f":"IFERROR(BO82*(F195/G145)^4,0)","v":0},{"$f":"IFERROR(BP82*(F195/H145)^4,0)","v":0},{"$f":"IFERROR(BQ82*(F195/I145)^4,0)","v":0},{"$f":"IFERROR(BR82*(F195/J145)^4,0)","v":0},{"$f":"IFERROR(BS82*(F195/K145)^4,0)","v":0},{"$f":"IFERROR(BT82*(F195/L145)^4,0)","v":2.5607092590359203E-6},{"$f":"IFERROR(BU82*(F195/G145)^4,0)","v":0},{"$f":"IFERROR(BV82*(F195/H145)^4,0)","v":0},{"$f":"IFERROR(BW82*(F195/I145)^4,0)","v":0},{"$f":"IFERROR(BX82*(F195/J145)^4,0)","v":0},{"$f":"IFERROR(BY82*(F195/K145)^4,0)","v":0},{"$f":"IFERROR(BZ82*(F195/L145)^4,0)","v":0}]
[null,null,null,null,null,470,{"$f":"IFERROR(G83*(F196/G145)^4,0)","v":0},{"$f":"IFERROR(H83*(F196/H145)^4,0)","v":0},{"$f":"IFERROR(I83*(F196/I145)^4,0)","v":0},{"$f":"IFERROR(J83*(F196/J145)^4,0)","v":0},{"$f":"IFERROR(K83*(F196/K145)^4,0)","v":0},{"$f":"IFERROR(L83*(F196/L145)^4,0)","v":0},null,null,null,null,null,470,{"$f":"IFERROR(S83*(F196/G145)^4,0)","v":0},{"$f":"IFERROR(T83*(F196/H145)^4,0)","v":0},{"$f":"IFERROR(U83*(F196/I145)^4,0)","v":0},{"$f":"IFERROR(V83*(F196/J145)^4,0)","v":0},{"$f":"IFERROR(W83*(F196/K145)^4,0)","v":0},{"$f":"IFERROR(X83*(F196/L145)^4,0)","v":0},{"$f":"IFERROR(Y83*(F196/G145)^4,0)","v":0},{"$f":"IFERROR(Z83*(F196/H145)^4,0)","v":0},{"$f":"IFERROR(AA83*(F196/I145)^4,0)","v":0},{"$f":"IFERROR(AB83*(F196/J145)^4,0)","v":0},{"$f":"IFERROR(AC83*(F196/K145)^4,0)","v":0},{"$f":"IFERROR(AD83*(F196/L145)^4,0)","v":0},{"$f":"IFERROR(AE83*(F196/G145)^4,0)","v":0},{"$f":"IFERROR(AF83*(F196/H145)^4,0)","v":0},{"$f":"IFERROR(AG83*(F196/I145)^4,0)","v":0},{"$f":"IFERROR(AH83*(F196/J145)^4,0)","v":0},{"$f":"IFERROR(AI83*(F196/K145)^4,0)","v":0},{"$f":"IFERROR(AJ83*(F196/L145)^4,0)","v":8.5410314657206212E-5},{"$f":"IFERROR(AK83*(F196/G145)^4,0)","v":0},{"$f":"IFERROR(AL83*(F196/H145)^4,0)","v":0},{"$f":"IFERROR(AM83*(F196/I145)^4,0)","v":0},{"$f":"IFERROR(AN83*(F196/J145)^4,0)","v":0},{"$f":"IFERROR(AO83*(F196/K145)^4,0)","v":0},{"$f":"IFERROR(AP83*(F196/L145)^4,0)","v":0},{"$f":"IFERROR(AQ83*(F196/G145)^4,0)","v":0},{"$f":"IFERROR(AR83*(F196/H145)^4,0)","v":0},{"$f":"IFERROR(AS83*(F196/I145)^4,0)","v":0},{"$f":"IFERROR(AT83*(F196/J145)^4,0)","v":0},{"$f":"IFERROR(AU83*(F196/K145)^4,0)","v":0},{"$f":"IFERROR(AV83*(F196/L145)^4,0)","v":0},{"$f":"IFERROR(AW83*(F196/G145)^4,0)","v":0},{"$f":"IFERROR(AX83*(F196/H145)^4,0)","v":0},{"$f":"IFERROR(AY83*(F196/I145)^4,0)","v":0},{"$f":"IFERROR(AZ83*(F196/J145)^4,0)","v":0},{"$f":"IFERROR(BA83*(F196/K145)^4,0)","v":0},{"$f":"IFERROR(BB83*(F196/L145)^4,0)","v":2.6880873994064811E-5},{"$f":"IFERROR(BC83*(F196/G145)^4,0)","v":0},{"$f":"IFERROR(BD83*(F196/H145)^4,0)","v":0},{"$f":"IFERROR(BE83*(F196/I145)^4,0)","v":0},{"$f":"IFERROR(BF83*(F196/J145)^4,0)","v":0},{"$f":"IFERROR(BG83*(F196/K145)^4,0)","v":0},{"$f":"IFERROR(BH83*(F196/L145)^4,0)","v":2.3432666038551142E-6},{"$f":"IFERROR(BI83*(F196/G145)^4,0)","v":0},{"$f":"IFERROR(BJ83*(F196/H145)^4,0)","v":0},{"$f":"IFERROR(BK83*(F196/I145)^4,0)","v":0},{"$f":"IFERROR(BL83*(F196/J145)^4,0)","v":0},{"$f":"IFERROR(BM83*(F196/K145)^4,0)","v":0},{"$f":"IFERROR(BN83*(F196/L145)^4,0)","v":2.3241825629514122E-6},{"$f":"IFERROR(BO83*(F196/G145)^4,0)","v":0},{"$f":"IFERROR(BP83*(F196/H145)^4,0)","v":0},{"$f":"IFERROR(BQ83*(F196/I145)^4,0)","v":0},{"$f":"IFERROR(BR83*(F196/J145)^4,0)","v":0},{"$f":"IFERROR(BS83*(F196/K145)^4,0)","v":0},{"$f":"IFERROR(BT83*(F196/L145)^4,0)","v":0},{"$f":"IFERROR(BU83*(F196/G145)^4,0)","v":0},{"$f":"IFERROR(BV83*(F196/H145)^4,0)","v":0},{"$f":"IFERROR(BW83*(F196/I145)^4,0)","v":0},{"$f":"IFERROR(BX83*(F196/J145)^4,0)","v":0},{"$f":"IFERROR(BY83*(F196/K145)^4,0)","v":0},{"$f":"IFERROR(BZ83*(F196/L145)^4,0)","v":0}]
[null,null,null,null,null,480,{"$f":"IFERROR(G84*(F197/G145)^4,0)","v":0},{"$f":"IFERROR(H84*(F197/H145)^4,0)","v":0},{"$f":"IFERROR(I84*(F197/I145)^4,0)","v":0},{"$f":"IFERROR(J84*(F197/J145)^4,0)","v":0},{"$f":"IFERROR(K84*(F197/K145)^4,0)","v":0},{"$f":"IFERROR(L84*(F197/L145)^4,0)","v":0},null,null,null,null,null,480,{"$f":"IFERROR(S84*(F197/G145)^4,0)","v":0},{"$f":"IFERROR(T84*(F197/H145)^4,0)","v":0},{"$f":"IFERROR(U84*(F197/I145)^4,0)","v":0},{"$f":"IFERROR(V84*(F197/J145)^4,0)","v":0},{"$f":"IFERROR(W84*(F197/K145)^4,0)","v":0},{"$f":"IFERROR(X84*(F197/L145)^4,0)","v":0},{"$f":"IFERROR(Y84*(F197/G145)^4,0)","v":0},{"$f":"IFERROR(Z84*(F197/H145)^4,0)","v":0},{"$f":"IFERROR(AA84*(F197/I145)^4,0)","v":0},{"$f":"IFERROR(AB84*(F197/J145)^4,0)","v":0},{"$f":"IFERROR(AC84*(F197/K145)^4,0)","v":0},{"$f":"IFERROR(AD84*(F197/L145)^4,0)","v":0},{"$f":"IFERROR(AE84*(F197/G145)^4,0)","v":0},{"$f":"IFERROR(AF84*(F197/H145)^4,0)","v":0},{"$f":"IFERROR(AG84*(F197/I145)^4,0)","v":0},{"$f":"IFERROR(AH84*(F197/J145)^4,0)","v":0},{"$f":"IFERROR(AI84*(F197/K145)^4,0)","v":0},{"$f":"IFERROR(AJ84*(F197/L145)^4,0)","v":8.8268845206639706E-5},{"$f":"IFERROR(AK84*(F197/G145)^4,0)","v":0},{"$f":"IFERROR(AL84*(F197/H145)^4,0)","v":0},{"$f":"IFERROR(AM84*(F197/I145)^4,0)","v":0},{"$f":"IFERROR(AN84*(F197/J145)^4,0)","v":0},{"$f":"IFERROR(AO84*(F197/K145)^4,0)","v":0},{"$f":"IFERROR(AP84*(F197/L145)^4,0)","v":0},{"$f":"IFERROR(AQ84*(F197/G145)^4,0)","v":0},{"$f":"IFERROR(AR84*(F197/H145)^4,0)","v":0},{"$f":"IFERROR(AS84*(F197/I145)^4,0)","v":0},{"$f":"IFERROR(AT84*(F197/J145)^4,0)","v":0},{"$f":"IFERROR(AU84*(F197/K145)^4,0)","v":0},{"$f":"IFERROR(AV84*(F197/L145)^4,0)","v":0},{"$f":"IFERROR(AW84*(F197/G145)^4,0)","v":0},{"$f":"IFERROR(AX84*(F197/H145)^4,0)","v":0},{"$f":"IFERROR(AY84*(F197/I145)^4,0)","v":0},{"$f":"IFERROR(AZ84*(F197/J145)^4,0)","v":0},{"$f":"IFERROR(BA84*(F197/K145)^4,0)","v":0},{"$f":"IFERROR(BB84*(F197/L145)^4,0)","v":2.3925814271963098E-5},{"$f":"IFERROR(BC84*(F197/G145)^4,0)","v":0},{"$f":"IFERROR(BD84*(F197/H145)^4,0)","v":0},{"$f":"IFERROR(BE84*(F197/I145)^4,0)","v":0},{"$f":"IFERROR(BF84*(F197/J145)^4,0)","v":0},{"$f":"IFERROR(BG84*(F197/K145)^4,0)","v":0},{"$f":"IFERROR(BH84*(F197/L145)^4,0)","v":3.641641425849107E-7},{"$f":"IFERROR(BI84*(F197/G145)^4,0)","v":0},{"$f":"IFERROR(BJ84*(F197/H145)^4,0)","v":0},{"$f":"IFERROR(BK84*(F197/I145)^4,0)","v":0},{"$f":"IFERROR(BL84*(F197/J145)^4,0)","v":0},{"$f":"IFERROR(BM84*(F197/K145)^4,0)","v":0},{"$f":"IFERROR(BN84*(F197/L145)^4,0)","v":5.0567764180044929E-7},{"$f":"IFERROR(BO84*(F197/G145)^4,0)","v":0},{"$f":"IFERROR(BP84*(F197/H145)^4,0)","v":0},{"$f":"IFERROR(BQ84*(F197/I145)^4,0)","v":0},{"$f":"IFERROR(BR84*(F197/J145)^4,0)","v":0},{"$f":"IFERROR(BS84*(F197/K145)^4,0)","v":0},{"$f":"IFERROR(BT84*(F197/L145)^4,0)","v":6.0718899312531191E-6},{"$f":"IFERROR(BU84*(F197/G145)^4,0)","v":0},{"$f":"IFERROR(BV84*(F197/H145)^4,0)","v":0},{"$f":"IFERROR(BW84*(F197/I145)^4,0)","v":0},{"$f":"IFERROR(BX84*(F197/J145)^4,0)","v":0},{"$f":"IFERROR(BY84*(F197/K145)^4,0)","v":0},{"$f":"IFERROR(BZ84*(F197/L145)^4,0)","v":0}]
[null,null,null,null,null,490,{"$f":"IFERROR(G85*(F198/G145)^4,0)","v":0},{"$f":"IFERROR(H85*(F198/H145)^4,0)","v":0},{"$f":"IFERROR(I85*(F198/I145)^4,0)","v":0},{"$f":"IFERROR(J85*(F198/J145)^4,0)","v":0},{"$f":"IFERROR(K85*(F198/K145)^4,0)","v":0},{"$f":"IFERROR(L85*(F198/L145)^4,0)","v":0},null,null,null,null,null,490,{"$f":"IFERROR(S85*(F198/G145)^4,0)","v":0},{"$f":"IFERROR(T85*(F198/H145)^4,0)","v":0},{"$f":"IFERROR(U85*(F198/I145)^4,0)","v":0},{"$f":"IFERROR(V85*(F198/J145)^4,0)","v":0},{"$f":"IFERROR(W85*(F198/K145)^4,0)","v":0},{"$f":"IFERROR(X85*(F198/L145)^4,0)","v":0},{"$f":"IFERROR(Y85*(F198/G145)^4,0)","v":0},{"$f":"IFERROR(Z85*(F198/H145)^4,0)","v":0},{"$f":"IFERROR(AA85*(F198/I145)^4,0)","v":0},{"$f":"IFERROR(AB85*(F198/J145)^4,0)","v":0},{"$f":"IFERROR(AC85*(F198/K145)^4,0)","v":0},{"$f":"IFERROR(AD85*(F198/L145)^4,0)","v":0},{"$f":"IFERROR(AE85*(F198/G145)^4,0)","v":0},{"$f":"IFERROR(AF85*(F198/H145)^4,0)","v":0},{"$f":"IFERROR(AG85*(F198/I145)^4,0)","v":0},{"$f":"IFERROR(AH85*(F198/J145)^4,0)","v":0},{"$f":"IFERROR(AI85*(F198/K145)^4,0)","v":0},{"$f":"IFERROR(AJ85*(F198/L145)^4,0)","v":0},{"$f":"IFERROR(AK85*(F198/G145)^4,0)","v":0},{"$f":"IFERROR(AL85*(F198/H145)^4,0)","v":0},{"$f":"IFERROR(AM85*(F198/I145)^4,0)","v":0},{"$f":"IFERROR(AN85*(F198/J145)^4,0)","v":0},{"$f":"IFERROR(AO85*(F198/K145)^4,0)","v":0},{"$f":"IFERROR(AP85*(F198/L145)^4,0)","v":0},{"$f":"IFERROR(AQ85*(F198/G145)^4,0)","v":0},{"$f":"IFERROR(AR85*(F198/H145)^4,0)","v":0},{"$f":"IFERROR(AS85*(F198/I145)^4,0)","v":0},{"$f":"IFERROR(AT85*(F198/J145)^4,0)","v":0},{"$f":"IFERROR(AU85*(F198/K145)^4,0)","v":0},{"$f":"IFERROR(AV85*(F198/L145)^4,0)","v":0},{"$f":"IFERROR(AW85*(F198/G145)^4,0)","v":0},{"$f":"IFERROR(AX85*(F198/H145)^4,0)","v":0},{"$f":"IFERROR(AY85*(F198/I145)^4,0)","v":0},{"$f":"IFERROR(AZ85*(F198/J145)^4,0)","v":0},{"$f":"IFERROR(BA85*(F198/K145)^4,0)","v":0},{"$f":"IFERROR(BB85*(F198/L145)^4,0)","v":0},{"$f":"IFERROR(BC85*(F198/G145)^4,0)","v":0},{"$f":"IFERROR(BD85*(F198/H145)^4,0)","v":0},{"$f":"IFERROR(BE85*(F198/I145)^4,0)","v":0},{"$f":"IFERROR(BF85*(F198/J145)^4,0)","v":0},{"$f":"IFERROR(BG85*(F198/K145)^4,0)","v":0},{"$f":"IFERROR(BH85*(F198/L145)^4,0)","v":0},{"$f":"IFERROR(BI85*(F198/G145)^4,0)","v":0},{"$f":"IFERROR(BJ85*(F198/H145)^4,0)","v":0},{"$f":"IFERROR(BK85*(F198/I145)^4,0)","v":0},{"$f":"IFERROR(BL85*(F198/J145)^4,0)","v":0},{"$f":"IFERROR(BM85*(F198/K145)^4,0)","v":0},{"$f":"IFERROR(BN85*(F198/L145)^4,0)","v":0},{"$f":"IFERROR(BO85*(F198/G145)^4,0)","v":0},{"$f":"IFERROR(BP85*(F198/H145)^4,0)","v":0},{"$f":"IFERROR(BQ85*(F198/I145)^4,0)","v":0},{"$f":"IFERROR(BR85*(F198/J145)^4,0)","v":0},{"$f":"IFERROR(BS85*(F198/K145)^4,0)","v":0},{"$f":"IFERROR(BT85*(F198/L145)^4,0)","v":0},{"$f":"IFERROR(BU85*(F198/G145)^4,0)","v":0},{"$f":"IFERROR(BV85*(F198/H145)^4,0)","v":0},{"$f":"IFERROR(BW85*(F198/I145)^4,0)","v":0},{"$f":"IFERROR(BX85*(F198/J145)^4,0)","v":0},{"$f":"IFERROR(BY85*(F198/K145)^4,0)","v":0},{"$f":"IFERROR(BZ85*(F198/L145)^4,0)","v":0}]
[null,null,null,null,null,500,{"$f":"IFERROR(SUM(G86:G86)*(F199/G145)^4,0)","v":0},{"$f":"IFERROR(SUM(H86:H86)*(F199/H145)^4,0)","v":0},{"$f":"IFERROR(SUM(I86:I86)*(F199/I145)^4,0)","v":0},{"$f":"IFERROR(SUM(J86:J86)*(F199/J145)^4,0)","v":0},{"$f":"IFERROR(SUM(K86:K86)*(F199/K145)^4,0)","v":0},{"$f":"IFERROR(SUM(L86:L86)*(F199/L145)^4,0)","v":0},null,null,null,null,null,500,{"$f":"IFERROR(SUM(S86:S86)*(F199/G145)^4,0)","v":0},{"$f":"IFERROR(SUM(T86:T86)*(F199/H145)^4,0)","v":0},{"$f":"IFERROR(SUM(U86:U86)*(F199/I145)^4,0)","v":0},{"$f":"IFERROR(SUM(V86:V86)*(F199/J145)^4,0)","v":0},{"$f":"IFERROR(SUM(W86:W86)*(F199/K145)^4,0)","v":0},{"$f":"IFERROR(SUM(X86:X86)*(F199/L145)^4,0)","v":0},{"$f":"IFERROR(SUM(Y86:Y86)*(F199/G145)^4,0)","v":0},{"$f":"IFERROR(SUM(Z86:Z86)*(F199/H145)^4,0)","v":0},{"$f":"IFERROR(SUM(AA86:AA86)*(F199/I145)^4,0)","v":0},{"$f":"IFERROR(SUM(AB86:AB86)*(F199/J145)^4,0)","v":0},{"$f":"IFERROR(SUM(AC86:AC86)*(F199/K145)^4,0)","v":0},{"$f":"IFERROR(SUM(AD86:AD86)*(F199/L145)^4,0)","v":0},{"$f":"IFERROR(SUM(AE86:AE86)*(F199/G145)^4,0)","v":0},{"$f":"IFERROR(SUM(AF86:AF86)*(F199/H145)^4,0)","v":0},{"$f":"IFERROR(SUM(AG86:AG86)*(F199/I145)^4,0)","v":0},{"$f":"IFERROR(SUM(AH86:AH86)*(F199/J145)^4,0)","v":0},{"$f":"IFERROR(SUM(AI86:AI86)*(F199/K145)^4,0)","v":0},{"$f":"IFERROR(SUM(AJ86:AJ86)*(F199/L145)^4,0)","v":0},{"$f":"IFERROR(SUM(AK86:AK86)*(F199/G145)^4,0)","v":0},{"$f":"IFERROR(SUM(AL86:AL86)*(F199/H145)^4,0)","v":0},{"$f":"IFERROR(SUM(AM86:AM86)*(F199/I145)^4,0)","v":0},{"$f":"IFERROR(SUM(AN86:AN86)*(F199/J145)^4,0)","v":0},{"$f":"IFERROR(SUM(AO86:AO86)*(F199/K145)^4,0)","v":0},{"$f":"IFERROR(SUM(AP86:AP86)*(F199/L145)^4,0)","v":0},{"$f":"IFERROR(SUM(AQ86:AQ86)*(F199/G145)^4,0)","v":0},{"$f":"IFERROR(SUM(AR86:AR86)*(F199/H145)^4,0)","v":0},{"$f":"IFERROR(SUM(AS86:AS86)*(F199/I145)^4,0)","v":0},{"$f":"IFERROR(SUM(AT86:AT86)*(F199/J145)^4,0)","v":0},{"$f":"IFERROR(SUM(AU86:AU86)*(F199/K145)^4,0)","v":0},{"$f":"IFERROR(SUM(AV86:AV86)*(F199/L145)^4,0)","v":0},{"$f":"IFERROR(SUM(AW86:AW86)*(F199/G145)^4,0)","v":0},{"$f":"IFERROR(SUM(AX86:AX86)*(F199/H145)^4,0)","v":0},{"$f":"IFERROR(SUM(AY86:AY86)*(F199/I145)^4,0)","v":0},{"$f":"IFERROR(SUM(AZ86:AZ86)*(F199/J145)^4,0)","v":0},{"$f":"IFERROR(SUM(BA86:BA86)*(F199/K145)^4,0)","v":0},{"$f":"IFERROR(SUM(BB86:BB86)*(F199/L145)^4,0)","v":0},{"$f":"IFERROR(SUM(BC86:BC86)*(F199/G145)^4,0)","v":0},{"$f":"IFERROR(SUM(BD86:BD86)*(F199/H145)^4,0)","v":0},{"$f":"IFERROR(SUM(BE86:BE86)*(F199/I145)^4,0)","v":0},{"$f":"IFERROR(SUM(BF86:BF86)*(F199/J145)^4,0)","v":0},{"$f":"IFERROR(SUM(BG86:BG86)*(F199/K145)^4,0)","v":0},{"$f":"IFERROR(SUM(BH86:BH86)*(F199/L145)^4,0)","v":0},{"$f":"IFERROR(SUM(BI86:BI86)*(F199/G145)^4,0)","v":0},{"$f":"IFERROR(SUM(BJ86:BJ86)*(F199/H145)^4,0)","v":0},{"$f":"IFERROR(SUM(BK86:BK86)*(F199/I145)^4,0)","v":0},{"$f":"IFERROR(SUM(BL86:BL86)*(F199/J145)^4,0)","v":0},{"$f":"IFERROR(SUM(BM86:BM86)*(F199/K145)^4,0)","v":0},{"$f":"IFERROR(SUM(BN86:BN86)*(F199/L145)^4,0)","v":0},{"$f":"IFERROR(SUM(BO86:BO86)*(F199/G145)^4,0)","v":0},{"$f":"IFERROR(SUM(BP86:BP86)*(F199/H145)^4,0)","v":0},{"$f":"IFERROR(SUM(BQ86:BQ86)*(F199/I145)^4,0)","v":0},{"$f":"IFERROR(SUM(BR86:BR86)*(F199/J145)^4,0)","v":0},{"$f":"IFERROR(SUM(BS86:BS86)*(F199/K145)^4,0)","v":0},{"$f":"IFERROR(SUM(BT86:BT86)*(F199/L145)^4,0)","v":0},{"$f":"IFERROR(SUM(BU86:BU86)*(F199/G145)^4,0)","v":0},{"$f":"IFERROR(SUM(BV86:BV86)*(F199/H145)^4,0)","v":0},{"$f":"IFERROR(SUM(BW86:BW86)*(F199/I145)^4,0)","v":0},{"$f":"IFERROR(SUM(BX86:BX86)*(F199/J145)^4,0)","v":0},{"$f":"IFERROR(SUM(BY86:BY86)*(F199/K145)^4,0)","v":0},{"$f":"IFERROR(SUM(BZ86:BZ86)*(F199/L145)^4,0)","v":0}]

{"sheet":"WIM site details","index":2,"n_rows":26,"n_cols":54,"rows_kept":26,"cut":false,"hidden":false,"merged":[[2,0,2,4],[0,34,0,43],[0,44,0,53],[1,0,1,4],[0,0,0,4],[0,6,0,9],[0,14,0,23],[0,24,0,33]]}
["WIM Site Details - Summary",null,null,null,null,null,"(there are no user inputs required in this worksheet)",null,null,null,null,null,null,null,"Number of heavy vehicles recorded",null,null,null,null,null,null,null,null,null,"Number of heavy vehicle axle groups per heavy vehicle (NHVAG)",null,null,null,null,null,null,null,null,null,"Number of equivalent standard axles per heavy vehicle axle group (ESA/HVAG)",null,null,null,null,null,null,null,null,null,"Number of equivalent standard axles per heavy vehicle (ESA/HV)"]
["Year with Data",null,null,null,null,"District - Road - Lane - Description","District description","WIM Site ID & Lane","WIM site description","WIM site ID","Road ID","Road description","Chainage","Lane","Class 3","Class 4","Class 5","Class 6","Class 7","Class 8","Class 9","Class 10","Class 11","Class 12","Class 3","Class 4","Class 5","Class 6","Class 7","Class 8","Class 9","Class 10","Class 11","Class 12","Class 3","Class 4","Class 5","Class 6","Class 7","Class 8","Class 9","Class 10","Class 11","Class 12","Class 3","Class 4","Class 5","Class 6","Class 7","Class 8","Class 9","Class 10","Class 11","Class 12"]
["2014 - 2023 (10 Years)",null,null,null,null,"Presumptive CTLD (2014-2023)","N/A","Presumptive CTLD","Presumptive CTLD (2014-2023)","N/A","N/A","Presumptive Class-specific Traffic Load Distributions (Year 2014 - 2023)","N/A","N/A",13865487,7355334,2204953,1163685,1911776,2535232,18474706,10066661,1328871,269786,2.0000582020667572,2.000027191151347,2.0010072777061461,2.9998994573273698,3.1077605326147011,3.0359284672960887,3.0275631991112593,3.9990558935082836,5.0483169547683708,7.1601343286901447,0.52000528962570181,1.1347349177848789,1.2702399541926321,0.31390000361091996,0.54349143264097965,0.89598709701750068,1.0761273975290337,1.3125141165958869,1.1338278711905885,0.96884305433053775,1.0400408446339846,2.2695006903186461,2.5417593927725783,0.94166845048745829,1.6890412241758579,2.7201527341654126,3.2580437063142753,5.2488173132856,5.723922465920376,6.9370464124250946]
[2019,2020,2021,null,null,{"$f":"G4&\" - \"&K4&\" - Lane \"&N4&\" - \"&I4","v":"Central West - 13E - Lane 1 - Barcaldine"},"Central West",{"$f":"J4&\"-\"&N4","v":"70164-1"},"Barcaldine",70164,"13E","LANDSBOROUGH HIGHWAY (BARCALDINE - LONGREACH)",2,1,8096,3297,1420,2478,6917,1111,5226,4677,11359,15750,2,2,2,2.9999999999999996,3.0838513806563541,3.1008100810081007,3.0595101415996933,3.9882403249946545,5.1827625671273863,7.0020317460317463,0.48018943424396948,1.5419518993919012,2.1549874037142689,0.10056048454913191,0.1547439815488317,1.1786007342523421,1.5324488007702795,1.6172938691812628,1.369950492562525,1.0844549701648558,0.96037886848793896,3.0839037987838025,4.3099748074285378,0.30168145364739568,0.47720744114762603,3.6546170382532122,4.6885426474389575,6.4501566264353416,7.1001281316707789,7.5933881282362305]
[2019,2020,2021,2022,null,"Central West - 13E - Lane 2 - Barcaldine","Central West","70164-2","Barcaldine",70164,"13E","LANDSBOROUGH HIGHWAY (BARCALDINE - LONGREACH)",2,2,6123,3272,1326,1363,5078,1062,5130,4673,12249,14347,2,2,2.0000000000000004,2.9999999999999996,3.0927530523828275,3.1045197740113002,3.0590643274853804,3.9914401883158561,5.1902196097640632,7.0018122255523796,0.39968436160883902,0.79590027718416556,1.1959651130399911,9.0362297151429946E-2,0.13147814024502352,0.60607786663589558,0.82758481763866309,0.92349097273576397,0.92707681973756462,1.0581422466983237,0.79936872321767805,1.5918005543683311,2.3919302260799826,0.27108689145428982,0.40662941956441395,1.8815807215617215,2.5316351936069279,3.6860589821244307,4.8117322895596111,7.4089133193057846]
[2019,2020,2021,2022,2023,"Darling Downs - 18A - Lane 1 - Gatton    ","Darling Downs","30041-1","Gatton    ",30041,"18A","WARREGO HIGHWAY (IPSWICH - TOOWOOMBA) ",57.7,1,152452,61938,12697,12639,29213,19908,153856,183404,89267,"Presumptive",2,1.9999999999999996,2,3,3.0384417896142133,3.064044605183847,3.0423317907653913,3.9994274934025431,5.0214973058353038,"Presumptive",0.47513447318718405,1.0941468570142605,0.97555461096310447,0.25628144504988215,0.24263137273987032,0.96275718873341298,1.2589866677254695,1.4704330279106224,1.0360005524725011,"Presumptive",0.9502689463743681,2.1882937140285206,1.9511092219262089,0.76884433514964645,0.73722130240428485,2.9499309702405809,3.8302551633709805,5.8808902790328919,5.2022739830845506,"Presumptive"]
[2019,2020,2021,2022,2023,"Darling Downs - 18A - Lane 2 - Gatton    ","Darling Downs","30041-2","Gatton    ",30041,"18A","WARREGO HIGHWAY (IPSWICH - TOOWOOMBA) ",57.7,2,123302,69826,13502,11268,24092,23768,191487,246307,120152,"Presumptive",2,2,2,3,3.0366511705130339,3.0546533153820254,3.0340545311169942,3.9991108657082433,5.0263582795126176,"Presumptive",0.52428895791375929,1.2388306151899815,1.2292968947894582,0.2942752559110427,0.31223804227500906,0.94460102603738572,1.2846694604072049,1.7189928870933682,1.976608055661246,"Presumptive",1.0485779158275186,2.477661230379963,2.4585937895789165,0.88282576773312815,0.94815801655310439,2.8854286558983633,3.8977571973361038,6.8744431328502724,9.9351402659242414,"Presumptive"]
[2019,2020,2021,null,2023,"Darling Downs - 28A - Lane 1 - Southbrook","Darling Downs","30042-1","Southbrook",30042,"28A","GORE HIGHWAY (TOOWOOMBA-MILLMERRAN) ",20.513000000000002,1,24308,11454,4709,1434,5156,5001,44494,89976,34497,"Presumptive",2,1.9999999999999996,1.9999999999999996,2.9999999999999996,3.037432117920869,3.1303739252149576,3.0467703510585697,3.9988885925135595,5.0880656288952659,"Presumptive",0.44361252176715682,1.3417727437334646,1.4214823365334162,0.26657408416908068,0.36575293543836956,0.81944736030248821,1.0175610391781142,1.2986536988316422,1.0608777595964818,"Presumptive",0.88722504353431364,2.6835454874669287,2.8429646730668319,0.79972225250724194,1.1109497133243418,2.5651766497771358,3.1002748045602262,5.1931714618833933,5.3978156650622742,"Presumptive"]
[2019,2020,2021,2022,2023,"Darling Downs - 28A - Lane 2 - Southbrook","Darling Downs","30042-2","Southbrook",30042,"28A","GORE HIGHWAY (TOOWOOMBA-MILLMERRAN) ",20.513000000000002,2,31914,13224,5697,2289,7761,5046,56009,116182,43527,"Presumptive",2,2,1.9999999999999996,3,3.0349181806468244,3.1294094332144273,3.0445999750040165,3.9994147114010787,5.0708755485101209,"Presumptive",0.45524230140725558,1.5842490244284599,1.3947962223061796,0.2929744070329951,0.2749486485493931,1.3187034146693777,1.9435242315255636,1.9507305030623445,2.0537016992694235,"Presumptive",0.91048460281451116,3.1684980488569199,2.7895924446123588,0.87892322109898524,0.83444665222682723,4.1267629054784267,5.9172538267224315,7.8017802719263676,10.414065730759004,"Presumptive"]
[2019,2020,null,null,null,"Darling Downs - 18B - Lane 2 - Oakey","Darling Downs","32559-2","Oakey",32559,"18B","WARREGO HIGHWAY (TOOWOOMBA - DALBY) ",32,2,1690,883,246,176,380,195,2164,3753,2560,"Presumptive",2,2,2,3,3.0473684210526315,3.1333333333333333,3.0374306839186689,3.9997335464961368,5.1402343750000004,"Presumptive",0.53561828161309988,1.3754147707484448,1.0023371738659912,0.34372293659145536,0.2564375976530745,0.94681407175411592,1.2668592926110169,1.4627638651180064,1.3315031707259617,"Presumptive",1.0712365632261998,2.7508295414968895,2.0046743477319824,1.0311688097743661,0.78145983705857969,2.96668409149623,3.8479972875842021,5.8506657019148403,6.8442383685870825,"Presumptive"]
[2019,2020,null,null,null,"Darling Downs - 17B - Lane 1 - Freestone","Darling Downs","51601-1","Freestone",51601,"17B","CUNNINGHAM HIGHWAY (IPSWICH - WARWICK)",111,1,5615,2997,565,824,1791,2077,18803,25262,754,"Presumptive",2,2,2,3,3.0435510887772192,3.0832932113625424,3.0290379194809347,3.9998812445570429,5,"Presumptive",0.69922938235462884,1.3002178199818497,1.1363831139021641,0.47589195179006566,0.31597156035850543,1.336397431040691,1.6149098257508192,1.9946596163602521,2.2551973836119878,"Presumptive",1.3984587647092577,2.6004356399636994,2.2727662278043281,1.4276758553701969,0.9616755865517661,4.1205051268101043,4.8916230987415803,7.9784015887547186,11.275986918059939,"Presumptive"]
[2019,2020,2021,null,null,"Darling Downs - 17B - Lane 2 - Freestone","Darling Downs","51601-2","Freestone",51601,"17B","CUNNINGHAM HIGHWAY (IPSWICH - WARWICK)",111,2,5249,2390,619,739,1622,1810,16323,23728,699,"Presumptive",1.9999999999999996,2,2,2.9999999999999996,3.0413070283600487,3.0574585635359113,3.035961526680143,3.9997471341874578,5,"Presumptive",0.58484109425590181,1.3124418734405841,1.2571304606793454,0.4018437894628118,0.25046015328137156,1.0636961602845307,1.4108292235269566,1.5110820032681045,1.0659470871728378,"Presumptive",1.1696821885118034,2.6248837468811681,2.5142609213586908,1.2055313683884352,0.76172622449877048,3.252206934262206,4.2832232433438602,6.0439459120938439,5.3297354358641886,"Presumptive"]
[2019,2020,2021,2022,2023,"Metropolitan - N239 - Lane 2 - Belmont (South)","Metropolitan","130000-2","Belmont (South)",130000,"N239","GATEWAY MOTORWAY (EIGHT MILE PLAINS - NUDGEE)",10.746,2,444048,203613,89257,23111,38902,26542,144586,38411,506,"Presumptive",2.0000337801318775,2.0000442019340801,2.0009523062616932,3,3.032337669014447,3.0142039032476822,3.0748551035369944,4.0001041368358008,5,"Presumptive",0.45390403334348728,1.1713268265498895,1.3827152898531359,0.25995056124288801,0.32858697471530657,0.97889408959176138,1.098283151368711,1.3507735172856132,0.89976509471132038,"Presumptive",0.90782339962508063,2.3427054280109525,2.7667473481349378,0.77985168372866398,0.99638666097672179,2.9505863857135735,3.3770615531147743,5.4032347344224263,4.498825473556602,"Presumptive"]
[null,2020,2021,2022,null,"Metropolitan - U13C - Lane 1 - Nudgee ","Metropolitan","131830-1","Nudgee ",131830,"U13C","GATEWAY ARTERIAL ROAD (GATEWAY MOTORWAY - NORTH) ",8.8770000000000007,1,38524,18322,6621,3024,4794,4055,21523,13252,287,"Presumptive",2,2,2,3,3.028785982478098,3.0742293464858199,3.0610974306555776,3.9984907938424392,5,"Presumptive",0.33463472367477659,0.76129459508791741,0.77753904069585777,0.23251805909514955,0.22554934411924457,0.68783446555909944,0.8194791046757427,1.0133573944807599,1.2199143709517393,"Presumptive",0.66926944734955318,1.5225891901758348,1.5550780813917155,0.69755417728544866,0.68314069182549675,2.1145608995461735,2.508505381798849,4.0519002127034796,6.0995718547586968,"Presumptive"]
[2019,2020,2021,null,null,"Metropolitan - U13C - Lane 2 - Nudgee ","Metropolitan","131830-2","Nudgee ",131830,"U13C","GATEWAY ARTERIAL ROAD (GATEWAY MOTORWAY - NORTH) ",8.8770000000000007,2,186536,80682,21744,19167,31188,19053,107732,66271,1884,"Presumptive",2,1.9999999999999996,2,3,3.0198473771963572,3.0665511992862009,3.0943173801655957,3.9994416864088373,5.0074309978768596,"Presumptive",0.35091678697055673,0.84953315228262927,1.0832950896328695,0.19600900683032377,0.21994093446866214,0.64695362756527419,0.8308259936251482,1.0042750050863907,0.72774777984504635,"Presumptive",0.70183357394111345,1.6990663045652581,2.1665901792657389,0.58802702049097133,0.66418805409330528,1.9839164224928498,2.5708393119676463,4.016539319960958,3.6441467914321497,"Presumptive"]
[2019,2020,2021,2022,2023,"Metropolitan - N239 - Lane 1 - Belmont (North)","Metropolitan","136161-1","Belmont (North)",136161,"N239","GATEWAY MOTORWAY (EIGHT MILE PLAINS - NUDGEE)",10.746,1,245156,105488,34546,10492,23621,21381,113640,25126,"Presumptive","Presumptive",2,2,2.0001157876454583,3.000190621425848,3.0170610897083106,3.0291847902343205,3.0566437873988037,4.0003183952877492,"Presumptive","Presumptive",0.47898017251030511,1.1263951526934615,1.0188384873044569,0.24958722158809862,0.33853625296075718,0.81709822798074594,1.1195423874748032,1.3044347283874376,"Presumptive","Presumptive",0.95796034502061023,2.2527903053869229,2.037794943518461,0.74880924143634842,1.0213845562635504,2.4751415243266908,3.4220422834044815,5.2181542394204454,"Presumptive","Presumptive"]
[2019,null,null,null,2023,"Metropolitan - U27 - Lane 1 - Hemmant","Metropolitan","136237-1","Hemmant",136237,"U27","PORT OF BRISBANE MOTORWAY ",2.3079999999999998,1,175304,127582,49240,22663,27993,68007,558880,125328,14150,"Presumptive",2.0000171131291928,2,2.0016653127538588,2.9999999999999996,3.4506483763798093,3.0005146529033784,3.0115803034640711,3.9930661943061403,5.0000706713780927,"Presumptive",0.41498562596837102,0.80150330223493194,1.172247228240193,0.14701679610394908,0.41814812545890878,0.59405909729998851,0.80714386339435784,1.0176372849927433,1.5057134781687393,"Presumptive",0.82997835363937245,1.6030066044698639,2.3464466147402501,0.44105038831184717,1.4428821502010443,1.7824830261391693,2.4307785610603432,4.0634930407700063,7.5286738016902115,"Presumptive"]
[2019,2020,2021,2022,2023,"North West - 15A - Lane 2 - Cloncurry","North West","100021-2","Cloncurry",100021,"15A","BARKLY HIGHWAY (CLONCURRY - MT ISA) ",7.0579999999999998,2,14206,4806,3182,2361,7578,1936,8994,5244,28550,40927,2,2,2,2.9999999999999996,3.1029295328582744,3.0785123966942143,3.0488103179897714,3.9914187643020598,5.0985639229422066,7.2967234344076024,0.41526200364723836,1.1598853498520418,1.2673280140177872,6.6417107079808621E-2,0.16292977469337375,0.79004869257019783,1.0102315831243556,1.0556875027753991,1.4010387076788104,0.75811303264589835,0.83052400729447673,2.3197706997040837,2.5346560280355743,0.19925132123942582,0.50555960967801405,2.4321746940694102,3.0800044741886765,4.2136909078169111,7.1432854096167553,5.5317411312371423]
[null,2020,2021,null,null,"North West - 15B - Lane 1 - Mt Isa ","North West","100088-1","Mt Isa ",100088,"15B","BARKLY HIGHWAY (MT ISA - CAMOOWEAL) ",12.25,1,10466,1715,806,964,2499,502,1917,748,2151,11718,2,2,2,2.9999999999999996,3.0992396958783521,3.0537848605577684,3.0432968179447046,3.975935828877005,5.1920037192003701,7.4419696193889751,0.96575007671457003,1.1364281653994548,0.84133221226612109,0.20491518872606887,0.19626069033600749,0.64972297934586298,0.97524589822496122,0.96982018670781156,0.86910518724984731,0.74075056200430411,1.9315001534291401,2.2728563307989096,1.6826644245322422,0.61474556617820653,0.60825892222984324,1.984114197882884,2.9679627387816496,3.8559428278997747,4.5123973645775415,5.5126431779813405]
[null,2020,2021,null,null,"Northern - 14A - Lane 2 - Calcium","Northern","91389-2","Calcium",91389,"14A","FLINDERS HIGHWAY (TOWNSVILLE - CHARTERS TOWERS) ",37.088000000000001,2,5877,2355,723,539,2075,840,7597,5873,5805,4672,2,2,2,2.9999999999999996,3.0732530120481925,3.217857142857143,3.076872449651177,3.9974459390430783,5.1734781858941199,7.071489726027397,0.36465692526162802,0.82916533679916771,1.296765240978651,7.2742661104209794E-2,0.11933839650654768,0.54532505732764902,1.1808771131359834,1.006934503268466,1.3540261321561222,1.1334661347195272,0.72931385052325604,1.6583306735983354,2.593530481957302,0.21822798331262935,0.36675708651674915,1.7547781309007564,3.6334082558317236,4.0251662409728883,7.0050246578402868,8.0152941264691222]
[2019,null,2021,null,null,"Northern - 841 - Lane 1 - Townsville Port Access Road","Northern","92206-1","Townsville Port Access Road",92206,"841","TOWNSVILLE PORT ROAD ",5.4390000000000001,1,1008,932,340,52,101,97,3258,2813,1836,3040,2,2,2,3.0000000000000009,3.04950495049505,3.1134020618556697,3.0131982811540814,4,5.2042483660130721,7.030263157894737,0.51557934059781918,0.97105969361732558,0.81184579983537108,0.10192844080987895,0.19724608812711025,0.44069513879460509,0.9242365989732767,1.2588851498203919,1.1616037929094876,1.2520859701698313,1.0311586811956384,1.9421193872346512,1.6236915996707422,0.30578532242963696,0.6015029222094056,1.3720611537728939,2.7849081314059716,5.0355405992815676,6.0452746412037879,8.8024938666018535]
[2019,2020,2021,null,null,"Northern - 841 - Lane 2 - Townsville Port Access Road","Northern","92206-2","Townsville Port Access Road",92206,"841","TOWNSVILLE PORT ROAD ",5.4390000000000001,2,4630,5462,1571,111,418,617,19689,14955,14058,23580,2,2,2,2.9999999999999996,3.0430622009569372,3.0567260940032419,3.0290009650058409,3.9998662654630546,5.1665243989187664,7.0157336726038997,0.36802496411982871,0.70611082599230768,0.89736372704649958,0.10053820620605414,0.12837393392779733,0.8191850138640564,0.83513066557843518,0.74890347847353411,0.76020896545149719,0.46737604412649736,0.73604992823965742,1.4122216519846154,1.7947274540929992,0.30161461861816236,0.39064986592382339,2.5040242076946688,2.5296115919430502,2.9955137596342261,3.9276381682819537,3.2789858505466736]
[null,null,2021,2022,2023,"South Coast - 12A - Lane 2 - Oxenford Northbound","South Coast","11643-2","Oxenford Northbound",11643,"12A","PACIFIC HIGHWAY (PACIFIC MOTORWAY)",39.979999999999997,2,261522,116585,39479,14503,22483,13927,79593,51221,752,"Presumptive",2,1.9999999999999996,2,3,3.0254414446470674,3.0359732892941764,3.1094568617843281,3.9989652681517351,5.0013297872340425,"Presumptive",0.49880061147915533,1.4397568839701034,1.461913409952033,0.28712005267564311,0.26937471062981977,0.88208488499093884,1.2726555869221914,1.4583963215311053,1.5013460363225744,"Presumptive",0.99760122295831066,2.8795137679402063,2.923826819904066,0.86136015802692933,0.81497741367926768,2.6779861497226158,3.9572676474433695,5.8320762370031405,7.508726652405854,"Presumptive"]
[null,null,2021,2022,2023,"South Coast - 12A - Lane 1 - Tugun","South Coast","12058-1","Tugun",12058,"12A","PACIFIC HIGHWAY (PACIFIC MOTORWAY)",79.046999999999997,1,226695,110367,43984,19756,30196,38693,260016,67591,82,"Presumptive",2.0000000000000004,2.0000000000000004,2,3,3.9075374221751229,3.0000000000000009,3.0212640760568594,3.9999999999999982,5,"Presumptive",0.41294025071429807,0.97791101151494597,1.1001173056718105,0.26856780615919135,0.27318501087060421,0.76512504713903029,0.91379475817174383,1.196302236554766,0.79144572348013098,"Presumptive",0.82588050142859637,1.9558220230298924,2.2002346113436211,0.80570341847757398,1.0674806531542036,2.2953751414170918,2.7608152757533548,4.7852089462190621,3.9572286174006548,"Presumptive"]
[null,null,2021,2022,2023,"South Coast - 12A - Lane 2 - Tugun","South Coast","12058-2","Tugun",12058,"12A","PACIFIC HIGHWAY (PACIFIC MOTORWAY)",79.046999999999997,2,303374,131465,55341,24852,43775,42062,275298,88414,100,"Presumptive",2,2,2,2.9999999999999996,3.8813706453455157,3.0001664209975747,3.0333311538768881,4,5,"Presumptive",0.44131559472291992,1.0911522190583707,1.0622441415670949,0.31303132662616057,0.26342195675715868,0.92001482112214916,1.1682427959894899,1.4589304293215222,1.2088934051981048,"Presumptive",0.88263118944583985,2.1823044381167414,2.1244882831341898,0.93909397987848153,1.0224382502967115,2.7601975731507622,3.5436672683671615,5.8357217172860887,6.0444670259905244,"Presumptive"]
[null,null,null,null,null,"User-defined CTLD","N/A","User-defined CTLD","User-defined CTLD","N/A","N/A","User-defined Class-specific Traffic Load Distributions","N/A","N/A"]

{"sheet":"Data to be exported","index":3,"n_rows":51,"n_cols":7,"rows_kept":51,"cut":false,"hidden":false,"merged":[]}
["Load","SAST","SADT","TAST","TADT","TRDT","QADT"]
[{"$f":"'Class-specific TLD analysis'!F37","v":10},{"$f":"'Class-specific TLD analysis'!G37","v":{"$error":"#DIV/0!"}},{"$f":"'Class-specific TLD analysis'!H37","v":{"$error":"#DIV/0!"}},{"$f":"'Class-specific TLD analysis'!I37","v":{"$error":"#DIV/0!"}},{"$f":"'Class-specific TLD analysis'!J37","v":{"$error":"#DIV/0!"}},{"$f":"'Class-specific TLD analysis'!K37","v":{"$error":"#DIV/0!"}},{"$f":"'Class-specific TLD analysis'!L37","v":{"$error":"#DIV/0!"}}]
[{"$f":"'Class-specific TLD analysis'!F38","v":20},{"$f":"'Class-specific TLD analysis'!G38","v":{"$error":"#DIV/0!"}},{"$f":"'Class-specific TLD analysis'!H38","v":{"$error":"#DIV/0!"}},{"$f":"'Class-specific TLD analysis'!I38","v":{"$error":"#DIV/0!"}},{"$f":"'Class-specific TLD analysis'!J38","v":{"$error":"#DIV/0!"}},{"$f":"'Class-specific TLD analysis'!K38","v":{"$error":"#DIV/0!"}},{"$f":"'Class-specific TLD analysis'!L38","v":{"$error":"#DIV/0!"}}]
[{"$f":"'Class-specific TLD analysis'!F39","v":30},{"$f":"'Class-specific TLD analysis'!G39","v":{"$error":"#DIV/0!"}},{"$f":"'Class-specific TLD analysis'!H39","v":{"$error":"#DIV/0!"}},{"$f":"'Class-specific TLD analysis'!I39","v":{"$error":"#DIV/0!"}},{"$f":"'Class-specific TLD analysis'!J39","v":{"$error":"#DIV/0!"}},{"$f":"'Class-specific TLD analysis'!K39","v":{"$error":"#DIV/0!"}},{"$f":"'Class-specific TLD analysis'!L39","v":{"$error":"#DIV/0!"}}]
[{"$f":"'Class-specific TLD analysis'!F40","v":40},{"$f":"'Class-specific TLD analysis'!G40","v":{"$error":"#DIV/0!"}},{"$f":"'Class-specific TLD analysis'!H40","v":{"$error":"#DIV/0!"}},{"$f":"'Class-specific TLD analysis'!I40","v":{"$error":"#DIV/0!"}},{"$f":"'Class-specific TLD analysis'!J40","v":{"$error":"#DIV/0!"}},{"$f":"'Class-specific TLD analysis'!K40","v":{"$error":"#DIV/0!"}},{"$f":"'Class-specific TLD analysis'!L40","v":{"$error":"#DIV/0!"}}]
[{"$f":"'Class-specific TLD analysis'!F41","v":50},{"$f":"'Class-specific TLD analysis'!G41","v":{"$error":"#DIV/0!"}},{"$f":"'Class-specific TLD analysis'!H41","v":{"$error":"#DIV/0!"}},{"$f":"'Class-specific TLD analysis'!I41","v":{"$error":"#DIV/0!"}},{"$f":"'Class-specific TLD analysis'!J41","v":{"$error":"#DIV/0!"}},{"$f":"'Class-specific TLD analysis'!K41","v":{"$error":"#DIV/0!"}},{"$f":"'Class-specific TLD analysis'!L41","v":{"$error":"#DIV/0!"}}]
[{"$f":"'Class-specific TLD analysis'!F42","v":60},{"$f":"'Class-specific TLD analysis'!G42","v":{"$error":"#DIV/0!"}},{"$f":"'Class-specific TLD analysis'!H42","v":{"$error":"#DIV/0!"}},{"$f":"'Class-specific TLD analysis'!I42","v":{"$error":"#DIV/0!"}},{"$f":"'Class-specific TLD analysis'!J42","v":{"$error":"#DIV/0!"}},{"$f":"'Class-specific TLD analysis'!K42","v":{"$error":"#DIV/0!"}},{"$f":"'Class-specific TLD analysis'!L42","v":{"$error":"#DIV/0!"}}]
[{"$f":"'Class-specific TLD analysis'!F43","v":70},{"$f":"'Class-specific TLD analysis'!G43","v":{"$error":"#DIV/0!"}},{"$f":"'Class-specific TLD analysis'!H43","v":{"$error":"#DIV/0!"}},{"$f":"'Class-specific TLD analysis'!I43","v":{"$error":"#DIV/0!"}},{"$f":"'Class-specific TLD analysis'!J43","v":{"$error":"#DIV/0!"}},{"$f":"'Class-specific TLD analysis'!K43","v":{"$error":"#DIV/0!"}},{"$f":"'Class-specific TLD analysis'!L43","v":{"$error":"#DIV/0!"}}]
[{"$f":"'Class-specific TLD analysis'!F44","v":80},{"$f":"'Class-specific TLD analysis'!G44","v":{"$error":"#DIV/0!"}},{"$f":"'Class-specific TLD analysis'!H44","v":{"$error":"#DIV/0!"}},{"$f":"'Class-specific TLD analysis'!I44","v":{"$error":"#DIV/0!"}},{"$f":"'Class-specific TLD analysis'!J44","v":{"$error":"#DIV/0!"}},{"$f":"'Class-specific TLD analysis'!K44","v":{"$error":"#DIV/0!"}},{"$f":"'Class-specific TLD analysis'!L44","v":{"$error":"#DIV/0!"}}]
[{"$f":"'Class-specific TLD analysis'!F45","v":90},{"$f":"'Class-specific TLD analysis'!G45","v":{"$error":"#DIV/0!"}},{"$f":"'Class-specific TLD analysis'!H45","v":{"$error":"#DIV/0!"}},{"$f":"'Class-specific TLD analysis'!I45","v":{"$error":"#DIV/0!"}},{"$f":"'Class-specific TLD analysis'!J45","v":{"$error":"#DIV/0!"}},{"$f":"'Class-specific TLD analysis'!K45","v":{"$error":"#DIV/0!"}},{"$f":"'Class-specific TLD analysis'!L45","v":{"$error":"#DIV/0!"}}]
[{"$f":"'Class-specific TLD analysis'!F46","v":100},{"$f":"'Class-specific TLD analysis'!G46","v":{"$error":"#DIV/0!"}},{"$f":"'Class-specific TLD analysis'!H46","v":{"$error":"#DIV/0!"}},{"$f":"'Class-specific TLD analysis'!I46","v":{"$error":"#DIV/0!"}},{"$f":"'Class-specific TLD analysis'!J46","v":{"$error":"#DIV/0!"}},{"$f":"'Class-specific TLD analysis'!K46","v":{"$error":"#DIV/0!"}},{"$f":"'Class-specific TLD analysis'!L46","v":{"$error":"#DIV/0!"}}]
[{"$f":"'Class-specific TLD analysis'!F47","v":110},{"$f":"'Class-specific TLD analysis'!G47","v":{"$error":"#DIV/0!"}},{"$f":"'Class-specific TLD analysis'!H47","v":{"$error":"#DIV/0!"}},{"$f":"'Class-specific TLD analysis'!I47","v":{"$error":"#DIV/0!"}},{"$f":"'Class-specific TLD analysis'!J47","v":{"$error":"#DIV/0!"}},{"$f":"'Class-specific TLD analysis'!K47","v":{"$error":"#DIV/0!"}},{"$f":"'Class-specific TLD analysis'!L47","v":{"$error":"#DIV/0!"}}]
[{"$f":"'Class-specific TLD analysis'!F48","v":120},{"$f":"'Class-specific TLD analysis'!G48","v":{"$error":"#DIV/0!"}},{"$f":"'Class-specific TLD analysis'!H48","v":{"$error":"#DIV/0!"}},{"$f":"'Class-specific TLD analysis'!I48","v":{"$error":"#DIV/0!"}},{"$f":"'Class-specific TLD analysis'!J48","v":{"$error":"#DIV/0!"}},{"$f":"'Class-specific TLD analysis'!K48","v":{"$error":"#DIV/0!"}},{"$f":"'Class-specific TLD analysis'!L48","v":{"$error":"#DIV/0!"}}]
[{"$f":"'Class-specific TLD analysis'!F49","v":130},{"$f":"'Class-specific TLD analysis'!G49","v":{"$error":"#DIV/0!"}},{"$f":"'Class-specific TLD analysis'!H49","v":{"$error":"#DIV/0!"}},{"$f":"'Class-specific TLD analysis'!I49","v":{"$error":"#DIV/0!"}},{"$f":"'Class-specific TLD analysis'!J49","v":{"$error":"#DIV/0!"}},{"$f":"'Class-specific TLD analysis'!K49","v":{"$error":"#DIV/0!"}},{"$f":"'Class-specific TLD analysis'!L49","v":{"$error":"#DIV/0!"}}]
[{"$f":"'Class-specific TLD analysis'!F50","v":140},{"$f":"'Class-specific TLD analysis'!G50","v":{"$error":"#DIV/0!"}},{"$f":"'Class-specific TLD analysis'!H50","v":{"$error":"#DIV/0!"}},{"$f":"'Class-specific TLD analysis'!I50","v":{"$error":"#DIV/0!"}},{"$f":"'Class-specific TLD analysis'!J50","v":{"$error":"#DIV/0!"}},{"$f":"'Class-specific TLD analysis'!K50","v":{"$error":"#DIV/0!"}},{"$f":"'Class-specific TLD analysis'!L50","v":{"$error":"#DIV/0!"}}]
[{"$f":"'Class-specific TLD analysis'!F51","v":150},{"$f":"'Class-specific TLD analysis'!G51","v":{"$error":"#DIV/0!"}},{"$f":"'Class-specific TLD analysis'!H51","v":{"$error":"#DIV/0!"}},{"$f":"'Class-specific TLD analysis'!I51","v":{"$error":"#DIV/0!"}},{"$f":"'Class-specific TLD analysis'!J51","v":{"$error":"#DIV/0!"}},{"$f":"'Class-specific TLD analysis'!K51","v":{"$error":"#DIV/0!"}},{"$f":"'Class-specific TLD analysis'!L51","v":{"$error":"#DIV/0!"}}]
[{"$f":"'Class-specific TLD analysis'!F52","v":160},{"$f":"'Class-specific TLD analysis'!G52","v":{"$error":"#DIV/0!"}},{"$f":"'Class-specific TLD analysis'!H52","v":{"$error":"#DIV/0!"}},{"$f":"'Class-specific TLD analysis'!I52","v":{"$error":"#DIV/0!"}},{"$f":"'Class-specific TLD analysis'!J52","v":{"$error":"#DIV/0!"}},{"$f":"'Class-specific TLD analysis'!K52","v":{"$error":"#DIV/0!"}},{"$f":"'Class-specific TLD analysis'!L52","v":{"$error":"#DIV/0!"}}]
[{"$f":"'Class-specific TLD analysis'!F53","v":170},{"$f":"'Class-specific TLD analysis'!G53","v":{"$error":"#DIV/0!"}},{"$f":"'Class-specific TLD analysis'!H53","v":{"$error":"#DIV/0!"}},{"$f":"'Class-specific TLD analysis'!I53","v":{"$error":"#DIV/0!"}},{"$f":"'Class-specific TLD analysis'!J53","v":{"$error":"#DIV/0!"}},{"$f":"'Class-specific TLD analysis'!K53","v":{"$error":"#DIV/0!"}},{"$f":"'Class-specific TLD analysis'!L53","v":{"$error":"#DIV/0!"}}]
[{"$f":"'Class-specific TLD analysis'!F54","v":180},{"$f":"'Class-specific TLD analysis'!G54","v":{"$error":"#DIV/0!"}},{"$f":"'Class-specific TLD analysis'!H54","v":{"$error":"#DIV/0!"}},{"$f":"'Class-specific TLD analysis'!I54","v":{"$error":"#DIV/0!"}},{"$f":"'Class-specific TLD analysis'!J54","v":{"$error":"#DIV/0!"}},{"$f":"'Class-specific TLD analysis'!K54","v":{"$error":"#DIV/0!"}},{"$f":"'Class-specific TLD analysis'!L54","v":{"$error":"#DIV/0!"}}]
[{"$f":"'Class-specific TLD analysis'!F55","v":190},{"$f":"'Class-specific TLD analysis'!G55","v":{"$error":"#DIV/0!"}},{"$f":"'Class-specific TLD analysis'!H55","v":{"$error":"#DIV/0!"}},{"$f":"'Class-specific TLD analysis'!I55","v":{"$error":"#DIV/0!"}},{"$f":"'Class-specific TLD analysis'!J55","v":{"$error":"#DIV/0!"}},{"$f":"'Class-specific TLD analysis'!K55","v":{"$error":"#DIV/0!"}},{"$f":"'Class-specific TLD analysis'!L55","v":{"$error":"#DIV/0!"}}]
[{"$f":"'Class-specific TLD analysis'!F56","v":200},{"$f":"'Class-specific TLD analysis'!G56","v":{"$error":"#DIV/0!"}},{"$f":"'Class-specific TLD analysis'!H56","v":{"$error":"#DIV/0!"}},{"$f":"'Class-specific TLD analysis'!I56","v":{"$error":"#DIV/0!"}},{"$f":"'Class-specific TLD analysis'!J56","v":{"$error":"#DIV/0!"}},{"$f":"'Class-specific TLD analysis'!K56","v":{"$error":"#DIV/0!"}},{"$f":"'Class-specific TLD analysis'!L56","v":{"$error":"#DIV/0!"}}]
[{"$f":"'Class-specific TLD analysis'!F57","v":210},{"$f":"'Class-specific TLD analysis'!G57","v":{"$error":"#DIV/0!"}},{"$f":"'Class-specific TLD analysis'!H57","v":{"$error":"#DIV/0!"}},{"$f":"'Class-specific TLD analysis'!I57","v":{"$error":"#DIV/0!"}},{"$f":"'Class-specific TLD analysis'!J57","v":{"$error":"#DIV/0!"}},{"$f":"'Class-specific TLD analysis'!K57","v":{"$error":"#DIV/0!"}},{"$f":"'Class-specific TLD analysis'!L57","v":{"$error":"#DIV/0!"}}]
[{"$f":"'Class-specific TLD analysis'!F58","v":220},{"$f":"'Class-specific TLD analysis'!G58","v":{"$error":"#DIV/0!"}},{"$f":"'Class-specific TLD analysis'!H58","v":{"$error":"#DIV/0!"}},{"$f":"'Class-specific TLD analysis'!I58","v":{"$error":"#DIV/0!"}},{"$f":"'Class-specific TLD analysis'!J58","v":{"$error":"#DIV/0!"}},{"$f":"'Class-specific TLD analysis'!K58","v":{"$error":"#DIV/0!"}},{"$f":"'Class-specific TLD analysis'!L58","v":{"$error":"#DIV/0!"}}]
[{"$f":"'Class-specific TLD analysis'!F59","v":230},{"$f":"'Class-specific TLD analysis'!G59","v":{"$error":"#DIV/0!"}},{"$f":"'Class-specific TLD analysis'!H59","v":{"$error":"#DIV/0!"}},{"$f":"'Class-specific TLD analysis'!I59","v":{"$error":"#DIV/0!"}},{"$f":"'Class-specific TLD analysis'!J59","v":{"$error":"#DIV/0!"}},{"$f":"'Class-specific TLD analysis'!K59","v":{"$error":"#DIV/0!"}},{"$f":"'Class-specific TLD analysis'!L59","v":{"$error":"#DIV/0!"}}]
[{"$f":"'Class-specific TLD analysis'!F60","v":240},{"$f":"'Class-specific TLD analysis'!G60","v":{"$error":"#DIV/0!"}},{"$f":"'Class-specific TLD analysis'!H60","v":{"$error":"#DIV/0!"}},{"$f":"'Class-specific TLD analysis'!I60","v":{"$error":"#DIV/0!"}},{"$f":"'Class-specific TLD analysis'!J60","v":{"$error":"#DIV/0!"}},{"$f":"'Class-specific TLD analysis'!K60","v":{"$error":"#DIV/0!"}},{"$f":"'Class-specific TLD analysis'!L60","v":{"$error":"#DIV/0!"}}]
[{"$f":"'Class-specific TLD analysis'!F61","v":250},{"$f":"'Class-specific TLD analysis'!G61","v":{"$error":"#DIV/0!"}},{"$f":"'Class-specific TLD analysis'!H61","v":{"$error":"#DIV/0!"}},{"$f":"'Class-specific TLD analysis'!I61","v":{"$error":"#DIV/0!"}},{"$f":"'Class-specific TLD analysis'!J61","v":{"$error":"#DIV/0!"}},{"$f":"'Class-specific TLD analysis'!K61","v":{"$error":"#DIV/0!"}},{"$f":"'Class-specific TLD analysis'!L61","v":{"$error":"#DIV/0!"}}]
[{"$f":"'Class-specific TLD analysis'!F62","v":260},{"$f":"'Class-specific TLD analysis'!G62","v":{"$error":"#DIV/0!"}},{"$f":"'Class-specific TLD analysis'!H62","v":{"$error":"#DIV/0!"}},{"$f":"'Class-specific TLD analysis'!I62","v":{"$error":"#DIV/0!"}},{"$f":"'Class-specific TLD analysis'!J62","v":{"$error":"#DIV/0!"}},{"$f":"'Class-specific TLD analysis'!K62","v":{"$error":"#DIV/0!"}},{"$f":"'Class-specific TLD analysis'!L62","v":{"$error":"#DIV/0!"}}]
[{"$f":"'Class-specific TLD analysis'!F63","v":270},{"$f":"'Class-specific TLD analysis'!G63","v":{"$error":"#DIV/0!"}},{"$f":"'Class-specific TLD analysis'!H63","v":{"$error":"#DIV/0!"}},{"$f":"'Class-specific TLD analysis'!I63","v":{"$error":"#DIV/0!"}},{"$f":"'Class-specific TLD analysis'!J63","v":{"$error":"#DIV/0!"}},{"$f":"'Class-specific TLD analysis'!K63","v":{"$error":"#DIV/0!"}},{"$f":"'Class-specific TLD analysis'!L63","v":{"$error":"#DIV/0!"}}]
[{"$f":"'Class-specific TLD analysis'!F64","v":280},{"$f":"'Class-specific TLD analysis'!G64","v":{"$error":"#DIV/0!"}},{"$f":"'Class-specific TLD analysis'!H64","v":{"$error":"#DIV/0!"}},{"$f":"'Class-specific TLD analysis'!I64","v":{"$error":"#DIV/0!"}},{"$f":"'Class-specific TLD analysis'!J64","v":{"$error":"#DIV/0!"}},{"$f":"'Class-specific TLD analysis'!K64","v":{"$error":"#DIV/0!"}},{"$f":"'Class-specific TLD analysis'!L64","v":{"$error":"#DIV/0!"}}]
[{"$f":"'Class-specific TLD analysis'!F65","v":290},{"$f":"'Class-specific TLD analysis'!G65","v":{"$error":"#DIV/0!"}},{"$f":"'Class-specific TLD analysis'!H65","v":{"$error":"#DIV/0!"}},{"$f":"'Class-specific TLD analysis'!I65","v":{"$error":"#DIV/0!"}},{"$f":"'Class-specific TLD analysis'!J65","v":{"$error":"#DIV/0!"}},{"$f":"'Class-specific TLD analysis'!K65","v":{"$error":"#DIV/0!"}},{"$f":"'Class-specific TLD analysis'!L65","v":{"$error":"#DIV/0!"}}]
[{"$f":"'Class-specific TLD analysis'!F66","v":300},{"$f":"'Class-specific TLD analysis'!G66","v":{"$error":"#DIV/0!"}},{"$f":"'Class-specific TLD analysis'!H66","v":{"$error":"#DIV/0!"}},{"$f":"'Class-specific TLD analysis'!I66","v":{"$error":"#DIV/0!"}},{"$f":"'Class-specific TLD analysis'!J66","v":{"$error":"#DIV/0!"}},{"$f":"'Class-specific TLD analysis'!K66","v":{"$error":"#DIV/0!"}},{"$f":"'Class-specific TLD analysis'!L66","v":{"$error":"#DIV/0!"}}]
[{"$f":"'Class-specific TLD analysis'!F67","v":310},{"$f":"'Class-specific TLD analysis'!G67","v":{"$error":"#DIV/0!"}},{"$f":"'Class-specific TLD analysis'!H67","v":{"$error":"#DIV/0!"}},{"$f":"'Class-specific TLD analysis'!I67","v":{"$error":"#DIV/0!"}},{"$f":"'Class-specific TLD analysis'!J67","v":{"$error":"#DIV/0!"}},{"$f":"'Class-specific TLD analysis'!K67","v":{"$error":"#DIV/0!"}},{"$f":"'Class-specific TLD analysis'!L67","v":{"$error":"#DIV/0!"}}]
[{"$f":"'Class-specific TLD analysis'!F68","v":320},{"$f":"'Class-specific TLD analysis'!G68","v":{"$error":"#DIV/0!"}},{"$f":"'Class-specific TLD analysis'!H68","v":{"$error":"#DIV/0!"}},{"$f":"'Class-specific TLD analysis'!I68","v":{"$error":"#DIV/0!"}},{"$f":"'Class-specific TLD analysis'!J68","v":{"$error":"#DIV/0!"}},{"$f":"'Class-specific TLD analysis'!K68","v":{"$error":"#DIV/0!"}},{"$f":"'Class-specific TLD analysis'!L68","v":{"$error":"#DIV/0!"}}]
[{"$f":"'Class-specific TLD analysis'!F69","v":330},{"$f":"'Class-specific TLD analysis'!G69","v":{"$error":"#DIV/0!"}},{"$f":"'Class-specific TLD analysis'!H69","v":{"$error":"#DIV/0!"}},{"$f":"'Class-specific TLD analysis'!I69","v":{"$error":"#DIV/0!"}},{"$f":"'Class-specific TLD analysis'!J69","v":{"$error":"#DIV/0!"}},{"$f":"'Class-specific TLD analysis'!K69","v":{"$error":"#DIV/0!"}},{"$f":"'Class-specific TLD analysis'!L69","v":{"$error":"#DIV/0!"}}]
[{"$f":"'Class-specific TLD analysis'!F70","v":340},{"$f":"'Class-specific TLD analysis'!G70","v":{"$error":"#DIV/0!"}},{"$f":"'Class-specific TLD analysis'!H70","v":{"$error":"#DIV/0!"}},{"$f":"'Class-specific TLD analysis'!I70","v":{"$error":"#DIV/0!"}},{"$f":"'Class-specific TLD analysis'!J70","v":{"$error":"#DIV/0!"}},{"$f":"'Class-specific TLD analysis'!K70","v":{"$error":"#DIV/0!"}},{"$f":"'Class-specific TLD analysis'!L70","v":{"$error":"#DIV/0!"}}]
[{"$f":"'Class-specific TLD analysis'!F71","v":350},{"$f":"'Class-specific TLD analysis'!G71","v":{"$error":"#DIV/0!"}},{"$f":"'Class-specific TLD analysis'!H71","v":{"$error":"#DIV/0!"}},{"$f":"'Class-specific TLD analysis'!I71","v":{"$error":"#DIV/0!"}},{"$f":"'Class-specific TLD analysis'!J71","v":{"$error":"#DIV/0!"}},{"$f":"'Class-specific TLD analysis'!K71","v":{"$error":"#DIV/0!"}},{"$f":"'Class-specific TLD analysis'!L71","v":{"$error":"#DIV/0!"}}]
[{"$f":"'Class-specific TLD analysis'!F72","v":360},{"$f":"'Class-specific TLD analysis'!G72","v":{"$error":"#DIV/0!"}},{"$f":"'Class-specific TLD analysis'!H72","v":{"$error":"#DIV/0!"}},{"$f":"'Class-specific TLD analysis'!I72","v":{"$error":"#DIV/0!"}},{"$f":"'Class-specific TLD analysis'!J72","v":{"$error":"#DIV/0!"}},{"$f":"'Class-specific TLD analysis'!K72","v":{"$error":"#DIV/0!"}},{"$f":"'Class-specific TLD analysis'!L72","v":{"$error":"#DIV/0!"}}]
[{"$f":"'Class-specific TLD analysis'!F73","v":370},{"$f":"'Class-specific TLD analysis'!G73","v":{"$error":"#DIV/0!"}},{"$f":"'Class-specific TLD analysis'!H73","v":{"$error":"#DIV/0!"}},{"$f":"'Class-specific TLD analysis'!I73","v":{"$error":"#DIV/0!"}},{"$f":"'Class-specific TLD analysis'!J73","v":{"$error":"#DIV/0!"}},{"$f":"'Class-specific TLD analysis'!K73","v":{"$error":"#DIV/0!"}},{"$f":"'Class-specific TLD analysis'!L73","v":{"$error":"#DIV/0!"}}]
[{"$f":"'Class-specific TLD analysis'!F74","v":380},{"$f":"'Class-specific TLD analysis'!G74","v":{"$error":"#DIV/0!"}},{"$f":"'Class-specific TLD analysis'!H74","v":{"$error":"#DIV/0!"}},{"$f":"'Class-specific TLD analysis'!I74","v":{"$error":"#DIV/0!"}},{"$f":"'Class-specific TLD analysis'!J74","v":{"$error":"#DIV/0!"}},{"$f":"'Class-specific TLD analysis'!K74","v":{"$error":"#DIV/0!"}},{"$f":"'Class-specific TLD analysis'!L74","v":{"$error":"#DIV/0!"}}]
[{"$f":"'Class-specific TLD analysis'!F75","v":390},{"$f":"'Class-specific TLD analysis'!G75","v":{"$error":"#DIV/0!"}},{"$f":"'Class-specific TLD analysis'!H75","v":{"$error":"#DIV/0!"}},{"$f":"'Class-specific TLD analysis'!I75","v":{"$error":"#DIV/0!"}},{"$f":"'Class-specific TLD analysis'!J75","v":{"$error":"#DIV/0!"}},{"$f":"'Class-specific TLD analysis'!K75","v":{"$error":"#DIV/0!"}},{"$f":"'Class-specific TLD analysis'!L75","v":{"$error":"#DIV/0!"}}]
[{"$f":"'Class-specific TLD analysis'!F76","v":400},{"$f":"'Class-specific TLD analysis'!G76","v":{"$error":"#DIV/0!"}},{"$f":"'Class-specific TLD analysis'!H76","v":{"$error":"#DIV/0!"}},{"$f":"'Class-specific TLD analysis'!I76","v":{"$error":"#DIV/0!"}},{"$f":"'Class-specific TLD analysis'!J76","v":{"$error":"#DIV/0!"}},{"$f":"'Class-specific TLD analysis'!K76","v":{"$error":"#DIV/0!"}},{"$f":"'Class-specific TLD analysis'!L76","v":{"$error":"#DIV/0!"}}]
[{"$f":"'Class-specific TLD analysis'!F77","v":410},{"$f":"'Class-specific TLD analysis'!G77","v":{"$error":"#DIV/0!"}},{"$f":"'Class-specific TLD analysis'!H77","v":{"$error":"#DIV/0!"}},{"$f":"'Class-specific TLD analysis'!I77","v":{"$error":"#DIV/0!"}},{"$f":"'Class-specific TLD analysis'!J77","v":{"$error":"#DIV/0!"}},{"$f":"'Class-specific TLD analysis'!K77","v":{"$error":"#DIV/0!"}},{"$f":"'Class-specific TLD analysis'!L77","v":{"$error":"#DIV/0!"}}]
[{"$f":"'Class-specific TLD analysis'!F78","v":420},{"$f":"'Class-specific TLD analysis'!G78","v":{"$error":"#DIV/0!"}},{"$f":"'Class-specific TLD analysis'!H78","v":{"$error":"#DIV/0!"}},{"$f":"'Class-specific TLD analysis'!I78","v":{"$error":"#DIV/0!"}},{"$f":"'Class-specific TLD analysis'!J78","v":{"$error":"#DIV/0!"}},{"$f":"'Class-specific TLD analysis'!K78","v":{"$error":"#DIV/0!"}},{"$f":"'Class-specific TLD analysis'!L78","v":{"$error":"#DIV/0!"}}]
[{"$f":"'Class-specific TLD analysis'!F79","v":430},{"$f":"'Class-specific TLD analysis'!G79","v":{"$error":"#DIV/0!"}},{"$f":"'Class-specific TLD analysis'!H79","v":{"$error":"#DIV/0!"}},{"$f":"'Class-specific TLD analysis'!I79","v":{"$error":"#DIV/0!"}},{"$f":"'Class-specific TLD analysis'!J79","v":{"$error":"#DIV/0!"}},{"$f":"'Class-specific TLD analysis'!K79","v":{"$error":"#DIV/0!"}},{"$f":"'Class-specific TLD analysis'!L79","v":{"$error":"#DIV/0!"}}]
[{"$f":"'Class-specific TLD analysis'!F80","v":440},{"$f":"'Class-specific TLD analysis'!G80","v":{"$error":"#DIV/0!"}},{"$f":"'Class-specific TLD analysis'!H80","v":{"$error":"#DIV/0!"}},{"$f":"'Class-specific TLD analysis'!I80","v":{"$error":"#DIV/0!"}},{"$f":"'Class-specific TLD analysis'!J80","v":{"$error":"#DIV/0!"}},{"$f":"'Class-specific TLD analysis'!K80","v":{"$error":"#DIV/0!"}},{"$f":"'Class-specific TLD analysis'!L80","v":{"$error":"#DIV/0!"}}]
[{"$f":"'Class-specific TLD analysis'!F81","v":450},{"$f":"'Class-specific TLD analysis'!G81","v":{"$error":"#DIV/0!"}},{"$f":"'Class-specific TLD analysis'!H81","v":{"$error":"#DIV/0!"}},{"$f":"'Class-specific TLD analysis'!I81","v":{"$error":"#DIV/0!"}},{"$f":"'Class-specific TLD analysis'!J81","v":{"$error":"#DIV/0!"}},{"$f":"'Class-specific TLD analysis'!K81","v":{"$error":"#DIV/0!"}},{"$f":"'Class-specific TLD analysis'!L81","v":{"$error":"#DIV/0!"}}]
[{"$f":"'Class-specific TLD analysis'!F82","v":460},{"$f":"'Class-specific TLD analysis'!G82","v":{"$error":"#DIV/0!"}},{"$f":"'Class-specific TLD analysis'!H82","v":{"$error":"#DIV/0!"}},{"$f":"'Class-specific TLD analysis'!I82","v":{"$error":"#DIV/0!"}},{"$f":"'Class-specific TLD analysis'!J82","v":{"$error":"#DIV/0!"}},{"$f":"'Class-specific TLD analysis'!K82","v":{"$error":"#DIV/0!"}},{"$f":"'Class-specific TLD analysis'!L82","v":{"$error":"#DIV/0!"}}]
[{"$f":"'Class-specific TLD analysis'!F83","v":470},{"$f":"'Class-specific TLD analysis'!G83","v":{"$error":"#DIV/0!"}},{"$f":"'Class-specific TLD analysis'!H83","v":{"$error":"#DIV/0!"}},{"$f":"'Class-specific TLD analysis'!I83","v":{"$error":"#DIV/0!"}},{"$f":"'Class-specific TLD analysis'!J83","v":{"$error":"#DIV/0!"}},{"$f":"'Class-specific TLD analysis'!K83","v":{"$error":"#DIV/0!"}},{"$f":"'Class-specific TLD analysis'!L83","v":{"$error":"#DIV/0!"}}]
[{"$f":"'Class-specific TLD analysis'!F84","v":480},{"$f":"'Class-specific TLD analysis'!G84","v":{"$error":"#DIV/0!"}},{"$f":"'Class-specific TLD analysis'!H84","v":{"$error":"#DIV/0!"}},{"$f":"'Class-specific TLD analysis'!I84","v":{"$error":"#DIV/0!"}},{"$f":"'Class-specific TLD analysis'!J84","v":{"$error":"#DIV/0!"}},{"$f":"'Class-specific TLD analysis'!K84","v":{"$error":"#DIV/0!"}},{"$f":"'Class-specific TLD analysis'!L84","v":{"$error":"#DIV/0!"}}]
[{"$f":"'Class-specific TLD analysis'!F85","v":490},{"$f":"'Class-specific TLD analysis'!G85","v":{"$error":"#DIV/0!"}},{"$f":"'Class-specific TLD analysis'!H85","v":{"$error":"#DIV/0!"}},{"$f":"'Class-specific TLD analysis'!I85","v":{"$error":"#DIV/0!"}},{"$f":"'Class-specific TLD analysis'!J85","v":{"$error":"#DIV/0!"}},{"$f":"'Class-specific TLD analysis'!K85","v":{"$error":"#DIV/0!"}},{"$f":"'Class-specific TLD analysis'!L85","v":{"$error":"#DIV/0!"}}]
[{"$f":"'Class-specific TLD analysis'!F86","v":500},{"$f":"'Class-specific TLD analysis'!G86","v":{"$error":"#DIV/0!"}},{"$f":"'Class-specific TLD analysis'!H86","v":{"$error":"#DIV/0!"}},{"$f":"'Class-specific TLD analysis'!I86","v":{"$error":"#DIV/0!"}},{"$f":"'Class-specific TLD analysis'!J86","v":{"$error":"#DIV/0!"}},{"$f":"'Class-specific TLD analysis'!K86","v":{"$error":"#DIV/0!"}},{"$f":"'Class-specific TLD analysis'!L86","v":{"$error":"#DIV/0!"}}]

{"sheet":"User-defined CTLD","index":4,"n_rows":6,"n_cols":61,"rows_kept":6,"cut":false,"hidden":false,"merged":[[4,1,4,6],[4,7,4,12],[4,13,4,18],[4,19,4,24],[4,25,4,30],[4,37,4,42],[4,43,4,48],[4,49,4,54],[4,55,4,60],[0,20,0,29],[0,30,0,39],[0,40,0,49],[0,50,0,59],[4,31,4,36]]}
["User-defined Class-specific TLDs"]
["This worksheet is only relevant when the user-defined CTLD option is selected in the \"Class-specific TLD analysis\" worksheet."]
["To use the user-defined option, insert user-defined CTLDs in the highlighted cells below. For each vehicle class, the sum of all proportions must equal 1.00."]
[]
[null,"Class 3",null,null,null,null,null,"Class 4",null,null,null,null,null,"Class 5",null,null,null,null,null,"Class 6",null,null,null,null,null,"Class 7",null,null,null,null,null,"Class 8",null,null,null,null,null,"Class 9",null,null,null,null,null,"Class 10",null,null,null,null,null,"Class 11",null,null,null,null,null,"Class 12"]
["Load (kN)","SAST","SADT","TAST","TADT","TRDT","QADT","SAST","SADT","TAST","TADT","TRDT","QADT","SAST","SADT","TAST","TADT","TRDT","QADT","SAST","SADT","TAST","TADT","TRDT","QADT","SAST","SADT","TAST","TADT","TRDT","QADT","SAST","SADT","TAST","TADT","TRDT","QADT","SAST","SADT","TAST","TADT","TRDT","QADT","SAST","SADT","TAST","TADT","TRDT","QADT","SAST","SADT","TAST","TADT","TRDT","QADT","SAST","SADT","TAST","TADT","TRDT","QADT"]

{"sheet":"Presumptive CTLD","index":5,"n_rows":56,"n_cols":61,"rows_kept":56,"cut":false,"hidden":true,"merged":[[4,1,4,6],[4,7,4,12],[4,13,4,18],[4,19,4,24],[4,25,4,30],[4,37,4,42],[4,43,4,48],[4,49,4,54],[4,55,4,60],[0,20,0,29],[0,30,0,39],[0,40,0,49],[0,50,0,59],[4,31,4,36]]}
[null,null,null,null,null,null,null,null,null,null,null,null,null,null,null,null,null,null,null,null,"Recorded Classified Counts from Year 2015 to Year 2019",null,null,null,null,null,null,null,null,null,"NHVAG - Based on recorded data",null,null,null,null,null,null,null,null,null,"ESA / HVAG - Based on recorded data",null,null,null,null,null,null,null,null,null,"ESA / HV - Based on recorded data"]
["Year","WiM site ID","WiM site descriptions",null,null,null,"Chainage","District ID","District descriptions",null,"Road ID","Road descriptions",null,null,null,null,null,null,null,"Traffic Lane","Class 3","Class 4","Class 5","Class 6","Class 7","Class 8","Class 9","Class 10","Class 11","Class 12","Class 3","Class 4","Class 5","Class 6","Class 7","Class 8","Class 9","Class 10","Class 11","Class 12","Class 3","Class 4","Class 5","Class 6","Class 7","Class 8","Class 9","Class 10","Class 11","Class 12","Class 3","Class 4","Class 5","Class 6","Class 7","Class 8","Class 9","Class 10","Class 11","Class 12"]
["2014-2023",null,"Year 2014 to Year 2023 Presumptive CTLD",null,null,null,null,null,null,null,null,null,null,null,null,null,null,null,null,null,13865487,7355334,2204953,1163685,1911776,2535232,18474706,10066661,1328871,269786,2.0000582020667572,2.000027191151347,2.0010072777061461,2.9998994573273698,3.1077605326147011,3.0359284672960887,3.0275631991112593,3.9990558935082836,5.0483169547683708,7.1601343286901447,0.52000528962570181,1.1347349177848789,1.2702399541926321,0.31390000361091996,0.54349143264097965,0.89598709701750068,1.0761273975290337,1.3125141165958869,1.1338278711905885,0.96884305433053775,1.0400408446339846,2.2695006903186461,2.5417593927725783,0.94166845048745829,1.6890412241758579,2.7201527341654126,3.2580437063142753,5.2488173132856,5.723922465920376,6.9370464124250946]
[]
[null,"Class 3 - Presumptive",null,null,null,null,null,"Class 4 - Presumptive",null,null,null,null,null,"Class 5 - Presumptive",null,null,null,null,null,"Class 6 - Presumptive",null,null,null,null,null,"Class 7 - Presumptive",null,null,null,null,null,"Class 8 - Presumptive",null,null,null,null,null,"Class 9 - Presumptive",null,null,null,null,null,"Class 10 - Presumptive",null,null,null,null,null,"Class 11 - Presumptive",null,null,null,null,null,"Class 12 - Presumptive"]
["Load (kN)","SAST","SADT","TAST","TADT","TRDT","QADT","SAST","SADT","TAST","TADT","TRDT","QADT","SAST","SADT","TAST","TADT","TRDT","QADT","SAST","SADT","TAST","TADT","TRDT","QADT","SAST","SADT","TAST","TADT","TRDT","QADT","SAST","SADT","TAST","TADT","TRDT","QADT","SAST","SADT","TAST","TADT","TRDT","QADT","SAST","SADT","TAST","TADT","TRDT","QADT","SAST","SADT","TAST","TADT","TRDT","QADT","SAST","SADT","TAST","TADT","TRDT","QADT"]
[10,1.5440663307501784E-4,4.1963988901785019E-4,0,0,0,0,1.417523667542162E-4,2.3814404236720533E-5,5.7874241495814738E-6,5.7917737249323549E-5,0,0,1.1448525196750228E-5,4.5329610865689044E-7,4.3488227690610616E-5,9.8144493521858933E-5,1.4330991853661698E-5,4.1095583965700657E-6,6.7980018175745874E-4,6.2625593914641328E-2,0,0,0,0,2.015530064304257E-3,2.1569120831840264E-2,1.5644397839531533E-6,9.0030956950335871E-3,0,0,2.8612169326106658E-4,1.2451814947324999E-3,1.3194372275752331E-6,3.9770814593998236E-4,1.1655743998983112E-4,0,1.3188046156290635E-4,1.1483544742915473E-4,1.0696979597330203E-5,6.0734980586051944E-5,7.1213854939614773E-5,5.3331310043374503E-6,1.4177950152390549E-4,1.5548684922823546E-4,2.2611306040275446E-5,1.06246716714883E-4,2.9044715679890773E-4,8.0765506332545502E-6,1.4712560310390727E-4,1.8801924921172653E-3,6.5727770366299995E-7,9.0080641168538997E-4,1.6841652938498527E-3,3.8343859531782902E-5,8.3434375463805569E-5,9.6852714856432009E-4,0,4.7466642938108882E-3,1.6588861316112806E-2,2.0769103588873821E-5]
[20,2.5858561103918768E-2,3.2199576005634014E-3,0,0,0,0,1.8265606925869688E-3,5.4773129744457222E-5,2.1120340078342783E-5,1.345975583963153E-4,0,0,7.3158868330452673E-5,4.0796649779120135E-6,6.5690112353711827E-5,2.8944692431273405E-4,1.3193611547815532E-5,3.1963231973322732E-6,4.6074003689316217E-2,6.9146007049288305E-2,0,0,0,0,6.899016571924875E-2,6.9322593635533364E-2,3.824186138552152E-6,4.2267590265836874E-2,1.6831214227358062E-7,0,2.5157140038007692E-3,3.9424681730925041E-3,6.5971861378761651E-6,1.3279892060282783E-3,1.2473075434363311E-3,0,5.3631984986947693E-4,4.1871486094691488E-4,1.1434082393112621E-5,2.3618165838732591E-4,1.2583557897690405E-4,1.2348524808700807E-6,3.2030003420924501E-4,1.0597649765260463E-4,1.8443438370599948E-5,7.5271960794427641E-4,8.9826968780777486E-5,1.2425462512699309E-6,4.1440877615621949E-4,6.986214209961344E-4,2.1361525369047495E-6,3.2779634275958514E-4,3.0275621453434688E-4,3.5807495282598815E-6,3.1079304860267567E-4,3.7083713281927977E-4,0,1.1906781411020879E-4,9.1631146328547211E-5,3.115365538331073E-6]
[30,0.18614564085342228,8.8067541813259848E-2,0,0,0,0,1.1022026326448858E-2,1.1825552732405795E-4,1.1589880569681342E-4,3.1210998478030422E-3,4.7583867926759997E-7,0,1.8959874655105865E-4,5.0089220006586396E-5,1.1295494929113863E-3,4.1334018103108992E-3,5.4821730741785227E-5,1.4840071987614124E-5,0.12377165618914407,0.12961341183885666,0,3.1231656872100786E-7,0,0,5.326420766885729E-2,6.6389011347916194E-2,2.4335729972604603E-5,5.3220094342621801E-2,0,0,5.9592930984979434E-3,9.8856752552056101E-3,8.2992601614482157E-5,3.8137625637949374E-3,1.6412898823986144E-3,0,2.7163970559173798E-3,2.9597754739833573E-3,2.596040090511733E-5,1.2342950013949606E-3,7.1054727822124797E-4,3.0244937574933862E-6,1.9365065881491244E-3,3.8232027634167498E-4,2.9424646602080298E-5,7.9084620621736549E-3,4.8716722476765126E-4,2.2365832522858754E-6,1.5245928077243995E-3,1.0464406254715795E-3,3.9436662219779989E-6,2.2568606772988258E-3,2.7076631613992502E-3,7.0123011595089349E-6,8.5989553212384602E-4,5.0135522984505975E-4,0,4.8300117636880345E-4,9.1061687227070353E-4,1.5576827691655365E-6]
[40,0.14575254532549289,0.11829456856673265,0,0,0,0,5.2474230776223471E-2,9.8319468920174776E-5,1.30630430804839E-4,2.0980020532918985E-2,4.0786172508651426E-7,0,3.1609098835905513E-4,1.5117425223707296E-4,4.2316334397053106E-3,1.4325922791121413E-2,1.2078978848086289E-4,1.7351468785518058E-5,9.4610701438095593E-2,0.10784383951046835,0,1.2492662748840315E-6,0,0,3.564908294573841E-2,4.3810429730043038E-2,1.7556490908807609E-5,2.5931406643317344E-2,0,0,1.6129461391396888E-2,8.6388040569833902E-3,1.1518686996731785E-4,1.2575165179009192E-2,1.5984092188572048E-3,0,8.2994022967306496E-3,1.7555410910627056E-3,4.7498185035540165E-5,3.1086047511087031E-3,3.3888890984457758E-3,3.8119359192076406E-6,5.4150397378796289E-3,4.1205629783491634E-4,6.785887541226152E-5,2.9450660804577838E-2,2.5499581079585251E-3,2.9572600780224352E-6,5.4722633944706851E-3,7.8333896308106267E-4,5.751179907051249E-6,1.3977629589759333E-2,1.7835486361590842E-2,1.0891446481790473E-5,2.405517337590844E-3,4.7649463993538739E-4,1.0941965462740152E-6,2.1152656019752742E-3,8.5097897364331005E-3,4.1538207177747645E-6]
[50,8.24046579424801E-2,0.10047562466463802,3.6059710697989427E-7,0,0,0,0.14671640293648339,8.5731855252193918E-5,1.2747365399597637E-4,4.4751920724088817E-2,2.7190781672434284E-7,0,4.1633539191108756E-4,1.6839950436603479E-4,1.18049938493207E-2,3.4628233251274822E-2,3.8420706731483504E-4,1.2556983989519644E-5,4.8344317748104354E-2,0.10203059721499824,0,1.2492662748840315E-6,0,0,5.9557070600730302E-2,4.4345048244747699E-2,1.6339704410177378E-5,1.7903015139159421E-2,0,0,8.7566552316260551E-2,1.140003951356974E-2,1.2692986129273742E-4,3.1101400664613945E-2,1.4244176780028193E-3,0,7.137736118020345E-2,6.8461381816764533E-4,6.0424451137187926E-5,8.0947195938578208E-3,1.2529258003778375E-2,4.8678242724153911E-6,3.8781778585619181E-2,2.5733955442647243E-4,8.2433933610408155E-5,3.1921263379017559E-2,9.4083067940404306E-3,5.4920544306130947E-6,3.4409112792731129E-2,9.0683566175416258E-4,7.8873324439559977E-6,3.3027083993548735E-2,4.0378377203132518E-2,1.0742248584779644E-5,2.6987370208614556E-2,3.6358612742895866E-4,5.4709827313700754E-6,6.1718542600952579E-3,2.9950960287220895E-2,5.1922758972184553E-6]
[60,4.0339005887017214E-2,7.3058009203588958E-2,2.5241797488592599E-7,0,0,0,0.17529832428370432,7.9472068995684519E-5,1.0612782985985769E-4,5.3151896025056447E-2,4.0786172508651426E-7,0,5.2216444190055921E-4,9.0205925622721192E-5,3.4490742266832179E-2,5.2553089687061537E-2,8.5394513362930179E-4,8.2191167931401315E-6,1.3190826623264125E-2,0.10378648980109055,0,2.8108491184890708E-6,2.8645596111990529E-7,0,7.259831610991864E-2,4.7799778344336803E-2,1.2689344914286687E-5,2.3247814237977737E-2,0,0,0.15009432764025987,1.0439897999833938E-2,3.1165107315327004E-4,5.6992577755121634E-2,2.5322980942272342E-3,0,0.16594539980709674,7.7157189677991246E-4,1.3357740908935027E-4,2.4836548525520079E-2,2.480275045523157E-2,7.9996965065061747E-6,0.10334339771450531,2.0847509805453775E-4,1.6384461827197383E-4,3.1001286547869794E-2,1.9754580039193857E-2,7.2813210324417939E-6,8.065449533741223E-2,1.1824659747347041E-3,1.5446026036080499E-5,4.9307337551751595E-2,4.0365855528085304E-2,1.596417498015864E-5,6.0523817426291197E-2,3.3924346647573779E-4,7.6593758239181057E-6,1.3271402097953532E-2,5.7822877163959049E-2,6.7499586663839917E-6]
[70,1.3360468900711544E-2,4.4051398740991024E-2,1.0817913209396829E-7,0,0,0,8.7044409807501472E-2,6.599992031319691E-5,7.9971679157853109E-5,6.0331588108462314E-2,7.4774649599194287E-7,6.797695418108571E-8,4.1549769494547169E-4,2.0624972943888515E-5,7.0189312836418841E-2,5.4741281235468064E-2,6.7469399742794587E-4,8.9040431925684758E-6,4.6070552926972272E-3,5.1512581829294683E-2,0,3.1231656872100787E-6,1.4322798055995265E-6,0,2.5050863007035653E-2,3.648994471373284E-2,9.0389854183959951E-6,2.4846288715744305E-2,8.4156071136790305E-7,0,5.1895471899732669E-2,7.3291538752584765E-3,4.3422679159500923E-4,7.1297468039292211E-2,5.7374327818405834E-3,1.3064506965943948E-7,7.2121984068886633E-2,9.8727728487363613E-4,2.0428534313355145E-4,4.107483315537911E-2,3.5917618696843713E-2,1.1632668298051486E-5,8.4591463369315931E-2,1.9754456383814161E-4,2.6312472360113029E-4,3.3166637858575009E-2,2.6557681164830951E-2,1.165508383691195E-5,5.9331021343762946E-2,1.2463024325029249E-3,2.9906135516666497E-5,4.7062253095952543E-2,4.9758006218853922E-2,1.7157758156245265E-5,3.5623349533965079E-2,3.1800837926122594E-4,1.1160804771994955E-4,2.3640655648507803E-2,7.6057475283339934E-2,4.6730483074966095E-6]
[80,4.0294234515333505E-3,2.9373529233905325E-2,7.2119421395978854E-8,0,0,0,1.9343202179444768E-2,6.0556627916232208E-5,4.9606492710698351E-5,6.2814913060874333E-2,1.0196543127162856E-6,6.797695418108571E-8,2.6275761488151134E-4,1.0199162444780035E-5,8.1877117356383797E-2,5.6144996820643285E-2,5.2046522795520572E-4,9.5889695919968201E-6,1.198277223935419E-3,1.9600494835451159E-2,0,4.6847485308151183E-6,5.7291192223981059E-7,0,3.4714265597298988E-3,2.5678190316671033E-2,5.7362792078282281E-6,2.0301989207981888E-2,0,0,7.0157731524888994E-3,5.4625514278833793E-3,5.0468473954752666E-4,7.5882090593241316E-2,4.3981267238972291E-3,0,6.3939446496383322E-3,9.5678920672559681E-4,2.8640938145389489E-4,4.4044088940138768E-2,3.9395064718090365E-2,2.1278834779051103E-5,1.1151351626803847E-2,1.6167253790978694E-4,3.8970810576037643E-4,2.5679510975779689E-2,2.7772208358044715E-2,2.4850925025398616E-5,1.3008180614962978E-2,9.1608299909441888E-4,5.143198031162974E-5,3.3019183490517245E-2,4.1154721056059586E-2,1.7605351847277752E-5,9.7759014801247681E-3,2.8019956544026586E-4,7.495246341977003E-5,2.7159368398538625E-2,5.7722962976154472E-2,8.826869025271374E-6]
[90,1.9398743760254595E-3,1.8868855551503371E-2,3.6059710697989427E-8,0,0,0,5.336196796987689E-3,6.9810224991072198E-5,3.2995833787873602E-5,4.7434286914371758E-2,8.1572345017302852E-7,0,1.6753939312317407E-4,5.8928494125395759E-6,8.7798611769982673E-2,4.0574928244437612E-2,3.6760131484948102E-4,6.8492639942834421E-6,8.6786672950254248E-4,8.5679993650999275E-3,0,4.6847485308151183E-6,0,0,1.056425128505307E-3,1.8895523106964511E-2,5.9101058504896894E-6,1.5532991013495413E-2,0,0,2.7218174850330316E-3,3.5305704531752502E-3,5.2949015942594106E-4,6.7528790325755747E-2,3.029713791307584E-3,0,1.0865086504522269E-3,6.6912837788834785E-4,2.6648962785079936E-4,3.384833593191848E-2,2.7636214395831717E-2,4.2360809017673641E-5,1.7381449015937023E-3,9.4499436725388672E-5,4.3520524804671433E-4,1.8150228217776239E-2,2.2308959939310289E-2,3.3747556184491319E-5,2.6975524275823322E-3,8.0526410161360586E-4,7.164326969926698E-5,1.497950281380989E-2,1.3982388068491976E-2,1.8052945538310235E-5,2.6396550537361486E-3,2.2322738023059996E-4,9.3553804706428286E-5,2.1766114105494474E-2,3.7199139268836653E-2,1.3499917332767983E-5]
[100,null,1.0728548983069826E-2,0,0,0,0,null,4.1981392611590194E-5,2.81855072219877E-5,3.6295115342909426E-2,6.797695418108571E-7,0,null,2.2664805432844522E-7,7.6047177106344094E-2,2.8927466146036314E-2,3.6487160211545023E-4,7.5341903937117863E-6,null,4.482855664068904E-3,0,3.7477988246520946E-6,5.7291192223981059E-7,0,null,9.1440813987515943E-3,3.4765328532292293E-6,9.9523845288340997E-3,3.3662428454716124E-7,0,null,1.6735863179724081E-3,7.4350287773864376E-4,5.2477726280679149E-2,2.4282150290858132E-3,1.3064506965943948E-7,null,3.4924495853921227E-4,2.3143229975870877E-4,2.4507825136336932E-2,1.929173139026864E-2,4.0266928724024372E-5,null,4.4815190287224282E-5,4.3473105950944587E-4,1.4447367429017657E-2,1.660228937813038E-2,4.3812180819777764E-5,null,1.0167596556214023E-3,7.4601019365750485E-5,1.0168096467629294E-2,8.3216965417921788E-3,1.8202143435321064E-5,null,1.5952211858706445E-4,4.3767861850960603E-5,1.6798397826357239E-2,2.223893098294763E-2,1.1942234563602447E-5]
[110,null,5.7921058204708177E-3,0,0,0,0,null,1.6806165275628488E-5,2.6156150702004588E-5,3.2234823643185424E-2,4.7583867926759997E-7,6.797695418108571E-8,null,0,5.916756485634693E-2,2.5703430866925642E-2,3.7260578819520417E-4,5.9360287950456499E-6,null,2.7888548532043872E-3,0,3.1231656872100787E-6,0,0,null,3.7147146623305203E-3,5.0409726371823825E-6,8.0950436988715714E-3,0,0,null,6.9043884133810436E-4,1.0320637994093475E-3,4.3501813326050687E-2,2.2208285472309964E-3,1.3064506965943948E-7,null,1.2568956088127199E-4,2.1158445862349439E-4,1.8487785303210776E-2,1.5470749589757672E-2,3.6991885187803725E-5,null,1.4607168452820331E-5,3.5918533833514813E-4,1.2696991896362973E-2,1.1992123905994587E-2,4.5154130771149289E-5,null,3.0590788523976768E-4,5.077470260796674E-5,9.5354599607299396E-3,7.06192659150672E-3,1.5367383392115324E-5,null,1.0721129398546215E-4,3.1731699841946437E-5,1.3988397413356312E-2,1.3705845192363205E-2,8.3076414355495291E-6]
[120,null,3.1828976499209275E-3,0,0,0,0,null,1.8098947219907604E-5,1.9166144910951635E-5,2.7668295571048621E-2,4.7583867926759997E-7,0,null,0,3.6373553640426722E-2,2.4339381070125302E-2,3.4644604116074228E-4,4.3378671963795144E-6,null,1.6131976598726702E-3,0,4.37243196209411E-6,0,0,null,1.5179798141929034E-3,3.3027062105677679E-6,7.6237655544316007E-3,1.6831214227358062E-7,1.6831214227358062E-7,null,3.3417135939011041E-4,6.7858656614194237E-4,3.5045480533334658E-2,1.7145768346330233E-3,6.5322534829719738E-7,null,3.6102891367091779E-5,1.1579705140572075E-4,1.6359057309829235E-2,1.2147603234122081E-2,1.891650829390834E-5,null,5.4404249849790003E-6,2.0220397520784951E-4,1.3786710091857892E-2,9.881612445638923E-3,2.6540787927125723E-5,null,7.9795572210275816E-5,2.4976552739193997E-5,1.0469955309870386E-2,6.2721666581719241E-3,1.2532623348909585E-5,null,7.4063840772565649E-5,2.5166520564302347E-5,1.4428948325564083E-2,9.7848604336489876E-3,6.7499586663839917E-6]
[130,null,1.9694458872583378E-3,3.6059710697989427E-8,0,0,0,null,2.8985532013836991E-5,1.4130334287289834E-5,2.3722547753091183E-2,5.4381563344868568E-7,0,null,0,1.5334177969118202E-2,2.3296284166689749E-2,3.4621856509957306E-4,3.6529407969511693E-6,null,1.1441382337249687E-3,0,3.7477988246520946E-6,2.8645596111990529E-7,0,null,9.3200424531976933E-4,3.1288795679063065E-6,6.7207629669600128E-3,3.3662428454716124E-7,1.6831214227358062E-7,null,1.7260971033452609E-4,2.7945680480043439E-4,3.1730509727874771E-2,1.4721061735170533E-3,3.9193520897831843E-7,null,1.5592729703865297E-5,3.9605791685577207E-5,1.7153475146856036E-2,1.0665647025102521E-2,1.5122468787466931E-5,null,3.2543181416997673E-6,8.2733421107630356E-5,1.7712597072495413E-2,9.5090143525131277E-3,2.3111360273620713E-5,null,3.9375758997220212E-5,2.1197205943131747E-5,1.3818427000369959E-2,6.044093291240585E-3,1.3129414936952899E-5,null,4.3506032341926676E-5,1.6960046467247236E-5,1.6046199852869703E-2,9.269758791858566E-3,6.7499586663839917E-6]
[140,null,1.0309306036074438E-3,0,0,0,0,null,1.8983482234414365E-5,9.4703304265878678E-6,2.0320084625387966E-2,5.4381563344868568E-7,6.797695418108571E-8,null,0,7.1599933611456914E-3,2.134246076216683E-2,3.8534444762068122E-4,2.5113967979039289E-6,null,8.587483812856826E-4,0,3.7477988246520946E-6,0,0,null,6.4575181224956011E-4,3.9980127812136143E-6,5.0995661500865134E-3,1.6831214227358062E-7,0,null,8.6694786741813929E-5,1.0489525959223103E-4,2.609945090884869E-2,1.057463151212091E-3,6.5322534829719738E-7,null,6.7771153185377835E-6,1.5982545986599245E-5,1.8277832145418015E-2,9.6080417156904959E-3,1.2259042744869643E-5,null,2.0618962271838223E-6,3.7261236112727637E-5,2.1781744472888543E-2,9.5086417295784723E-3,1.7569603992956822E-5,null,2.1328536123494283E-5,1.5774664887911995E-5,1.8390433198086753E-2,6.4988984170624917E-3,1.1637435966844615E-5,null,2.9004021561284451E-5,1.2036162009014166E-5,1.8329713453044186E-2,1.1267524857857796E-2,2.0769103588873823E-6]
[150,null,6.4282956255602242E-4,0,0,0,0,null,8.0968974404849801E-6,9.9212985421396709E-6,1.7708620078240062E-2,0,0,null,0,4.9654400606321406E-3,2.0538038573924156E-2,3.9444349006745051E-4,2.5113967979039289E-6,null,5.3496270532544859E-4,0,3.7477988246520946E-6,2.8645596111990529E-7,0,null,4.3139925501522119E-4,2.0859197119375374E-6,3.7039095880521426E-3,0,0,null,4.5881948605487736E-5,7.3888484744213067E-5,1.9465221689691083E-2,7.4365465893177661E-4,1.3064506965943948E-7,null,2.5749461896291315E-6,8.7373648475671915E-6,2.0437490817755657E-2,9.1015883752386933E-3,1.4084476847025414E-5,null,7.9494794301063012E-7,2.2411647708793985E-5,2.7400325228824667E-2,1.015057167987274E-2,1.9905590945344294E-5,null,1.148459637418923E-5,1.5938984313827747E-5,2.2332038880328205E-2,8.1189646600754329E-3,1.0742248584779644E-5,null,8.2868633032241281E-6,9.3006706433291283E-6,1.9534886806298821E-2,1.5088077738675187E-2,3.6345931280529188E-6]
[160,null,3.7352244313558925E-4,0,0,0,0,null,1.224740789317056E-6,8.4180714903003262E-6,1.6490716110447948E-2,3.3988477090542855E-7,0,null,0,4.0698114556144598E-3,2.2218054707836436E-2,4.5631697870548201E-4,3.424631997141721E-6,null,2.1862696527226422E-4,0,1.8738994123260473E-6,0,0,null,2.6368900599291038E-4,2.4335729972604606E-6,3.417271488058832E-3,0,3.3662428454716124E-7,null,3.1844411921655791E-5,8.8666181693055669E-5,1.5041709263466763E-2,5.6017739553641257E-4,6.5322534829719738E-7,null,1.126538957962745E-6,1.0031789269428998E-5,2.3524622883646859E-2,9.5556191641758218E-3,2.0956699349258907E-5,null,4.9684246438164382E-8,1.6921043593053811E-5,3.8455324670631397E-2,1.1661955144361479E-2,2.8056694353675038E-5,null,1.0440542158353845E-6,1.8075136850732497E-5,2.6651378047132086E-2,1.099417975901117E-2,8.3550822326063907E-6,null,2.5896447822575401E-6,1.2036162009014166E-5,1.7092443558594624E-2,2.0929692739643135E-2,3.6345931280529188E-6]
[170,null,2.7035360293419327E-4,0,0,0,0,null,1.0886584793929385E-6,5.0358106236618023E-6,1.2618317163960018E-2,1.3595390836217142E-7,0,null,0,2.6248578692416977E-3,2.1208957051579356E-2,5.0931890095791334E-4,2.0547791982850329E-6,null,1.335257743340434E-4,0,1.2492662748840315E-6,0,0,null,1.8623246527979491E-4,1.5644397839531533E-6,3.313421982659024E-3,3.3662428454716124E-7,6.7324856909432249E-7,null,2.3785826047604119E-5,8.9853675197873383E-5,1.096159527883649E-2,4.4582895942598728E-4,1.0451605572755158E-6,null,6.7949968892990966E-7,9.4924457603199116E-6,2.1505135611896396E-2,1.0123381143489773E-2,2.0813528047129042E-5,null,9.9368492876328764E-8,1.1155909271526627E-5,4.4876382381619562E-2,1.3069351968552559E-2,3.1858885882561026E-5,null,8.9490361357318675E-7,1.6924900869322248E-5,2.7326498391087594E-2,1.4704322261987712E-2,9.9962590997255027E-6,null,1.035857912903016E-6,7.1122775507810988E-6,1.311350782272043E-2,2.7997197879063056E-2,3.6345931280529188E-6]
[180,null,1.9479027611302396E-4,null,0,0,0,null,4.7628808473441062E-7,null,7.7564902061294776E-3,3.3988477090542855E-7,0,null,0,null,1.4527198334417972E-2,6.4148249249723784E-4,2.0547791982850329E-6,null,1.034394947094199E-4,null,6.2463313744201573E-7,8.5936788335971588E-7,0,null,1.0608178402013635E-4,null,3.4219842695032312E-3,0,1.6831214227358062E-7,null,1.7156989280239036E-5,null,6.055402107049598E-3,4.0762618645273163E-4,6.5322534829719738E-7,null,4.2915769827152189E-7,null,1.2766718194653347E-2,1.169498492184582E-2,2.3229543770570503E-5,null,2.4842123219082191E-8,null,2.9290905687628238E-2,1.5698032881839151E-2,3.7127281987945532E-5,null,1.1932048180975822E-6,null,1.9104608858914938E-2,1.895721975123681E-2,5.9679158804331363E-6,null,1.035857912903016E-6,null,9.2199903013166027E-3,3.3246057724402832E-2,5.711503486940301E-6]
[190,null,null,null,0,0,0,null,null,null,4.2439697819395758E-3,3.3988477090542855E-7,0,null,null,null,8.9331888653198695E-3,7.4020710304468519E-4,2.5113967979039289E-6,null,null,null,3.1231656872100786E-7,0,0,null,null,null,1.9233197701841241E-3,0,0,null,null,null,2.9995067811729613E-3,4.9156833387015739E-4,1.1758056269349553E-6,null,null,null,5.2238340955816599E-3,1.3635245108687912E-2,2.8705846077037821E-5,null,null,null,1.1231472828653241E-2,1.8894591147539618E-2,3.6058692211853388E-5,null,null,null,9.8067602535095895E-3,2.258641856908674E-2,5.2219263953789939E-6,null,null,null,5.9828988159638394E-3,3.6202068151159922E-2,4.6730483074966095E-6]
[200,null,null,null,0,0,0,null,null,null,2.412423309276988E-3,1.3595390836217142E-7,6.797695418108571E-8,null,null,null,5.903629280070064E-3,8.2232596112677837E-4,1.8264703984755846E-6,null,null,null,0,0,0,null,null,null,7.3553053257238319E-4,0,0,null,null,null,1.9226674758640507E-3,6.716671207440771E-4,1.5677408359132737E-6,null,null,null,2.1657375340978012E-3,1.5579528172095762E-2,3.5327518800544052E-5,null,null,null,4.399488489678729E-3,2.2421094601112395E-2,3.4642189485405669E-5,null,null,null,5.2405676334952135E-3,2.4898158290897993E-2,6.4155095714656215E-6,null,null,null,3.6745362806707045E-3,3.6435546382765423E-2,4.6730483074966095E-6]
[210,null,null,null,0,0,0,null,null,null,1.4703763576324747E-3,4.0786172508651426E-7,0,null,null,null,4.0672166091368055E-3,7.9411892954179338E-4,1.3698527988566886E-6,null,null,null,0,2.8645596111990529E-7,0,null,null,null,3.5295366746093535E-4,1.6831214227358062E-7,0,null,null,null,1.3735937663761823E-3,6.8284208154577764E-4,1.6983859055727132E-6,null,null,null,1.0072495146530491E-3,1.5327195474440031E-2,4.6530673192205943E-5,null,null,null,2.176977091257604E-3,2.2990214029975121E-2,4.0134243916018763E-5,null,null,null,2.8596839652114052E-3,2.4099007101277787E-2,7.4598948505414202E-6,null,null,null,2.1789409982168211E-3,2.9391854987589082E-2,4.1538207177747645E-6]
[220,null,null,null,0,0,0,null,null,null,9.2532422469224435E-4,3.3988477090542855E-7,0,null,null,null,2.6805006475508165E-3,6.0986331999471452E-4,1.1415439990472406E-6,null,null,null,0,2.8645596111990529E-7,0,null,null,null,1.6848193663728959E-4,1.6831214227358062E-7,1.6831214227358062E-7,null,null,null,8.4699751825636886E-4,4.5427515072959831E-4,9.1451548761607634E-7,null,null,null,4.7533123163402322E-4,1.062450640742337E-2,4.9143549456075968E-5,null,null,null,1.0760057363818464E-3,1.8391301770465902E-2,4.9801253750898826E-5,null,null,null,1.4426616667700157E-3,1.8965120331921357E-2,4.7743327043465087E-6,null,null,null,1.1849835934707302E-3,2.0539354410085368E-2,4.1538207177747645E-6]
[230,null,null,null,0,0,0,null,null,null,6.3947435951219086E-4,2.7190781672434284E-7,0,null,null,null,2.0429014321305182E-3,5.3206650707483664E-4,3.424631997141721E-6,null,null,null,0,2.8645596111990529E-7,0,null,null,null,8.3988497884123384E-5,0,1.6831214227358062E-7,null,null,null,5.0671733719893214E-4,2.6001275074654637E-4,1.8290309752321527E-6,null,null,null,2.5695706240292564E-4,5.8792642460666943E-3,4.9698338251829193E-5,null,null,null,5.8101577209361663E-4,1.2748200681938099E-2,6.0437449661769433E-5,null,null,null,7.8080820526362296E-4,1.2261552154861006E-2,6.4155095714656215E-6,null,null,null,6.3727164856376966E-4,1.3307223821329411E-2,2.5961379486092276E-6]
[240,null,null,null,0,0,0,null,null,null,5.5083031095219334E-4,2.0393086254325713E-7,0,null,null,null,1.5315527545662836E-3,3.8921154066055814E-4,3.424631997141721E-6,null,null,null,3.1231656872100786E-7,0,0,null,null,null,4.3256601114668757E-5,1.6831214227358062E-7,0,null,null,null,3.1663337198815325E-4,1.3293005697836928E-4,9.1451548761607634E-7,null,null,null,1.5563674006522876E-4,2.9423676790980625E-3,4.2951390638959334E-5,null,null,null,3.3436539793835055E-4,7.0266500449009776E-3,6.0984170012328208E-5,null,null,null,4.4406789680800544E-4,7.4919865023543777E-3,6.4155095714656215E-6,null,null,null,3.2665995958061633E-4,8.0392094425763248E-3,3.115365538331073E-6]
[250,null,null,null,0,0,0,null,null,null,4.9420416643495559E-4,6.797695418108571E-8,0,null,null,null,1.0993089921039626E-3,2.9617383164234174E-4,3.424631997141721E-6,null,null,null,0,0,0,null,null,null,2.5920297944198402E-5,1.6831214227358062E-7,0,null,null,null,2.0060809452183365E-4,7.4976190495131058E-5,2.2209661842104713E-6,null,null,null,1.0378762505211407E-4,1.5789522328828322E-3,3.6150753787790769E-5,null,null,null,2.1000929228609329E-4,3.4331489876772703E-3,5.5815177607045289E-5,null,null,null,2.5684088157106191E-4,4.2508105434078949E-3,5.072728498368165E-6,null,null,null,1.8274321035175524E-4,4.7482535261324007E-3,2.0769103588873823E-6]
[260,null,null,null,0,0,0,null,null,null,4.0195725393808702E-4,2.7190781672434284E-7,0,null,null,null,7.2826387456289318E-4,2.2542877661871019E-4,5.0227935958078578E-6,null,null,null,0,0,0,null,null,null,1.582148056334188E-5,1.6831214227358062E-7,1.6831214227358062E-7,null,null,null,1.1459607472037389E-4,5.0547206416994773E-5,1.5677408359132737E-6,null,null,null,6.7135664439395065E-5,8.9686904129574602E-4,2.7864714677024869E-5,null,null,null,1.3419330458120131E-4,1.8774482354935893E-3,4.5775403896784251E-5,null,null,null,1.5145115245281422E-4,2.5518875611095443E-3,4.0283432192923663E-6,null,null,null,1.2165624485173507E-4,2.6267595280850195E-3,4.6730483074966095E-6]
[270,null,null,null,0,0,0,null,null,null,2.35681684323245E-4,0,0,null,null,null,4.3813696530658959E-4,1.4035272974141693E-4,5.7077199952362021E-6,null,null,null,0,0,0,null,null,null,1.2455208103056373E-5,0,1.6831214227358062E-7,null,null,null,6.1585645598024057E-5,3.1965585549050676E-5,1.3064506965943948E-6,null,null,null,4.5537826185656253E-5,4.880017466035264E-4,2.0026085885414789E-5,null,null,null,7.8523701551495249E-5,1.0836371770340362E-3,3.5735630186523207E-5,null,null,null,9.0184987434992715E-5,1.6357183368219538E-3,5.2219263953789939E-6,null,null,null,6.367539624154644E-5,1.4862882548545707E-3,2.0769103588873823E-6]
[280,null,null,null,0,0,0,null,null,null,1.286154446898124E-4,6.797695418108571E-8,0,null,null,null,2.4932781264213585E-4,9.8269658425108791E-5,1.1187131190662956E-5,null,null,null,0,0,0,null,null,null,5.0494086904282601E-6,0,0,null,null,null,3.5989923693360051E-5,2.7807460599580672E-5,1.4370957662538342E-6,null,null,null,2.6192742584211389E-5,2.9034441133929308E-4,1.4030787608726713E-5,null,null,null,4.4689699174672557E-5,6.8070757702734085E-4,2.5546750926109775E-5,null,null,null,5.1278736657252057E-5,1.0646405141330898E-3,5.6695200864114792E-6,null,null,null,3.7273402677978405E-5,8.805908469201062E-4,1.0384551794436911E-6]
[290,null,null,null,0,0,0,null,null,null,5.9277308546256031E-5,1.3595390836217142E-7,0,null,null,null,1.2058399665965114E-4,5.1637065885415959E-5,1.4611763187804677E-5,null,null,null,0,0,0,null,null,null,3.5345860832997819E-6,0,0,null,null,null,2.2867243935131297E-5,1.9621152105311596E-5,1.3064506965943948E-6,null,null,null,1.7288998006097212E-5,1.7627351138580519E-4,9.9325090852593463E-6,null,null,null,2.5934433539943382E-5,4.3745932528470446E-4,1.7793262318185406E-5,null,null,null,2.8918822417171216E-5,6.8988466807728076E-4,4.3267390133140235E-6,null,null,null,2.6919679711873291E-5,5.2700851391220937E-4,4.6730483074966095E-6]
[300,null,null,null,0,0,0,null,null,null,2.3180690612698744E-5,6.797695418108571E-8,0,null,null,null,5.757205855554773E-5,3.6396169787077323E-5,1.18720575900913E-5,null,null,null,0,0,0,null,null,null,2.1880770991855793E-6,1.6831214227358062E-7,0,null,null,null,1.1303694445206948E-5,1.5073202941828776E-5,1.4370957662538342E-6,null,null,null,1.0888314152754085E-5,1.1221143700753762E-4,6.9974973915971251E-6,null,null,null,1.3265313707212419E-5,2.8207556153366376E-4,1.205269863731833E-5,null,null,null,1.0881824930172675E-5,4.3676795105151956E-4,3.1331558372273963E-6,null,null,null,1.3977526004241903E-5,3.0129563369047719E-4,3.6345931280529188E-6]
[310,null,null,null,0,0,0,null,null,null,1.1624334588772684E-5,6.797695418108571E-8,0,null,null,null,3.2185953995621172E-5,2.2747606116923332E-5,1.438345438799523E-5,null,null,null,0,0,0,null,null,null,1.0098817380856521E-6,0,0,null,null,null,1.1173766922848247E-5,1.3643847490448461E-5,4.1806422291020633E-6,null,null,null,7.4376661536054188E-6,7.8526550563592289E-5,4.9930991617790225E-6,null,null,null,9.5887848145767691E-6,1.9490663635342368E-4,7.9522960081275564E-6,null,null,null,6.2607759872226346E-6,2.6996135131546146E-4,4.0283432192923663E-6,null,null,null,1.0871409114410368E-5,2.008637557936515E-4,1.5576827691655365E-6]
[320,null,null,null,0,0,0,null,null,null,7.6135992628218747E-6,1.3595390836217142E-7,0,null,null,null,2.3799473024931149E-5,1.4330991853661698E-5,1.438345438799523E-5,null,null,null,0,0,0,null,null,null,1.0098817380856521E-6,0,3.3662428454716124E-7,null,null,null,6.1065935508589251E-6,1.4423495918474086E-5,3.6580619504643054E-6,null,null,null,6.0788617601582746E-6,5.2726502188532251E-5,3.4898004894154459E-6,null,null,null,8.4957627113607649E-6,1.2328850831277616E-4,5.4175016555368986E-6,null,null,null,5.5154455125532731E-6,1.8186242330472829E-4,3.8791453222815391E-6,null,null,null,4.6591753347473006E-6,1.3201097352417816E-4,1.5576827691655365E-6]
[330,null,null,null,0,0,0,null,null,null,5.6422208822697818E-6,6.797695418108571E-8,6.797695418108571E-8,null,null,null,1.5639653702097614E-5,1.1601279119630898E-5,1.4611763187804677E-5,null,null,null,0,0,0,null,null,null,0,0,1.6831214227358062E-7,null,null,null,4.6773908049132197E-6,1.4423495918474086E-5,4.5725774380803815E-6,null,null,null,4.988242444365173E-6,3.6563478119887576E-5,2.7023583277011911E-6,null,null,null,6.110987213434935E-6,8.2498717732566937E-5,3.4791295035558063E-6,null,null,null,2.9813218986774448E-6,1.0658330546137765E-4,3.7299474252707101E-6,null,null,null,4.1414891864420449E-6,8.5936555313778737E-5,3.115365538331073E-6]
[340,null,null,null,null,0,0,null,null,null,null,6.797695418108571E-8,6.797695418108571E-8,null,null,null,null,7.0517578962462322E-6,1.1415439990472404E-5,null,null,null,null,0,0,null,null,null,null,0,0,null,null,null,null,1.3383964681106585E-5,6.5322534829719734E-6,null,null,null,null,2.529942373576573E-5,1.986501817051869E-6,null,null,null,null,5.1670380272128638E-5,2.8330054528954423E-6,null,null,null,null,7.0210820800431997E-5,1.6411768671191124E-6,null,null,null,null,4.6592108302651119E-5,1.0384551794436911E-6]
[350,null,null,null,null,0,0,null,null,null,null,0,0,null,null,null,null,6.824281835076999E-6,1.438345438799523E-5,null,null,null,null,0,0,null,null,null,null,0,0,null,null,null,null,8.9659569222947027E-6,6.0096732043342155E-6,null,null,null,null,1.7217911701443389E-5,1.7180556255583732E-6,null,null,null,null,3.4529725278009045E-5,2.1123286271588825E-6,null,null,null,null,4.2186119504293538E-5,1.1935831760866272E-6,null,null,null,null,3.5720616365365854E-5,5.1922758972184557E-7]
[360,null,null,null,null,0,0,null,null,null,null,0,0,null,null,null,null,5.0044733457231318E-6,2.260257118113536E-5,null,null,null,null,0,0,null,null,null,null,0,0,null,null,null,null,5.9773046148631346E-6,1.3325797105262826E-5,null,null,null,null,1.3695659774979894E-5,1.6106771489609748E-6,null,null,null,null,2.4046600049721404E-5,1.1928444012191336E-6,null,null,null,null,2.6832160815451718E-5,2.3871663521732544E-6,null,null,null,null,1.9672223505563806E-5,5.1922758972184557E-7]
[370,null,null,null,null,0,0,null,null,null,null,0,0,null,null,null,null,2.7297127340307995E-6,3.493124637084556E-5,null,null,null,null,0,0,null,null,null,null,0,1.6831214227358062E-7,null,null,null,null,2.4688866887478168E-6,1.3848377383900583E-5,null,null,null,null,9.2079174727345226E-6,1.3780237829999451E-6,null,null,null,null,1.4855234328236983E-5,7.4552775076195852E-7,null,null,null,null,1.4608620888412601E-5,7.4598948505414204E-7,null,null,null,null,1.0871491937285261E-5,0]
[380,null,null,null,null,0,0,null,null,null,null,0,0,null,null,null,null,5.2319494068923658E-6,4.0867275165891212E-5,null,null,null,null,0,0,null,null,null,null,0,0,null,null,null,null,1.0395312373675018E-6,1.6722568916408253E-5,null,null,null,null,7.79544081186845E-6,1.0021991149090511E-6,null,null,null,null,9.7130378300011048E-6,9.4433515096514738E-7,null,null,null,null,1.0881931886266531E-5,1.6411768671191124E-6,null,null,null,null,9.8361117527819029E-6,1.0384551794436911E-6]
[390,null,null,null,null,0,0,null,null,null,null,0,0,null,null,null,null,7.2792339574154662E-6,5.4109185554839194E-5,null,null,null,null,0,0,null,null,null,null,0,0,null,null,null,null,6.4970702335468855E-7,1.7506439334364889E-5,null,null,null,null,5.4532326780272422E-6,6.2637444681815685E-7,null,null,null,null,7.0053111715097474E-6,5.9642220060956681E-7,null,null,null,null,5.217364603004501E-6,2.9839579402165679E-7,null,null,null,null,7.7653513837751865E-6,0]
[400,null,null,null,null,0,0,null,null,null,null,0,0,null,null,null,null,3.8670930398769659E-6,5.2739332755982509E-5,null,null,null,null,0,0,null,null,null,null,0,1.6831214227358062E-7,null,null,null,null,9.0958983269656401E-7,1.6722568916408253E-5,null,null,null,null,4.8453313303127304E-6,7.6954574894802134E-7,null,null,null,null,4.5459998027882405E-6,3.9761480040637784E-7,null,null,null,null,3.1304187618027004E-6,4.4759369103248519E-7,null,null,null,null,2.5884504612583955E-6,5.1922758972184557E-7]
[410,null,null,null,null,null,0,null,null,null,null,null,0,null,null,null,null,null,4.8173156759793549E-5,null,null,null,null,null,0,null,null,null,null,null,0,null,null,null,null,null,1.4240312592878903E-5,null,null,null,null,null,5.905816212856907E-7,null,null,null,null,null,4.2246572543177642E-7,null,null,null,null,null,1.491978970108284E-7,null,null,null,null,null,0]
[420,null,null,null,null,null,0,null,null,null,null,null,0,null,null,null,null,null,2.8081982376562118E-5,null,null,null,null,null,0,null,null,null,null,null,0,null,null,null,null,null,1.005967036377684E-5,null,null,null,null,null,2.8634260425972887E-7,null,null,null,null,null,2.7336017527938477E-7,null,null,null,null,null,0,null,null,null,null,null,5.1922758972184557E-7]
[430,null,null,null,null,null,0,null,null,null,null,null,0,null,null,null,null,null,2.2830879980944809E-5,null,null,null,null,null,0,null,null,null,null,null,0,null,null,null,null,null,6.5322534829719734E-6,null,null,null,null,null,2.6844619149349585E-7,null,null,null,null,null,1.491055501523917E-7,null,null,null,null,null,1.491978970108284E-7,null,null,null,null,null,5.1922758972184557E-7]
[440,null,null,null,null,null,0,null,null,null,null,null,0,null,null,null,null,null,1.0958822390853509E-5,null,null,null,null,null,0,null,null,null,null,null,0,null,null,null,null,null,2.3516112538699106E-6,null,null,null,null,null,2.5054977872726277E-7,null,null,null,null,null,2.2365832522858756E-7,null,null,null,null,null,0,null,null,null,null,null,0]
[450,null,null,null,null,null,0,null,null,null,null,null,6.797695418108571E-8,null,null,null,null,null,8.2191167931401315E-6,null,null,null,null,null,0,null,null,null,null,null,0,null,null,null,null,null,2.8741915325076685E-6,null,null,null,null,null,1.968605404285636E-7,null,null,null,null,null,1.2425462512699307E-7,null,null,null,null,null,1.491978970108284E-7,null,null,null,null,null,0]
[460,null,null,null,null,null,0,null,null,null,null,null,0,null,null,null,null,null,5.2511023956173065E-6,null,null,null,null,null,0,null,null,null,null,null,0,null,null,null,null,null,1.1758056269349553E-6,null,null,null,null,null,1.4317130212986443E-7,null,null,null,null,null,1.7395647517779031E-7,null,null,null,null,null,1.491978970108284E-7,null,null,null,null,null,0]
[470,null,null,null,null,null,0,null,null,null,null,null,0,null,null,null,null,null,4.5661759961889622E-6,null,null,null,null,null,0,null,null,null,null,null,0,null,null,null,null,null,1.4370957662538342E-6,null,null,null,null,null,1.2527488936363139E-7,null,null,null,null,null,1.2425462512699307E-7,null,null,null,null,null,0,null,null,null,null,null,0]
[480,null,null,null,null,null,0,null,null,null,null,null,0,null,null,null,null,null,4.3378671963795144E-6,null,null,null,null,null,0,null,null,null,null,null,0,null,null,null,null,null,1.1758056269349553E-6,null,null,null,null,null,1.7896412766233054E-8,null,null,null,null,null,2.4850925025398615E-8,null,null,null,null,null,2.9839579402165679E-7,null,null,null,null,null,0]
[490]
[500]

{"sheet":"11643-2","index":6,"n_rows":56,"n_cols":61,"rows_kept":56,"cut":false,"hidden":true,"merged":[[4,31,4,36],[4,37,4,42],[4,43,4,48],[4,49,4,54],[4,55,4,60],[0,20,0,29],[4,1,4,6],[4,7,4,12],[4,13,4,18],[4,19,4,24],[4,25,4,30]]}
[null,null,null,null,null,null,null,null,null,null,null,null,null,null,null,null,null,null,null,null,"Recorded Classified Counts"]
["Year","WiM site ID & Lane",null,null,null,null,null,null,null,null,null,null,null,null,null,null,null,null,null,null,"Class 3","Class 4","Class 5","Class 6","Class 7","Class 8","Class 9","Class 10","Class 11","Class 12"]
[{"$f":"'Presumptive CTLD'!A3","v":"2014-2023"},{"$f":"MID(CELL(\"filename\",A1),FIND(\"]\",CELL(\"filename\",A1))+1,255)","v":"11643-2"},null,null,null,null,null,null,null,null,null,null,null,null,null,null,null,null,null,null,261522,116585,39479,14503,22483,13927,79593,51221,752,0]
[]
[null,"Class 3",null,null,null,null,null,"Class 4",null,null,null,null,null,"Class 5",null,null,null,null,null,"Class 6",null,null,null,null,null,"Class 7",null,null,null,null,null,"Class 8",null,null,null,null,null,"Class 9",null,null,null,null,null,"Class 10",null,null,null,null,null,"Class 11",null,null,null,null,null,"Class 12"]
["Load (kN)","SAST","SADT","TAST","TADT","TRDT","QADT","SAST","SADT","TAST","TADT","TRDT","QADT","SAST","SADT","TAST","TADT","TRDT","QADT","SAST","SADT","TAST","TADT","TRDT","QADT","SAST","SADT","TAST","TADT","TRDT","QADT","SAST","SADT","TAST","TADT","TRDT","QADT","SAST","SADT","TAST","TADT","TRDT","QADT","SAST","SADT","TAST","TADT","TRDT","QADT","SAST","SADT","TAST","TADT","TRDT","QADT","SAST","SADT","TAST","TADT","TRDT","QADT"]
[10,5.9677127489595003E-5,0,0,0,0,0,1.2926658969752078E-5,0,0,0,0,0,0,0,0,0,0,0,3.9085850921966243E-4,9.060194442529132E-2,0,0,0,0,1.5144403639738373E-3,8.2474529924582117E-3,0,1.5848046926684407E-2,0,0,2.133948279553223E-4,4.0206234331393974E-4,0,4.493637954685209E-4,7.095217823187172E-5,0,1.2126891040249133E-5,1.2121652908590616E-5,0,2.8285138600256866E-5,0,0,4.3970172053248196E-5,4.882073514262978E-6,0,0,0,0,0,0,0,0,0,0,0,0,0,0,0,0]
[20,3.4620434218479886E-2,2.0189892052906696E-3,0,0,0,0,4.9509103854150456E-3,4.2887163871853151E-6,0,6.0047215427264185E-5,0,0,1.3227848279394672E-5,0,0,7.5991787769601557E-5,0,0,6.7825447188117893E-2,9.1957985704107195E-2,0,0,0,0,0.14623906660275518,0.11015715734846591,0,8.8575586951088636E-2,0,0,5.9039235734305836E-3,4.8483988458445674E-3,0,8.7507686485975122E-4,2.8853885814294497E-3,0,8.2058629372352466E-4,5.2527162603892665E-4,0,1.8587376794454514E-4,2.0203623011642072E-5,0,8.9894573975529647E-4,3.9056588114103824E-5,0,6.0052761730735931E-4,4.8823147313739303E-6,0,1.3294336612603031E-3,0,0,0,0,0,0,0,0,0,0,0]
[30,0.19251841328143349,9.6339817296772295E-2,0,0,0,0,3.2174454175712922E-2,4.2887163871853151E-6,5.0928507097825617E-6,9.8648996773362599E-4,0,0,1.7196202763213072E-4,0,3.6914410845884327E-4,9.1190145323521868E-4,1.2671704974330051E-5,0,0.11077389984825493,0.10634581350984854,0,0,0,0,8.3176593582524258E-2,6.7905499772129202E-2,0,0.10604078152335308,0,0,3.6063725924449459E-2,1.2392980464500261E-2,0,4.8247481197672771E-3,3.3111016508206802E-3,0,2.289961258100378E-2,1.0085215219947392E-2,0,4.4771333670120877E-3,4.3235753244914035E-4,0,1.5746207169735436E-2,4.833252779120348E-4,0,1.2362080707497836E-2,1.4158712720984396E-4,0,5.0518479127891515E-3,2.6588673225206064E-4,0,3.1906407870247273E-3,5.3177346450412129E-4,0,0,0,0,0,0,0]
[40,0.15017460372462277,0.10585162723647029,0,0,0,0,4.2102128264482522E-2,0,1.0694986490543381E-4,8.80549523372667E-3,0,0,2.6455696558789343E-4,0,2.4694467945177794E-3,9.929593601894604E-3,2.5343409948660102E-5,0,0.10580769761346392,0.10071479464018938,0,0,0,0,3.5861359686720287E-2,4.1413681069081609E-2,0,3.6547536790108935E-2,0,0,2.0296219192195097E-2,8.5852135660564773E-3,0,1.3906626933446856E-2,3.4293552812071329E-3,0,1.5223290552526077E-2,4.4203627606660446E-3,1.6180611855202962E-5,6.8692479457766673E-3,3.2729869278860162E-3,0,2.2796091422272898E-2,2.2457538165609697E-4,0,3.700812470886003E-2,1.1375793324101258E-3,0,2.8183993618718425E-2,5.3177346450412129E-4,0,4.0946556766817334E-2,3.6692369050784365E-2,0,0,0,0,0,0,0]
[50,7.6099887961005808E-2,9.7506089470282997E-2,0,0,0,0,0.11219909097112481,1.2866149161555947E-5,9.778273362782519E-4,3.0418203700725545E-2,0,0,1.1905063451455205E-4,0,1.2474525044471255E-2,3.9908353877002416E-2,3.6747944425557149E-4,0,3.4579482227433671E-2,7.722540164103979E-2,0,0,0,0,1.9026076028952867E-2,3.2004822040252276E-2,0,1.4818952970406198E-2,0,0,3.5897752169373104E-2,6.6695047537959412E-3,9.4602904309162289E-5,3.4577361524998816E-2,3.3111016508206802E-3,0,2.3950609804492033E-2,8.8084011135758475E-4,6.8767600384612591E-5,6.396482057743803E-3,1.7173079559895763E-2,4.0405509695302047E-6,1.1373617837773534E-2,1.5134427894215231E-4,9.764147028525956E-6,3.1906081130923525E-2,5.3705462045113232E-3,0,1.5953203935123637E-3,0,0,5.0518479127891515E-2,9.7048657272002126E-2,0,0,0,0,0,0,0]
[60,3.2121695138431688E-2,6.8743140981274639E-2,0,0,0,0,0.1529654644753996,7.7196894969335672E-5,7.8939186001629707E-4,5.9373828797115578E-2,0,0,5.820253242933655E-4,0,3.1415436540566388E-2,5.8450350092785201E-2,7.6030229845980312E-4,0,9.3116291902331349E-3,7.4766140338780485E-2,0,0,0,0,2.7627509164144082E-2,2.5051087164258096E-2,0,1.0085120771526441E-2,0,0,0.14214466595468411,7.8520410576604707E-3,2.3650726077290572E-5,7.322264793529161E-2,3.3111016508206802E-3,0,0.13867908363927564,1.0828676598340951E-3,2.1843826004523998E-4,2.7836617116738509E-2,2.4034229934649411E-2,4.0405509695302047E-6,8.0245563997177957E-2,4.3938661628366798E-4,9.2759396770996576E-5,3.1510611724404045E-2,1.0921738054083479E-2,4.882073514262978E-6,2.49933528316937E-2,0,0,7.4714171762829032E-2,3.4831161925019942E-2,0,0,0,0,0,0,0]
[70,1.1115346262094244E-2,4.2459954802173475E-2,0,0,0,0,0.11820136961941301,5.5753313033409103E-5,1.1815413646695545E-3,5.225823376898478E-2,0,0,8.7303798644004836E-4,0,7.5050815981839311E-2,3.9604386725924007E-2,1.0644232178437243E-3,0,3.8855934151837035E-3,5.925210875910731E-2,0,0,0,0,1.543846972983038E-2,2.052307375663398E-2,0,9.8646006380382536E-3,0,0,7.7652006839297821E-2,7.8047396055058891E-3,4.0206234331393974E-4,9.5075918830708109E-2,3.6422118159027484E-3,0,0.10223777606332703,2.6384797831032238E-3,4.8541835565608883E-4,4.1251854281431764E-2,3.1347941464863839E-2,2.0202754847651027E-5,9.9059912061295607E-2,5.7120260116876845E-4,3.2221685194135655E-4,3.2545667455047625E-2,1.4119654203133405E-2,4.882073514262978E-6,0.10927944695559691,1.3294336612603031E-3,0,5.6633873969688914E-2,1.5953203935123637E-2,0,0,0,0,0,0,0]
[80,2.4217363349003395E-3,3.4577102062198634E-2,0,0,0,0,3.0192366467017607E-2,3.8598447484667839E-4,2.8519963974782349E-4,5.2554180759304861E-2,0,0,1.5873417935273606E-4,0,7.8080343492639467E-2,3.821120395014798E-2,9.7572128302341409E-4,0,6.4376695636179698E-4,3.5992553264841756E-2,0,0,0,0,1.5291436684784377E-3,1.805324826156628E-2,1.4701342232545831E-5,1.0952499963246645E-2,0,0,9.7687410130658653E-3,5.9599829714772241E-3,1.1825363038645286E-4,8.7815145924979895E-2,2.2941204294971854E-3,0,1.3388087708435041E-2,4.868863918283897E-3,6.6745023902712219E-4,3.8051592885516988E-2,3.7065566777158547E-2,1.2121652908590616E-5,1.4515042352244488E-2,3.710375870839863E-4,5.3702808656892753E-4,1.6971008111873017E-2,1.5628289455127949E-2,4.882073514262978E-6,2.9247540547726669E-2,2.6588673225206064E-4,0,2.2600372241425151E-2,1.0635469290082426E-3,0,0,0,0,0,0,0]
[90,8.6820595154217257E-4,2.4095947873369609E-2,0,0,0,0,3.7788933054908581E-3,1.5267830338379722E-3,4.5835656388043058E-5,3.8104247275415358E-2,0,0,1.9841772419092006E-4,0,7.3841550798956893E-2,3.1739236691770249E-2,7.0961547856248296E-4,0,1.149583850646066E-4,1.6939024109954261E-2,0,0,0,0,5.8813218018401442E-5,1.3187103982593611E-2,1.4701342232545831E-5,8.0269328589700241E-3,0,0,2.133948279553223E-4,4.5409394068397901E-3,2.3650726077290571E-4,6.6434889551109225E-2,1.4426942907147249E-3,0,8.3675548177719009E-4,5.3698922385056426E-3,6.5935993309952071E-4,3.1780373584431469E-2,2.4773682536875508E-2,2.8283856786711437E-5,5.7161223669222657E-4,1.9528294057051911E-4,8.6900908553880999E-4,1.2235139910343435E-2,1.2381550158764286E-2,9.764147028525956E-6,0,0,0,1.1433129486838606E-2,5.3177346450412129E-4,0,0,0,0,0,0,0]
[100,null,1.3425513446544583E-2,0,0,0,0,null,7.0334948749839173E-4,5.0928507097825617E-6,2.6605205521094268E-2,0,0,null,0,7.8754986173615982E-2,2.2404912094070861E-2,3.1679262435825134E-4,0,null,8.5269714311981427E-3,0,0,0,0,null,7.0272415871569073E-3,0,5.2042751503212246E-3,0,0,null,3.547608911593586E-3,2.601579868501963E-4,4.8413036280213803E-2,1.1588855777872381E-3,0,null,4.2991462315801381E-3,3.7215407266966811E-4,2.4006001203446578E-2,1.6013391599027507E-2,4.0405509695302047E-6,null,1.1228769082804848E-4,9.7641470285259556E-4,1.3987899378744591E-2,1.2474314138660391E-2,9.764147028525956E-6,null,0,2.6588673225206064E-4,7.9766019675618187E-3,1.3294336612603031E-3,0,null,0,0,0,0,0]
[110,null,6.6726063697579883E-3,0,0,0,0,null,1.1579534245400352E-4,0,2.1329628737127487E-2,0,0,null,0,6.9157239353686048E-2,1.9643877138442001E-2,4.9419649399887211E-4,0,null,3.1717575673998483E-3,0,0,0,0,null,2.7932550241837081E-3,1.4701342232545831E-5,3.5283221358109996E-3,0,0,null,9.4602904309162286E-4,4.7301452154581144E-5,3.1077054065559814E-2,6.8587105624142656E-4,0,null,2.3920061739618813E-3,2.6293494264704813E-4,1.9504623431919985E-2,1.0897834252479734E-2,2.0202754847651027E-5,null,3.9056588114103824E-5,1.0642920261093292E-3,1.7429947916969699E-2,1.4563944843688434E-2,3.4174514599840843E-5,null,0,0,8.2424886998138797E-3,1.8612071257644244E-3,0,null,0,0,0,0,0]
[120,null,3.6116198946913587E-3,0,0,0,0,null,9.4351760518076946E-5,0,2.0900720055504172E-2,0,0,null,0,4.6715823380826027E-2,1.9808526011942808E-2,5.5755501887052228E-4,0,null,8.2741501758256915E-4,0,0,0,0,null,6.7626174269710829E-4,1.4701342232545831E-5,3.1166845532997161E-3,0,0,null,3.3111016508206804E-4,4.7301452154581144E-5,2.3603424625135993E-2,9.9333049524620402E-4,0,null,7.4750192936308792E-4,3.478831548868637E-4,1.9140957364202398E-2,8.1663044213057256E-3,2.0202754847651027E-5,null,0,6.1514126279713522E-4,1.9939469829945169E-2,1.730780572272058E-2,3.4174514599840843E-5,null,2.6588673225206064E-4,0,1.0369582557830364E-2,1.3294336612603031E-3,0,null,0,0,0,0,0]
[130,null,2.3172489742540638E-3,0,0,0,0,null,1.9728095381052452E-4,0,2.0874985534606774E-2,0,0,null,0,2.0379300608365795E-2,2.0923072232563629E-2,8.7434764322877367E-4,0,null,2.2983750488404697E-4,0,0,0,0,null,2.6462416018582498E-4,0,2.4404228106026079E-3,0,0,null,2.3650726077290572E-5,0,1.9511849013764723E-2,9.9333049524620402E-4,0,null,1.3333818199449677E-4,3.6810891970586742E-4,1.639325818589173E-2,7.3258337040214153E-3,2.8283856786711437E-5,null,0,2.3922160219888591E-4,1.977347032597403E-2,1.7835095713708966E-2,5.8584882171155732E-5,null,0,0,9.3060356288221218E-3,1.5953203935123637E-3,0,null,0,0,0,0,0]
[140,null,1.2465728805393149E-3,0,0,0,0,null,1.5010507355148604E-4,0,2.1719935637404701E-2,0,0,null,0,5.4735160909414691E-3,2.1860304281722049E-2,5.1953990394753213E-4,0,null,6.8951251465214087E-5,0,0,0,0,null,5.8805368930183323E-5,0,2.2052013348818748E-3,0,0,null,4.7301452154581144E-5,0,1.7170427132112955E-2,1.1115841256326569E-3,0,null,1.6162203878120819E-5,6.4722447420811847E-5,1.6013429181831136E-2,8.2430781887499662E-3,3.6364958725771846E-5,null,0,2.9292441085577866E-5,2.1452994719093794E-2,1.7185747854436235E-2,4.8820735142629778E-5,null,0,0,2.3398032438181334E-2,2.6588673225206062E-3,0,null,0,0,0,0,0]
[150,null,6.1755067548189982E-4,0,0,0,0,null,7.2908178582150357E-5,0,2.5957553411843061E-2,0,0,null,0,1.7311585776000925E-3,2.1353692363258039E-2,6.4625695369083269E-4,0,null,4.5967500976809396E-5,0,0,0,0,null,2.9402684465091661E-5,0,1.6171476455800415E-3,0,0,null,0,0,1.277139208173691E-2,1.8447566340286648E-3,0,null,0,1.6180611855202962E-5,1.775902630687556E-2,8.6390691997781498E-3,7.2729917451543692E-5,null,0,1.9528294057051912E-5,2.5461394506161621E-2,1.5574583993082838E-2,2.9292441085577866E-5,null,0,0,3.0842860941239031E-2,3.4565275192767883E-3,0,null,0,0,0,0,0]
[160,null,3.2120282811442472E-4,0,0,0,0,null,2.1443581935926579E-5,0,3.0225194793995054E-2,0,0,null,0,8.4012107442357428E-4,2.3012846396227672E-2,7.0961547856248296E-4,0,null,0,0,0,0,0,null,1.4701342232545831E-5,0,9.7028858734802485E-4,0,0,null,0,0,1.0595525282626177E-2,1.4190435646374343E-3,0,null,4.0405509695302047E-6,0,2.0894635957418323E-2,7.8874944237450652E-3,3.3132517950147682E-4,null,0,2.9292441085577866E-5,2.9503970661694089E-2,1.5022882428437582E-2,1.1228769082804848E-4,null,0,0,3.6692369050784365E-2,3.1906407870247273E-3,0,null,0,0,0,0,0]
[170,null,1.5104180607761636E-4,0,0,0,0,null,0,2.5464253548912811E-5,2.9594699032008776E-2,0,0,null,0,8.6557928880004627E-4,2.484931460065971E-2,7.9831741338279338E-4,0,null,0,0,0,0,0,null,0,0,6.9096308492965408E-4,0,0,null,0,0,8.0885483184333761E-3,1.5372971950238872E-3,0,null,4.0405509695302047E-6,4.0451529638007405E-6,2.2224037471630393E-2,6.7035621152628398E-3,4.3233895373973193E-4,null,0,9.764147028525956E-6,3.3439135373480519E-2,1.5213292702961165E-2,1.4158013191362635E-4,null,0,0,3.3501728263759641E-2,4.2541877160329703E-3,0,null,0,0,0,0,0]
[180,null,4.397419670614147E-5,null,0,0,0,null,0,null,2.3898791740051148E-2,0,0,null,0,null,2.6293158568282141E-2,1.0010646929720741E-3,0,null,0,null,0,0,0,null,0,null,4.4104026697637495E-4,0,0,null,0,null,6.5985525755640701E-3,1.5845986471784684E-3,0,null,8.0811019390604095E-6,null,1.9375319941175955E-2,6.3883855962812231E-3,1.2929763102496655E-4,null,0,null,3.5431129421134203E-2,1.5379291403827881E-2,1.5134427894215231E-4,null,0,null,3.4033501728263763E-2,6.3812815740494546E-3,0,null,0,null,0,0,0]
[190,null,null,null,0,0,0,null,null,null,1.5016092943632278E-2,0,0,null,null,null,2.2594891563494864E-2,1.2291553825100152E-3,0,null,null,null,0,0,0,null,null,null,2.4992281795327913E-4,0,0,null,null,null,4.4699872286079181E-3,1.6082493732557589E-3,0,null,null,null,1.288590099945988E-2,7.1076345754956813E-3,6.8689366482013484E-5,null,null,null,2.9665087827313134E-2,1.621416722289282E-2,9.2759396770996576E-5,null,null,null,2.6322786492954001E-2,4.2541877160329703E-3,0,null,null,null,0,0,0]
[200,null,null,null,0,0,0,null,null,null,8.4623682884280172E-3,0,0,null,null,null,1.5287014639651514E-2,1.3812158422019758E-3,0,null,null,null,0,0,0,null,null,null,2.9402684465091661E-4,0,0,null,null,null,2.8617378553521594E-3,1.2298377560191098E-3,0,null,null,null,6.4247671963440596E-3,8.6309877505734937E-3,6.0608264542953075E-5,null,null,null,1.7205360352773452E-2,1.6306931202788925E-2,2.9292441085577866E-5,null,null,null,1.9409731454400427E-2,1.1699016219090667E-2,0,null,null,null,0,0,0]
[210,null,null,null,0,0,0,null,null,null,4.1861487326435602E-3,0,0,null,null,null,7.8778153321153628E-3,1.2164836775356851E-3,0,null,null,null,0,0,0,null,null,null,2.9402684465091661E-4,0,0,null,null,null,1.6792015514876307E-3,6.1491887800955492E-4,0,null,null,null,2.9658988189412198E-3,9.014856587794693E-3,9.2932672299194719E-5,null,null,null,7.4309189718845606E-3,1.6394812867953659E-2,9.764147028525956E-6,null,null,null,1.3294336612603031E-2,1.0901356022334486E-2,0,null,null,null,0,0,0]
[220,null,null,null,0,0,0,null,null,null,1.8571745914289567E-3,0,0,null,null,null,4.0275647517888829E-3,1.5586197118425966E-3,0,null,null,null,0,0,0,null,null,null,1.0290939562782081E-4,0,0,null,null,null,1.1588855777872381E-3,2.3650726077290571E-4,0,null,null,null,1.1596906826105316E-3,8.8613090529062119E-3,9.6973223268724928E-5,null,null,null,2.5339336047359314E-3,1.5598995566739706E-2,4.882073514262978E-6,null,null,null,8.7742621643179999E-3,9.0401488965700608E-3,0,null,null,null,0,0,0]
[230,null,null,null,0,0,0,null,null,null,9.8648996773362599E-4,0,0,null,null,null,2.3050842290112472E-3,1.7106801715345572E-3,0,null,null,null,0,0,0,null,null,null,8.8208053395274984E-5,0,0,null,null,null,9.9333049524620402E-4,7.095217823187172E-5,0,null,null,null,5.7782497426239028E-4,8.331974130001191E-3,1.4950038587261758E-4,null,null,null,8.6905622667243874E-4,1.2030023498105363E-2,4.882073514262978E-6,null,null,null,3.4565275192767883E-3,7.4448285030576976E-3,0,null,null,null,0,0,0]
[240,null,null,null,0,0,0,null,null,null,6.0047215427264187E-4,0,0,null,null,null,1.6971499268544348E-3,1.7486952864575473E-3,0,null,null,null,0,0,0,null,null,null,4.4104026697637492E-5,0,0,null,null,null,5.6761742585497376E-4,1.1825363038645286E-4,0,null,null,null,2.0607743837330005E-4,6.8611503747536473E-3,1.3737873296402697E-4,null,null,null,3.9546940651948059E-4,9.0762230856241358E-3,0,null,null,null,2.9247540547726668E-3,4.7859611805370914E-3,0,null,null,null,0,0,0]
[250,null,null,null,0,0,0,null,null,null,5.3184676521291136E-4,0,0,null,null,null,9.4989734712001936E-4,1.3558724322533155E-3,0,null,null,null,0,0,0,null,null,null,1.4701342232545831E-5,0,0,null,null,null,4.493637954685209E-4,2.3650726077290572E-5,0,null,null,null,8.4855415800770605E-5,5.0913129989338026E-3,1.2121652908590615E-4,null,null,null,1.2694079715440116E-4,5.2191944478387313E-3,4.882073514262978E-6,null,null,null,2.6588673225206062E-3,1.5953203935123637E-3,0,null,null,null,0,0,0]
[260,null,null,null,0,0,0,null,null,null,3.602832925635851E-4,0,0,null,null,null,7.3458728177281502E-4,1.1784685626126947E-3,0,null,null,null,0,0,0,null,null,null,0,0,0,null,null,null,2.601579868501963E-4,4.7301452154581144E-5,0,null,null,null,6.4651745372015698E-5,3.2810683770906723E-3,8.8892121329664511E-5,null,null,null,9.7646767041847051E-5,2.8317425441968793E-3,1.9528294057051912E-5,null,null,null,1.3294336612603031E-3,5.3177346450412129E-4,0,null,null,null,0,0,0]
[270,null,null,null,0,0,0,null,null,null,3.2168151121748668E-4,0,0,null,null,null,6.2059960011841275E-4,8.6167593825444365E-4,0,null,null,null,0,0,0,null,null,null,0,0,0,null,null,null,1.4190435646374344E-4,0,0,null,null,null,2.4244404514505887E-5,2.3436202693504805E-3,4.4446060664832256E-5,null,null,null,4.3941045168831178E-5,1.3572834953219524E-3,1.9528294057051912E-5,null,null,null,2.6588673225206064E-4,5.3177346450412129E-4,0,null,null,null,0,0,0]
[280,null,null,null,0,0,0,null,null,null,2.8307972987138831E-4,0,0,null,null,null,3.6729364088640751E-4,6.2091354374217255E-4,0,null,null,null,0,0,0,null,null,null,0,0,0,null,null,null,0,2.3650726077290572E-5,0,null,null,null,1.6162936343003924E-5,1.5718418703057533E-3,8.4851570360134303E-5,null,null,null,3.4176368464646468E-5,6.1517165615311521E-4,1.4646220542788933E-5,null,null,null,7.9766019675618183E-4,0,0,null,null,null,0,0,0]
[290,null,null,null,0,0,0,null,null,null,1.7585255946555941E-4,0,0,null,null,null,3.1663244904000647E-4,3.8015114922990156E-4,0,null,null,null,0,0,0,null,null,null,0,0,0,null,null,null,2.3650726077290572E-5,2.3650726077290572E-5,0,null,null,null,2.0203670428754904E-5,1.0546291212077162E-3,3.6364958725771846E-5,null,null,null,9.7646767041847058E-6,2.4411573656869649E-4,0,null,null,null,2.6588673225206064E-4,0,0,null,null,null,0,0,0]
[300,null,null,null,0,0,0,null,null,null,6.8625389059730492E-5,0,0,null,null,null,2.9130185311680598E-4,4.1816626415289171E-4,0,null,null,null,0,0,0,null,null,null,0,0,0,null,null,null,2.3650726077290572E-5,0,0,null,null,null,8.0814681715019622E-6,5.8186434273529172E-4,1.6162203878120819E-5,null,null,null,1.4647015056277059E-5,7.8117035701982885E-5,0,null,null,null,0,0,0,null,null,null,0,0,0]
[310,null,null,null,0,0,0,null,null,null,2.1445434081165783E-5,0,0,null,null,null,8.8657085731201816E-5,1.1404534476897048E-4,0,null,null,null,0,0,0,null,null,null,0,0,0,null,null,null,0,0,0,null,null,null,1.6162936343003924E-5,3.7578738801654255E-4,1.2121652908590616E-5,null,null,null,1.4647015056277059E-5,6.347009150786109E-5,0,null,null,null,0,0,0,null,null,null,0,0,0]
[320,null,null,null,0,0,0,null,null,null,2.1445434081165783E-5,0,0,null,null,null,1.2665297961600261E-5,7.6030229845980318E-5,0,null,null,null,0,0,0,null,null,null,0,0,0,null,null,null,0,0,0,null,null,null,0,2.3032130233271962E-4,8.0811019390604095E-6,null,null,null,4.8823383520923529E-6,2.4411573656869651E-5,4.882073514262978E-6,null,null,null,0,0,0,null,null,null,0,0,0]
[330,null,null,null,0,0,0,null,null,null,1.7156347264932623E-5,0,0,null,null,null,5.0661191846401045E-5,5.0686819897320205E-5,0,null,null,null,0,0,0,null,null,null,0,0,0,null,null,null,0,0,0,null,null,null,0,1.4142536108149449E-4,0,null,null,null,4.8823383520923529E-6,2.4411573656869651E-5,0,null,null,null,0,0,0,null,null,null,0,0,0]
[340,null,null,null,null,0,0,null,null,null,null,0,0,null,null,null,null,1.2671704974330051E-5,0,null,null,null,null,0,0,null,null,null,null,0,0,null,null,null,null,0,0,null,null,null,null,8.4855216648896698E-5,0,null,null,null,null,1.9529258925495721E-5,0,null,null,null,null,0,0,null,null,null,null,0,0]
[350,null,null,null,null,0,0,null,null,null,null,0,0,null,null,null,null,1.2671704974330051E-5,0,null,null,null,null,0,0,null,null,null,null,0,0,null,null,null,null,0,0,null,null,null,null,4.0407246023284144E-5,0,null,null,null,null,9.7646294627478606E-6,0,null,null,null,null,0,0,null,null,null,null,0,0]
[360,null,null,null,null,0,0,null,null,null,null,0,0,null,null,null,null,1.2671704974330051E-5,0,null,null,null,null,0,0,null,null,null,null,0,0,null,null,null,null,0,0,null,null,null,null,3.6366521420955733E-5,4.0405509695302047E-6,null,null,null,null,1.9529258925495721E-5,0,null,null,null,null,0,0,null,null,null,null,0,0]
[370,null,null,null,null,0,0,null,null,null,null,0,0,null,null,null,null,0,0,null,null,null,null,0,0,null,null,null,null,0,0,null,null,null,null,0,0,null,null,null,null,3.2325796818627315E-5,0,null,null,null,null,1.9529258925495721E-5,0,null,null,null,null,0,0,null,null,null,null,0,0]
[380,null,null,null,null,0,0,null,null,null,null,0,0,null,null,null,null,2.5343409948660102E-5,0,null,null,null,null,0,0,null,null,null,null,0,0,null,null,null,null,0,0,null,null,null,null,1.6162898409313657E-5,4.0405509695302047E-6,null,null,null,null,2.929388838824358E-5,0,null,null,null,null,0,0,null,null,null,null,0,0]
[390,null,null,null,null,0,0,null,null,null,null,0,0,null,null,null,null,0,0,null,null,null,null,0,0,null,null,null,null,0,0,null,null,null,null,0,0,null,null,null,null,1.2122173806985243E-5,0,null,null,null,null,0,0,null,null,null,null,0,0,null,null,null,null,0,0]
[400,null,null,null,null,0,0,null,null,null,null,0,0,null,null,null,null,0,0,null,null,null,null,0,0,null,null,null,null,0,0,null,null,null,null,0,0,null,null,null,null,4.0407246023284144E-6,4.0405509695302047E-6,null,null,null,null,4.8823147313739303E-6,0,null,null,null,null,0,0,null,null,null,null,0,0]
[410,null,null,null,null,null,0,null,null,null,null,null,0,null,null,null,null,null,0,null,null,null,null,null,0,null,null,null,null,null,0,null,null,null,null,null,0,null,null,null,null,null,4.0405509695302047E-6,null,null,null,null,null,0,null,null,null,null,null,0,null,null,null,null,null,0]
[420,null,null,null,null,null,0,null,null,null,null,null,0,null,null,null,null,null,0,null,null,null,null,null,0,null,null,null,null,null,0,null,null,null,null,null,0,null,null,null,null,null,0,null,null,null,null,null,0,null,null,null,null,null,0,null,null,null,null,null,0]
[430,null,null,null,null,null,0,null,null,null,null,null,0,null,null,null,null,null,0,null,null,null,null,null,0,null,null,null,null,null,0,null,null,null,null,null,0,null,null,null,null,null,0,null,null,null,null,null,0,null,null,null,null,null,0,null,null,null,null,null,0]
[440,null,null,null,null,null,0,null,null,null,null,null,0,null,null,null,null,null,0,null,null,null,null,null,0,null,null,null,null,null,0,null,null,null,null,null,0,null,null,null,null,null,0,null,null,null,null,null,0,null,null,null,null,null,0,null,null,null,null,null,0]
[450,null,null,null,null,null,0,null,null,null,null,null,0,null,null,null,null,null,0,null,null,null,null,null,0,null,null,null,null,null,0,null,null,null,null,null,0,null,null,null,null,null,0,null,null,null,null,null,0,null,null,null,null,null,0,null,null,null,null,null,0]
[460,null,null,null,null,null,0,null,null,null,null,null,0,null,null,null,null,null,0,null,null,null,null,null,0,null,null,null,null,null,0,null,null,null,null,null,0,null,null,null,null,null,0,null,null,null,null,null,0,null,null,null,null,null,0,null,null,null,null,null,0]
[470,null,null,null,null,null,0,null,null,null,null,null,0,null,null,null,null,null,0,null,null,null,null,null,0,null,null,null,null,null,0,null,null,null,null,null,0,null,null,null,null,null,0,null,null,null,null,null,0,null,null,null,null,null,0,null,null,null,null,null,0]
[480,null,null,null,null,null,0,null,null,null,null,null,0,null,null,null,null,null,0,null,null,null,null,null,0,null,null,null,null,null,0,null,null,null,null,null,0,null,null,null,null,null,0,null,null,null,null,null,0,null,null,null,null,null,0,null,null,null,null,null,0]
[490]
[500]

{"sheet":"12058-1","index":7,"n_rows":56,"n_cols":61,"rows_kept":56,"cut":false,"hidden":true,"merged":[[0,20,0,29],[4,37,4,42],[4,43,4,48],[4,49,4,54],[4,55,4,60],[4,31,4,36],[4,1,4,6],[4,7,4,12],[4,13,4,18],[4,19,4,24],[4,25,4,30]]}
[null,null,null,null,null,null,null,null,null,null,null,null,null,null,null,null,null,null,null,null,"Recorded Classified Counts"]
["Year","WiM site ID & Lane",null,null,null,null,null,null,null,null,null,null,null,null,null,null,null,null,null,null,"Class 3","Class 4","Class 5","Class 6","Class 7","Class 8","Class 9","Class 10","Class 11","Class 12"]
[{"$f":"'Presumptive CTLD'!A3","v":"2014-2023"},{"$f":"MID(CELL(\"filename\",A1),FIND(\"]\",CELL(\"filename\",A1))+1,255)","v":"12058-1"},null,null,null,null,null,null,null,null,null,null,null,null,null,null,null,null,null,null,226695,110367,43984,19756,30196,38693,260016,67591,82,0]
[]
[null,"Class 3",null,null,null,null,null,"Class 4",null,null,null,null,null,"Class 5",null,null,null,null,null,"Class 6",null,null,null,null,null,"Class 7",null,null,null,null,null,"Class 8",null,null,null,null,null,"Class 9",null,null,null,null,null,"Class 10",null,null,null,null,null,"Class 11",null,null,null,null,null,"Class 12"]
["Load (kN)","SAST","SADT","TAST","TADT","TRDT","QADT","SAST","SADT","TAST","TADT","TRDT","QADT","SAST","SADT","TAST","TADT","TRDT","QADT","SAST","SADT","TAST","TADT","TRDT","QADT","SAST","SADT","TAST","TADT","TRDT","QADT","SAST","SADT","TAST","TADT","TRDT","QADT","SAST","SADT","TAST","TADT","TRDT","QADT","SAST","SADT","TAST","TADT","TRDT","QADT","SAST","SADT","TAST","TADT","TRDT","QADT","SAST","SADT","TAST","TADT","TRDT","QADT"]
[10,5.3119674199331574E-5,2.4263278630668781E-5,0,0,0,0,1.3649392602029209E-5,0,0,0,0,0,0,0,0,1.1367770098217534E-5,0,0,3.7191060621428811E-4,4.9557761123489294E-2,0,0,0,0,1.2918595610251281E-3,0.14231630331720005,0,2.5425452573055801E-5,0,0,1.7339893546001071E-4,0,0,7.5810439442104086E-4,3.9710699994074565E-4,0,1.1469308083309686E-5,5.0917987670209289E-6,1.2762361367425518E-6,1.78216983832495E-5,2.5459597856390198E-6,0,3.7052263685699241E-6,7.3974345696912314E-6,0,3.6987381217503457E-5,0,0,0,2.4390243902439024E-3,0,0,0,0,0,0,0,0,0,0]
[20,3.6059405502312923E-2,2.4020645844362097E-3,0,0,0,0,1.9655125346922059E-3,0,0,7.701577464278272E-5,0,0,3.1288433889379689E-5,0,5.6958777428343814E-5,3.6376864314296108E-4,0,0,5.0816512830915914E-2,6.836135304840997E-2,0,0,0,0,9.1577544539774708E-2,0.22398014599847113,0,1.2458471760797341E-3,0,0,5.6701451895423494E-3,1.6036059297563476E-3,0,1.9555647446997302E-3,3.7725164994370833E-3,0,5.173932313137481E-4,6.0210520420022479E-4,0,1.8967378993601253E-4,9.9292431639921773E-5,0,2.593658457998947E-4,7.3974345696912306E-5,0,2.1341718962499495E-3,1.5534612596351585E-4,0,1.5384615384615384E-2,2.1951219512195121E-2,0,1.2195121951219513E-2,1.4634146341463415E-2,0,0,0,0,0,0,0]
[30,0.18960846373475573,8.2634109758249516E-2,0,0,0,0,1.741662496018927E-2,0,0,4.8791758406045282E-3,0,0,1.0950951861282891E-4,0,4.4427846394108178E-4,2.4895416515096397E-3,3.464486500748614E-5,0,0.13632214220509178,0.16936736209573966,0,0,0,0,4.9201151307726759E-2,0.1051162404704851,0,7.4581327547630352E-3,0,0,1.0464625755011647E-2,4.8021962520122877E-3,0,5.4617975688970441E-3,4.0746631298267813E-3,0,3.069951463632559E-3,2.6833779502200292E-3,0,2.2328042117299731E-3,1.1316791247165444E-3,1.2729496917552322E-6,4.0572228735840671E-3,5.1042298530869494E-4,3.6987172848456157E-6,5.6305890427405518E-2,9.8755751505377938E-4,0,2.8205128205128206E-2,1.2195121951219513E-2,0,1.9512195121951219E-2,2.4390243902439024E-3,0,0,0,0,0,0,0]
[40,0.15313959407715633,0.12556908417151932,0,0,0,0,8.4039310250693833E-2,0,0,3.0471064720432737E-2,0,0,1.5644216944689845E-4,0,1.7771138557643271E-3,1.7404056020371043E-2,9.2386306686629711E-5,0,7.8709808296987524E-2,0.11057659847410709,0,0,0,0,2.9933745881121718E-2,8.1943542401923058E-2,0,1.1695708183605668E-3,0,0,3.7081362348123287E-2,6.3282083464578451E-3,0,1.641123717468276E-2,3.2459180864721818E-3,0,2.944043948229115E-2,7.1539772676644043E-4,5.1049445469702073E-6,3.5554288274582753E-3,7.0523086062200847E-3,5.0917987670209289E-6,1.3616706904494472E-2,1.1798908138657513E-3,2.2192303709073692E-5,8.4963713394727192E-2,2.9293840895977274E-3,0,1.0256410256410256E-2,7.3170731707317077E-3,0,7.3170731707317069E-2,0,0,0,0,0,0,0,0]
[50,7.7176246652353855E-2,0.10298879477677784,0,0,0,0,0.15661768051321714,0,0,4.9095291164931547E-2,0,0,1.5644216944689845E-4,0,1.2257528902579591E-2,4.6164514368861403E-2,7.2754216515720895E-4,0,4.3665686175068469E-2,9.1334143541962051E-2,0,0,0,0,3.1990522287490671E-2,5.2075002535934563E-2,0,2.025561054986779E-3,0,0,0.10421276021146644,6.1299129895524889E-3,0,3.364949732509756E-2,2.7279524343755569E-3,0,9.1095616635469584E-2,2.7877598249439583E-4,1.6591069777653176E-5,2.0157613849911132E-2,2.5028057672724383E-2,1.4002446609307554E-5,5.6223104916680033E-2,1.183589531150597E-4,2.589102099391931E-5,6.0718485006653673E-2,9.4613188146350849E-3,0,5.128205128205128E-2,2.4390243902439024E-3,0,2.9268292682926831E-2,2.4390243902439024E-3,0,0,0,0,0,0,0]
[60,3.4751333525154381E-2,7.9096082583377456E-2,0,0,0,0,0.1628054051594704,0,0,6.2006759266809826E-2,0,0,5.1625915917476476E-4,0,5.1707178149450521E-2,5.1461895234630774E-2,2.4713337038673447E-3,0,1.7767183960509858E-2,9.9621902639929788E-2,0,0,0,0,3.8135354278419409E-2,4.5158791261630755E-2,0,8.8989084005695299E-4,0,0,0.13371658907998726,5.3539746364445794E-3,1.7229645327750927E-5,7.1459953996846973E-2,2.8315455647948819E-3,0,0.14556845819336653,3.5388001430795455E-4,4.0839556375761658E-5,4.2908284814585064E-2,3.8823340771209414E-2,4.8372088286698824E-5,0.10769240440248484,1.4424997410897899E-4,9.6166649405986004E-5,6.3858713672019715E-2,9.9791392345134709E-3,0,4.8717948717948718E-2,0,0,5.6097560975609757E-2,1.4634146341463415E-2,0,0,0,0,0,0,0]
[70,7.1932892144928179E-3,4.758028939474148E-2,0,0,0,0,6.3860958187360664E-2,0,0,5.7335979051709299E-2,0,0,7.8221084723449218E-4,0,6.2882490280891587E-2,5.6054474354310657E-2,9.9315279688126927E-4,0,4.8686479358961351E-3,4.3818783336709202E-2,0,0,0,0,1.2578632567876247E-2,3.0944960003043146E-2,0,1.5085768526679774E-3,0,0,3.7410820325497314E-2,3.4227502909315588E-3,0,8.4744010544542947E-2,2.5811954996148466E-3,0,5.741535626504829E-2,6.5938794032921022E-4,1.5187210027236368E-4,3.8496141486274865E-2,3.4306808111485794E-2,5.0917987670209284E-5,6.1091772364980909E-2,1.0726280126052285E-4,2.2932047166042817E-4,2.1271442938186239E-2,7.4270243079699958E-3,0,3.8461538461538464E-2,2.4390243902439024E-3,0,3.4146341463414637E-2,2.9268292682926831E-2,0,0,0,0,0,0,0]
[80,1.3744715699077047E-3,2.6879301217575435E-2,0,0,0,0,1.1197051731197963E-2,0,0,5.0884775340455025E-2,0,0,9.0736458279201096E-4,0,8.3672444042237074E-2,4.0605674790833032E-2,9.8160450854544064E-4,0,4.5643574399026272E-4,1.6913105124569575E-2,0,0,0,0,9.1790021441259101E-4,2.1664014726863402E-2,0,1.4746762492372364E-3,0,0,2.7657130205871708E-3,2.5002458044588211E-3,0,7.3053696189663939E-2,1.5884279997629826E-3,0,2.0453599415235606E-3,9.0252133145445957E-4,2.6418088030570825E-4,2.8433246792018634E-2,2.6549268644643697E-2,1.8966950407152958E-4,2.8900765674845412E-3,8.1371780266603543E-5,5.8809604829045288E-4,1.209117492000188E-2,3.7578967614031455E-3,0,7.6923076923076919E-3,0,0,3.9024390243902439E-2,1.4634146341463415E-2,0,0,0,0,0,0,0]
[90,6.4407604966689532E-4,1.6357861302276337E-2,0,0,0,0,2.0838072705764593E-3,0,0,4.0288310817545102E-2,0,0,6.2576867778759381E-4,0,8.2567443760127202E-2,3.1886595125500183E-2,2.6561063172406038E-4,0,3.5500557865909322E-4,8.7435014516237929E-3,0,0,0,0,2.8046950995940282E-4,9.9251022085903931E-3,0,1.1780459692182521E-3,0,0,1.8206888223301124E-3,1.7587936003779295E-3,0,5.3153455836111613E-2,1.2862813693732846E-3,0,3.4025613980485399E-4,8.490574444007398E-4,3.2799268714283589E-4,2.0114332582408953E-2,2.0220012617545094E-2,4.3152994550502372E-4,5.0391078612550962E-4,6.6576911127221082E-5,9.3207675578109515E-4,9.0138248027055914E-3,3.0551404772824783E-3,0,0,0,0,2.9268292682926831E-2,2.9268292682926831E-2,0,0,0,0,0,0,0]
[100,null,8.9553555673195697E-3,0,0,0,0,null,0,0,3.2391928746817435E-2,0,0,null,0,7.7144968148948875E-2,2.7851036740632957E-2,4.272866684256624E-4,0,null,4.9287691580581997E-3,0,0,0,0,null,4.1954958097798842E-3,8.4751508576852671E-6,1.3899247406603838E-3,0,0,null,7.0696605505387363E-4,0,4.7855339897828204E-2,1.2949141302415618E-3,0,null,4.6335368779890448E-4,3.2161150645912314E-4,1.7075733008064913E-2,1.5749307233962978E-2,9.1652377806376715E-5,null,1.183589531150597E-4,8.6919856193871969E-4,8.3073658214512774E-3,2.7962302673432853E-3,3.6987172848456157E-6,null,2.4390243902439024E-3,0,1.2195121951219513E-2,2.6829268292682926E-2,0,null,0,0,0,0,0]
[110,null,4.565907887771308E-3,0,0,0,0,null,0,0,3.2568611994527347E-2,0,0,null,0,7.7110792882491869E-2,2.7043925063659512E-2,4.9657639844063464E-4,0,null,2.1605563432583888E-3,0,0,0,0,null,1.7544800659079517E-3,0,1.4238253440911248E-3,0,0,null,2.1553843141886389E-4,0,4.6735412951524391E-2,1.6574900867091992E-3,0,null,1.2220317040850229E-4,2.3610368529737214E-4,2.1188726399227708E-2,1.3618338893383118E-2,2.2913094451594179E-5,null,1.4794869139382463E-5,5.1412170259354051E-4,1.1776782179653101E-2,2.481839298131408E-3,0,null,2.4390243902439024E-3,0,1.2195121951219513E-2,2.6829268292682926E-2,0,null,0,0,0,0,0]
[120,null,1.5881418740074113E-3,0,0,0,0,null,0,0,2.7249993204490473E-2,0,0,null,0,3.2079183447643239E-2,2.304246998908694E-2,6.1205928179892174E-4,0,null,5.4013908581459721E-4,0,0,0,0,null,7.0348717618531388E-4,0,5.7631025832259814E-4,0,0,null,8.6215372567545568E-5,0,4.0067540209684782E-2,1.2344848041636223E-3,0,null,1.2729496917552321E-5,9.6993946392433955E-5,2.1770477553595211E-2,1.1954554173468017E-2,2.0367195068083716E-5,null,3.6987172848456157E-6,2.3301918894527379E-4,1.6022933543422498E-2,2.1045701350771552E-3,0,null,0,0,2.4390243902439025E-2,0,0,null,0,0,0,0,0]
[130,null,7.4554437974236809E-4,0,0,0,0,null,0,0,2.0572272508992726E-2,0,0,null,0,7.9742288399681348E-3,2.1291833393961439E-2,5.8896270512726436E-4,0,null,2.5319019647559245E-4,0,0,0,0,null,2.8817546976265873E-4,0,8.4751508576852669E-4,0,0,null,1.4656613336482747E-4,0,3.6836981710731485E-2,1.303546891109839E-3,0,null,3.8188490752656965E-6,1.4038597504168073E-5,2.259282163613658E-2,1.2285528945601091E-2,8.9106478422866245E-6,null,7.3974345696912314E-6,8.1371780266603543E-5,2.3760693694124219E-2,1.7679868621562043E-3,0,null,0,0,2.6829268292682926E-2,4.8780487804878049E-3,0,null,0,0,0,0,0]
[140,null,3.3306864302099876E-4,0,0,0,0,null,0,0,1.7260594199353066E-2,0,0,null,0,2.4834026958757906E-3,2.4224718079301565E-2,6.9289730014972283E-4,0,null,1.350347714536493E-4,0,0,0,0,null,1.7799073132399509E-4,0,4.4070784459963386E-4,0,0,null,6.03507607972819E-5,0,3.0177723791555752E-2,9.4960369551047867E-4,0,null,6.3647484587761605E-6,1.2762361367425518E-6,2.1696644803150318E-2,1.2484113808880933E-2,8.9106478422866245E-6,null,0,1.8493586424228076E-5,2.8040133700989369E-2,1.71250610288352E-3,0,null,0,0,3.6585365853658534E-2,7.3170731707317077E-3,0,null,0,0,0,0,0]
[150,null,1.0146461972825128E-4,0,0,0,0,null,0,0,1.7935614812398634E-2,0,0,null,0,1.8682478996496774E-3,2.5747999272462713E-2,1.0277976618887556E-3,0,null,1.5191411788535546E-4,0,0,0,0,null,7.6281741995997898E-5,0,2.6272967658824329E-4,0,0,null,1.7243074513509113E-5,0,2.3432317645741264E-2,6.2155878251594974E-4,0,null,0,1.2762361367425518E-6,2.180230201499387E-2,1.2451016331667626E-2,1.4002446609307554E-5,null,0,1.4794869139382463E-5,3.8807160373404627E-2,1.8974419671258008E-3,3.6987172848456157E-6,null,0,0,1.2195121951219513E-2,4.8780487804878049E-3,0,null,0,0,0,0,0]
[160,null,9.0435856714310927E-5,0,0,0,0,null,0,0,2.2588273668759682E-2,0,0,null,0,1.7885056112499958E-3,2.9328846853401237E-2,1.5474706370010474E-3,0,null,6.7517385726824651E-5,0,0,0,0,null,6.7805992885331466E-5,0,4.0680724116889282E-4,0,0,null,8.6215372567545564E-6,0,2.0244833260107342E-2,7.0788639119872046E-4,0,null,0,1.2762361367425518E-6,2.6194077688008924E-2,1.3908578308945966E-2,1.7821295684573249E-5,null,0,2.589102099391931E-5,8.7149667624681654E-2,2.5484162092586291E-3,0,null,0,0,1.9512195121951219E-2,1.9512195121951219E-2,0,null,0,0,0,0,0]
[170,null,4.6320804658549498E-5,0,0,0,0,null,0,0,1.7514293221705765E-2,0,0,null,0,8.9994868336783229E-4,2.2053473990542017E-2,1.9170158637475665E-3,0,null,8.4396732158530821E-5,0,0,0,0,null,3.3902996442665733E-5,0,4.0680724116889282E-4,0,0,null,8.6215372567545564E-6,0,7.8394886241266726E-3,4.4890356515040814E-4,0,null,1.2729496917552322E-6,2.5524722734851036E-6,1.7602746088826719E-2,1.2645782255269012E-2,2.2913094451594179E-5,null,0,7.3974345696912314E-6,8.5189336420153958E-2,3.1217173884096994E-3,0,null,0,0,3.6585365853658534E-2,1.4634146341463415E-2,0,null,0,0,0,0,0]
[180,null,4.1909299452973358E-5,null,0,0,0,null,0,null,9.4865313001168822E-3,0,0,null,0,null,1.2334030556566023E-2,2.575268298889803E-3,0,null,5.0638039295118488E-5,null,0,0,0,null,8.4757491106664333E-6,null,1.6950301715370534E-4,0,0,null,3.4486149027018226E-5,null,2.954884173709284E-3,3.712087173359144E-4,0,null,0,null,8.0515887338609357E-3,1.3224988106501889E-2,3.8188490752656965E-5,null,0,null,3.6266127283762141E-2,4.5198325220813422E-3,0,null,0,null,9.7560975609756097E-3,7.3170731707317077E-3,0,null,0,null,0,0,0]
[190,null,null,null,0,0,0,null,null,null,3.9776382433154836E-3,0,0,null,null,null,5.8771371407784646E-3,2.529075145546488E-3,0,null,null,null,0,0,0,null,null,null,2.5425452573055803E-4,0,0,null,null,null,1.2922233995813195E-3,3.4531043473108315E-4,0,null,null,null,2.5421379765249467E-3,1.4578165732569027E-2,3.1823742293880805E-5,null,null,null,8.078044057902755E-3,5.5258836235593497E-3,0,null,null,null,2.4390243902439024E-3,1.2195121951219513E-2,0,null,null,null,0,0,0]
[200,null,null,null,0,0,0,null,null,null,1.6263919468681761E-3,0,0,null,null,null,2.7510003637686432E-3,2.2288196488149414E-3,0,null,null,null,0,0,0,null,null,null,1.2712726286527901E-4,0,0,null,null,null,9.1317120237079921E-4,1.9855349997037282E-4,0,null,null,null,7.294166552572832E-4,1.4811121052954998E-2,5.7282736128985443E-5,null,null,null,1.668130892909406E-3,6.332203991655694E-3,3.6987172848456157E-6,null,null,null,0,1.2195121951219513E-2,0,null,null,null,0,0,0]
[210,null,null,null,0,0,0,null,null,null,7.7921842579756629E-4,0,0,null,null,null,1.9438886867951984E-3,2.3904956855165436E-3,0,null,null,null,0,0,0,null,null,null,1.2712726286527901E-4,0,0,null,null,null,5.5996347315190515E-4,1.9855349997037282E-4,0,null,null,null,2.6477951883684971E-4,1.093871621899805E-2,7.2558132430048229E-5,null,null,null,4.9563090831454635E-4,7.245787161012561E-3,0,null,null,null,2.4390243902439024E-3,4.8780487804878049E-3,0,null,null,null,0,0,0]
[220,null,null,null,0,0,0,null,null,null,2.6275970172243515E-4,0,0,null,null,null,1.4891778828664969E-3,1.7206949620384782E-3,0,null,null,null,0,0,0,null,null,null,1.6102786629602008E-4,0,0,null,null,null,3.1874843856339219E-4,1.2949141302415619E-4,0,null,null,null,1.3748167324221044E-4,5.1797551838825857E-3,5.8555685820740677E-5,null,null,null,1.6644321547876556E-4,5.1856016333535534E-3,0,null,null,null,0,4.8780487804878049E-3,0,null,null,null,0,0,0]
[230,null,null,null,0,0,0,null,null,null,1.5856188897043501E-4,0,0,null,null,null,5.9112404510731171E-4,1.0393459502245842E-3,0,null,null,null,0,0,0,null,null,null,3.3900603430741069E-5,0,0,null,null,null,1.5506680794975835E-4,1.4675693476071035E-4,0,null,null,null,8.5289556548408328E-5,2.0431327279753133E-3,5.346388705371975E-5,null,null,null,8.8769714922008302E-5,3.1993904513914575E-3,0,null,null,null,0,0,0,null,null,null,0,0,0]
[240,null,null,null,0,0,0,null,null,null,5.436407621843486E-5,0,0,null,null,null,5.0018188432157152E-4,4.5038324509731983E-4,0,null,null,null,0,0,0,null,null,null,1.6950301715370534E-5,0,0,null,null,null,1.1199269463038103E-4,1.6402245649726452E-4,0,null,null,null,4.9646159781909328E-5,1.0998546273960567E-3,3.3096691985636038E-5,null,null,null,8.8769714922008302E-5,1.9455252918287938E-3,0,null,null,null,2.4390243902439024E-3,0,0,null,null,null,0,0,0]
[250,null,null,null,0,0,0,null,null,null,6.3424755588174E-5,0,0,null,null,null,1.2504547108039288E-4,2.1941747838074554E-4,0,null,null,null,0,0,0,null,null,null,8.4751508576852671E-6,0,0,null,null,null,1.0337787196650557E-4,2.2445178257520407E-4,0,null,null,null,3.5643396766499E-5,8.8599400540237893E-4,4.0734390136167431E-5,null,null,null,1.0356466740900968E-4,4.5864094332085634E-4,0,null,null,null,0,0,0,null,null,null,0,0,0]
[260,null,null,null,0,0,0,null,null,null,1.5856188897043501E-4,0,0,null,null,null,1.5914878137504547E-4,1.1548288335828713E-4,0,null,null,null,0,0,0,null,null,null,1.6950301715370534E-5,0,0,null,null,null,4.3074113319377321E-5,2.1581902170692699E-4,0,null,null,null,3.6916375222445397E-5,4.7482150002167717E-4,3.6915541060901731E-5,null,null,null,8.1372238678507601E-5,1.5164740867867023E-4,0,null,null,null,0,0,0,null,null,null,0,0,0]
[270,null,null,null,0,0,0,null,null,null,9.5137133382261E-5,0,0,null,null,null,9.094216078574027E-5,8.0838018350800982E-5,0,null,null,null,0,0,0,null,null,null,0,0,0,null,null,null,8.6148226638754634E-6,2.4171730431175821E-4,0,null,null,null,2.5459569118927855E-5,1.4257374799578511E-4,2.2913094451594179E-5,null,null,null,5.1782333704504838E-5,1.0356408397567724E-4,0,null,null,null,0,0,0,null,null,null,0,0,0]
[280,null,null,null,0,0,0,null,null,null,9.5137133382261E-5,0,0,null,null,null,1.2504547108039288E-4,5.7741441679143565E-5,0,null,null,null,0,0,0,null,null,null,8.4751508576852671E-6,0,0,null,null,null,1.7229645327750927E-5,5.1796565209662476E-5,0,null,null,null,1.0183827647571143E-5,8.1470713140448635E-5,1.2729496917552321E-5,null,null,null,1.1096214365251038E-5,3.3288455563610541E-5,0,null,null,null,0,0,0,null,null,null,0,0,0]
[290,null,null,null,0,0,0,null,null,null,4.5303396848695713E-5,0,0,null,null,null,4.5471080392870135E-5,1.1548288335828713E-4,0,null,null,null,0,0,0,null,null,null,0,0,0,null,null,null,0,1.7265521736554159E-5,0,null,null,null,6.3648922797319638E-6,5.219217560559991E-5,0,null,null,null,3.6987381217503458E-6,1.8493586424228076E-5,0,null,null,null,0,0,0,null,null,null,0,0,0]
[300,null,null,null,0,0,0,null,null,null,4.0773057163826147E-5,0,0,null,null,null,3.4103310294652598E-5,8.0838018350800982E-5,0,null,null,null,0,0,0,null,null,null,0,0,0,null,null,null,0,1.7265521736554159E-5,0,null,null,null,3.8189353678391785E-6,3.6916416891765789E-5,2.5458993835104644E-6,null,null,null,0,1.8493586424228076E-5,0,null,null,null,2.4390243902439024E-3,0,0,null,null,null,0,0,0]
[310,null,null,null,0,0,0,null,null,null,3.6242717478956573E-5,0,0,null,null,null,0,2.3096576671657428E-5,0,null,null,null,0,0,0,null,null,null,0,0,0,null,null,null,0,3.4531043473108318E-5,0,null,null,null,3.8189353678391785E-6,2.9278537534848731E-5,0,null,null,null,0,2.2192303709073692E-5,0,null,null,null,0,0,0,null,null,null,0,0,0]
[320,null,null,null,0,0,0,null,null,null,0,0,0,null,null,null,0,1.1548288335828714E-5,0,null,null,null,0,0,0,null,null,null,0,0,0,null,null,null,0,3.4531043473108318E-5,0,null,null,null,0,7.6378793569170591E-6,0,null,null,null,0,2.9589738278764926E-5,0,null,null,null,0,0,0,null,null,null,0,0,0]
[330,null,null,null,0,0,0,null,null,null,0,0,0,null,null,null,0,6.928973001497228E-5,0,null,null,null,0,0,0,null,null,null,0,0,0,null,null,null,0,0,0,null,null,null,0,5.0919195712780397E-6,1.2729496917552322E-6,null,null,null,3.6987381217503458E-6,7.3974345696912314E-6,0,null,null,null,0,0,0,null,null,null,0,0,0]
[340,null,null,null,null,0,0,null,null,null,null,0,0,null,null,null,null,0,0,null,null,null,null,0,0,null,null,null,null,0,0,null,null,null,null,2.5898282604831238E-5,0,null,null,null,null,6.3648994640975498E-6,0,null,null,null,null,7.3974345696912314E-6,0,null,null,null,null,0,0,null,null,null,null,0,0]
[350,null,null,null,null,0,0,null,null,null,null,0,0,null,null,null,null,2.3096576671657428E-5,0,null,null,null,null,0,0,null,null,null,null,0,0,null,null,null,null,8.6327608682770794E-6,0,null,null,null,null,5.0919195712780397E-6,0,null,null,null,null,3.6987172848456157E-6,0,null,null,null,null,0,0,null,null,null,null,0,0]
[360,null,null,null,null,0,0,null,null,null,null,0,0,null,null,null,null,0,0,null,null,null,null,0,0,null,null,null,null,0,0,null,null,null,null,1.7265521736554159E-5,0,null,null,null,null,6.3648994640975498E-6,1.2729496917552322E-6,null,null,null,null,3.6987172848456157E-6,0,null,null,null,null,0,0,null,null,null,null,0,0]
[370,null,null,null,null,0,0,null,null,null,null,0,0,null,null,null,null,0,0,null,null,null,null,0,0,null,null,null,null,0,0,null,null,null,null,0,0,null,null,null,null,3.8189396784585296E-6,0,null,null,null,null,0,0,null,null,null,null,0,0,null,null,null,null,0,0]
[380,null,null,null,null,0,0,null,null,null,null,0,0,null,null,null,null,8.0838018350800982E-5,0,null,null,null,null,0,0,null,null,null,null,0,0,null,null,null,null,0,0,null,null,null,null,3.8189396784585296E-6,0,null,null,null,null,0,0,null,null,null,null,0,0,null,null,null,null,0,0]
[390,null,null,null,null,0,0,null,null,null,null,0,0,null,null,null,null,1.2703117169411584E-4,0,null,null,null,null,0,0,null,null,null,null,0,0,null,null,null,null,0,0,null,null,null,null,0,0,null,null,null,null,3.6987172848456157E-6,0,null,null,null,null,0,0,null,null,null,null,0,0]
[400,null,null,null,null,0,0,null,null,null,null,0,0,null,null,null,null,9.2386306686629711E-5,0,null,null,null,null,0,0,null,null,null,null,0,0,null,null,null,null,0,0,null,null,null,null,2.5459597856390198E-6,0,null,null,null,null,0,0,null,null,null,null,0,0,null,null,null,null,0,0]
[410,null,null,null,null,null,0,null,null,null,null,null,0,null,null,null,null,null,0,null,null,null,null,null,0,null,null,null,null,null,0,null,null,null,null,null,0,null,null,null,null,null,0,null,null,null,null,null,0,null,null,null,null,null,0,null,null,null,null,null,0]
[420,null,null,null,null,null,0,null,null,null,null,null,0,null,null,null,null,null,0,null,null,null,null,null,0,null,null,null,null,null,0,null,null,null,null,null,0,null,null,null,null,null,0,null,null,null,null,null,0,null,null,null,null,null,0,null,null,null,null,null,0]
[430,null,null,null,null,null,0,null,null,null,null,null,0,null,null,null,null,null,0,null,null,null,null,null,0,null,null,null,null,null,0,null,null,null,null,null,0,null,null,null,null,null,0,null,null,null,null,null,0,null,null,null,null,null,0,null,null,null,null,null,0]
[440,null,null,null,null,null,0,null,null,null,null,null,0,null,null,null,null,null,0,null,null,null,null,null,0,null,null,null,null,null,0,null,null,null,null,null,0,null,null,null,null,null,0,null,null,null,null,null,0,null,null,null,null,null,0,null,null,null,null,null,0]
[450,null,null,null,null,null,0,null,null,null,null,null,0,null,null,null,null,null,0,null,null,null,null,null,0,null,null,null,null,null,0,null,null,null,null,null,0,null,null,null,null,null,0,null,null,null,null,null,0,null,null,null,null,null,0,null,null,null,null,null,0]
[460,null,null,null,null,null,0,null,null,null,null,null,0,null,null,null,null,null,0,null,null,null,null,null,0,null,null,null,null,null,0,null,null,null,null,null,0,null,null,null,null,null,0,null,null,null,null,null,0,null,null,null,null,null,0,null,null,null,null,null,0]
[470,null,null,null,null,null,0,null,null,null,null,null,0,null,null,null,null,null,0,null,null,null,null,null,0,null,null,null,null,null,0,null,null,null,null,null,0,null,null,null,null,null,0,null,null,null,null,null,0,null,null,null,null,null,0,null,null,null,null,null,0]
[480,null,null,null,null,null,0,null,null,null,null,null,0,null,null,null,null,null,0,null,null,null,null,null,0,null,null,null,null,null,0,null,null,null,null,null,0,null,null,null,null,null,0,null,null,null,null,null,0,null,null,null,null,null,0,null,null,null,null,null,0]
[490]
[500]

{"sheet":"12058-2","index":8,"n_rows":56,"n_cols":61,"rows_kept":56,"cut":false,"hidden":true,"merged":[[0,20,0,29],[4,37,4,42],[4,43,4,48],[4,49,4,54],[4,55,4,60],[4,31,4,36],[4,1,4,6],[4,7,4,12],[4,13,4,18],[4,19,4,24],[4,25,4,30]]}
[null,null,null,null,null,null,null,null,null,null,null,null,null,null,null,null,null,null,null,null,"Recorded Classified Counts"]
["Year","WiM site ID & Lane",null,null,null,null,null,null,null,null,null,null,null,null,null,null,null,null,null,null,"Class 3","Class 4","Class 5","Class 6","Class 7","Class 8","Class 9","Class 10","Class 11","Class 12"]
[{"$f":"'Presumptive CTLD'!A3","v":"2014-2023"},{"$f":"MID(CELL(\"filename\",A1),FIND(\"]\",CELL(\"filename\",A1))+1,255)","v":"12058-2"},null,null,null,null,null,null,null,null,null,null,null,null,null,null,null,null,null,null,303374,131465,55341,24852,43775,42062,275298,88414,100,0]
[]
[null,"Class 3",null,null,null,null,null,"Class 4",null,null,null,null,null,"Class 5",null,null,null,null,null,"Class 6",null,null,null,null,null,"Class 7",null,null,null,null,null,"Class 8",null,null,null,null,null,"Class 9",null,null,null,null,null,"Class 10",null,null,null,null,null,"Class 11",null,null,null,null,null,"Class 12"]
["Load (kN)","SAST","SADT","TAST","TADT","TRDT","QADT","SAST","SADT","TAST","TADT","TRDT","QADT","SAST","SADT","TAST","TADT","TRDT","QADT","SAST","SADT","TAST","TADT","TRDT","QADT","SAST","SADT","TAST","TADT","TRDT","QADT","SAST","SADT","TAST","TADT","TRDT","QADT","SAST","SADT","TAST","TADT","TRDT","QADT","SAST","SADT","TAST","TADT","TRDT","QADT","SAST","SADT","TAST","TADT","TRDT","QADT","SAST","SADT","TAST","TADT","TRDT","QADT"]
[10,2.4803801926759335E-5,1.9779198217234935E-5,0,0,0,0,3.8177851005172686E-5,0,0,0,0,0,0,0,9.0601155173871713E-6,0,0,0,1.4536057498182994E-3,7.0497467377813552E-2,0,0,0,0,3.0853832360215831E-3,0.13322944033035594,0,2.3542290782604602E-5,0,0,2.0809192270811709E-4,1.5859352624268271E-5,0,5.8641116595262751E-4,4.368188767071639E-4,0,4.7996088106969541E-6,1.9175210729665924E-5,0,2.6345652623915459E-5,2.3951275147278285E-6,0,5.1064817572868121E-5,0,0,2.8278508322029027E-5,8.483971315715442E-6,0,0,2E-3,0,0,0,0,0,0,0,0,0,0]
[20,2.6015881047580305E-2,2.3982277838397355E-3,0,0,0,0,2.5808227279496736E-3,0,0,7.2265327919105254E-5,0,0,1.0900634837106761E-4,0,2.7180346552161514E-5,2.7104678267468965E-4,0,0,6.0136208242482975E-2,6.6807554258495189E-2,0,0,0,0,0.10475526262837262,0.27597232573931446,0,1.8480698264344612E-3,0,0,7.5713445723799523E-3,2.7119492987498742E-3,0,2.702246048511432E-3,4.8208919665681553E-3,0,2.1598239648136291E-4,2.8283435826257242E-4,0,8.3827076530640097E-5,1.1376855694957184E-4,0,1.9291153305305735E-4,1.9793245413622277E-5,0,8.5401095132527657E-4,2.149272733314579E-4,0,6.6666666666666671E-3,2.1999999999999999E-2,0,0.01,1.4E-2,0,0,0,0,0,0,0]
[30,0.16598042814669298,8.8144348588589383E-2,0,0,0,0,1.2686499889018885E-2,0,0,2.2972767401652407E-3,0,0,2.7251587092766899E-4,0,5.4360693104323033E-4,2.1503044758858711E-3,9.2678045736914536E-5,0,0.10274839161215646,0.12477273489651471,0,0,0,0,4.5518268775100013E-2,9.2544156333931121E-2,2.3542290782604602E-5,1.3030657948171646E-2,0,0,8.8278996441174297E-3,6.1137804366554176E-3,0,5.1112865140465506E-3,3.9075434061804481E-3,0,3.416121571013557E-3,3.3496696243385166E-3,8.3906377021312735E-6,1.4789491359334362E-3,6.6704301285170026E-4,0,4.947613435949E-3,4.2696857963670914E-4,8.4926092142365792E-6,1.7572265071308837E-2,8.1446124630868248E-4,0,1.5555555555555555E-2,0.04,0,6.0000000000000001E-3,4.0000000000000001E-3,0,0,0,0,0,0,0]
[40,0.1613619602279304,0.11783786991221333,0,0,0,0,4.2507219309159273E-2,0,0,1.6400425999325362E-2,0,0,5.1232983734401764E-4,0,1.9660450672730162E-3,1.6515783957644421E-2,1.7608828690013762E-4,0,9.6368677487953913E-2,9.6326859213042168E-2,0,0,0,0,2.8235394096695596E-2,6.1389978514645914E-2,0,2.1070350250431118E-3,0,0,1.3622017401892896E-2,5.4238985974997484E-3,0,1.5508197996882325E-2,4.1537504094153951E-3,0,5.1979763419848007E-3,1.9654590997907578E-3,1.0787962759883066E-5,3.202194323470452E-3,2.5783547696045074E-3,0,3.0184981054184263E-3,2.6579500984007058E-4,8.4926092142365792E-6,7.3241336554055181E-2,1.6374064639330804E-3,0,8.8888888888888889E-3,0.01,0,4.2000000000000003E-2,8.0000000000000002E-3,0,0,0,0,0,0,0]
[50,8.9649208097283814E-2,0.1010074204958645,0,0,0,0,0.13393935468144733,3.8032936523028942E-6,0,4.3655864939762631E-2,0,0,6.3223682055219216E-4,0,4.9921236500803309E-3,6.6334182613252385E-2,2.0389170062121197E-4,0,4.0768257557403972E-2,8.5847505954177977E-2,0,0,0,0,1.7986247485083671E-2,4.7461258801790883E-2,1.1771145391302301E-5,2.1188061704344142E-4,0,0,4.6740647254438605E-2,6.1058507603432835E-3,0,3.4257506356935252E-2,2.5176651621121996E-3,0,2.7951721811296387E-2,4.0507632666419275E-4,1.3185287817634858E-5,6.1541049470137067E-3,1.5535994624282059E-2,2.3950088016573463E-6,2.0876999584374247E-2,3.7324405637116295E-4,3.1139567118867459E-5,4.3104930235268846E-2,8.6677906942226098E-3,0,1.1111111111111112E-2,1.6E-2,0,4.3999999999999997E-2,2.8000000000000001E-2,0,0,0,0,0,0,0]
[60,4.5260324169155312E-2,8.4017089227259686E-2,0,0,0,0,0.18949958124927516,3.8032936523028942E-6,0,8.6326639356838514E-2,0,0,1.820406017796829E-3,0,3.7372976509222083E-2,7.2188793119025679E-2,1.0379941122534426E-3,0,2.3284610622089422E-2,0.11533997517694811,0,0,0,0,3.8484540708307521E-2,4.0938426408788614E-2,1.765671808695345E-5,5.4735826069555701E-4,0,0,0.17360468828699108,6.3992487838922469E-3,7.9243698144905022E-6,7.0567451794704694E-2,1.9775981872742513E-3,0,0.16330069027295049,6.4716336212622503E-4,4.0754525981780466E-5,2.5794788978142684E-2,2.8578661505732447E-2,2.395008801657346E-5,9.6512505212720742E-2,5.8248693645802702E-4,7.3602613190050349E-5,5.9500809360381268E-2,1.164566462603873E-2,0,5.5555555555555559E-2,0.01,0,7.8E-2,8.0000000000000002E-3,0,0,0,0,0,0,0]
[70,9.8206519762015776E-3,4.8623862284035875E-2,0,0,0,0,9.7162630808164493E-2,0,0,6.89297125198918E-2,0,0,1.9730149055163237E-3,0,8.358862576341404E-2,4.1786378995681321E-2,1.4550453180695582E-3,0,7.1872728741015903E-3,6.3318909127503278E-2,0,0,0,0,1.7466106249892293E-2,2.879936468101724E-2,1.1771145391302301E-5,1.9598957076518331E-3,0,0,7.261607748964409E-2,3.909330421882129E-3,0,6.2246752818349849E-2,2.2952846430612794E-3,0,0.11702406202241313,1.1097653209794155E-3,2.3733518071742744E-4,3.3946373405915067E-2,4.2414115594557752E-2,2.1555079214916113E-5,0.10548856536830711,7.5214332571764658E-4,2.3213131852246652E-4,3.2613603647796072E-2,6.5496258557323217E-3,0,7.5555555555555556E-2,0,0,6.2E-2,1.2E-2,0,0,0,0,0,0,0]
[80,1.1938896660746827E-3,2.860401715515792E-2,0,0,0,0,1.934853488942152E-2,3.8032936523028942E-6,0,6.5795679351189559E-2,0,0,1.2862749107785977E-3,0,8.2727914789262266E-2,4.1208145859308647E-2,1.1028687442692828E-3,0,8.8831462488896064E-4,2.5440273724464123E-2,0,0,0,0,1.601798576555266E-3,1.8561814562397253E-2,0,2.6367365676517153E-3,0,0,7.227192546362682E-3,2.4106215988887771E-3,1.5848739628981004E-5,7.2001781808723964E-2,1.9458295416955485E-3,0,9.3952342469392873E-3,1.6346867147040201E-3,4.8665698672361381E-4,3.4810989823845388E-2,3.2391704509179151E-2,2.395008801657346E-5,1.3177559868109577E-2,6.6165991811251612E-4,4.0481437254527694E-4,1.2417093004202944E-2,4.046854317596266E-3,0,1.5555555555555555E-2,6.0000000000000001E-3,0,2.4E-2,2E-3,0,0,0,0,0,0,0]
[90,6.9285286715414405E-4,1.5622270058579394E-2,0,0,0,0,2.225768713601568E-3,0,0,4.2883766962521663E-2,0,0,9.8105713533960849E-5,0,8.3733587611692237E-2,3.5995012739198785E-2,4.2631901038980684E-4,0,4.9799456243775075E-4,1.1190500150950992E-2,0,0,0,0,4.1965940566577085E-4,8.1299923598701571E-3,1.1771145391302301E-5,1.9952091438257399E-3,0,0,2.8572621694922234E-3,1.5145681756176196E-3,0,6.3284859071590316E-2,2.3349954500346583E-3,0,6.8514415772699016E-4,1.4980633382551505E-3,5.4898743822516039E-4,2.8004231209557407E-2,1.9566994231568994E-2,4.4307662830660904E-5,8.2838481840430498E-4,1.5834596330897822E-4,6.8507047661508407E-4,1.1413205958770914E-2,4.253297619612008E-3,0,1.1111111111111112E-2,6.0000000000000001E-3,0,2.5999999999999999E-2,8.0000000000000002E-3,0,0,0,0,0,0,0]
[100,null,7.5836742497914951E-3,0,0,0,0,null,0,3.8032936523028942E-6,3.2173284677247962E-2,0,0,null,0,7.6177451270191335E-2,3.1540810610578056E-2,7.6922777961639058E-4,0,null,3.8509275099795378E-3,0,0,0,0,null,2.6256166491687837E-3,0,1.1064876667824164E-3,0,0,null,4.995696076644505E-4,0,4.5003094749256373E-2,2.1284992537730896E-3,0,null,8.2333561070503083E-4,3.2603620785424372E-4,2.2464458980546824E-2,1.6086873952669459E-2,2.754260121905948E-5,null,1.1310425950641302E-5,1.0615761517795725E-3,1.420429473015518E-2,4.2815775239977271E-3,8.4828194629809751E-6,null,0.01,0,1.6E-2,6.0000000000000001E-3,0,null,0,0,0,0,0]
[110,null,3.3344431661221892E-3,0,0,0,0,null,0,0,2.8978396495561203E-2,0,0,null,0,6.948202590284222E-2,2.8649644928714697E-2,1.7701506735750677E-3,0,null,1.6772332360538056E-3,0,0,0,0,null,1.1420843720599642E-3,0,1.1947712572171836E-3,0,0,null,1.3480449730628031E-4,0,4.3283483627476367E-2,2.0887884467997112E-3,0,null,3.4874914514579906E-4,4.003532846445493E-4,2.212436055576537E-2,1.4526448376824281E-2,5.0295184834804267E-5,null,0,1.3135235584685911E-3,1.838668611098327E-2,4.7086040802220702E-3,2.8276064876603255E-6,null,6.0000000000000001E-3,0,0.02,4.0000000000000001E-3,0,null,0,0,0,0,0]
[120,null,1.1933449591065076E-3,0,0,0,0,null,0,0,2.1953445934161868E-2,0,0,null,0,3.5252909478153481E-2,2.1557254115393651E-2,1.8442931101645991E-3,0,null,6.8431116030995265E-4,0,0,0,0,null,4.003182335055545E-4,5.8855726956511504E-6,6.9449757808683575E-4,0,0,null,1.1894514468201201E-4,0,4.2736694837601619E-2,1.0960182724652477E-3,0,null,2.7564365423894773E-5,2.8648034440133919E-4,1.9736486404306849E-2,1.2010366922602697E-2,5.628270683894763E-5,null,0,7.5584222006705567E-4,1.744783963469191E-2,4.6407323096963474E-3,2.8276064876603255E-6,null,0,0,1.2E-2,0,0,null,0,0,0,0,0]
[130,null,9.691807126445118E-4,0,0,0,0,null,0,0,1.7994066651857207E-2,0,0,null,0,1.0011427646712825E-2,1.7943297013064456E-2,7.5069217046900769E-4,0,null,2.951930495454698E-4,0,0,0,0,null,1.4717582114174795E-4,0,6.7095528730423118E-4,0,0,null,9.5156115745609625E-5,7.9243698144905022E-6,4.6057049952927982E-2,1.0721917882812206E-3,0,null,8.3891546942288423E-6,9.7091664838947576E-5,2.0298127817062139E-2,1.114931858105804E-2,4.1912654029003557E-5,null,0,2.1231523035591452E-4,1.9087993117369591E-2,4.6577002523277783E-3,5.6552129753206509E-6,null,0,0,1.6E-2,4.0000000000000001E-3,0,null,0,0,0,0,0]
[140,null,3.9558396434469868E-4,0,0,0,0,null,0,3.8032936523028942E-6,1.4772554401989725E-2,0,0,null,0,2.7542751172857003E-3,1.6741656276539996E-2,9.7311948023760255E-4,0,null,1.6101439066116535E-4,0,0,0,0,null,1.5306285398741787E-4,5.8855726956511504E-6,7.239254415650915E-4,0,0,null,7.9296763121341354E-6,7.9243698144905022E-6,3.86397411511488E-2,8.736377534143278E-4,0,null,4.793802682416481E-6,1.4383950346510755E-5,2.293389060911841E-2,1.0639156420421014E-2,6.2270228843091E-5,null,0,5.6617394761577204E-5,2.2054408640350437E-2,4.1599739351391388E-3,0,null,0,0,2.4E-2,2E-3,0,null,0,0,0,0,0]
[150,null,1.0054425760427758E-4,0,0,0,0,null,0,3.8032936523028942E-6,1.3753232934499189E-2,0,0,null,0,1.5402196379558193E-3,1.8042680833378507E-2,9.4531606651652826E-4,0,null,2.0126798832645668E-4,0,0,0,0,null,1.6483691967875773E-4,0,4.1787566139123166E-4,0,0,null,1.5859352624268271E-5,0,2.6840197555156074E-2,6.0360426599535377E-4,0,null,3.5953520118123614E-6,1.1986625288758961E-6,2.8295230918085203E-2,1.098644991005655E-2,7.304776845054905E-5,null,0,2.264695790463088E-5,3.2752168338574021E-2,3.9789825470705432E-3,0,null,0,0,3.2000000000000001E-2,2E-3,0,null,0,0,0,0,0]
[160,null,8.2413325905145561E-5,0,0,0,0,null,0,0,1.6339570986340847E-2,0,0,null,0,1.7123618327861754E-3,2.1945754503894039E-2,1.2140823991535804E-3,0,null,1.0734292710744355E-4,0,0,0,0,null,1.0596659122205854E-4,0,3.4724878904341788E-4,0,0,null,1.5859352624268271E-5,0,1.6189702865421863E-2,7.3862100970484084E-4,0,null,2.3969013412082405E-6,3.5959875866276887E-6,3.463255790380159E-2,1.2664236734123393E-2,9.6997856467122517E-5,null,0,2.264695790463088E-5,7.6470742204430883E-2,4.8415196308349458E-3,2.8276064876603255E-6,null,0,0,3.5999999999999997E-2,4.0000000000000001E-3,0,null,0,0,0,0,0]
[170,null,4.4503195988778603E-5,0,0,0,0,null,0,0,1.340712004814979E-2,0,0,null,0,1.4043179051950116E-3,1.8268553152274082E-2,9.3604826194283676E-4,0,null,8.0507195330582675E-5,0,0,0,0,null,6.4757361302369103E-5,0,4.414179521738363E-4,0,0,null,7.9296763121341354E-6,0,5.7056221552147538E-3,6.2743075017938096E-4,0,null,2.3969013412082405E-6,3.5959875866276887E-6,2.306082875357909E-2,1.3482172780402946E-2,1.1855293568203863E-4,null,0,1.6985218428473158E-5,9.6675736400520629E-2,4.9065634109220976E-3,0,null,0,0,0.03,1.2E-2,0,null,0,0,0,0,0]
[180,null,2.1427464735337846E-5,null,0,0,0,null,0,null,8.0480754672014061E-3,0,0,null,0,null,1.2016407365244574E-2,1.0101906985323685E-3,0,null,6.7089329442152223E-5,null,0,0,0,null,5.2983295611029271E-5,null,2.3542290782604602E-4,0,0,null,2.3789028936402406E-5,null,1.7196111217800023E-3,3.732815855497583E-4,0,null,0,null,9.4544967029914807E-3,1.6152739959324473E-2,1.6645311171518555E-4,null,0,null,5.4851822592239696E-2,6.0377595863508231E-3,0,null,0,null,0.02,0,0,null,0,null,0,0,0]
[190,null,null,null,0,0,0,null,null,null,3.5143769998554342E-3,0,0,null,null,null,4.9872608012142897E-3,1.0194585031060598E-3,0,null,null,null,0,0,0,null,null,null,1.7068160817388335E-4,0,0,null,null,null,8.0037199677318084E-4,2.779756488136498E-4,0,null,null,null,2.8884415513129131E-3,1.8321527923910525E-2,2.3231585376076258E-4,null,null,null,1.4670890117468659E-2,9.2531847150069749E-3,0,null,null,null,1.2E-2,6.0000000000000001E-3,0,null,null,null,0,0,0]
[200,null,null,null,0,0,0,null,null,null,1.1182108635903654E-3,0,0,null,null,null,2.1954789396649863E-3,1.1770111808588146E-3,0,null,null,null,0,0,0,null,null,null,8.2398017739116104E-5,0,0,null,null,null,7.2905171983299636E-4,2.2238051905091983E-4,0,null,null,null,6.4786354861537561E-4,1.62712987713035E-2,3.0656112661214032E-4,null,null,null,2.9296534621622069E-3,1.2519513671557422E-2,0,null,null,null,2E-3,4.0000000000000001E-3,0,null,null,null,0,0,0]
[210,null,null,null,0,0,0,null,null,null,3.6893351621858996E-4,0,0,null,null,null,1.7437343018738367E-3,1.5847945821012386E-3,0,null,null,null,0,0,0,null,null,null,5.8855726956511504E-6,0,0,null,null,null,6.8942934375511614E-4,1.7472755068286558E-4,0,null,null,null,2.0956769132660024E-4,1.05002390245668E-2,4.6463170752152516E-4,null,null,null,6.7585634889649369E-4,1.1688084482617307E-2,0,null,null,null,4.0000000000000001E-3,4.0000000000000001E-3,0,null,null,null,0,0,0]
[220,null,null,null,0,0,0,null,null,null,2.205994220688476E-4,0,0,null,null,null,1.5178619829782621E-3,1.6960082369855359E-3,0,null,null,null,0,0,0,null,null,null,1.1771145391302301E-5,0,0,null,null,null,4.1207271120995441E-4,1.2707458231481133E-4,0,null,null,null,8.1432017201193244E-5,4.5459520229534185E-3,4.3708910630246568E-4,null,null,null,2.545065748982612E-4,7.2679354271295632E-3,0,null,null,null,0,2E-3,0,null,null,null,0,0,0]
[230,null,null,null,0,0,0,null,null,null,1.3312034090361493E-4,0,0,null,null,null,1.1745360582569885E-3,1.612597995822313E-3,0,null,null,null,0,0,0,null,null,null,0,0,0,null,null,null,1.9811188038940119E-4,1.1913242092013562E-4,0,null,null,null,7.0654250218682367E-5,2.2825565215356205E-3,3.9876896547594813E-4,null,null,null,1.272532874491306E-4,3.0796815876047057E-3,0,null,null,null,4.0000000000000001E-3,2E-3,0,null,null,null,0,0,0]
[240,null,null,null,0,0,0,null,null,null,2.0158223051118833E-4,0,0,null,null,null,4.9691910157026432E-4,1.0472619168271342E-3,0,null,null,null,0,0,0,null,null,null,5.8855726956511504E-6,0,0,null,null,null,1.3471607866479281E-4,9.5305936736108504E-5,0,null,null,null,5.2691305247830919E-5,1.1281050594368072E-3,3.0536362221131162E-4,null,null,null,1.1028618245591321E-4,6.730617243800918E-4,0,null,null,null,2E-3,0,0,null,null,null,0,0,0]
[250,null,null,null,0,0,0,null,null,null,1.0649627272289195E-4,0,0,null,null,null,3.3429103196545059E-4,4.2631901038980684E-4,0,null,null,null,0,0,0,null,null,null,0,0,0,null,null,null,1.4264055388036885E-4,7.1479452552081378E-5,0,null,null,null,3.9518478935873189E-5,6.9099428799897851E-4,2.7422850778976613E-4,null,null,null,1.187697349525219E-4,1.6402344543716522E-4,0,null,null,null,0,2E-3,0,null,null,null,0,0,0]
[260,null,null,null,0,0,0,null,null,null,1.2931690259208308E-4,0,0,null,null,null,1.626280696048138E-4,1.1121365488429745E-4,0,null,null,null,0,0,0,null,null,null,5.8855726956511504E-6,0,0,null,null,null,1.3471607866479281E-4,7.1479452552081378E-5,0,null,null,null,2.8740711953362319E-5,4.4788884525410392E-4,1.86810686529273E-4,null,null,null,8.4835524966087077E-5,8.483971315715443E-5,0,null,null,null,2E-3,0,0,null,null,null,0,0,0]
[270,null,null,null,0,0,0,null,null,null,1.5213753246127421E-4,0,0,null,null,null,7.2279142046583904E-5,7.4142436589531626E-5,0,null,null,null,0,0,0,null,null,null,0,0,0,null,null,null,6.3395801724608372E-5,3.1768645578702833E-5,0,null,null,null,1.5567885641404589E-5,1.4131252336894187E-4,7.903529045469242E-5,null,null,null,3.9589911650840637E-5,2.5451913947146328E-5,0,null,null,null,0,4.0000000000000001E-3,0,null,null,null,0,0,0]
[280,null,null,null,0,0,0,null,null,null,1.4453065583821051E-4,0,0,null,null,null,4.5174463779114943E-5,5.5606827442148723E-5,0,null,null,null,0,0,0,null,null,null,0,0,0,null,null,null,2.3773425646728141E-5,7.9421613946757081E-6,0,null,null,null,3.5925889941702898E-6,6.1075751625559624E-5,2.1555079214916113E-5,null,null,null,1.9794955825420318E-5,2.8279904385718141E-5,0,null,null,null,2E-3,2E-3,0,null,null,null,0,0,0]
[290,null,null,null,0,0,0,null,null,null,5.7051574672977824E-5,0,0,null,null,null,9.034892755822988E-6,4.6339022868457268E-5,0,null,null,null,0,0,0,null,null,null,0,0,0,null,null,null,0,3.1768645578702833E-5,0,null,null,null,8.3827076530640094E-6,4.0717167750373078E-5,7.1850264049720384E-6,null,null,null,1.9794955825420318E-5,3.1107894824289961E-5,0,null,null,null,0,2E-3,0,null,null,null,0,0,0]
[300,null,null,null,0,0,0,null,null,null,3.8034383115318552E-5,0,0,null,null,null,0,5.5606827442148723E-5,0,null,null,null,0,0,0,null,null,null,0,0,0,null,null,null,0,4.7652968368054252E-5,0,null,null,null,5.98764832361715E-6,2.5148838904642199E-5,1.1975044008286731E-6,null,null,null,8.4835524966087067E-6,3.1107894824289961E-5,0,null,null,null,0,0,0,null,null,null,0,0,0]
[310,null,null,null,0,0,0,null,null,null,3.8034383115318554E-6,0,0,null,null,null,0,0,0,null,null,null,0,0,0,null,null,null,0,0,0,null,null,null,7.9244752155760464E-6,0,0,null,null,null,7.1851779883405797E-6,1.437076508836697E-5,2.3950088016573463E-6,null,null,null,1.6967104993217413E-5,3.1107894824289961E-5,0,null,null,null,0,0,0,null,null,null,0,0,0]
[320,null,null,null,0,0,0,null,null,null,1.5213753246127422E-5,0,0,null,null,null,0,3.7071218294765813E-5,0,null,null,null,0,0,0,null,null,null,0,0,0,null,null,null,7.9244752155760464E-6,4.7652968368054252E-5,0,null,null,null,4.7901186588937204E-6,1.9161020117822628E-5,0,null,null,null,1.131140332881161E-5,5.6559808771436285E-6,0,null,null,null,0,0,0,null,null,null,0,0,0]
[330,null,null,null,0,0,0,null,null,null,3.8034383115318554E-6,0,0,null,null,null,1.8069785511645976E-5,3.7071218294765813E-5,0,null,null,null,0,0,0,null,null,null,0,0,0,null,null,null,0,0,0,null,null,null,9.5802373177874407E-6,8.3829463015474001E-6,1.1975044008286731E-6,null,null,null,0,1.6967942631430884E-5,0,null,null,null,0,0,0,null,null,null,0,0,0]
[340,null,null,null,null,0,0,null,null,null,null,0,0,null,null,null,null,9.2678045736914533E-6,0,null,null,null,null,0,0,null,null,null,null,0,0,null,null,null,null,2.3826484184027126E-5,0,null,null,null,null,9.5805100589113141E-6,0,null,null,null,null,0,0,null,null,null,null,0,0,null,null,null,null,0,0]
[350,null,null,null,null,0,0,null,null,null,null,0,0,null,null,null,null,6.4874632015840165E-5,0,null,null,null,null,0,0,null,null,null,null,0,0,null,null,null,null,1.5884322789351416E-5,0,null,null,null,null,1.1975637573639144E-5,1.1975044008286731E-6,null,null,null,null,5.6559808771436285E-6,0,null,null,null,null,0,0,null,null,null,null,0,0]
[360,null,null,null,null,0,0,null,null,null,null,0,0,null,null,null,null,5.5606827442148723E-5,0,null,null,null,null,0,0,null,null,null,null,0,0,null,null,null,null,7.9421613946757081E-6,0,null,null,null,null,4.7902550294556571E-6,0,null,null,null,null,2.8279904385718143E-6,0,null,null,null,null,0,0,null,null,null,null,0,0]
[370,null,null,null,null,0,0,null,null,null,null,0,0,null,null,null,null,4.6339022868457268E-5,0,null,null,null,null,0,0,null,null,null,null,0,0,null,null,null,null,0,0,null,null,null,null,4.7902550294556571E-6,1.1975044008286731E-6,null,null,null,null,0,0,null,null,null,null,0,0,null,null,null,null,0,0]
[380,null,null,null,null,0,0,null,null,null,null,0,0,null,null,null,null,4.6339022868457268E-5,0,null,null,null,null,0,0,null,null,null,null,0,0,null,null,null,null,7.9421613946757081E-6,0,null,null,null,null,4.7902550294556571E-6,0,null,null,null,null,0,0,null,null,null,null,0,0,null,null,null,null,0,0]
[390,null,null,null,null,0,0,null,null,null,null,0,0,null,null,null,null,1.1121365488429745E-4,0,null,null,null,null,0,0,null,null,null,null,0,0,null,null,null,null,0,0,null,null,null,null,4.7902550294556571E-6,0,null,null,null,null,0,0,null,null,null,null,0,0,null,null,null,null,0,0]
[400,null,null,null,null,0,0,null,null,null,null,0,0,null,null,null,null,6.4874632015840165E-5,0,null,null,null,null,0,0,null,null,null,null,0,0,null,null,null,null,0,0,null,null,null,null,1.1975637573639143E-6,1.1975044008286731E-6,null,null,null,null,0,0,null,null,null,null,0,0,null,null,null,null,0,0]
[410,null,null,null,null,null,0,null,null,null,null,null,0,null,null,null,null,null,0,null,null,null,null,null,0,null,null,null,null,null,0,null,null,null,null,null,0,null,null,null,null,null,0,null,null,null,null,null,0,null,null,null,null,null,0,null,null,null,null,null,0]
[420,null,null,null,null,null,0,null,null,null,null,null,0,null,null,null,null,null,0,null,null,null,null,null,0,null,null,null,null,null,0,null,null,null,null,null,0,null,null,null,null,null,0,null,null,null,null,null,0,null,null,null,null,null,0,null,null,null,null,null,0]
[430,null,null,null,null,null,0,null,null,null,null,null,0,null,null,null,null,null,0,null,null,null,null,null,0,null,null,null,null,null,0,null,null,null,null,null,0,null,null,null,null,null,0,null,null,null,null,null,0,null,null,null,null,null,0,null,null,null,null,null,0]
[440,null,null,null,null,null,0,null,null,null,null,null,0,null,null,null,null,null,0,null,null,null,null,null,0,null,null,null,null,null,0,null,null,null,null,null,0,null,null,null,null,null,0,null,null,null,null,null,0,null,null,null,null,null,0,null,null,null,null,null,0]
[450,null,null,null,null,null,0,null,null,null,null,null,0,null,null,null,null,null,0,null,null,null,null,null,0,null,null,null,null,null,0,null,null,null,null,null,0,null,null,null,null,null,0,null,null,null,null,null,0,null,null,null,null,null,0,null,null,null,null,null,0]
[460,null,null,null,null,null,0,null,null,null,null,null,0,null,null,null,null,null,0,null,null,null,null,null,0,null,null,null,null,null,0,null,null,null,null,null,0,null,null,null,null,null,0,null,null,null,null,null,0,null,null,null,null,null,0,null,null,null,null,null,0]
[470,null,null,null,null,null,0,null,null,null,null,null,0,null,null,null,null,null,0,null,null,null,null,null,0,null,null,null,null,null,0,null,null,null,null,null,0,null,null,null,null,null,1.1975044008286731E-6,null,null,null,null,null,0,null,null,null,null,null,0,null,null,null,null,null,0]
[480,null,null,null,null,null,0,null,null,null,null,null,0,null,null,null,null,null,0,null,null,null,null,null,0,null,null,null,null,null,0,null,null,null,null,null,0,null,null,null,null,null,0,null,null,null,null,null,0,null,null,null,null,null,0,null,null,null,null,null,0]
[490]
[500]

{"sheet":"30041-1","index":9,"n_rows":56,"n_cols":61,"rows_kept":56,"cut":false,"hidden":true,"merged":[[0,20,0,29],[4,37,4,42],[4,43,4,48],[4,49,4,54],[4,55,4,60],[4,31,4,36],[4,1,4,6],[4,7,4,12],[4,13,4,18],[4,19,4,24],[4,25,4,30]]}
[null,null,null,null,null,null,null,null,null,null,null,null,null,null,null,null,null,null,null,null,"Recorded Classified Counts"]
["Year","WiM site ID & Lane",null,null,null,null,null,null,null,null,null,null,null,null,null,null,null,null,null,null,"Class 3","Class 4","Class 5","Class 6","Class 7","Class 8","Class 9","Class 10","Class 11","Class 12"]
[{"$f":"'Presumptive CTLD'!A3","v":"2014-2023"},{"$f":"MID(CELL(\"filename\",A1),FIND(\"]\",CELL(\"filename\",A1))+1,255)","v":"30041-1"},null,null,null,null,null,null,null,null,null,null,null,null,null,null,null,null,null,null,152452,61938,12697,12639,29213,19908,153856,183404,89267,23]
[]
[null,"Class 3",null,null,null,null,null,"Class 4",null,null,null,null,null,"Class 5",null,null,null,null,null,"Class 6",null,null,null,null,null,"Class 7",null,null,null,null,null,"Class 8",null,null,null,null,null,"Class 9",null,null,null,null,null,"Class 10",null,null,null,null,null,"Class 11",null,null,null,null,null,"Class 12"]
["Load (kN)","SAST","SADT","TAST","TADT","TRDT","QADT","SAST","SADT","TAST","TADT","TRDT","QADT","SAST","SADT","TAST","TADT","TRDT","QADT","SAST","SADT","TAST","TADT","TRDT","QADT","SAST","SADT","TAST","TADT","TRDT","QADT","SAST","SADT","TAST","TADT","TRDT","QADT","SAST","SADT","TAST","TADT","TRDT","QADT","SAST","SADT","TAST","TADT","TRDT","QADT","SAST","SADT","TAST","TADT","TRDT","QADT","SAST","SADT","TAST","TADT","TRDT","QADT"]
[10,0,0,0,0,0,0,0,8.0725887177500088E-6,0,8.0728497384994418E-6,0,0,0,0,3.95682125130569E-5,0,0,0,5.2771840945671391E-4,4.9748094220674742E-2,0,0,0,0,5.0522202681169475E-3,1.1367477073522453E-2,0,1.8814357495324577E-2,0,0,4.7714615927988406E-4,4.4263020705257464E-4,0,6.3935474352038563E-4,5.0820505254184497E-4,0,6.4375080603322476E-6,2.1363823782635912E-5,0,1.2818454672698307E-5,2.1364843584238976E-6,0,1.3762643580584982E-6,0,0,9.5432858443765295E-6,1.3633352050291467E-6,0,0,8.923512115898576E-6,0,2.2308917585531884E-6,0,0,0,5.9880239520958087E-3,0,0,0,0]
[20,2.851457579478962E-2,2.1122649121310916E-3,0,0,0,0,2.481314225881734E-3,1.6952436307275017E-4,0,4.6015243509446818E-4,0,0,0,0,3.95682125130569E-5,6.3012296683416784E-4,0,0,9.1902161006886723E-2,0.11263221756218512,0,0,0,0,0.15347246792143646,0.10902187873188977,0,7.8062684482098202E-2,0,0,9.2632168163646455E-3,1.0311644453187756E-2,0,2.967261758389482E-3,5.0656568140461317E-3,0,9.4631368486884052E-4,2.1940647024767082E-3,0,3.9737209485364745E-4,1.2818906150543387E-4,0,4.4040459457871946E-4,4.635240643971256E-5,0,1.5950920625600771E-3,1.1588349242747747E-4,1.3633060717562518E-6,2.4959342436876912E-4,1.1377477947770684E-4,0,2.6324522750927623E-4,2.4316818856958016E-4,0,0,0,0,0,0,0]
[30,0.1988960616786955,9.6101493673045005E-2,0,0,0,0,1.9630856482139754E-2,2.0181471794375019E-4,0,2.2547469319628942E-2,0,0,1.6187954756120466E-4,0,1.1870463753917071E-3,8.4672773668341313E-3,3.937938095613137E-5,0,0.10008179635346579,0.15507372530400149,0,0,0,0,6.7742605246827015E-2,8.8742930533336331E-2,0,0.10232982582636714,0,0,1.4906704148537068E-2,2.1393793340874441E-2,0,1.0852636928474237E-2,5.7214052689388353E-3,0,3.8818173603803454E-3,5.5567305658636009E-3,4.2824829477853945E-6,4.1424972683936695E-3,1.6408199872695534E-3,2.1399019538455738E-6,2.3038665353899259E-3,4.5261761582307558E-4,2.7406779998084013E-6,1.8745740051453897E-2,1.3810585626945256E-3,0,1.3716395393238664E-3,8.4773365101036463E-5,0,8.1829109703730959E-3,1.1589529721274944E-2,0,0,4.790419161676647E-2,0,0,0,0]
[40,0.14453974112285173,0.12585687765263082,0,0,0,0,8.4860946525155301E-2,4.036294358875004E-5,5.0919405758115433E-5,6.1022671173317278E-2,0,0,1.6997352493926486E-3,0,8.0323471401505513E-3,3.426293632160788E-2,4.3317319051744505E-4,0,8.2878176205176929E-2,0.10827991875708896,0,0,0,0,3.7620997353656559E-2,4.3532142132894705E-2,0,4.5661431693742816E-2,0,0,4.3584833652841826E-2,1.3770717552746767E-2,3.2787422744635159E-5,2.9066050263119068E-2,3.9017033066115836E-3,0,3.1629622936432442E-2,2.8883889754123754E-3,1.2847448843356182E-5,1.0611544059882081E-2,1.1240044209668126E-2,2.1399019538455739E-5,1.556967868271579E-2,7.7981107304457597E-4,1.7814406998754607E-5,2.8951602598739995E-2,1.0689911342633539E-2,1.3633060717562518E-6,1.6787968525560634E-2,1.2046741356463077E-4,0,3.1384185259326257E-2,3.7575062386031546E-2,0,5.9880239520958087E-3,5.3892215568862277E-2,0,1.1976047904191617E-2,1.1976047904191617E-2,0]
[50,7.4284344565353017E-2,9.5678384707726813E-2,0,0,0,0,0.13156660216708002,8.0725887177500081E-5,7.6379108637173159E-5,6.7408295316470343E-2,0,0,5.2206154088488502E-3,0,3.244593426070666E-2,5.4899463485426875E-2,1.063243285815547E-3,0,3.7124990105279823E-2,9.0475060008968378E-2,0,0,0,0,2.8170638905705658E-2,3.2716703093666206E-2,0,1.8543971519343862E-2,0,0,7.5635892903780241E-2,1.1590353940228528E-2,1.6393711372317579E-5,4.4722044623682358E-2,2.9836554697617993E-3,0,7.1724568972201794E-2,1.2027832789624018E-3,7.280221011235171E-5,2.4872074883258946E-2,2.1591310926231913E-2,2.5678823446146888E-5,4.2818336707916002E-2,2.7675113256651912E-4,4.385084799693442E-5,3.3859578175847921E-2,2.1685209771193609E-2,2.7266121435125036E-6,3.8151816497882039E-2,1.2939092568052933E-4,0,5.4286520052633284E-2,6.5385471915466287E-2,0,1.7964071856287425E-2,5.3892215568862277E-2,0,1.7964071856287425E-2,1.1976047904191617E-2,0]
[60,3.5761428486993756E-2,6.6244432345204426E-2,0,0,0,0,0.12538365524357142,4.8435532306500046E-5,9.3352243889878301E-5,6.5220553037336995E-2,0,0,3.3185307250046953E-3,0,5.9352318769585355E-2,6.4469456044220802E-2,1.4570370953768607E-3,0,1.4353940737222619E-2,6.7526575400279606E-2,0,0,0,0,2.0276544736772928E-2,2.3174331358013563E-2,0,1.2640544377098308E-2,0,0,8.8173319571755143E-2,8.8526041410514934E-3,4.9181134116952735E-5,5.4328759487860458E-2,2.8852932015278939E-3,0,9.5200015032213384E-2,9.4214462881424374E-4,1.4774566169859611E-4,3.3567259969572633E-2,2.7746522362851161E-2,1.3481382309227116E-4,6.9045806579436791E-2,1.1042779181225639E-4,1.3155254399080325E-4,3.4119973546744488E-2,3.0765022236687724E-2,2.0449591076343778E-5,5.9659574192362001E-2,1.2046741356463077E-4,2.230878028974644E-6,6.4588778193631916E-2,7.4797642443677828E-2,0,5.3892215568862277E-2,6.5868263473053898E-2,0,2.9940119760479042E-2,1.7964071856287425E-2,0]
[70,1.3735199280240095E-2,4.3514625138576388E-2,0,0,0,0,8.5422293022158063E-2,4.036294358875004E-5,1.3578508202164116E-4,5.4039656149515267E-2,0,0,1.0926869460381313E-3,0,7.5931399812556186E-2,5.8995262769848962E-2,1.811451523982043E-3,0,4.9869389693659458E-3,4.3021814249162509E-2,0,0,0,0,1.1784754866478146E-2,1.8374980284355916E-2,0,9.8803542056285342E-3,0,0,6.4496998081970541E-2,7.8525877473401198E-3,4.9181134116952735E-5,5.709929670978213E-2,3.1803800062296102E-3,0,7.9033286456699006E-2,8.1396168611842822E-4,2.5266649391933829E-4,3.3565123560460514E-2,2.8408832513962569E-2,2.0757048952302066E-4,6.7179592109909467E-2,9.270481287942512E-5,2.5625339298208553E-4,3.0460805088700686E-2,3.3933413253175462E-2,5.3168936798493823E-5,5.0971024717038363E-2,9.592775524590968E-5,6.6926340869239311E-6,5.6095773268819919E-2,7.0007898399100876E-2,2.230878028974644E-6,3.5928143712574849E-2,2.9940119760479042E-2,0,5.9880239520958084E-2,2.9940119760479042E-2,0]
[80,3.4379042903206736E-3,2.833190110401921E-2,0,0,0,0,3.9066462008800283E-2,2.4217766153250023E-5,6.7892541010820581E-5,4.6564197291664777E-2,0,0,1.0117471722575291E-3,0,7.8740742900983235E-2,4.8834529929648006E-2,1.6145546192013862E-3,0,1.1345945803319349E-3,2.0442615599694021E-2,0,0,0,0,3.8117197558560898E-3,1.2629278294765778E-2,0,7.5708073274599495E-3,0,0,2.4597707176669887E-2,5.6886178461941998E-3,1.1475597960622305E-4,5.1886096493385138E-2,3.278742274463516E-3,0,3.5648773802099881E-2,6.110053601833871E-4,3.6401105056175852E-4,3.0159687435746999E-2,2.6003151126377261E-2,1.4123352895380789E-4,3.8622106680195639E-2,5.3168936798493823E-5,4.3028644596991903E-4,2.5415133530123896E-2,3.2207430883608563E-2,1.4042052539089395E-4,2.5096506390809299E-2,9.592775524590968E-5,2.230878028974644E-6,3.4130413014105229E-2,3.573903101729059E-2,6.6926340869239311E-6,1.1976047904191617E-2,1.1976047904191617E-2,0,3.5928143712574849E-2,2.3952095808383235E-2,0]
[90,8.3074478075561653E-4,1.7780416286743241E-2,0,0,0,0,1.0925918050357929E-2,2.4217766153250023E-5,5.0919405758115433E-5,3.831374485891835E-2,0,0,6.4751819024481863E-4,0,7.1776737498685211E-2,3.7964908751758612E-2,1.5751752382452547E-3,0,3.4301696614686403E-4,1.0366384426683549E-2,0,0,0,0,1.1841141253399097E-3,7.4130821748045334E-3,0,5.9372253892431446E-3,0,0,4.6891950136126537E-3,2.2295447466351907E-3,8.19685568615879E-5,4.9181134116952734E-2,3.3443171199527863E-3,0,7.8001139331025735E-3,4.1659456376140025E-4,4.539431924652518E-4,2.6583338582064173E-2,2.1760093190547398E-2,1.1127490159996985E-4,1.0601364350124612E-2,7.0891915731325088E-5,5.3169153196282984E-4,2.0122699866142513E-2,2.6897240260020036E-2,1.8540962575885024E-4,6.8199716766709616E-3,1.4500707188335184E-4,6.6926340869239311E-6,1.541323115984398E-2,1.4748485271866922E-2,4.461756057949288E-6,1.1976047904191617E-2,1.7964071856287425E-2,0,3.5928143712574849E-2,5.9880239520958087E-3,0]
[100,null,1.0990993354893305E-2,0,0,0,0,null,8.0725887177500088E-6,7.6379108637173159E-5,3.1920047866026792E-2,0,0,null,0,5.9550159832150638E-2,3.1545531027135532E-2,2.1658659525872251E-3,0,null,5.0117380179895013E-3,0,0,0,0,null,3.9769270633829793E-3,0,4.7317545796624685E-3,0,0,null,7.5411072312660862E-4,6.5574845489270317E-5,4.4443351530352955E-2,3.5738290791652323E-3,0,null,2.7132056203947607E-4,4.5822567541303717E-4,2.280830368095452E-2,1.8741240792094431E-2,7.2756666430749513E-5,null,5.5895548942006325E-5,5.8102373595938107E-4,1.5638718845834738E-2,2.3385288771864954E-2,2.2221888969626904E-4,null,1.7623936428899685E-4,6.6926340869239311E-6,7.0406943899938628E-3,6.5722337938163592E-3,4.461756057949288E-6,null,1.1976047904191617E-2,0,3.5928143712574849E-2,1.1976047904191617E-2,0]
[110,null,6.7172648137336583E-3,0,0,0,0,null,8.0725887177500088E-6,1.6973135252705145E-5,2.4743284448500789E-2,0,0,null,0,3.9528644300543848E-2,2.4614178391959684E-2,3.1503504764905095E-3,0,null,2.1629606182902062E-3,0,0,0,0,null,2.118023478515581E-3,0,3.2784299587661388E-3,0,0,null,4.7541762979720978E-4,6.5574845489270317E-5,3.8148166363383008E-2,2.4754504172199545E-3,0,null,1.5595591361324215E-4,4.2396581183075404E-4,2.0077972835669779E-2,1.6074908312781407E-2,4.9217744938448201E-5,null,2.317620321985628E-5,4.4261949696905683E-4,1.2245399064884284E-2,1.9172582988324891E-2,2.1267574719397529E-4,null,1.3831443779642791E-4,2.230878028974644E-6,5.3184459523908014E-3,3.9910815536787058E-3,0,null,0,0,4.790419161676647E-2,5.9880239520958087E-3,0]
[120,null,3.7883012011046754E-3,0,0,0,0,null,0,5.0919405758115433E-5,1.985113750697013E-2,0,0,null,0,2.7302066634009262E-2,1.921875048844212E-2,2.4809010002362765E-3,0,null,1.0551027406293689E-3,0,0,0,0,null,7.660935986120187E-4,0,2.410941619161353E-3,0,0,null,1.8033082509549337E-4,0,3.2213642846604044E-2,1.3606780439023591E-3,0,null,8.759167750880723E-5,3.3403366992726077E-4,1.8706398185691059E-2,1.430589926400642E-2,4.9217744938448201E-5,null,1.0906448574050014E-5,4.3713814096944001E-4,1.0831629433367362E-2,1.3524285233889136E-2,2.1403905326573152E-4,null,1.0485126736180826E-4,4.461756057949288E-6,5.4277596485599079E-3,3.3932001359112973E-3,2.230878028974644E-6,null,0,0,5.9880239520958087E-3,5.9880239520958087E-3,0]
[130,null,1.780993551688172E-3,0,0,0,0,null,8.0725887177500088E-6,1.6973135252705145E-5,1.5346487352887439E-2,0,0,null,0,1.5669012155170536E-2,1.7485912329648159E-2,2.5990391431046705E-3,0,null,5.2755137031468443E-4,0,0,0,0,null,3.041842229783015E-4,0,1.8251053378698092E-3,0,0,null,6.5574845489270317E-5,1.6393711372317579E-5,2.809882129215233E-2,9.1804783684978442E-4,0,null,5.768232421311696E-5,1.7558180085920115E-4,1.8503439320040005E-2,1.2682171151604258E-2,4.0658137123065909E-5,null,4.0899182152687552E-6,3.0010424097901993E-4,1.2950238890818951E-2,1.0185477316772756E-2,1.3360399503211268E-4,null,3.5694048463594304E-5,2.230878028974644E-6,7.1723170037485007E-3,3.6988335472326966E-3,4.461756057949288E-6,null,0,0,5.9880239520958087E-3,2.3952095808383235E-2,5.9880239520958087E-3]
[140,null,6.2646366182769959E-4,0,0,0,0,null,0,8.4865676263525727E-6,1.30376523276766E-2,0,0,null,0,8.1114835651766651E-3,1.4610976293467267E-2,2.0871071906749627E-3,0,null,2.6377568515734221E-4,0,0,0,0,null,1.3519298799035624E-4,0,1.6786462675469232E-3,0,0,null,4.9181134116952735E-5,4.9181134116952735E-5,2.5557796029443105E-2,4.098427843079395E-4,0,null,2.5636588539163093E-5,7.0660968638459011E-5,1.771510435766906E-2,1.1566926316506982E-2,2.3538921492301312E-5,null,2.7266121435125036E-6,1.4388559498994109E-4,1.5387866760782555E-2,8.4676749584360299E-3,9.1341506807668876E-5,null,2.4539658318721083E-5,0,8.8120224462850949E-3,4.3681037910021829E-3,1.1154390144873219E-5,null,0,0,5.9880239520958087E-3,1.1976047904191617E-2,0]
[150,null,2.8207264354545631E-4,0,0,0,0,null,0,0,1.0543141758480271E-2,0,0,null,0,4.7877537140798851E-3,1.2208632482412001E-2,1.6539340001575176E-3,3.937938095613137E-5,null,2.6377568515734217E-5,0,0,0,0,null,9.0128658660237491E-5,0,1.2054708095806765E-3,0,0,null,1.6393711372317579E-5,0,2.2426597157330447E-2,5.0820505254184497E-4,0,null,2.136382378263591E-6,2.9977380634497758E-5,1.6431122481287114E-2,1.0979393117940411E-2,2.5678823446146888E-5,null,0,6.7146610995305833E-5,1.6242672507128852E-2,8.066854408157461E-3,5.5895548942006325E-5,null,0,2.230878028974644E-6,9.8650033563221998E-3,5.1176864640240082E-3,1.1154390144873219E-5,null,0,0,1.7964071856287425E-2,0,0]
[160,null,1.082371771744193E-4,0,0,0,0,null,0,0,8.0405583395454453E-3,0,0,null,0,2.3740927507834141E-3,9.1367830190954343E-3,1.3782783334645979E-3,0,null,5.2755137031468433E-5,0,0,0,0,null,2.2532164665059373E-5,0,6.8723102228431085E-4,0,0,null,3.2787422744635159E-5,0,1.7492090034262858E-2,3.1148051607403398E-4,0,null,4.2727647565271819E-6,2.1412414738926973E-5,1.4638675236221465E-2,1.1013576867675193E-2,3.2098529307683611E-5,null,0,5.207288199635962E-5,1.5757328255614846E-2,9.4533663116721026E-3,5.8622161085518827E-5,null,0,0,9.9921641865597308E-3,6.2420604735567457E-3,0,null,0,0,1.7964071856287425E-2,1.1976047904191617E-2,0]
[170,null,4.9198716897463315E-5,0,0,0,0,null,0,1.6973135252705145E-5,6.046564454136082E-3,0,0,null,0,1.978410625652845E-3,7.5220929165828784E-3,1.5751752382452547E-3,0,null,0,0,0,0,0,null,1.1266082332529686E-5,0,4.6190937563371715E-4,0,0,null,0,0,1.3803504975491402E-2,2.1311824784012853E-4,0,null,0,2.1412414738926973E-6,1.2961594083210104E-2,1.0511503043445575E-2,3.2098529307683611E-5,null,0,1.5073728998946208E-5,1.4721200078225393E-2,1.1321135542562035E-2,6.8165303587812586E-5,null,0,0,8.9124125754199875E-3,7.2214259302727617E-3,4.461756057949288E-6,null,0,0,1.1976047904191617E-2,0,0]
[180,null,3.6079059058139765E-5,null,0,0,0,null,0,null,4.6661071488526776E-3,0,0,null,0,null,6.9313526351758459E-3,9.4510514294715282E-4,0,null,0,null,0,0,0,null,2.2532164665059373E-5,null,3.3798246997589058E-4,0,0,null,0,null,9.5083525959441962E-3,1.8033082509549337E-4,0,null,0,null,1.1295194975759324E-2,1.0131208827646123E-2,3.6378333215374756E-5,null,0,null,1.4107703131086903E-2,1.238453700248477E-2,7.0891915731325088E-5,null,0,null,8.0379030060671371E-3,8.4640376828714423E-3,4.461756057949288E-6,null,0,null,5.9880239520958087E-3,5.9880239520958087E-3,0]
[190,null,null,null,0,0,0,null,null,null,3.5520538849397546E-3,0,0,null,null,null,5.9861681849245939E-3,1.1420020477278098E-3,0,null,null,null,0,0,0,null,null,null,1.1266082332529686E-4,0,0,null,null,null,6.3115788783422678E-3,1.475434023508582E-4,0,null,null,null,9.0370105442523063E-3,9.5864053162480287E-3,1.9259117584610166E-5,null,null,null,1.3760054861041759E-2,1.2902604380395843E-2,2.9992733578637539E-5,null,null,null,7.9375128769322446E-3,8.9414504567603432E-3,0,null,null,null,0,0,0]
[200,null,null,null,0,0,0,null,null,null,2.3330535744263388E-3,0,0,null,null,null,3.544441688442194E-3,8.2696700007875879E-4,0,null,null,null,0,0,0,null,null,null,1.4645907032288593E-4,0,0,null,null,null,4.2951523795472053E-3,1.3114969097854063E-4,0,null,null,null,6.3109525171917997E-3,8.3899740755306457E-3,2.1399019538455739E-5,null,null,null,1.1241990724675553E-2,1.2046429871637541E-2,5.1805630726737565E-5,null,null,null,7.1009284674747987E-3,8.9927611754493358E-3,0,null,null,null,5.9880239520958087E-3,0,0]
[210,null,null,null,0,0,0,null,null,null,1.3481659063294068E-3,0,0,null,null,null,3.0324667778894331E-3,4.7255257147357641E-4,0,null,null,null,0,0,0,null,null,null,5.6330411662648432E-5,0,0,null,null,null,2.3115133034967788E-3,3.2787422744635159E-5,0,null,null,null,4.2664089968964198E-3,7.682797752892336E-3,1.9259117584610166E-5,null,null,null,7.8582142295694733E-3,1.1224338743004965E-2,3.2719345722150042E-5,null,null,null,5.3184459523908014E-3,8.53988831049865E-3,6.6926340869239311E-6,null,null,null,0,0,0]
[220,null,null,null,0,0,0,null,null,null,9.7681481835843256E-4,0,0,null,null,null,1.4177766753768776E-3,5.5131133338583919E-4,0,null,null,null,0,0,0,null,null,null,2.2532164665059373E-5,0,0,null,null,null,1.3934654666469942E-3,4.9181134116952735E-5,0,null,null,null,2.3265495230947427E-3,6.8282040095227776E-3,2.3538921492301312E-5,null,null,null,4.6693934309985164E-3,1.06271979232022E-2,5.9985467157275079E-5,null,null,null,3.4824220351015274E-3,7.8550017610412096E-3,4.461756057949288E-6,null,null,null,0,5.9880239520958087E-3,0]
[230,null,null,null,0,0,0,null,null,null,5.9739088064895865E-4,0,0,null,null,null,1.1814805628140648E-3,5.1193195242970778E-4,0,null,null,null,0,0,0,null,null,null,3.3798246997589059E-5,0,0,null,null,null,8.0329185724356132E-4,4.9181134116952735E-5,0,null,null,null,1.1942526936730587E-3,6.4009071378379979E-3,2.1399019538455739E-5,null,null,null,2.3067485212407268E-3,1.0807158170266047E-2,5.1805630726737565E-5,null,null,null,1.8248694584965079E-3,7.3552799790266594E-3,2.230878028974644E-6,null,null,null,0,0,0]
[240,null,null,null,0,0,0,null,null,null,2.9869544032447932E-4,0,0,null,null,null,7.0888833768843881E-4,3.1503504764905096E-4,0,null,null,null,0,0,0,null,null,null,1.1266082332529686E-5,0,0,null,null,null,4.7541762979720978E-4,3.2787422744635159E-5,0,null,null,null,6.1528582428951872E-4,5.7086862057086551E-3,1.9259117584610166E-5,null,null,null,1.0729379942177612E-3,1.0920314992283466E-2,4.0899182152687555E-5,null,null,null,9.1689651276536039E-4,7.0139521547042203E-3,2.230878028974644E-6,null,null,null,0,5.9880239520958087E-3,0]
[250,null,null,null,0,0,0,null,null,null,2.1796694293948492E-4,0,0,null,null,null,5.5135759597989688E-4,2.3627628573678821E-4,0,null,null,null,0,0,0,null,null,null,2.2532164665059373E-5,0,0,null,null,null,2.6229938195708127E-4,0,0,null,null,null,3.3968904882650507E-4,4.3926118409195339E-3,1.711921563076459E-5,null,null,null,5.3987731348187232E-4,1.0331354183710874E-2,3.4082651793906293E-5,null,null,null,4.9525797039880789E-4,6.5365393808153203E-3,4.461756057949288E-6,null,null,null,0,1.1976047904191617E-2,0]
[260,null,null,null,0,0,0,null,null,null,4.8437098430996647E-5,0,0,null,null,null,5.9074028140703241E-4,3.937938095613137E-5,0,null,null,null,0,0,0,null,null,null,0,0,0,null,null,null,1.8033082509549337E-4,4.9181134116952735E-5,0,null,null,null,1.3245736495121584E-4,3.5187897383241597E-3,2.5678823446146888E-5,null,null,null,2.4130879920780652E-4,9.2543193717378475E-3,2.4539509291612531E-5,null,null,null,2.0524204178689335E-4,6.0435103012384649E-3,2.230878028974644E-6,null,null,null,0,0,0]
[270,null,null,null,0,0,0,null,null,null,5.6509948169496094E-5,0,0,null,null,null,1.5753074170854196E-4,1.181381428683941E-4,0,null,null,null,0,0,0,null,null,null,0,0,0,null,null,null,1.6393711372317579E-5,1.6393711372317579E-5,0,null,null,null,9.4002000933120916E-5,2.3949989657931895E-3,2.5678823446146888E-5,null,null,null,1.131561035833217E-4,7.1697798432482822E-3,3.6809263937418795E-5,null,null,null,1.6731688189148915E-4,5.4210889745328426E-3,2.230878028974644E-6,null,null,null,0,0,0]
[280,null,null,null,0,0,0,null,null,null,4.8437098430996647E-5,0,0,null,null,null,1.1814805628140648E-4,7.875876191226274E-5,0,null,null,null,0,0,0,null,null,null,0,0,0,null,null,null,6.5574845489270317E-5,1.6393711372317579E-5,0,null,null,null,3.6318954905978536E-5,1.5468146754989021E-3,1.2839411723073444E-5,null,null,null,4.6353102672686001E-5,5.4192574399908582E-3,2.8629427506881288E-5,null,null,null,4.6848726929616961E-5,4.0066978593666603E-3,0,null,null,null,0,0,0]
[290,null,null,null,0,0,0,null,null,null,2.4218549215498324E-5,0,0,null,null,null,1.1814805628140648E-4,1.181381428683941E-4,3.937938095613137E-5,null,null,null,0,0,0,null,null,null,0,0,0,null,null,null,0,0,0,null,null,null,1.7091272896931076E-5,9.0586936797173263E-4,2.3538921492301312E-5,null,null,null,2.0449898237949705E-5,3.5255848402053732E-3,2.0449591076343778E-5,null,null,null,3.3463376378297826E-5,2.8667075441459683E-3,0,null,null,null,0,0,0]
[300,null,null,null,0,0,0,null,null,null,1.6145699476998884E-5,0,0,null,null,null,3.938268542713549E-5,0,0,null,null,null,0,0,0,null,null,null,0,0,0,null,null,null,0,0,0,null,null,null,1.922768200904746E-5,5.2771163653070276E-4,1.069950976922787E-5,null,null,null,1.4996592041163117E-5,2.2086030321472176E-3,3.2719345722150042E-5,null,null,null,1.5616242309872319E-5,1.9185746988058618E-3,2.230878028974644E-6,null,null,null,0,0,0]
[310,null,null,null,0,0,0,null,null,null,3.2291398953997767E-5,0,0,null,null,null,0,0,0,null,null,null,0,0,0,null,null,null,0,0,0,null,null,null,1.6393711372317579E-5,1.6393711372317579E-5,0,null,null,null,4.2728182242327689E-6,4.016590593836928E-4,1.069950976922787E-5,null,null,null,5.4533061967865887E-6,1.2556317238318442E-3,1.6359672861075021E-5,null,null,null,1.1154458792765942E-5,1.0708323900311787E-3,0,null,null,null,0,0,0]
[320,null,null,null,0,0,0,null,null,null,0,0,0,null,null,null,3.938268542713549E-5,3.937938095613137E-5,0,null,null,null,0,0,0,null,null,null,0,0,0,null,null,null,0,0,0,null,null,null,8.5456364484655378E-6,1.7519171739075964E-4,8.559607815382295E-6,null,null,null,4.0899796475899409E-6,6.5576423361901962E-4,2.5902815363368782E-5,null,null,null,4.4617835171063768E-6,5.6441790557893378E-4,2.230878028974644E-6,null,null,null,0,0,0]
[330,null,null,null,0,0,0,null,null,null,8.0728497384994418E-6,0,0,null,null,null,3.938268542713549E-5,0,3.937938095613137E-5,null,null,null,0,0,0,null,null,null,0,0,0,null,null,null,0,0,0,null,null,null,2.1364091121163845E-6,1.1109718663804269E-4,6.4197058615367221E-6,null,null,null,1.3633265491966472E-6,3.7628051658804447E-4,2.1812897148100029E-5,null,null,null,4.4617835171063768E-6,2.989407088837041E-4,4.461756057949288E-6,null,null,null,0,0,0]
[340,null,null,null,null,0,0,null,null,null,null,0,0,null,null,null,null,0,0,null,null,null,null,0,0,null,null,null,null,0,0,null,null,null,null,0,0,null,null,null,null,7.2640468186412527E-5,1.069950976922787E-5,null,null,null,null,2.1813363280466348E-4,2.4539509291612531E-5,null,null,null,null,1.5839395769211187E-4,0,null,null,null,null,0,0]
[350,null,null,null,null,0,0,null,null,null,null,0,0,null,null,null,null,3.937938095613137E-5,0,null,null,null,null,0,0,null,null,null,null,0,0,null,null,null,null,0,0,null,null,null,null,3.6320234093206263E-5,2.1399019538455738E-6,null,null,null,null,1.1861016283753578E-4,2.1812897148100029E-5,null,null,null,null,6.9157925189513626E-5,0,null,null,null,null,0,0]
[360,null,null,null,null,0,0,null,null,null,null,0,0,null,null,null,null,0,0,null,null,null,null,0,0,null,null,null,null,0,0,null,null,null,null,0,0,null,null,null,null,2.7774296659510673E-5,4.2798039076911475E-6,null,null,null,null,4.6353396970990993E-5,1.6359672861075021E-5,null,null,null,null,2.9001710563344423E-5,0,null,null,null,null,0,0]
[370,null,null,null,null,0,0,null,null,null,null,0,0,null,null,null,null,0,0,null,null,null,null,0,0,null,null,null,null,0,0,null,null,null,null,0,0,null,null,null,null,1.9228359225815082E-5,0,null,null,null,null,1.6360022460349762E-5,9.5431425022937633E-6,null,null,null,null,2.4539908938214513E-5,0,null,null,null,null,0,0]
[380,null,null,null,null,0,0,null,null,null,null,0,0,null,null,null,null,0,0,null,null,null,null,0,0,null,null,null,null,0,0,null,null,null,null,0,0,null,null,null,null,1.7091874867391181E-5,2.1399019538455738E-6,null,null,null,null,1.2270016845262321E-5,1.3633060717562518E-5,null,null,null,null,1.7847206500519647E-5,0,null,null,null,null,0,0]
[390,null,null,null,null,0,0,null,null,null,null,0,0,null,null,null,null,0,0,null,null,null,null,0,0,null,null,null,null,0,0,null,null,null,null,0,0,null,null,null,null,1.7091874867391181E-5,4.2798039076911475E-6,null,null,null,null,5.4533408201165867E-6,5.4532242870250072E-6,null,null,null,null,2.2309008125649558E-6,0,null,null,null,null,0,0]
[400,null,null,null,null,0,0,null,null,null,null,0,0,null,null,null,null,0,0,null,null,null,null,0,0,null,null,null,null,0,0,null,null,null,null,0,0,null,null,null,null,1.068242179211949E-5,2.1399019538455738E-6,null,null,null,null,8.1800112301748809E-6,1.3633060717562518E-6,null,null,null,null,0,0,null,null,null,null,0,0]
[410,null,null,null,null,null,0,null,null,null,null,null,0,null,null,null,null,null,0,null,null,null,null,null,0,null,null,null,null,null,0,null,null,null,null,null,0,null,null,null,null,null,0,null,null,null,null,null,4.0899182152687552E-6,null,null,null,null,null,0,null,null,null,null,null,0]
[420,null,null,null,null,null,0,null,null,null,null,null,0,null,null,null,null,null,0,null,null,null,null,null,0,null,null,null,null,null,0,null,null,null,null,null,0,null,null,null,null,null,0,null,null,null,null,null,0,null,null,null,null,null,0,null,null,null,null,null,0]
[430,null,null,null,null,null,0,null,null,null,null,null,0,null,null,null,null,null,0,null,null,null,null,null,0,null,null,null,null,null,0,null,null,null,null,null,0,null,null,null,null,null,0,null,null,null,null,null,0,null,null,null,null,null,0,null,null,null,null,null,0]
[440,null,null,null,null,null,0,null,null,null,null,null,0,null,null,null,null,null,3.937938095613137E-5,null,null,null,null,null,0,null,null,null,null,null,0,null,null,null,null,null,0,null,null,null,null,null,2.1399019538455738E-6,null,null,null,null,null,0,null,null,null,null,null,0,null,null,null,null,null,0]
[450,null,null,null,null,null,0,null,null,null,null,null,0,null,null,null,null,null,0,null,null,null,null,null,0,null,null,null,null,null,0,null,null,null,null,null,0,null,null,null,null,null,0,null,null,null,null,null,0,null,null,null,null,null,0,null,null,null,null,null,0]
[460,null,null,null,null,null,0,null,null,null,null,null,0,null,null,null,null,null,0,null,null,null,null,null,0,null,null,null,null,null,0,null,null,null,null,null,0,null,null,null,null,null,0,null,null,null,null,null,0,null,null,null,null,null,0,null,null,null,null,null,0]
[470,null,null,null,null,null,0,null,null,null,null,null,0,null,null,null,null,null,0,null,null,null,null,null,0,null,null,null,null,null,0,null,null,null,null,null,0,null,null,null,null,null,0,null,null,null,null,null,0,null,null,null,null,null,0,null,null,null,null,null,0]
[480,null,null,null,null,null,0,null,null,null,null,null,0,null,null,null,null,null,0,null,null,null,null,null,0,null,null,null,null,null,0,null,null,null,null,null,0,null,null,null,null,null,0,null,null,null,null,null,0,null,null,null,null,null,0,null,null,null,null,null,0]
[490]
[500]

{"sheet":"30041-2","index":10,"n_rows":56,"n_cols":61,"rows_kept":56,"cut":false,"hidden":true,"merged":[[0,20,0,29],[4,37,4,42],[4,43,4,48],[4,49,4,54],[4,55,4,60],[4,31,4,36],[4,1,4,6],[4,7,4,12],[4,13,4,18],[4,19,4,24],[4,25,4,30]]}
[null,null,null,null,null,null,null,null,null,null,null,null,null,null,null,null,null,null,null,null,"Recorded Classified Counts"]
["Year","WiM site ID & Lane",null,null,null,null,null,null,null,null,null,null,null,null,null,null,null,null,null,null,"Class 3","Class 4","Class 5","Class 6","Class 7","Class 8","Class 9","Class 10","Class 11","Class 12"]
[{"$f":"'Presumptive CTLD'!A3","v":"2014-2023"},{"$f":"MID(CELL(\"filename\",A1),FIND(\"]\",CELL(\"filename\",A1))+1,255)","v":"30041-2"},null,null,null,null,null,null,null,null,null,null,null,null,null,null,null,null,null,null,123302,69826,13502,11268,24092,23768,191487,246307,120152,6]
[]
[null,"Class 3",null,null,null,null,null,"Class 4",null,null,null,null,null,"Class 5",null,null,null,null,null,"Class 6",null,null,null,null,null,"Class 7",null,null,null,null,null,"Class 8",null,null,null,null,null,"Class 9",null,null,null,null,null,"Class 10",null,null,null,null,null,"Class 11",null,null,null,null,null,"Class 12"]
["Load (kN)","SAST","SADT","TAST","TADT","TRDT","QADT","SAST","SADT","TAST","TADT","TRDT","QADT","SAST","SADT","TAST","TADT","TRDT","QADT","SAST","SADT","TAST","TADT","TRDT","QADT","SAST","SADT","TAST","TADT","TRDT","QADT","SAST","SADT","TAST","TADT","TRDT","QADT","SAST","SADT","TAST","TADT","TRDT","QADT","SAST","SADT","TAST","TADT","TRDT","QADT","SAST","SADT","TAST","TADT","TRDT","QADT","SAST","SADT","TAST","TADT","TRDT","QADT"]
[10,8.1238728126472436E-6,0,0,0,0,0,0,0,0,0,0,0,0,0,0,0,0,0,1.332859427759019E-3,7.1282734132268086E-2,0,0,0,0,8.0589857144256847E-3,1.1837689032077329E-2,0,1.2876064462335461E-2,0,0,2.214405583311108E-4,2.7547071057669795E-4,0,4.8207374350922138E-4,5.5094142115339589E-5,0,1.7340575551967748E-6,1.0328689137724506E-5,0,1.1188630289143012E-4,0,0,1.0283246333511452E-6,1.0152191502818757E-6,0,0,0,0,0,0,0,1.6559060996880659E-6,0,0,0,0,0,0,0,0]
[20,2.2856516158383022E-2,2.5101989505016344E-3,0,0,0,0,1.3534723543562235E-3,1.4321312977973821E-5,0,8.5929109190876078E-5,0,0,0,0,0,4.0750282103613216E-4,0,0,7.262602926366922E-2,9.1995857375351389E-2,0,0,0,0,0.1411759161314842,0.10848025422467168,0,7.009390505611067E-2,0,0,4.4426512015179106E-3,3.1954602426896958E-3,0,2.1211244714405739E-3,3.2230073137473657E-3,0,7.2830417318264546E-5,1.1981279399760425E-3,0,3.1500297583279558E-4,9.4677203943685631E-5,0,4.5246283867450386E-5,2.0304383005637512E-4,0,1.0883428324667604E-3,2.8429547098060172E-5,0,1.5189246177582158E-5,4.8019048659854584E-5,0,1.4903154897192593E-4,2.8150042591235538E-5,0,0,0,0,0,0,0]
[30,0.17163306091279834,8.6883703577540411E-2,0,0,0,0,7.8023700427594066E-3,2.148196946696073E-5,1.5912569975526469E-5,6.9817401217586797E-3,0,0,0,0,7.46177153748233E-4,3.2229768572857725E-3,3.703155088135091E-5,0,9.8690835850956699E-2,0.12750406864920846,0,0,0,0,5.8054798618519823E-2,7.2611783069739921E-2,0,0.10985661367705955,0,0,6.9753775874299897E-3,8.8012892029254997E-3,0,1.0040907400520639E-2,3.0164042808148422E-3,0,2.5230537428113072E-3,2.5511862170179526E-3,0,1.6714092324242869E-3,7.3159657592847987E-4,0,2.0761874347359622E-3,3.3299188129245517E-4,1.0184600733474203E-6,1.2375838738591242E-2,7.2596879196832232E-4,0,1.6066847067842461E-3,6.7888999829449591E-5,0,1.7966581181615517E-3,1.2121077162814361E-3,0,0,0,0,4.7619047619047616E-2,2.3809523809523808E-2,0]
[40,0.15205452743431849,0.1264629309715565,0,0,0,0,5.0700929637782596E-2,3.5803282444934549E-5,0,4.2212674890017864E-2,0,0,4.1337545169880086E-5,0,2.0519871728076409E-3,1.7189209905524121E-2,2.2218930528810547E-4,0,0.10265979503583912,0.10013315579227695,0,0,0,0,3.1661278341563723E-2,4.0037634151217666E-2,0,4.3056903456854249E-2,0,0,1.7936685224819976E-2,1.0164869220280153E-2,0,2.7216506204977755E-2,2.6858394281228048E-3,0,7.7373648112880082E-3,1.5148744068662608E-3,1.0356368022431151E-5,2.8023215554961269E-3,6.6893748095484063E-3,0,4.2223009445398023E-3,8.6293627773959426E-5,1.1203060806821624E-5,1.9707939425228315E-2,7.3794981538821908E-3,0,1.8699649738623367E-3,3.3116585282658336E-5,0,9.2267087874619031E-3,9.6836146513850242E-3,0,0,0,0,7.1428571428571425E-2,4.7619047619047616E-2,0]
[50,9.0085625619445303E-2,0.10299926194473506,0,0,0,0,0.13033142612241988,6.4445908400882196E-5,1.5912569975526469E-5,6.5699964735523989E-2,0,0,1.2401263550964028E-4,0,1.5184705078776541E-2,3.6823436737265035E-2,2.9625240705080728E-4,0,3.8356732421065104E-2,0.10134635301080042,0,0,0,0,3.1428676037412215E-2,3.4610887562609466E-2,0,1.7960879727716345E-2,0,0,7.9331080022120443E-2,1.0839772461193064E-2,0,4.4557387435780887E-2,2.8235747834111538E-3,0,6.40370114558617E-2,1.0122115354970016E-3,5.0055778775083891E-5,1.0500099194426519E-2,2.3345677088804809E-2,3.4515065146506031E-6,3.247860521976257E-2,5.7867491566066911E-5,2.2406121613643247E-5,1.8750563220922202E-2,2.122164156773413E-2,1.0155552042872651E-6,1.5201060035720276E-2,4.6363219395721666E-5,0,1.7002843831597062E-2,2.7962927602246737E-2,0,0,0,0,0,4.7619047619047616E-2,0]
[60,4.2942791687653338E-2,6.6603404786815562E-2,0,0,0,0,0.15438270223753073,6.4445908400882196E-5,7.9562849877632345E-6,7.5596133810673219E-2,0,0,2.4802527101928056E-4,0,4.4136378644207983E-2,4.4603036047954833E-2,1.1850096282032291E-3,0,1.2913926900065162E-2,7.6224293534546531E-2,0,0,0,0,3.5328185254069805E-2,3.2382777502299301E-2,0,1.4420645443486105E-2,0,0,0.11609021270508484,1.0536754679558696E-2,1.3773535528834897E-5,6.7311268129416138E-2,2.8373483189399885E-3,0,0.13014795574773874,1.1912421472175597E-3,9.1481250864808487E-5,2.9467409526129109E-2,4.135500268260188E-2,8.6287662866265098E-6,9.0111059295927498E-2,1.2182629803382507E-4,1.6804591210232435E-4,2.4548628441274506E-2,2.7085235656709044E-2,3.0466656128617956E-6,6.6603156794678028E-2,5.7954024244652084E-5,0,1.7325745521036235E-2,2.5648000570332192E-2,0,4.7619047619047616E-2,0,0,7.1428571428571425E-2,4.7619047619047616E-2,0]
[70,1.5163208604806083E-2,3.9923923534230354E-2,0,0,0,0,9.8608060725931493E-2,2.8642625955947643E-5,3.9781424938816168E-5,7.4092374399832878E-2,0,0,7.8541335822772157E-4,0,6.1895394903415925E-2,4.8344652859286588E-2,1.8145459931861946E-3,0,4.9167703335110478E-3,4.8024855747891705E-2,0,0,0,0,1.7007333180018888E-2,2.3620700516662384E-2,0,1.2958077611777087E-2,0,0,7.0155136886275032E-2,7.3412944368690001E-3,5.5094142115339589E-5,8.4431772791757911E-2,2.0384832582675647E-3,0,8.2917430116844187E-2,1.5355317851417098E-3,2.4855283253834759E-4,4.5210673006821724E-2,4.5494978600503048E-2,8.6287662866265098E-6,7.3498474844139766E-2,2.1015036410834825E-4,5.2654385792061625E-4,2.5028839411196876E-2,2.4783457682733958E-2,2.0311104085745301E-6,6.6697667659782994E-2,2.1525780433727918E-5,0,1.7329057333235611E-2,1.4838384215297745E-2,0,4.7619047619047616E-2,0,0,0,0.14285714285714285,0]
[80,4.130989325231124E-3,2.7348597289471761E-2,0,0,0,0,4.227610706842086E-2,2.8642625955947643E-5,2.3868854963289702E-5,5.5717866551183888E-2,0,0,4.1337545169880087E-4,0,8.7489271276980321E-2,4.7307372951194616E-2,1.8515775440675457E-3,0,1.332859427759019E-3,2.6601568279331262E-2,0,0,0,0,5.1582981567716178E-3,1.383341951554533E-2,0,9.5271941934690196E-3,0,0,2.5659424696617462E-2,5.068661074611242E-3,6.8867677644174487E-5,8.2792722063826568E-2,1.3911270884123246E-3,0,3.1273728007973838E-2,1.5028242695389155E-3,5.9376509995271928E-4,4.419853229758848E-2,3.4032151308484818E-2,2.5886298859879524E-5,3.3983044158355298E-2,1.3603936613777132E-4,6.8440516928946647E-4,1.9603369171735711E-2,1.9509776696043795E-2,7.1088864300108555E-6,3.462979359086759E-2,9.9349755847975003E-6,8.3511388973660143E-6,1.3507226055155554E-2,8.4549480865205098E-3,3.3116585282658336E-6,2.3809523809523808E-2,0,0,7.1428571428571425E-2,0,0]
[90,1.1251563845516436E-3,1.9209713131706368E-2,0,0,0,0,1.4258505551239359E-2,0,7.1606564889869099E-5,3.7572502993710559E-2,0,0,1.6535018067952034E-4,0,9.3495997364653596E-2,4.2343247676754459E-2,1.259072729965931E-3,0,5.0352467270896274E-4,1.2102382009172956E-2,0,0,0,0,1.4366612903475328E-3,7.9419137732528039E-3,0,6.5883896718107139E-3,0,0,5.9788950749399914E-3,3.4984780243240638E-3,1.9282949740368854E-4,6.2104871699516548E-2,1.0054680936049474E-3,0,7.8101952286062735E-3,1.196406491786422E-3,6.2828632669415646E-4,3.2794736041346563E-2,2.1495168102632772E-2,3.7966571661156633E-5,9.8112453268032786E-3,5.0760957514093779E-5,6.2024218466857895E-4,1.4670292844351391E-2,1.5032123028099318E-2,2.0311104085745305E-5,1.2279661687565308E-2,4.9674877923987501E-6,8.3511388973660143E-6,8.9534842810133734E-3,5.6035143605141806E-3,4.9674877923987501E-6,2.3809523809523808E-2,0,0,0,2.3809523809523808E-2,0]
[100,null,1.2769978182761949E-2,0,0,0,0,null,0,3.1825139951052938E-5,2.4869316351659385E-2,0,0,null,0,7.6221996255382007E-2,3.3637505590982546E-2,7.0359946674566735E-4,0,null,4.9415594022784431E-3,0,0,0,0,null,3.8000895507130455E-3,0,5.2898481389849509E-3,0,0,null,2.5756511438921256E-3,9.6414748701844271E-5,4.6788700191452141E-2,1.3084858752393151E-3,0,null,7.5743720343313039E-4,5.4543538251470723E-4,2.3358417388257027E-2,1.4390934999440217E-2,5.0046844462433752E-5,null,2.741091705761064E-5,5.8255916195472444E-4,1.1964664440877588E-2,1.2161754112163027E-2,1.3202217655734448E-5,null,0,1.2526708346049022E-5,6.7643764172257495E-3,4.6729070701450994E-3,3.3116585282658336E-6,null,0,0,2.3809523809523808E-2,4.7619047619047616E-2,0]
[110,null,7.7576907791754874E-3,0,0,0,0,null,0,3.9781424938816168E-5,2.1038310233566157E-2,0,0,null,0,5.3650137354497945E-2,3.2748408526903708E-2,9.2578877203377283E-4,0,null,2.9294274300932089E-3,0,0,0,0,null,2.146093739071756E-3,0,3.963968889678645E-3,0,0,null,7.9886506067242396E-4,9.6414748701844271E-5,3.4461385893144909E-2,1.9007479029792156E-3,0,null,4.1486901369860096E-4,4.4187170229039569E-4,1.8144515673516385E-2,1.0486791389544234E-2,6.7304377035686761E-5,null,1.3197848953664382E-5,4.5423319271294945E-4,1.1982938854109306E-2,1.0504717652733234E-2,1.726443847288351E-5,null,1.6558292641329168E-6,8.3511388973660143E-6,7.3903089229078386E-3,4.5752098635049292E-3,1.6558292641329168E-6,null,0,0,0,0,0]
[120,null,4.1120221903209325E-3,0,0,0,0,null,7.1606564889869107E-6,2.3868854963289702E-5,1.862513441712239E-2,0,0,null,0,3.025748358449085E-2,2.978475164664093E-2,9.2578877203377283E-4,0,null,1.8937712679390445E-3,0,0,0,0,null,1.2165754317030972E-3,0,2.9661422381388482E-3,0,0,null,2.2037656846135835E-4,5.5094142115339589E-5,2.8580086222332411E-2,1.9282949740368855E-3,0,null,1.7730916353093733E-4,2.4682677120127576E-4,1.6287203045518645E-2,8.4675848399816296E-3,3.9692324918481937E-5,null,7.1065340519731295E-6,3.1877800295774253E-4,1.3582965257064169E-2,9.5330363465602492E-3,2.8435545720043422E-5,null,3.3116585282658336E-6,0,1.1054829121517529E-2,4.9494398414825303E-3,0,null,0,0,0,0,0]
[130,null,1.9870718671176103E-3,0,0,0,0,null,7.1606564889869107E-6,0,1.6333691505365691E-2,0,0,null,0,1.6042808805587009E-2,2.6228363390325596E-2,4.4437861057621095E-4,0,null,8.5811510578487945E-4,0,0,0,0,null,4.2375099306512376E-4,0,2.1733484602031194E-3,0,0,null,5.5094142115339589E-5,0,2.5109155269066017E-2,1.1707505199509663E-3,0,null,8.9515305860279039E-5,1.0528974156138336E-4,1.6374990760094996E-2,7.5638478932464484E-3,3.7966571661156633E-5,null,5.0760957514093777E-6,2.0878431503622115E-4,1.6900786503800527E-2,9.4731312294607656E-3,4.9762205010075995E-5,null,8.2791463206645841E-6,4.1755694486830072E-6,1.9172080822188426E-2,6.4314567896681663E-3,3.3116585282658336E-6,null,0,0,2.3809523809523808E-2,0,0]
[140,null,8.5160222876469005E-4,0,0,0,0,null,0,7.9562849877632345E-6,1.417830301649455E-2,0,0,null,0,8.5810372681046788E-3,2.3227660799059531E-2,5.9250481410161456E-4,0,null,4.1426246486166596E-4,0,0,0,0,null,2.1871018996909614E-4,0,1.435230115228475E-3,0,0,null,4.132060658650469E-5,0,1.8869743674503808E-2,6.0603556326873547E-4,0,null,2.237882646506976E-5,6.2138208134586897E-5,1.7326884998540546E-2,7.2333383812975827E-3,2.070903908790362E-5,null,1.0152191502818757E-6,1.1814136850830076E-4,2.1838939057082542E-2,9.9016051178672428E-3,6.3979977870097713E-5,null,0,0,3.0627639219830465E-2,9.4120495346225169E-3,0,null,0,0,0,0,0]
[150,null,3.5280663763108589E-4,0,0,0,0,null,7.1606564889869107E-6,7.9562849877632345E-6,1.2008593009424929E-2,0,0,null,0,4.7009160686138675E-3,2.2005152335951138E-2,5.9250481410161456E-4,0,null,2.0713123243083298E-4,0,0,0,0,null,2.0504080309602764E-4,0,1.079839800981424E-3,0,0,null,2.7547071057669794E-5,0,1.5343718579122074E-2,3.1679131716320263E-4,0,null,1.7214481896207507E-5,1.7260613370718583E-5,1.7917300412259942E-2,7.2798162814153916E-3,4.8321091205108448E-5,null,1.0152191502818757E-6,6.7218364840929744E-5,2.6142563373152131E-2,1.1425631910516825E-2,7.210441950439582E-5,null,0,2.0877847243415036E-6,3.870846098630823E-2,1.363290003844954E-2,0,null,0,0,0,2.3809523809523808E-2,0]
[160,null,1.3787845608571173E-4,0,0,0,0,null,0,0,1.0103831089027179E-2,0,0,null,0,2.2385314612446989E-3,1.7744895570573391E-2,5.5547326322026363E-4,0,null,5.918035212309514E-5,0,0,0,0,null,5.4677547492274036E-5,0,7.6545606145518661E-4,0,0,null,0,0,1.1349393275759954E-2,2.4792363951902817E-4,0,null,5.164344568862253E-6,2.243879738193416E-5,1.6856962526396541E-2,7.9201784608163208E-3,4.6595337947783144E-5,null,0,3.3609182420464872E-5,2.7661370161743803E-2,1.3872603642885577E-2,8.4291081955843015E-5,null,0,0,3.9013147708650837E-2,2.0590928213059641E-2,0,null,0,0,0,0,0]
[170,null,6.0828730626049293E-5,0,0,0,0,null,0,0,7.5044755360031768E-3,0,0,null,0,1.5296631651838775E-3,1.5670335754389447E-2,4.4437861057621095E-4,0,null,8.8770528184642689E-5,0,0,0,0,null,2.7338773746137018E-5,0,6.6977405377328827E-4,0,0,null,0,0,7.7131798961475422E-3,1.5150889081718387E-4,0,null,1.721448189620751E-6,6.9042453482874327E-6,1.4354151997102089E-2,9.0425336784760117E-3,2.7612052117204825E-5,null,1.0152191502818757E-6,1.1203060806821624E-5,2.516488226525522E-2,1.7028283370770256E-2,9.2415523590141135E-5,null,0,4.1755694486830072E-6,3.3901365578913774E-2,2.8148386706377228E-2,3.3116585282658336E-6,null,0,0,2.3809523809523808E-2,0,0]
[180,null,2.8386740958823004E-5,null,0,0,0,null,7.1606564889869107E-6,null,5.857500943178052E-3,0,0,null,0,null,1.1854627521051117E-2,3.7031550881350909E-4,0,null,5.918035212309514E-5,null,0,0,0,null,0,null,4.237346054484069E-4,0,0,null,1.3773535528834897E-5,null,4.7380962219192042E-3,5.5094142115339589E-5,0,null,1.721448189620751E-6,null,1.1147318423460024E-2,9.8653646509320424E-3,7.7658896579638583E-5,null,0,null,2.0449068406292438E-2,1.9765642619926332E-2,1.1678884849303548E-4,null,0,null,2.69598072090214E-2,3.3859533582681428E-2,0,null,0,null,0,2.3809523809523808E-2,0]
[190,null,null,null,0,0,0,null,null,null,3.759398527100828E-3,0,0,null,null,null,9.2614277508211856E-3,4.4437861057621095E-4,0,null,null,null,0,0,0,null,null,null,3.0071488128596618E-4,0,0,null,null,null,3.0301778163436773E-3,1.2396181975951408E-4,0,null,null,null,8.1780280774951478E-3,1.0352521900315007E-2,7.2481636807662672E-5,null,null,null,1.5697720966045759E-2,2.1859275695504908E-2,1.5639550146023882E-4,null,null,null,2.0337838716368826E-2,3.6750708545287156E-2,0,null,null,null,2.3809523809523808E-2,0,0]
[200,null,null,null,0,0,0,null,null,null,2.8070175669019514E-3,0,0,null,null,null,6.5200451365781146E-3,4.0734705969486002E-4,0,null,null,null,0,0,0,null,null,null,2.5970830656515259E-4,0,0,null,null,null,1.6252771924025178E-3,2.7547071057669794E-5,0,null,null,null,5.7509559686195087E-3,9.7276523542866814E-3,1.2252848127009642E-4,null,null,null,1.1095614567191443E-2,2.2414667204884869E-2,1.8178438156742048E-4,null,null,null,1.4701134353030651E-2,3.4786829103333895E-2,0,null,null,null,0,0,0]
[210,null,null,null,0,0,0,null,null,null,1.9047619203977531E-3,0,0,null,null,null,4.8529881414303006E-3,3.7031550881350909E-4,0,null,null,null,0,0,0,null,null,null,1.366885824027119E-4,0,0,null,null,null,1.1432034488932964E-3,8.2641213173009379E-5,0,null,null,null,3.6715920625756994E-3,8.5484908142607792E-3,1.7947833876183136E-4,null,null,null,7.5321039870064332E-3,2.1451108626454187E-2,2.3865547300750732E-4,null,null,null,9.8940389456361952E-3,3.1946986571335725E-2,0,null,null,null,0,0,0]
[220,null,null,null,0,0,0,null,null,null,9.6670247839735575E-4,0,0,null,null,null,3.6304796783219045E-3,4.4437861057621095E-4,0,null,null,null,0,0,0,null,null,null,1.5035744064298309E-4,0,0,null,null,null,8.4018566725892869E-4,4.132060658650469E-5,0,null,null,null,2.1878075534616567E-3,7.2023531145523761E-3,2.3987970276821691E-4,null,null,null,4.6132740958292539E-3,1.9700660797987914E-2,2.5490435627610353E-4,null,null,null,5.8552839684970015E-3,2.7484376878195736E-2,0,null,null,null,0,0,0]
[230,null,null,null,0,0,0,null,null,null,7.0891515082472756E-4,0,0,null,null,null,2.1486512381905152E-3,4.0734705969486002E-4,0,null,null,null,0,0,0,null,null,null,9.5682007681898327E-5,0,0,null,null,null,5.509414211533959E-4,2.7547071057669794E-5,0,null,null,null,1.3529636011179089E-3,5.7890806702293593E-3,2.208964169376386E-4,null,null,null,2.5442044199269608E-3,1.74933095340171E-2,2.7826212597471068E-4,null,null,null,3.1909310540989035E-3,2.3056540767080212E-2,0,null,null,null,0,0,0]
[240,null,null,null,0,0,0,null,null,null,3.7235947316046296E-4,0,0,null,null,null,1.6670569951478134E-3,4.8141016145756183E-4,0,null,null,null,0,0,0,null,null,null,6.8344291201355951E-5,0,0,null,null,null,2.7547071057669795E-4,1.3773535528834897E-5,0,null,null,null,7.7631880929284597E-4,4.5995907079550546E-3,2.5541148208414462E-4,null,null,null,1.4193127609967643E-3,1.4729551419698533E-2,2.9349545403901966E-4,null,null,null,1.8513030194512578E-3,1.8931731585035052E-2,0,null,null,null,0,0,0]
[250,null,null,null,0,0,0,null,null,null,2.864303639695869E-4,0,0,null,null,null,9.2614277508211852E-4,3.3328395793215821E-4,0,null,null,null,0,0,0,null,null,null,4.100657472081357E-5,0,0,null,null,null,2.0660303293252346E-4,0,0,null,null,null,4.5098786703930295E-4,3.4772354902953629E-3,2.105418973936868E-4,null,null,null,8.84278551379243E-4,1.1919087620861728E-2,2.6201324270611439E-4,null,null,null,9.8029641101533512E-4,1.4790363554406813E-2,0,null,null,null,0,2.3809523809523808E-2,0]
[260,null,null,null,0,0,0,null,null,null,1.4321518198479345E-4,0,0,null,null,null,7.0386850906241014E-4,1.4812620352540364E-4,0,null,null,null,0,0,0,null,null,null,4.100657472081357E-5,0,0,null,null,null,1.5150889081718387E-4,0,0,null,null,null,2.7885509336017972E-4,2.542513276814976E-3,1.7947833876183136E-4,null,null,null,5.2386651264258247E-4,9.2771704226777083E-3,1.9498659922315492E-4,null,null,null,5.7791122879113509E-4,1.1427261407183319E-2,0,null,null,null,0,4.7619047619047616E-2,0]
[270,null,null,null,0,0,0,null,null,null,1.1457214558783476E-4,0,0,null,null,null,5.1863995404598641E-4,3.703155088135091E-5,0,null,null,null,0,0,0,null,null,null,2.7337716480542382E-5,0,0,null,null,null,1.1018828423067918E-4,1.3773535528834897E-5,0,null,null,null,1.3082090799613368E-4,1.7627173970606196E-3,1.4496327361532534E-4,null,null,null,3.0254306350288682E-4,6.7012503873998984E-3,1.6248883268596244E-4,null,null,null,2.9309537964478766E-4,8.4450127773706626E-3,0,null,null,null,0,0,0]
[280,null,null,null,0,0,0,null,null,null,5.7286072793917378E-5,0,0,null,null,null,2.5931997702299321E-4,0,0,null,null,null,0,0,0,null,null,null,1.3668858240271191E-5,0,0,null,null,null,4.132060658650469E-5,0,0,null,null,null,6.3689126261275611E-5,1.1430120621564956E-3,1.1562546824079522E-4,null,null,null,1.2182942154478663E-4,4.9091735792543192E-3,1.3709995257878078E-4,null,null,null,1.5731107947036628E-4,5.9462825261839304E-3,0,null,null,null,0,0,0]
[290,null,null,null,0,0,0,null,null,null,4.2964554595438039E-5,0,0,null,null,null,3.3341139902956263E-4,1.1109465264405274E-4,0,null,null,null,0,0,0,null,null,null,0,0,0,null,null,null,2.7547071057669794E-5,0,0,null,null,null,5.8525143050901914E-5,7.6258184267368606E-4,1.104482084688193E-4,null,null,null,8.4265349901810753E-5,3.3892081504758877E-3,1.0561774124587558E-4,null,null,null,7.4515774485962966E-5,3.9045764958901999E-3,0,null,null,null,0,0,0]
[300,null,null,null,0,0,0,null,null,null,7.1607590992396723E-6,0,0,null,null,null,1.852285550164237E-4,0,0,null,null,null,0,0,0,null,null,null,0,0,0,null,null,null,2.7547071057669794E-5,0,0,null,null,null,3.6147882472615888E-5,4.9920707533943325E-4,5.3498350977084352E-5,null,null,null,4.5686033079294989E-5,2.1037864852564529E-3,8.2259971547268471E-5,null,null,null,1.8214967096568726E-5,2.4954184814701148E-3,0,null,null,null,0,0,0]
[310,null,null,null,0,0,0,null,null,null,5.0125313694677702E-5,0,0,null,null,null,1.1113713300985422E-4,0,0,null,null,null,0,0,0,null,null,null,0,0,0,null,null,null,2.7547071057669794E-5,0,0,null,null,null,1.377062189432986E-5,3.2878810824079919E-4,4.4869584690457841E-5,null,null,null,2.7411619847576992E-5,1.4011705355472515E-3,5.2808870622937791E-5,null,null,null,1.3247248797504527E-5,1.5681229608176502E-3,0,null,null,null,0,0,0]
[320,null,null,null,0,0,0,null,null,null,0,0,0,null,null,null,1.4818284401313896E-4,0,0,null,null,null,0,0,0,null,null,null,0,0,0,null,null,null,1.3773535528834897E-5,0,0,null,null,null,1.5491949631121095E-5,2.0140423384384034E-4,4.3143831433132537E-5,null,null,null,1.6243922872638217E-5,8.8436198294322905E-4,4.062220817149061E-5,null,null,null,1.6559060996880658E-5,1.1044752004914179E-3,0,null,null,null,0,0,0]
[330,null,null,null,0,0,0,null,null,null,1.4321518198479345E-5,0,0,null,null,null,0,7.406310176270182E-5,0,null,null,null,0,0,0,null,null,null,0,0,0,null,null,null,0,0,0,null,null,null,3.442655473582465E-6,1.2910527810502587E-4,2.9337805374530128E-5,null,null,null,8.1219614363191084E-6,5.7468298776793057E-4,2.0311104085745305E-5,null,null,null,6.6236243987522637E-6,6.1102151271564197E-4,0,null,null,null,0,0,0]
[340,null,null,null,null,0,0,null,null,null,null,0,0,null,null,null,null,3.703155088135091E-5,3.703155088135091E-5,null,null,null,null,0,0,null,null,null,null,0,0,null,null,null,null,0,0,null,null,null,null,7.4020359446881493E-5,2.4160545602554224E-5,null,null,null,null,3.6247672550026721E-4,1.6248883268596241E-5,null,null,null,null,4.4212125716822879E-4,0,null,null,null,null,0,0]
[350,null,null,null,null,0,0,null,null,null,null,0,0,null,null,null,null,0,0,null,null,null,null,0,0,null,null,null,null,0,0,null,null,null,null,0,0,null,null,null,null,4.819930382587632E-5,2.070903908790362E-5,null,null,null,null,2.3149774065563285E-4,1.3202217655734448E-5,null,null,null,null,2.4010330445465607E-4,0,null,null,null,null,0,0]
[360,null,null,null,null,0,0,null,null,null,null,0,0,null,null,null,null,0,0,null,null,null,null,0,0,null,null,null,null,0,0,null,null,null,null,0,0,null,null,null,null,3.0985266745206207E-5,1.2080272801277112E-5,null,null,null,null,1.5230114516817948E-4,1.0155552042872651E-6,null,null,null,null,1.4075021295617768E-4,0,null,null,null,null,0,0]
[370,null,null,null,null,0,0,null,null,null,null,0,0,null,null,null,null,0,3.703155088135091E-5,null,null,null,null,0,0,null,null,null,null,0,0,null,null,null,null,0,0,null,null,null,null,2.409965191293816E-5,1.3806026058602412E-5,null,null,null,null,1.2184091613454361E-4,0,null,null,null,null,5.4644200324163108E-5,0,null,null,null,null,0,0]
[380,null,null,null,null,0,0,null,null,null,null,0,0,null,null,null,null,0,0,null,null,null,null,0,0,null,null,null,null,0,0,null,null,null,null,0,0,null,null,null,null,2.5821055621005173E-5,8.6287662866265098E-6,null,null,null,null,6.8027844841786852E-5,1.0155552042872651E-6,null,null,null,null,3.3117697166159453E-5,0,null,null,null,null,0,0]
[390,null,null,null,null,0,0,null,null,null,null,0,0,null,null,null,null,0,0,null,null,null,null,0,0,null,null,null,null,0,0,null,null,null,null,0,0,null,null,null,null,1.5492633372603104E-5,1.7257532573253015E-6,null,null,null,null,4.569034355045385E-5,0,null,null,null,null,3.3117697166159455E-6,0,null,null,null,null,0,0]
[400,null,null,null,null,0,0,null,null,null,null,0,0,null,null,null,null,0,0,null,null,null,null,0,0,null,null,null,null,0,0,null,null,null,null,0,0,null,null,null,null,1.7214037080670114E-6,3.4515065146506031E-6,null,null,null,null,1.9291478387969404E-5,0,null,null,null,null,4.9676545749239186E-6,0,null,null,null,null,0,0]
[410,null,null,null,null,null,0,null,null,null,null,null,0,null,null,null,null,null,0,null,null,null,null,null,0,null,null,null,null,null,0,null,null,null,null,null,0,null,null,null,null,null,3.4515065146506031E-6,null,null,null,null,null,0,null,null,null,null,null,0,null,null,null,null,null,0]
[420,null,null,null,null,null,0,null,null,null,null,null,0,null,null,null,null,null,0,null,null,null,null,null,0,null,null,null,null,null,0,null,null,null,null,null,0,null,null,null,null,null,3.4515065146506031E-6,null,null,null,null,null,2.0311104085745301E-6,null,null,null,null,null,0,null,null,null,null,null,0]
[430,null,null,null,null,null,0,null,null,null,null,null,0,null,null,null,null,null,0,null,null,null,null,null,0,null,null,null,null,null,0,null,null,null,null,null,0,null,null,null,null,null,1.7257532573253015E-6,null,null,null,null,null,0,null,null,null,null,null,0,null,null,null,null,null,0]
[440,null,null,null,null,null,0,null,null,null,null,null,0,null,null,null,null,null,0,null,null,null,null,null,0,null,null,null,null,null,0,null,null,null,null,null,0,null,null,null,null,null,3.4515065146506031E-6,null,null,null,null,null,1.0155552042872651E-6,null,null,null,null,null,0,null,null,null,null,null,0]
[450,null,null,null,null,null,0,null,null,null,null,null,0,null,null,null,null,null,0,null,null,null,null,null,0,null,null,null,null,null,0,null,null,null,null,null,0,null,null,null,null,null,1.7257532573253015E-6,null,null,null,null,null,0,null,null,null,null,null,0,null,null,null,null,null,0]
[460,null,null,null,null,null,0,null,null,null,null,null,0,null,null,null,null,null,0,null,null,null,null,null,0,null,null,null,null,null,0,null,null,null,null,null,0,null,null,null,null,null,0,null,null,null,null,null,0,null,null,null,null,null,0,null,null,null,null,null,0]
[470,null,null,null,null,null,0,null,null,null,null,null,0,null,null,null,null,null,0,null,null,null,null,null,0,null,null,null,null,null,0,null,null,null,null,null,0,null,null,null,null,null,1.7257532573253015E-6,null,null,null,null,null,0,null,null,null,null,null,0,null,null,null,null,null,0]
[480,null,null,null,null,null,0,null,null,null,null,null,0,null,null,null,null,null,0,null,null,null,null,null,0,null,null,null,null,null,0,null,null,null,null,null,0,null,null,null,null,null,0,null,null,null,null,null,0,null,null,null,null,null,0,null,null,null,null,null,0]
[490]
[500]

{"sheet":"30042-1","index":11,"n_rows":56,"n_cols":61,"rows_kept":56,"cut":false,"hidden":true,"merged":[[0,20,0,29],[4,37,4,42],[4,43,4,48],[4,49,4,54],[4,55,4,60],[4,31,4,36],[4,1,4,6],[4,7,4,12],[4,13,4,18],[4,19,4,24],[4,25,4,30]]}
[null,null,null,null,null,null,null,null,null,null,null,null,null,null,null,null,null,null,null,null,"Recorded Classified Counts"]
["Year","WiM site ID & Lane",null,null,null,null,null,null,null,null,null,null,null,null,null,null,null,null,null,null,"Class 3","Class 4","Class 5","Class 6","Class 7","Class 8","Class 9","Class 10","Class 11","Class 12"]
[{"$f":"'Presumptive CTLD'!A3","v":"2014-2023"},{"$f":"MID(CELL(\"filename\",A1),FIND(\"]\",CELL(\"filename\",A1))+1,255)","v":"30042-1"},null,null,null,null,null,null,null,null,null,null,null,null,null,null,null,null,null,null,24308,11454,4709,1434,5156,5001,44494,89976,34497,7]
[]
[null,"Class 3",null,null,null,null,null,"Class 4",null,null,null,null,null,"Class 5",null,null,null,null,null,"Class 6",null,null,null,null,null,"Class 7",null,null,null,null,null,"Class 8",null,null,null,null,null,"Class 9",null,null,null,null,null,"Class 10",null,null,null,null,null,"Class 11",null,null,null,null,null,"Class 12"]
["Load (kN)","SAST","SADT","TAST","TADT","TRDT","QADT","SAST","SADT","TAST","TADT","TRDT","QADT","SAST","SADT","TAST","TADT","TRDT","QADT","SAST","SADT","TAST","TADT","TRDT","QADT","SAST","SADT","TAST","TADT","TRDT","QADT","SAST","SADT","TAST","TADT","TRDT","QADT","SAST","SADT","TAST","TADT","TRDT","QADT","SAST","SADT","TAST","TADT","TRDT","QADT","SAST","SADT","TAST","TADT","TRDT","QADT","SAST","SADT","TAST","TADT","TRDT","QADT"]
[10,6.1916948732766456E-5,0,0,0,0,0,0,0,0,0,0,0,0,0,0,0,0,0,9.2980009298000927E-4,5.7415155741515574E-2,0,0,0,0,8.9428732060056705E-4,1.6090926505331716E-2,0,9.3225209118191679E-3,0,0,5.7501129363154275E-4,6.3877355477483233E-4,0,2.2995847971893964E-3,2.5550942190993294E-4,0,0,2.3605261022550402E-4,0,2.43429254295051E-4,3.4892356507871289E-3,7.3766440695470006E-6,0,2.7792909472935267E-6,0,1.1256223084296264E-3,5.9093675365816181E-3,1.2784738357550222E-4,1.7100209691259333E-5,3.4183554292030102E-5,0,3.0195472957959928E-3,1.4089321627365075E-2,0,0,9.8039215686274508E-2,0,0,3.9215686274509803E-2,0]
[20,2.6541732023445883E-2,4.196149415830179E-3,0,0,0,0,1.1371603818758165E-3,0,0,4.365287235900122E-5,0,0,0,0,1.0728162862373948E-4,4.2471862391165854E-4,0,0,9.1352859135285916E-2,0.16248256624825663,0,0,0,0,0.15183721150482485,0.11997956707745355,0,9.0160270736223735E-2,0,0,4.66398049278918E-3,1.0475886298307251E-2,0,1.3414244650271478E-3,2.2357074417119131E-3,0,1.475429178689593E-5,2.810501390497407E-3,0,1.0327301697365801E-4,7.376819557689489E-6,0,0,2.2234327578348213E-5,0,2.5013829076213917E-5,0,0,0,9.6853403827418624E-5,0,0,0,0,0,1.9607843137254902E-2,0,0,0,0]
[30,0.16808387682654999,8.4437222313641605E-2,0,0,0,0,3.9800613365653581E-3,4.365287235900122E-5,0,1.3532390431290379E-3,0,0,0,0,7.5097140036617632E-4,4.5657252070503288E-3,0,0,9.4374709437470949E-2,0.1194793119479312,0,0,0,0,6.2344601779010959E-2,7.1068258731881745E-2,0,0.10165378966860354,0,0,7.4112566734732179E-3,5.1996167358671352E-2,0,8.751197700415202E-3,4.5352922389013091E-3,0,1.1065718840171947E-4,7.1479681033910433E-3,0,3.2531000346702273E-3,6.6391376019205405E-5,0,0,7.5040855576925211E-5,0,7.1928655165824033E-3,8.3387124222694495E-6,0,0,1.3673421716812041E-4,0,6.4379027249990034E-4,1.0824792192476199E-4,0,0,3.9215686274509803E-2,0,0,0,0]
[40,0.16315115991083959,0.11662827052822117,0,0,0,0,2.5236213090090238E-2,8.730574471800244E-5,4.365287235900122E-5,2.0473197136371572E-2,0,0,1.0921336043442647E-4,0,2.6820407155934869E-3,1.4228073901040561E-2,0,0,7.5546257554625754E-2,8.926080892608089E-2,0,0,0,0,2.7531273941346027E-2,3.0585530936721794E-2,0,2.8797650213907157E-2,0,0,2.0892077001946053E-2,1.641648035771319E-2,0,8.30405621207282E-3,4.3436601724688596E-3,0,1.8664179110423351E-3,1.2614061358925371E-3,1.5179236090616402E-5,8.6159202732308971E-3,3.1720324098064804E-3,0,2.4183350591702106E-4,3.335149136752232E-5,2.7879222856391582E-6,1.8857647809123496E-2,4.3083347515058829E-4,0,1.7100209691259333E-5,7.4064367632731889E-5,0,1.0443075836215197E-2,8.2268420662819121E-3,0,0,0,0,0,1.9607843137254902E-2,0]
[50,7.9315611326673821E-2,0.10835938785584992,0,0,0,0,9.1278989114416495E-2,4.365287235900122E-5,0,7.8968046097433214E-2,0,0,0,0,1.4912146378699788E-2,5.7337014228073899E-2,1.2741558717349756E-3,0,3.4867503486750349E-2,9.6234309623430964E-2,0,0,0,0,3.5132716166450847E-2,2.1773833088563947E-2,0,1.3600664069982759E-2,0,0,9.602688603646764E-2,1.0028744809964867E-2,0,5.1038007026509104E-2,1.660811242414564E-3,0,4.1083325480611714E-2,9.7371701718020401E-4,7.5896180453082008E-6,8.9552459004300592E-3,5.1726258738518709E-2,0,1.064623365128955E-2,1.1117163789174107E-5,3.0667145142030742E-5,1.2215086532217798E-2,8.0301800626454804E-3,0,2.2059270501724542E-3,4.557807238937347E-5,0,2.4993875446522679E-2,5.1167083516120392E-2,0,0,0,0,3.9215686274509803E-2,3.9215686274509803E-2,0]
[60,4.3961033600264182E-2,8.1783774888925451E-2,0,0,0,0,0.18820004320044764,4.365287235900122E-5,0,7.6174262266457127E-2,0,0,3.2764008130327946E-4,0,4.5809255422336756E-2,4.629433000637078E-2,1.8050541516245488E-3,0,2.1850302185030219E-2,7.2291957229195722E-2,0,0,0,0,3.3088630862220983E-2,2.4072536875039907E-2,0,1.8772747589553669E-2,0,0,0.12401076899320272,4.5352922389013091E-3,6.3877355477483236E-5,6.5729798786330243E-2,9.5816033216224845E-4,0,0.17861545637216211,1.239276203683896E-3,4.5537708271849198E-5,4.5904856044790984E-2,4.6584615506809125E-2,0,9.0668106850590735E-2,1.9455036631054685E-5,5.5758445712783164E-6,1.4027199483072406E-2,2.0927388609088896E-2,0,5.1597032708426506E-2,1.1394518097343367E-5,0,3.489001441406539E-2,9.9434262176466906E-2,0,5.8823529411764705E-2,1.9607843137254902E-2,0,1.9607843137254902E-2,0.13725490196078433,0]
[70,1.498390159332948E-2,4.9469310515056771E-2,0,0,0,0,0.15159222629159924,8.730574471800244E-5,4.365287235900122E-5,4.9676968744543394E-2,0,0,1.8566271273852499E-3,0,5.9863148772046633E-2,5.9460607347632193E-2,1.8050541516245488E-3,0,1.2319851231985124E-2,3.5099953509995348E-2,0,0,0,0,1.6288804768081755E-2,2.2987037864759596E-2,0,1.5133133260966733E-2,0,0,5.8906712525364717E-2,3.5132545512615776E-3,0,5.1101884381986588E-2,2.5550942190993294E-4,0,9.38668043482319E-2,1.305666000309819E-3,1.062546526343148E-4,6.5880808185124262E-2,2.2919778365741248E-2,1.4753288139094001E-5,0.12872213783914266,5.5585818945870533E-6,1.3939611428195792E-5,2.4577476724551073E-2,2.4182266024581404E-2,2.7792909472935267E-6,0.11139646599876039,3.4183554292030102E-5,5.6972590486716837E-6,4.5754687419882298E-2,7.5733664533992689E-2,0,5.8823529411764705E-2,0,0,5.8823529411764705E-2,3.9215686274509803E-2,0]
[80,3.3641542144803105E-3,3.0586638143820965E-2,0,0,0,0,3.2540281696754138E-2,0,4.365287235900122E-5,4.4787847040335255E-2,0,0,1.4197736856475442E-3,0,3.5510219074457769E-2,4.1622425143342537E-2,8.4943724782331708E-4,0,1.8596001859600185E-3,1.7898651789865178E-2,0,0,0,0,1.8524523069583174E-3,1.6921013983781368E-2,6.3852882957665544E-5,1.2068194878998786E-2,0,0,6.32512422994697E-3,1.9163206643244969E-3,6.3877355477483236E-5,4.7396997764292556E-2,4.4714148834238261E-4,0,9.2509409503837483E-3,7.5979433916334102E-4,2.8840548572171159E-4,3.8284782720948929E-2,2.2742734696356695E-2,4.4259864417282001E-5,1.7506522072016077E-2,2.7792909472935267E-6,1.9794248228038023E-4,2.344907510177965E-2,2.6425379666171887E-2,8.3378728418805797E-5,2.8255246479857509E-2,2.2789036194686735E-5,2.2789036194686735E-5,4.201728548395367E-2,3.4986867817892814E-2,0,1.9607843137254902E-2,0,0,1.9607843137254902E-2,3.9215686274509803E-2,0]
[90,5.3661355568397585E-4,1.4624814875761066E-2,0,0,0,0,5.6858019093790823E-3,4.365287235900122E-5,0,3.4660380653046968E-2,0,0,1.0921336043442647E-4,0,5.3640814311869733E-2,2.792524952219155E-2,4.2471862391165854E-4,0,2.3245002324500232E-4,1.1854951185495118E-2,0,0,0,0,1.9163299727155007E-4,9.5140795606921645E-3,0,6.321435412808888E-3,0,0,3.1945071868419038E-4,7.0265091025231556E-4,6.3877355477483236E-5,4.38198658575535E-2,3.8326413286489939E-4,0,5.1640021254135754E-4,4.0571542382508501E-4,4.8573555489972485E-4,2.3870820209054094E-2,1.6878163147993553E-2,4.4259864417282001E-5,4.8922640277466339E-4,0,3.4849028570489482E-4,2.0783712647991965E-2,2.4004373492906326E-2,3.0016342230770085E-4,2.9184357873082594E-3,1.1394518097343367E-5,5.6972590486716837E-6,1.5678856901944475E-2,1.3086604034798858E-2,0,0,0,0,3.9215686274509803E-2,0,0]
[100,null,5.636004607536613E-3,0,0,0,0,null,0,4.365287235900122E-5,3.0207787672428845E-2,0,0,null,0,7.14495646634105E-2,2.1660649819494584E-2,7.4325759184540243E-4,0,null,3.02185030218503E-3,0,0,0,0,null,3.9588787433752631E-3,0,4.6612604559095839E-3,0,0,null,4.4714148834238261E-4,6.3877355477483236E-5,3.6537847333120411E-2,2.5550942190993294E-4,0,null,7.3766440695469996E-5,4.7055631880910836E-4,1.8345713800963389E-2,1.5343784679994137E-2,1.0327301697365801E-4,null,2.7792909472935267E-6,3.5964197484745147E-4,1.4107799598984651E-2,1.7933790849494164E-2,4.724794610398995E-4,null,5.6972590486716837E-6,5.6972590486716837E-6,8.6826227901756464E-3,9.0358528511932917E-3,0,null,0,0,1.9607843137254902E-2,3.9215686274509803E-2,0]
[110,null,2.2626295869672534E-3,0,0,0,0,null,0,0,2.5187707351143705E-2,0,0,null,0,7.7350054237716168E-2,2.0067954979825865E-2,8.4943724782331708E-4,0,null,1.1622501162250117E-3,0,0,0,0,null,3.7034672115446011E-3,0,5.6829065832322331E-3,0,0,null,0,0,3.5260300223570747E-2,3.8326413286489939E-4,0,null,2.2129932208641E-5,7.1342409625897078E-4,1.7371996783783185E-2,1.228978138311069E-2,5.1636508486829003E-5,null,0,2.0073040456601942E-4,1.2504135223765157E-2,1.4020155152642369E-2,3.3907349556981024E-4,null,0,5.6972590486716837E-6,7.0019313708174994E-3,7.4349230585165479E-3,0,null,0,0,1.9607843137254902E-2,0,0]
[120,null,9.2562119466842196E-4,0,0,0,0,null,0,8.730574471800244E-5,2.1302601711192595E-2,0,0,null,0,7.1556846292034237E-2,2.134211085156084E-2,4.2471862391165854E-4,0,null,2.3245002324500232E-4,0,0,0,0,null,4.7251133388672498E-3,0,3.7034672115446011E-3,0,0,null,1.2775471095496647E-4,6.3877355477483236E-5,4.4011497923985947E-2,3.1938677738741617E-4,0,null,7.3766440695470006E-6,4.4778746467318383E-4,1.62286169530034E-2,1.0084112335361533E-2,2.2129932208641E-5,null,0,3.3733859656233817E-4,1.5364049681478951E-2,1.2635928890545642E-2,5.9198897177352113E-4,null,0,6.8367108584060205E-5,8.1641722167465226E-3,7.3323723956404572E-3,0,null,0,0,1.9607843137254902E-2,1.9607843137254902E-2,0]
[130,null,4.9366463715649173E-4,0,0,0,0,null,0,0,1.9381875327396544E-2,0,0,null,0,3.7441288389685079E-2,2.4952219154809937E-2,9.5561690380123172E-4,0,null,2.3245002324500232E-4,0,0,0,0,null,4.5335546899942531E-3,0,3.0010854990102803E-3,0,0,null,0,0,5.6595336953050142E-2,1.9163206643244969E-4,0,null,0,1.442027428608558E-4,1.6685968885315313E-2,8.7857920932081814E-3,2.2129932208641E-5,null,0,2.3418547199368931E-4,2.1775927868015119E-2,1.3194622622837694E-2,4.4190726061967071E-4,null,0,1.1394518097343367E-5,1.0836186710573544E-2,8.3635762834500318E-3,0,null,0,0,0,0,0]
[140,null,4.7309527727497119E-4,0,0,0,0,null,0,4.365287235900122E-5,2.283045224375764E-2,0,0,null,0,1.5448554521818486E-2,3.0367381609683584E-2,2.2297727755362074E-3,0,null,0,0,0,0,0,null,2.617968201264287E-3,0,1.5324691909839728E-3,0,0,null,0,0,5.1612903225806452E-2,1.2775471095496647E-4,0,null,0,3.7948090226540997E-5,1.8751429224788476E-2,8.6751397998428396E-3,1.4753288139094001E-5,null,0,5.5758445712783166E-5,2.997768449067148E-2,1.4020155152642369E-2,1.6119887494302454E-4,null,5.6972590486716837E-6,5.6972590486716837E-6,1.6937951151700915E-2,9.6739458646445189E-3,0,null,0,0,0,0,0]
[150,null,1.2341615928912293E-4,0,0,0,0,null,0,0,2.6890169373144753E-2,0,0,null,0,5.9004895743056717E-3,3.5782544064557234E-2,2.1235931195582925E-3,0,null,0,0,0,0,0,null,1.2770576591533108E-3,0,5.1082306366132435E-4,0,0,null,0,0,3.1044394762056851E-2,3.1938677738741617E-4,0,null,0,6.8306562407773801E-5,2.0846396140539823E-2,8.4021974762083299E-3,2.2129932208641E-5,null,0,5.5758445712783164E-6,4.3421227961965563E-2,1.636055377249266E-2,2.5569476715100445E-4,null,0,0,2.4748893307429794E-2,1.0990012704887678E-2,0,null,0,0,3.9215686274509803E-2,0,0]
[160,null,0,0,0,0,0,null,0,4.365287235900122E-5,2.427099703160468E-2,0,0,null,0,2.1456325724747895E-3,3.2172435761308134E-2,8.4943724782331708E-4,0,null,0,0,0,0,0,null,1.2770576591533109E-4,0,5.1082306366132435E-4,0,0,null,0,0,1.4883423826253593E-2,2.5550942190993294E-4,0,null,0,6.0716944362465607E-5,1.974727617417732E-2,8.5497338673621182E-3,4.4259864417282001E-5,null,0,0,4.3165531042519821E-2,1.8489705010978793E-2,3.3907349556981024E-4,null,0,0,3.0269537325592656E-2,1.24143274670556E-2,0,null,0,0,0,0,0]
[170,null,0,0,0,0,0,null,0,0,1.2266457132879343E-2,0,0,null,0,1.6092244293560922E-3,1.7307283924400084E-2,1.0617965597791463E-3,0,null,0,0,0,0,0,null,0,0,1.915586488729966E-4,0,0,null,0,0,6.9626317470456722E-3,6.3877355477483236E-5,0,null,0,0,1.2827984036942233E-2,8.8300530105543187E-3,2.2129932208641E-5,null,0,2.7879222856391582E-6,2.0244525665682467E-2,2.1038571441385823E-2,1.5841958399573101E-4,null,0,0,1.9929012152253549E-2,1.3542384758692592E-2,0,null,0,0,0,0,0]
[180,null,0,null,0,0,0,null,0,null,5.6748734066701589E-3,0,0,null,0,null,7.7511148863877678E-3,2.0174134635803781E-3,0,null,0,null,0,0,0,null,0,null,3.8311729774599321E-4,0,0,null,0,null,2.6828489300542956E-3,6.3877355477483236E-5,0,null,0,null,4.7210522045100798E-3,1.0748026095553587E-2,9.589637290411101E-5,null,0,null,4.9360622710395465E-3,2.6283621554993308E-2,1.2228880168091517E-4,null,0,null,7.024720407012186E-3,1.5787104823869236E-2,0,null,0,null,0,0,0]
[190,null,null,null,0,0,0,null,null,null,2.6191723415400735E-3,0,0,null,null,null,5.2028031429178171E-3,2.3359524315141218E-3,0,null,null,null,0,0,0,null,null,null,5.7467594661898987E-4,0,0,null,null,null,1.1497923985946982E-3,0,0,null,null,null,1.7187580682044511E-3,1.327827520384108E-2,6.6389796625923001E-5,null,null,null,1.2868225402541161E-3,3.4094215523852361E-2,2.3346043957265622E-4,null,null,null,2.2447200651766436E-3,2.0060049110372999E-2,0,null,null,null,0,0,0]
[200,null,null,null,0,0,0,null,null,null,1.004016064257028E-3,0,0,null,null,null,1.8050541516245488E-3,2.654491399447866E-3,0,null,null,null,0,0,0,null,null,null,1.2770576591533109E-4,0,0,null,null,null,1.0220376876397318E-3,6.3877355477483236E-5,0,null,null,null,6.4914467812013604E-4,1.3403681136321803E-2,7.3766440695469996E-5,null,null,null,6.6147681334876804E-4,4.0954196276572694E-2,2.0566753009972096E-4,null,null,null,8.0901078491137915E-4,2.4384268728314808E-2,0,null,null,null,0,3.9215686274509803E-2,0]
[210,null,null,null,0,0,0,null,null,null,5.2383446830801469E-4,0,0,null,null,null,1.0617965597791463E-3,1.5926948396687195E-3,0,null,null,null,0,0,0,null,null,null,6.3852882957665544E-5,0,0,null,null,null,3.8326413286489939E-4,0,0,null,null,null,3.3932562719916204E-4,1.0482460591476764E-2,1.4015623732139301E-4,null,null,null,2.5291760510394071E-4,3.646518942258431E-2,1.3618525641738281E-4,null,null,null,4.6717524199107807E-4,2.4703315235040421E-2,0,null,null,null,0,0,0]
[220,null,null,null,0,0,0,null,null,null,4.365287235900122E-5,0,0,null,null,null,3.1853896793374389E-4,4.2471862391165854E-4,0,null,null,null,0,0,0,null,null,null,0,0,0,null,null,null,3.1938677738741617E-4,0,0,null,null,null,1.99169389877769E-4,6.1301370524399663E-3,6.6389796625923001E-5,null,null,null,1.250691453810696E-4,2.3406765769310348E-2,1.8899178441595979E-4,null,null,null,1.9370680765483725E-4,1.6647390940218661E-2,0,null,null,null,0,0,0]
[230,null,null,null,0,0,0,null,null,null,1.3095861707700367E-4,0,0,null,null,null,3.1853896793374389E-4,3.1853896793374389E-4,0,null,null,null,0,0,0,null,null,null,6.3852882957665544E-5,0,0,null,null,null,1.2775471095496647E-4,6.3877355477483236E-5,0,null,null,null,8.1143084765017005E-5,3.3638297183064074E-3,1.6228616953003401E-4,null,null,null,4.7248343810626289E-5,1.1029336963855061E-2,1.8621249346866626E-4,null,null,null,1.5382599431413546E-4,7.0589039613042168E-3,0,null,null,null,0,0,0]
[240,null,null,null,0,0,0,null,null,null,1.7461148943600488E-4,0,0,null,null,null,1.0617965597791463E-4,0,0,null,null,null,0,0,0,null,null,null,0,0,0,null,null,null,1.2775471095496647E-4,0,0,null,null,null,2.2129932208641E-5,1.718798956941651E-3,1.10649661043205E-4,null,null,null,3.0572457759817009E-5,3.2465387030702394E-3,2.3623973051994975E-4,null,null,null,5.1275331438045154E-5,2.5466747947562427E-3,0,null,null,null,0,0,0]
[250,null,null,null,0,0,0,null,null,null,3.0557010651300855E-4,0,0,null,null,null,2.1235931195582927E-4,0,0,null,null,null,0,0,0,null,null,null,0,0,0,null,null,null,0,0,0,null,null,null,0,9.5160972294194423E-4,1.4753288139093999E-4,null,null,null,1.3896571709007733E-5,6.1984429005536247E-4,2.0010894820513391E-4,null,null,null,4.557807238937347E-5,6.7227656774325874E-4,0,null,null,null,0,0,0]
[260,null,null,null,0,0,0,null,null,null,8.730574471800244E-5,0,0,null,null,null,2.1235931195582927E-4,1.0617965597791463E-4,0,null,null,null,0,0,0,null,null,null,0,0,0,null,null,null,6.3877355477483236E-5,0,0,null,null,null,1.4753288139094001E-5,5.3113100815364324E-4,1.8441610173867501E-4,null,null,null,2.7793143418015465E-6,1.5565596521569642E-4,1.8899178441595979E-4,null,null,null,3.4183554292030102E-5,2.6207391623889745E-4,0,null,null,null,0,0,0]
[270,null,null,null,0,0,0,null,null,null,1.7461148943600488E-4,0,0,null,null,null,2.1235931195582927E-4,0,0,null,null,null,0,0,0,null,null,null,0,0,0,null,null,null,0,0,0,null,null,null,2.2129932208641E-5,3.6146415832678499E-4,1.32779593251846E-4,null,null,null,2.7793143418015465E-6,5.0032274533616711E-5,2.1678469388889508E-4,null,null,null,1.1394518097343367E-5,9.115614477874694E-5,5.6972590486716837E-6,null,null,null,0,0,0]
[280,null,null,null,0,0,0,null,null,null,1.7461148943600488E-4,0,0,null,null,null,4.2471862391165854E-4,2.1235931195582927E-4,0,null,null,null,0,0,0,null,null,null,0,0,0,null,null,null,0,0,0,null,null,null,7.3766440695470006E-6,1.7704366938454776E-4,7.3766440695469996E-5,null,null,null,2.7793143418015465E-6,2.5016137266808355E-5,1.7787462062678571E-4,null,null,null,5.6972590486716837E-6,2.8486295243358419E-5,0,null,null,null,0,0,0]
[290,null,null,null,0,0,0,null,null,null,2.1826436179500611E-4,0,0,null,null,null,7.4325759184540243E-4,0,0,null,null,null,0,0,0,null,null,null,0,0,0,null,null,null,0,0,0,null,null,null,7.3766440695470006E-6,1.2540593248072131E-4,3.6883220347734998E-5,null,null,null,0,8.3387124222694495E-6,6.3923691787751112E-5,null,null,null,0,2.2789036194686735E-5,0,null,null,null,0,0,0]
[300,null,null,null,0,0,0,null,null,null,0,0,0,null,null,null,7.4325759184540243E-4,0,0,null,null,null,0,0,0,null,null,null,0,0,0,null,null,null,0,0,0,null,null,null,0,5.1637736903826432E-5,2.2129932208641E-5,null,null,null,8.3379430254046403E-6,1.1118283229692601E-5,4.4468655156696427E-5,null,null,null,0,1.1394518097343367E-5,0,null,null,null,0,0,0]
[310,null,null,null,0,0,0,null,null,null,0,0,0,null,null,null,1.0617965597791463E-4,0,0,null,null,null,0,0,0,null,null,null,0,0,0,null,null,null,0,0,0,null,null,null,0,5.1637736903826432E-5,7.3766440695470006E-6,null,null,null,0,5.5591416148463005E-6,1.9455036631054685E-5,null,null,null,0,1.7091777146015051E-5,0,null,null,null,0,0,0]
[320,null,null,null,0,0,0,null,null,null,4.365287235900122E-5,0,0,null,null,null,1.0617965597791463E-4,0,1.0617965597791463E-4,null,null,null,0,0,0,null,null,null,0,0,0,null,null,null,0,0,0,null,null,null,7.3766440695470006E-6,2.9507278230757956E-5,7.3766440695470006E-6,null,null,null,0,5.5591416148463005E-6,5.5585818945870533E-6,null,null,null,0,0,0,null,null,null,0,0,0]
[330,null,null,null,0,0,0,null,null,null,0,0,0,null,null,null,0,0,0,null,null,null,0,0,0,null,null,null,0,0,0,null,null,null,0,0,0,null,null,null,0,1.4753639115378978E-5,7.3766440695470006E-6,null,null,null,0,1.1118283229692601E-5,5.5585818945870533E-6,null,null,null,5.6972590486716837E-6,0,0,null,null,null,0,0,0]
[340,null,null,null,null,0,0,null,null,null,null,0,0,null,null,null,null,0,0,null,null,null,null,0,0,null,null,null,null,0,0,null,null,null,null,0,0,null,null,null,null,2.213045867306847E-5,0,null,null,null,null,1.3897854037115751E-5,0,null,null,null,null,0,0,null,null,null,null,0,0]
[350,null,null,null,null,0,0,null,null,null,null,0,0,null,null,null,null,0,0,null,null,null,null,0,0,null,null,null,null,0,0,null,null,null,null,0,0,null,null,null,null,3.6884097788447446E-5,0,null,null,null,null,1.1118283229692601E-5,0,null,null,null,null,0,0,null,null,null,null,0,0]
[360,null,null,null,null,0,0,null,null,null,null,0,0,null,null,null,null,0,0,null,null,null,null,0,0,null,null,null,null,0,0,null,null,null,null,0,0,null,null,null,null,1.4753639115378978E-5,0,null,null,null,null,1.3897854037115751E-5,0,null,null,null,null,0,0,null,null,null,null,0,0]
[370,null,null,null,null,0,0,null,null,null,null,0,0,null,null,null,null,0,0,null,null,null,null,0,0,null,null,null,null,0,0,null,null,null,null,0,0,null,null,null,null,1.4753639115378978E-5,0,null,null,null,null,2.7795708074231503E-6,0,null,null,null,null,5.6972590486716837E-6,0,null,null,null,null,0,0]
[380,null,null,null,null,0,0,null,null,null,null,0,0,null,null,null,null,0,0,null,null,null,null,0,0,null,null,null,null,0,0,null,null,null,null,0,0,null,null,null,null,1.4753639115378978E-5,0,null,null,null,null,1.9456995651962052E-5,0,null,null,null,null,0,0,null,null,null,null,0,0]
[390,null,null,null,null,0,0,null,null,null,null,0,0,null,null,null,null,0,0,null,null,null,null,0,0,null,null,null,null,0,0,null,null,null,null,0,0,null,null,null,null,7.376819557689489E-6,0,null,null,null,null,5.5591416148463005E-6,0,null,null,null,null,0,0,null,null,null,null,0,0]
[400,null,null,null,null,0,0,null,null,null,null,0,0,null,null,null,null,0,0,null,null,null,null,0,0,null,null,null,null,0,0,null,null,null,null,0,0,null,null,null,null,7.376819557689489E-6,0,null,null,null,null,8.3387124222694495E-6,0,null,null,null,null,0,0,null,null,null,null,0,0]
[410,null,null,null,null,null,0,null,null,null,null,null,0,null,null,null,null,null,0,null,null,null,null,null,0,null,null,null,null,null,0,null,null,null,null,null,0,null,null,null,null,null,0,null,null,null,null,null,0,null,null,null,null,null,0,null,null,null,null,null,0]
[420,null,null,null,null,null,0,null,null,null,null,null,0,null,null,null,null,null,0,null,null,null,null,null,0,null,null,null,null,null,0,null,null,null,null,null,0,null,null,null,null,null,0,null,null,null,null,null,0,null,null,null,null,null,0,null,null,null,null,null,0]
[430,null,null,null,null,null,0,null,null,null,null,null,0,null,null,null,null,null,0,null,null,null,null,null,0,null,null,null,null,null,0,null,null,null,null,null,0,null,null,null,null,null,0,null,null,null,null,null,0,null,null,null,null,null,0,null,null,null,null,null,0]
[440,null,null,null,null,null,0,null,null,null,null,null,0,null,null,null,null,null,0,null,null,null,null,null,0,null,null,null,null,null,0,null,null,null,null,null,0,null,null,null,null,null,0,null,null,null,null,null,0,null,null,null,null,null,0,null,null,null,null,null,0]
[450,null,null,null,null,null,0,null,null,null,null,null,0,null,null,null,null,null,0,null,null,null,null,null,0,null,null,null,null,null,0,null,null,null,null,null,0,null,null,null,null,null,0,null,null,null,null,null,2.7792909472935267E-6,null,null,null,null,null,0,null,null,null,null,null,0]
[460,null,null,null,null,null,0,null,null,null,null,null,0,null,null,null,null,null,0,null,null,null,null,null,0,null,null,null,null,null,0,null,null,null,null,null,0,null,null,null,null,null,0,null,null,null,null,null,2.7792909472935267E-6,null,null,null,null,null,0,null,null,null,null,null,0]
[470,null,null,null,null,null,0,null,null,null,null,null,0,null,null,null,null,null,0,null,null,null,null,null,0,null,null,null,null,null,0,null,null,null,null,null,0,null,null,null,null,null,0,null,null,null,null,null,0,null,null,null,null,null,0,null,null,null,null,null,0]
[480,null,null,null,null,null,0,null,null,null,null,null,0,null,null,null,null,null,0,null,null,null,null,null,0,null,null,null,null,null,0,null,null,null,null,null,0,null,null,null,null,null,0,null,null,null,null,null,0,null,null,null,null,null,0,null,null,null,null,null,0]
[490]
[500]

{"sheet":"30042-2","index":12,"n_rows":56,"n_cols":61,"rows_kept":56,"cut":false,"hidden":true,"merged":[[0,20,0,29],[4,37,4,42],[4,43,4,48],[4,49,4,54],[4,55,4,60],[4,31,4,36],[4,1,4,6],[4,7,4,12],[4,13,4,18],[4,19,4,24],[4,25,4,30]]}
[null,null,null,null,null,null,null,null,null,null,null,null,null,null,null,null,null,null,null,null,"Recorded Classified Counts"]
["Year","WiM site ID & Lane",null,null,null,null,null,null,null,null,null,null,null,null,null,null,null,null,null,null,"Class 3","Class 4","Class 5","Class 6","Class 7","Class 8","Class 9","Class 10","Class 11","Class 12"]
[{"$f":"'Presumptive CTLD'!A3","v":"2014-2023"},{"$f":"MID(CELL(\"filename\",A1),FIND(\"]\",CELL(\"filename\",A1))+1,255)","v":"30042-2"},null,null,null,null,null,null,null,null,null,null,null,null,null,null,null,null,null,null,31914,13224,5697,2289,7761,5046,56009,116182,43527,3]
[]
[null,"Class 3",null,null,null,null,null,"Class 4",null,null,null,null,null,"Class 5",null,null,null,null,null,"Class 6",null,null,null,null,null,"Class 7",null,null,null,null,null,"Class 8",null,null,null,null,null,"Class 9",null,null,null,null,null,"Class 10",null,null,null,null,null,"Class 11",null,null,null,null,null,"Class 12"]
["Load (kN)","SAST","SADT","TAST","TADT","TRDT","QADT","SAST","SADT","TAST","TADT","TRDT","QADT","SAST","SADT","TAST","TADT","TRDT","QADT","SAST","SADT","TAST","TADT","TRDT","QADT","SAST","SADT","TAST","TADT","TRDT","QADT","SAST","SADT","TAST","TADT","TRDT","QADT","SAST","SADT","TAST","TADT","TRDT","QADT","SAST","SADT","TAST","TADT","TRDT","QADT","SAST","SADT","TAST","TADT","TRDT","QADT","SAST","SADT","TAST","TADT","TRDT","QADT"]
[10,0,0,0,0,0,0,0,0,0,0,0,0,0,0,0,0,0,0,0,7.4559487403524097E-2,0,0,0,0,3.8214994454506378E-4,1.0996009170416914E-2,0,1.1463021142905663E-2,0,0,0,1.0765625989487683E-3,0,1.6465075042745869E-3,3.7996327021721236E-4,0,0,1.5252761039654655E-4,0,1.5247031227092801E-4,2.5627720993385591E-3,4.104969945755754E-5,0,0,0,9.3616838118193945E-4,4.9954044802525939E-3,1.1621400593982697E-4,9.0620874495939096E-6,2.2653135193910837E-5,0,2.0931496919173614E-3,1.0642442914099312E-2,0,4.5454545454545456E-2,9.0909090909090912E-2,0,0,0,0]
[20,1.6222243160903295E-2,8.9929184683837822E-3,0,0,0,0,2.0149135307727184E-3,0,0,0,0,0,0,0,0,0,0,0,0.12864219114219114,0.16921508664627929,0,0,0,0,0.15612948289913331,0.10618154029039653,0,9.7647957884011205E-2,0,0,5.0671859338268345E-3,2.7863973149262239E-3,0,1.7731619276803241E-3,4.3695776074979421E-3,0,2.3456971118604311E-5,9.9729591413126595E-5,0,7.6235156135464005E-5,2.9322335232706627E-5,0,0,6.4563336633237209E-6,0,4.3042224422158139E-6,2.1522638863647533E-6,0,4.5310437247969548E-6,0,0,9.061254077564335E-6,0,0,0,0.13636363636363635,0,0,0,0]
[30,0.15570526712522378,0.11394685717866766,0,0,0,0,6.4629301930445684E-4,0,0,3.7810042347247429E-4,0,0,0,0,0,2.6329647182727749E-4,0,0,5.74009324009324E-2,0.14256589485947285,0,0,0,0,6.3139663059834442E-2,9.8114969856499951E-2,0,0.10562961705018256,0,0,5.7005841755551892E-3,1.5705148502311445E-2,0,5.6994490532581848E-3,5.7627762649610538E-3,0,2.9321213898255386E-5,1.8127319850974187E-3,0,1.5833455505057909E-4,1.1728934093082651E-5,0,0,5.3802780527697668E-5,0,2.4103645676408557E-4,8.6090555454590134E-6,0,9.0620874495939096E-6,3.171438927147517E-5,0,6.342877854295034E-5,1.3591881116346502E-5,0,0,0,0,0,0,0]
[40,0.16698074688275386,0.13144701384972113,0,0,0,0,9.7704297624262009E-3,1.1343012704174228E-4,0,4.3103448275862068E-3,0,0,6.1435843426364757E-4,0,1.0639577508613474E-3,4.9148674741091806E-3,0,0,8.1876456876456866E-2,5.8103975535168197E-2,0,0,0,0,3.4860567163499709E-2,3.2860660609662903E-2,0,3.842234864566528E-2,0,0,1.2034566592838733E-2,1.5641821290608576E-2,0,5.5094674181495789E-3,2.9130517383319614E-3,0,2.4043395396569419E-4,2.8628259182121047E-3,0,1.4484679665738162E-3,8.7967005698119893E-5,0,1.5067256564796657E-5,4.5194335643266044E-5,2.1554019110484388E-6,6.6069814488012744E-3,5.3806597159118838E-5,0,1.3593131174390863E-5,1.812250815512867E-5,0,1.7171076476984414E-3,2.2653135193910837E-4,0,0,0,0,0,0,0]
[50,9.1256006784132662E-2,9.9251112364479532E-2,0,0,0,0,5.6075423733769045E-2,7.5620084694494864E-5,3.7810042347247432E-5,4.4124319419237751E-2,0,0,3.5106196243637003E-4,0,1.6845997721971334E-3,2.3608916973845883E-2,1.7553098121818501E-4,0,2.87004662004662E-2,5.7521479539828162E-2,0,0,0,0,2.6495729488457756E-2,1.952959157680224E-2,0,1.6387874670968836E-2,0,0,3.9904089228886323E-2,1.6401747831043E-2,0,1.7035019948071686E-2,2.723070103223355E-3,0,7.9753701803254654E-3,7.8610383819758612E-4,1.1780381513104377E-5,3.1490983726726288E-3,1.278453816146009E-3,0,1.6358735698922082E-3,1.2912667326647442E-5,6.4662057331453165E-6,9.0345629062109929E-3,1.5238028315462454E-3,0,1.2279128494199747E-3,4.077564334903951E-5,0,1.0411380935121421E-2,3.8374411018484958E-3,0,0,4.5454545454545456E-2,0,0,0,0]
[60,4.6782248186186759E-2,5.919032399573855E-2,0,0,0,0,0.15408385924946844,1.1343012704174228E-4,7.5620084694494864E-5,8.9420750151240166E-2,0,0,1.2287168685272951E-3,0,4.9651361706862882E-3,8.6624539231174302E-2,8.7765490609092507E-5,0,2.097902097902098E-2,6.5822047473423614E-2,0,0,0,0,2.6240962858761048E-2,2.1525006368345079E-2,0,9.0430500127366906E-3,0,0,0.11838213137902942,1.7225001583180292E-2,0,2.9320499018428217E-2,7.5992654043442471E-4,0,0.1044656208767043,1.0676932727758258E-3,2.9450953782760942E-5,2.9731710892830963E-3,6.7441371035225246E-3,0,4.5494504964791731E-2,1.0760556105539534E-5,0,7.2676795936814018E-3,1.450625859409844E-2,0,3.3334888683331197E-2,4.077564334903951E-5,0,9.9855019934758978E-3,2.6708046393620878E-2,0,4.5454545454545456E-2,0,0,0,0,0]
[70,1.8436508684317975E-2,3.7757723882935391E-2,0,0,0,0,0.21114773113040902,7.5620084694494864E-5,0,6.9230187537810045E-2,0,0,2.4574337370545903E-3,0,6.614270684521377E-2,7.2933122696155872E-2,3.5983851149727925E-3,0,1.1655011655011656E-2,4.8055919615552646E-2,0,0,0,0,1.8640425072809226E-2,2.0888171860405876E-2,0,1.0316719028615097E-2,0,0,0.11217482861009155,1.1778861376733582E-2,0,3.8249635868532708E-2,7.5992654043442471E-4,0,0.19274593168157161,2.2233832438573516E-3,9.4243052104835012E-5,1.3317695352587597E-2,1.3030845777414824E-2,0,0.17284726238090015,2.3673223432186976E-5,1.2932411466290633E-5,1.5447854345112555E-2,1.5784703342599102E-2,0,0.13001376863932382,9.061254077564335E-6,0,1.1720732149329467E-2,2.3074483508517579E-2,0,0,0,0,4.5454545454545456E-2,0,0]
[80,3.9417067118942177E-3,2.4895030394184371E-2,0,0,0,0,5.907878541171329E-2,7.5620084694494864E-5,0,5.9777676950998185E-2,0,0,1.05318588730911E-3,0,0.10949898519281367,5.2132701421800945E-2,3.2473231525364226E-3,0,3.642191142191142E-3,3.0289791757681667E-2,0,0,0,0,3.2270439761583167E-3,2.1567462002207691E-2,0,1.0316719028615097E-2,0,0,2.3119035823084933E-2,3.4829966436577798E-3,1.2665442340573744E-4,5.2434931289975305E-2,3.1663605851434362E-4,0,2.0096760005864241E-2,3.4201383408148708E-3,1.531449596703569E-4,2.4465620876704296E-2,1.774001281578751E-2,0,2.8111195819463475E-2,6.4563336633237209E-6,1.9398617199435951E-5,1.7238410881074334E-2,1.3367710998211485E-2,0,3.1889485735120966E-2,9.061254077564335E-6,4.5306270387821675E-6,1.6763320043494019E-2,1.4244291409931135E-2,0,4.5454545454545456E-2,0,0,4.5454545454545456E-2,4.5454545454545456E-2,0]
[90,6.7527246458745573E-4,1.2298677696308829E-2,0,0,0,0,6.6910336116226118E-3,3.7810042347247432E-5,0,4.26497277676951E-2,0,0,1.7553098121818501E-4,0,7.0132548410943824E-2,4.2390731964191679E-2,1.75530981218185E-3,0,4.3706293706293706E-4,1.1941167904470657E-2,0,0,0,0,3.8214994454506378E-4,1.4265092977838159E-2,0,4.3304746539865836E-3,0,0,1.6468354284937213E-3,6.1427395351782658E-3,2.5330884681147489E-4,4.5532265214362613E-2,5.6994490532581851E-4,0,2.1111274006743879E-4,2.0239240610310984E-3,1.9437629496622222E-4,2.2448321360504325E-2,1.7845573222625255E-2,5.8642427796510778E-6,5.2304904932079814E-4,2.152111221107907E-6,1.5734433950653602E-4,9.9879481771617956E-3,1.1499545944846878E-2,2.152111221107907E-6,5.6184942187482241E-4,0,1.812250815512867E-5,1.099583182312432E-2,9.2334179050380574E-3,0,0,0,0,9.0909090909090912E-2,4.5454545454545456E-2,0]
[100,null,7.2382026696747506E-3,0,0,0,0,null,0,3.7810042347247432E-5,3.2743496672716275E-2,0,0,null,0,5.1779277208585585E-2,2.9313673863436897E-2,1.4920133403545726E-3,0,null,4.9512159603902726E-3,0,0,0,0,null,4.8399422603379472E-3,0,3.0568056381081771E-3,0,0,null,7.2826293458299034E-3,1.2665442340573744E-4,3.5273256918497878E-2,6.3327211702868724E-4,0,null,8.7410053650328597E-4,3.9464278068899658E-4,1.6660313736988713E-2,1.3470680805905424E-2,0,null,0,2.9313465990258767E-4,9.1163431326130931E-3,9.2267552808456988E-3,2.1521112211079068E-5,null,9.061254077564335E-6,9.061254077564335E-6,6.9816962667633197E-3,4.8568321855744839E-3,0,null,0,0,0,0.13636363636363635,0]
[110,null,2.6320736980635457E-3,0,0,0,0,null,0,7.5620084694494864E-5,2.5143678160919541E-2,0,0,null,0,6.1088907528622373E-2,2.843601895734597E-2,8.7765490609092501E-4,0,null,2.0387359836901123E-3,0,0,0,0,null,1.0189352127027256E-3,0,2.5473380317568143E-3,0,0,null,5.0661769362294979E-3,2.5330884681147489E-4,3.5653220188715092E-2,5.6994490532581851E-4,0,null,1.6426050350397322E-4,4.1231335295865317E-4,1.4085911156721889E-2,1.0444615809890102E-2,1.1728485559302156E-5,null,0,1.444119280402454E-4,1.0099857960659406E-2,1.0341627973982642E-2,2.152111221107907E-6,null,0,3.171438927147517E-5,5.3098948894527006E-3,4.6438927147517215E-3,0,null,0,0,0,0,0]
[120,null,1.4257065864510872E-3,0,0,0,0,null,0,3.7810042347247432E-5,2.3366606170598912E-2,0,0,null,0,5.7808371130133214E-2,2.5627523257855011E-2,3.5106196243637003E-4,0,null,1.3106159895150721E-3,0,0,0,0,null,5.0946760635136278E-4,0,2.0803260592680648E-3,0,0,null,2.46976125641188E-3,4.4329048192008104E-4,3.8502944715344184E-2,1.8998163510860618E-4,0,null,8.7996698305699929E-5,5.2422697733314478E-4,1.2303181351707961E-2,8.726326965253493E-3,5.8642427796510773E-5,null,0,2.8882385608049079E-4,1.1595575259329402E-2,1.1764274402869744E-2,6.4563336633237209E-6,null,0,4.077564334903951E-5,5.9079376585719464E-3,4.9157303370786515E-3,0,null,0,0,0,0,0]
[130,null,4.7001316036849033E-4,0,0,0,0,null,0,0,2.2459165154264972E-2,0,0,null,0,4.1760341721307888E-2,1.7202036159382129E-2,7.0212392487274005E-4,0,null,1.45623998835008E-4,0,0,0,0,null,2.1227816931306784E-4,0,1.9105035238176106E-3,0,0,null,3.7996327021721236E-4,2.5330884681147489E-4,4.1985941359001966E-2,1.2665442340573744E-4,0,null,2.3465786214853315E-5,4.5943487901107068E-4,1.4989004544788154E-2,7.3247193411301158E-3,7.6235156135464005E-5,null,0,2.327834063932314E-4,1.3842379374166058E-2,1.3294534026075083E-2,3.4433779537726512E-5,null,0,2.7183762232693003E-5,6.91826748822037E-3,5.7992026096411742E-3,4.5306270387821675E-6,null,0,0,0,0,0]
[140,null,2.8200789622109422E-4,0,0,0,0,null,0,3.7810042347247432E-5,2.2761645493042951E-2,0,0,null,0,1.6048029408825323E-2,1.4920133403545725E-2,6.1435843426364757E-4,0,null,1.45623998835008E-4,0,0,0,0,null,0,0,9.7647957884011206E-4,0,0,null,0,6.3327211702868721E-5,4.9015261858020388E-2,1.2665442340573744E-4,0,null,1.1732893107426658E-5,2.3560763026208754E-4,2.4448028148365341E-2,7.0080381206168831E-3,8.209939891511508E-5,null,0,1.7889835861702042E-4,1.7410579778762966E-2,1.4073653552939124E-2,2.7977445874402788E-5,null,0,0,1.0402319681043857E-2,6.2386734324030449E-3,0,null,0,0,0,0,0]
[150,null,1.7233815880177979E-4,0,0,0,0,null,0,7.5620084694494864E-5,1.9283121597096189E-2,0,0,null,0,6.4724096510731981E-3,1.4569071441109355E-2,6.1435843426364757E-4,0,null,0,0,0,0,0,null,0,0,7.2174577566443067E-4,0,0,null,0,0,5.1041732632512188E-2,1.2665442340573744E-4,0,null,0,1.0013324286138719E-4,3.0734496408151298E-2,7.6707228968760531E-3,1.1728485559302155E-4,null,0,4.9574243954114095E-5,2.4785864933499765E-2,1.4471822371916604E-2,3.0129557095510696E-5,null,0,9.061254077564335E-6,1.8394345777455599E-2,7.2218194998187749E-3,0,null,0,0,0,0,0]
[160,null,0,0,0,0,0,null,0,3.7810042347247432E-5,1.588021778584392E-2,0,0,null,0,3.546525836204492E-3,1.3252589081972969E-2,1.4042478497454801E-3,0,null,0,0,0,0,0,null,0,0,9.7647957884011206E-4,0,0,null,0,0,4.5532265214362613E-2,0,0,null,0,2.9450953782760942E-5,3.3390998387333233E-2,8.5621218879503354E-3,8.7963641694766169E-5,null,0,4.3108038220968777E-6,3.800843627598674E-2,1.3834752261552638E-2,5.3802780527697668E-5,null,0,0,3.7762776368249366E-2,8.9389271475172165E-3,4.5306270387821675E-6,null,0,0,0,0,0]
[170,null,0,0,0,0,0,null,0,7.5620084694494864E-5,1.1153962492437991E-2,0,0,null,0,2.1279155017226948E-3,1.0795155344918378E-2,1.5797788309636651E-3,0,null,0,0,0,0,0,null,0,0,4.6701197248874928E-4,0,0,null,0,0,3.0080425558862645E-2,1.8998163510860618E-4,0,null,0,2.3560763026208753E-5,4.2609588036944729E-2,8.4272391458798841E-3,8.7963641694766169E-5,null,0,1.9398617199435951E-5,5.116429217061938E-2,1.4803271010416775E-2,7.7476003959884641E-5,null,0,0,6.2028814787966652E-2,1.302102210945995E-2,0,null,0,0,4.5454545454545456E-2,0,0]
[180,null,0,null,0,0,0,null,0,null,6.8814277071990318E-3,0,0,null,0,null,1.2199403194663859E-2,4.3882745304546251E-4,0,null,0,null,0,0,0,null,0,null,5.0946760635136278E-4,0,0,null,0,null,1.5578494078905707E-2,6.3327211702868721E-5,0,null,0,null,4.6925670722767925E-2,8.2337117333440221E-3,7.037091335581293E-5,null,0,null,4.4277536263074076E-2,1.820600021475945E-2,1.6140834158309301E-4,null,0,null,5.6003080826386373E-2,2.1094599492569772E-2,0,null,0,null,0,0,0]
[190,null,null,null,0,0,0,null,null,null,3.7053841500302481E-3,0,0,null,null,null,1.0795155344918378E-2,8.7765490609092501E-4,0,null,null,null,0,0,0,null,null,null,3.8210070476352214E-4,0,0,null,null,null,8.1058830979671963E-3,1.2665442340573744E-4,0,null,null,null,2.7632311977715877E-2,1.0679194491751755E-2,1.4074182671162586E-4,null,null,null,2.2149528687642576E-2,2.3780363680444162E-2,1.9369000989971161E-4,null,null,null,3.1048387096774193E-2,3.0042587894164554E-2,0,null,null,null,4.5454545454545456E-2,0,0]
[200,null,null,null,0,0,0,null,null,null,2.986993345432547E-3,0,0,null,null,null,5.6169913989819204E-3,5.2659294365455498E-4,0,null,null,null,0,0,0,null,null,null,2.1227816931306784E-4,0,0,null,null,null,2.46976125641188E-3,3.1663605851434362E-4,0,null,null,null,8.4093241460196453E-3,1.4268248324235044E-2,1.2314909837267263E-4,null,null,null,7.1256402530882794E-3,3.0790287158334165E-2,2.3673223432186976E-4,null,null,null,1.0737586081913737E-2,4.0974990938745924E-2,0,null,null,null,0,0,0]
[210,null,null,null,0,0,0,null,null,null,1.2099213551119178E-3,0,0,null,null,null,3.8616815868000704E-3,9.654203967000176E-4,0,null,null,null,0,0,0,null,null,null,1.6982253545045427E-4,0,0,null,null,null,1.5831802925717182E-3,1.2665442340573744E-4,0,null,null,null,2.5216243952499635E-3,2.677129206746115E-2,1.5247031227092801E-4,null,null,null,2.0961563293591013E-3,4.0961886285293986E-2,2.4318856798519347E-4,null,null,null,2.8860094237042407E-3,5.5328017397607829E-2,0,null,null,null,0,0,0]
[220,null,null,null,0,0,0,null,null,null,5.2934059286146402E-4,0,0,null,null,null,2.1941372652273124E-3,7.8988941548183253E-4,0,null,null,null,0,0,0,null,null,null,2.5473380317568139E-4,0,0,null,null,null,6.9659932873155598E-4,0,0,null,null,null,3.9876850901627328E-4,3.7086889602327346E-2,1.8179152616918341E-4,null,null,null,5.5524469504583999E-4,4.8774604192798048E-2,4.6485602375930787E-4,null,null,null,7.5208408843783982E-4,6.4402863356288517E-2,0,null,null,null,0,4.5454545454545456E-2,0]
[230,null,null,null,0,0,0,null,null,null,2.2686025408348456E-4,0,0,null,null,null,2.1941372652273124E-3,1.05318588730911E-3,0,null,null,null,0,0,0,null,null,null,1.2736690158784069E-4,0,0,null,null,null,6.3327211702868721E-5,0,0,null,null,null,1.4660606949127694E-4,3.5204395680387579E-2,2.1697698284708986E-4,null,null,null,1.4419145181422975E-4,4.4026710059477399E-2,5.1435458184478976E-4,null,null,null,2.6730699528814788E-4,5.7049655672345052E-2,0,null,null,null,0,4.5454545454545456E-2,0]
[240,null,null,null,0,0,0,null,null,null,4.1591046581972174E-4,0,0,null,null,null,1.4042478497454801E-3,6.1435843426364757E-4,0,null,null,null,0,0,0,null,null,null,4.2455633862613567E-5,0,0,null,null,null,3.1663605851434362E-4,6.3327211702868721E-5,0,null,null,null,4.6913942237208622E-5,2.2525417925765231E-2,3.6944729511801788E-4,null,null,null,6.0259114191021392E-5,2.9541974104242606E-2,5.3587569405586877E-4,null,null,null,7.702065965929685E-5,4.0426785067053279E-2,0,null,null,null,0,0,0]
[250,null,null,null,0,0,0,null,null,null,1.5124016938898973E-4,0,0,null,null,null,6.1435843426364757E-4,5.2659294365455498E-4,0,null,null,null,0,0,0,null,null,null,0,0,0,null,null,null,3.1663605851434362E-4,0,0,null,null,null,4.104969945755754E-5,1.2239142726131746E-2,5.0432487904999263E-4,null,null,null,3.6585890758834419E-5,1.4730094038280373E-2,5.789179184780269E-4,null,null,null,8.155128669807902E-5,1.9798840159478071E-2,0,null,null,null,0,0,0]
[260,null,null,null,0,0,0,null,null,null,2.2686025408348456E-4,0,0,null,null,null,2.6329647182727749E-4,9.654203967000176E-4,0,null,null,null,0,0,0,null,null,null,0,0,0,null,null,null,1.8998163510860618E-4,0,0,null,null,null,1.1728485559302156E-5,5.6122949635400484E-3,6.392024629819675E-4,null,null,null,8.6084448844316279E-6,5.9251824791621667E-3,5.5309258382473209E-4,null,null,null,5.4367524465386007E-5,7.0315331641899242E-3,0,null,null,null,0,0,0]
[270,null,null,null,0,0,0,null,null,null,3.4029038112522685E-4,0,0,null,null,null,8.7765490609092507E-5,2.6329647182727749E-4,0,null,null,null,0,0,0,null,null,null,0,0,0,null,null,null,1.2665442340573744E-4,0,0,null,null,null,1.7592728338953232E-5,1.9821898617309679E-3,6.6852367688022285E-4,null,null,null,2.152111221107907E-6,2.6257619413649993E-3,7.0158825808117758E-4,null,null,null,2.7183762232693003E-5,2.3423341790503806E-3,0,null,null,null,0,0,0]
[280,null,null,null,0,0,0,null,null,null,1.5124016938898973E-4,0,0,null,null,null,1.7553098121818501E-4,0,0,null,null,null,0,0,0,null,null,null,0,0,0,null,null,null,0,0,0,null,null,null,0,7.4478731491074842E-4,7.8580853247324435E-4,null,null,null,4.3042224422158139E-6,1.1579179708642374E-3,6.0043903068910602E-4,null,null,null,1.812250815512867E-5,7.0224719101123594E-4,0,null,null,null,0,0,0]
[290,null,null,null,0,0,0,null,null,null,0,0,0,null,null,null,0,0,0,null,null,null,0,0,0,null,null,null,0,0,0,null,null,null,6.3327211702868721E-5,0,0,null,null,null,0,1.8766294548932242E-4,5.5123882128720134E-4,null,null,null,4.3042224422158139E-6,4.0462561063657368E-4,4.2181379933714974E-4,null,null,null,4.5306270387821675E-6,2.3106197897789055E-4,0,null,null,null,0,0,0]
[300,null,null,null,0,0,0,null,null,null,0,0,0,null,null,null,0,0,0,null,null,null,0,0,0,null,null,null,0,0,0,null,null,null,0,0,0,null,null,null,0,5.2780203418871936E-5,3.6944729511801788E-4,null,null,null,0,1.57115263704627E-4,1.3127878448758232E-4,null,null,null,9.061254077564335E-6,7.249003262051468E-5,0,null,null,null,0,0,0]
[310,null,null,null,0,0,0,null,null,null,0,0,0,null,null,null,0,0,0,null,null,null,0,0,0,null,null,null,0,0,0,null,null,null,0,0,0,null,null,null,0,5.8644670465413253E-5,2.2284122562674094E-4,null,null,null,0,4.9502069386389336E-5,5.8107002969913484E-5,null,null,null,0,2.7183762232693003E-5,0,null,null,null,0,0,0]
[320,null,null,null,0,0,0,null,null,null,0,0,0,null,null,null,0,8.7765490609092507E-5,0,null,null,null,0,0,0,null,null,null,0,0,0,null,null,null,0,0,0,null,null,null,5.8642427796510778E-6,5.8644670465413257E-6,7.6235156135464005E-5,null,null,null,0,8.6090555454590134E-6,8.6084448844316279E-6,null,null,null,0,2.2653135193910837E-5,0,null,null,null,0,0,0]
[330,null,null,null,0,0,0,null,null,null,0,0,0,null,null,null,0,0,0,null,null,null,0,0,0,null,null,null,0,0,0,null,null,null,0,0,0,null,null,null,0,1.1728934093082651E-5,1.1728485559302156E-5,null,null,null,0,1.7218111090918027E-5,2.152111221107907E-6,null,null,null,0,4.5306270387821675E-6,0,null,null,null,0,0,0]
[340,null,null,null,null,0,0,null,null,null,null,0,0,null,null,null,null,0,0,null,null,null,null,0,0,null,null,null,null,0,0,null,null,null,null,0,0,null,null,null,null,1.1728934093082651E-5,0,null,null,null,null,6.4567916590942613E-6,2.152111221107907E-6,null,null,null,null,4.5306270387821675E-6,0,null,null,null,null,0,0]
[350,null,null,null,null,0,0,null,null,null,null,0,0,null,null,null,null,0,0,null,null,null,null,0,0,null,null,null,null,0,0,null,null,null,null,0,0,null,null,null,null,5.8644670465413257E-6,1.1728485559302156E-5,null,null,null,null,1.5065847204553276E-5,2.152111221107907E-6,null,null,null,null,0,0,null,null,null,null,0,0]
[360,null,null,null,null,0,0,null,null,null,null,0,0,null,null,null,null,0,0,null,null,null,null,0,0,null,null,null,null,0,0,null,null,null,null,0,0,null,null,null,null,1.7593401139623975E-5,5.8642427796510778E-6,null,null,null,null,4.3045277727295067E-6,0,null,null,null,null,0,0,null,null,null,null,0,0]
[370,null,null,null,null,0,0,null,null,null,null,0,0,null,null,null,null,0,0,null,null,null,null,0,0,null,null,null,null,0,0,null,null,null,null,0,0,null,null,null,null,1.1728934093082651E-5,0,null,null,null,null,1.076131943182377E-5,0,null,null,null,null,0,0,null,null,null,null,0,0]
[380,null,null,null,null,0,0,null,null,null,null,0,0,null,null,null,null,0,0,null,null,null,null,0,0,null,null,null,null,0,0,null,null,null,null,0,0,null,null,null,null,0,0,null,null,null,null,2.1522638863647533E-6,0,null,null,null,null,0,0,null,null,null,null,0,0]
[390,null,null,null,null,0,0,null,null,null,null,0,0,null,null,null,null,0,0,null,null,null,null,0,0,null,null,null,null,0,0,null,null,null,null,0,0,null,null,null,null,1.1728934093082651E-5,0,null,null,null,null,6.4567916590942613E-6,2.152111221107907E-6,null,null,null,null,0,0,null,null,null,null,0,0]
[400,null,null,null,null,0,0,null,null,null,null,0,0,null,null,null,null,0,0,null,null,null,null,0,0,null,null,null,null,0,0,null,null,null,null,0,0,null,null,null,null,5.8644670465413257E-6,5.8642427796510778E-6,null,null,null,null,8.6090555454590134E-6,0,null,null,null,null,0,0,null,null,null,null,0,0]
[410,null,null,null,null,null,0,null,null,null,null,null,0,null,null,null,null,null,0,null,null,null,null,null,0,null,null,null,null,null,0,null,null,null,null,null,0,null,null,null,null,null,0,null,null,null,null,null,0,null,null,null,null,null,0,null,null,null,null,null,0]
[420,null,null,null,null,null,0,null,null,null,null,null,0,null,null,null,null,null,0,null,null,null,null,null,0,null,null,null,null,null,0,null,null,null,null,null,0,null,null,null,null,null,0,null,null,null,null,null,0,null,null,null,null,null,0,null,null,null,null,null,0]
[430,null,null,null,null,null,0,null,null,null,null,null,0,null,null,null,null,null,0,null,null,null,null,null,0,null,null,null,null,null,0,null,null,null,null,null,0,null,null,null,null,null,0,null,null,null,null,null,0,null,null,null,null,null,0,null,null,null,null,null,0]
[440,null,null,null,null,null,0,null,null,null,null,null,0,null,null,null,null,null,0,null,null,null,null,null,0,null,null,null,null,null,0,null,null,null,null,null,0,null,null,null,null,null,0,null,null,null,null,null,0,null,null,null,null,null,0,null,null,null,null,null,0]
[450,null,null,null,null,null,0,null,null,null,null,null,0,null,null,null,null,null,0,null,null,null,null,null,0,null,null,null,null,null,0,null,null,null,null,null,0,null,null,null,null,null,0,null,null,null,null,null,0,null,null,null,null,null,0,null,null,null,null,null,0]
[460,null,null,null,null,null,0,null,null,null,null,null,0,null,null,null,null,null,0,null,null,null,null,null,0,null,null,null,null,null,0,null,null,null,null,null,0,null,null,null,null,null,0,null,null,null,null,null,0,null,null,null,null,null,0,null,null,null,null,null,0]
[470,null,null,null,null,null,0,null,null,null,null,null,0,null,null,null,null,null,0,null,null,null,null,null,0,null,null,null,null,null,0,null,null,null,null,null,0,null,null,null,null,null,0,null,null,null,null,null,0,null,null,null,null,null,0,null,null,null,null,null,0]
[480,null,null,null,null,null,0,null,null,null,null,null,0,null,null,null,null,null,0,null,null,null,null,null,0,null,null,null,null,null,0,null,null,null,null,null,0,null,null,null,null,null,0,null,null,null,null,null,0,null,null,null,null,null,0,null,null,null,null,null,0]
[490]
[500]

{"sheet":"32559-2","index":13,"n_rows":56,"n_cols":61,"rows_kept":56,"cut":false,"hidden":true,"merged":[[0,20,0,29],[4,37,4,42],[4,43,4,48],[4,49,4,54],[4,55,4,60],[4,31,4,36],[4,1,4,6],[4,7,4,12],[4,13,4,18],[4,19,4,24],[4,25,4,30]]}
[null,null,null,null,null,null,null,null,null,null,null,null,null,null,null,null,null,null,null,null,"Recorded Classified Counts"]
["Year","WiM site ID & Lane",null,null,null,null,null,null,null,null,null,null,null,null,null,null,null,null,null,null,"Class 3","Class 4","Class 5","Class 6","Class 7","Class 8","Class 9","Class 10","Class 11","Class 12"]
[{"$f":"'Presumptive CTLD'!A3","v":"2014-2023"},{"$f":"MID(CELL(\"filename\",A1),FIND(\"]\",CELL(\"filename\",A1))+1,255)","v":"32559-2"},null,null,null,null,null,null,null,null,null,null,null,null,null,null,null,null,null,null,1690,883,246,176,380,195,2164,3753,2560,0]
[]
[null,"Class 3",null,null,null,null,null,"Class 4",null,null,null,null,null,"Class 5",null,null,null,null,null,"Class 6",null,null,null,null,null,"Class 7",null,null,null,null,null,"Class 8",null,null,null,null,null,"Class 9",null,null,null,null,null,"Class 10",null,null,null,null,null,"Class 11",null,null,null,null,null,"Class 12"]
["Load (kN)","SAST","SADT","TAST","TADT","TRDT","QADT","SAST","SADT","TAST","TADT","TRDT","QADT","SAST","SADT","TAST","TADT","TRDT","QADT","SAST","SADT","TAST","TADT","TRDT","QADT","SAST","SADT","TAST","TADT","TRDT","QADT","SAST","SADT","TAST","TADT","TRDT","QADT","SAST","SADT","TAST","TADT","TRDT","QADT","SAST","SADT","TAST","TADT","TRDT","QADT","SAST","SADT","TAST","TADT","TRDT","QADT","SAST","SADT","TAST","TADT","TRDT","QADT"]
[10,0,0,0,0,0,0,0,0,0,0,0,0,0,0,0,0,0,0,3.787878787878788E-3,5.3030303030303032E-2,0,0,0,0,5.1813471502590676E-3,1.8134715025906734E-2,0,1.2089810017271158E-2,0,0,1.6625032302523904E-3,0,0,0,0,0,0,3.0427506465845124E-4,0,3.0427506465845124E-4,0,0,0,0,0,6.661781360335754E-5,0,0,0,0,0,0,0,0,0,0,0,0,0,0]
[20,2.7267338470657973E-2,4.7337278106508876E-3,0,0,0,0,3.4325745218032771E-3,0,0,0,0,0,0,0,0,0,0,0,6.4393939393939392E-2,8.9015151515151519E-2,0,0,0,0,0.16666666666666666,0.11485319516407599,0,8.46286701208981E-2,0,0,4.9875096907571713E-3,9.8199672667757774E-3,0,0,0,0,1.5257056135862569E-4,3.0427506465845124E-4,0,1.5213753232922562E-4,1.5213753232922562E-4,0,0,0,0,1.9985344081007261E-4,0,0,0,7.5993616536210962E-5,0,7.5993616536210962E-5,0,0,0,0,0,0,0,0]
[30,0.15056312981624184,8.4319526627218935E-2,0,0,0,0,4.0046702754371567E-3,0,0,2.8312570781426952E-3,0,0,0,0,0,1.016260162601626E-2,0,0,7.7651515151515152E-2,0.11742424242424243,0,0,0,0,5.0949913644214161E-2,9.499136442141623E-2,0,0.10967184801381692,0,0,1.6625032302523904E-3,2.9459901800327332E-2,0,1.8003273322422259E-2,3.2733224222585926E-3,0,1.5257056135862569E-4,5.1726760991936708E-3,0,2.2820629849383844E-3,0,0,0,5.3294250882686032E-4,0,1.5188861501565518E-2,1.3323562720671508E-4,0,7.6715932099327423E-5,2.2798084960863287E-4,0,3.647693593738126E-3,3.7996808268105477E-4,0,0,0,0,0,0,0]
[40,0.16360403082394784,0.1076923076923077,0,0,0,0,2.9748979188961733E-2,5.6625141562853911E-4,0,4.3035107587768968E-2,0,0,0,0,1.020408163265306E-2,1.016260162601626E-2,2.0325203252032522E-3,0,0.11174242424242424,0.16856060606060605,0,0,0,0,3.7996545768566495E-2,3.6269430051813469E-2,0,3.6269430051813469E-2,0,0,3.3250064605047807E-3,1.3093289689034371E-2,0,3.4369885433715219E-2,1.6366612111292963E-3,0,6.1028224543450277E-4,5.0205385668644457E-3,0,2.4342005172676099E-3,6.0855012931690248E-3,0,1.3487825822707184E-4,3.9970688162014521E-4,0,3.2176403970421694E-2,1.2057824262207714E-2,0,7.6715932099327423E-5,1.5198723307242192E-4,0,1.1171061630823011E-2,1.1475036096967855E-2,0,0,0,0,0,0,0]
[50,0.1016597510373444,9.1124260355029588E-2,0,0,0,0,8.6958554552349673E-2,0,0,8.0973952434881091E-2,0,0,0,0,1.2244897959183675E-2,7.3170731707317069E-2,1.016260162601626E-2,0,5.113636363636364E-2,7.7651515151515152E-2,0,0,0,0,2.3316062176165803E-2,1.6407599309153715E-2,0,1.8134715025906734E-2,0,0,5.3200103368076491E-2,1.9639934533551555E-2,0,4.2553191489361701E-2,3.2733224222585926E-3,0,1.9223890731186837E-2,7.6068766164612809E-4,3.0427506465845124E-4,1.2018865054008824E-2,2.9362543739540545E-2,0,9.9809911088033151E-3,0,6.661781360335754E-5,2.6114182932516154E-2,5.3227633069082674E-2,0,9.2059118519192908E-4,1.5198723307242192E-4,0,3.4957063606657041E-2,8.3440990956759636E-2,0,0,0,0,0,0,0]
[60,4.0604623592175454E-2,7.3076923076923081E-2,0,0,0,0,0.16819615156836057,0,0,6.5118912797281991E-2,0,0,0,0,2.0408163265306121E-2,6.910569105691057E-2,8.130081300813009E-3,0,1.5151515151515152E-2,7.0075757575757569E-2,0,0,0,0,3.0224525043177894E-2,2.3316062176165803E-2,0,1.8998272884283247E-2,0,0,0.13965027134120078,1.1456628477905073E-2,0,5.2373158756137482E-2,3.2733224222585926E-3,0,0.11808961449157629,7.6068766164612809E-4,6.0855012931690248E-4,3.7121557888331054E-2,6.0398600334702568E-2,0,5.9683629265479293E-2,2.6647125441343016E-4,6.661781360335754E-5,3.6839650922656716E-2,4.8631003930451E-2,0,2.3091495561897553E-2,7.5993616536210962E-5,7.5993616536210962E-5,3.2449274260962079E-2,8.1693137776426783E-2,0,0,0,0,0,0,0]
[70,1.4522821576763486E-2,4.85207100591716E-2,0,0,0,0,0.14531232142300538,0,5.6625141562853911E-4,7.4745186862967161E-2,0,0,0,0,8.9795918367346933E-2,4.6747967479674794E-2,0,0,7.575757575757576E-3,2.8409090909090908E-2,0,0,0,0,1.2089810017271158E-2,1.6407599309153715E-2,0,1.2089810017271158E-2,0,0,8.3125161512619519E-2,9.8199672667757774E-3,0,7.3649754500818329E-2,3.2733224222585926E-3,0,0.12373472526184542,6.0855012931690248E-4,1.217100258633805E-3,6.5723413966225469E-2,6.2072113190324053E-2,1.5213753232922562E-4,0.10284467189814227,1.9985344081007261E-4,2.6647125441343016E-4,4.6432616081540201E-2,4.4567317300646191E-2,0,9.1291959198199629E-2,0,1.5198723307242192E-4,4.9547837981609548E-2,4.7496010335131851E-2,0,0,0,0,0,0,0]
[80,1.7783046828689982E-3,3.3136094674556214E-2,0,0,0,0,5.0344426319781393E-2,0,0,4.3035107587768968E-2,0,0,0,0,7.1428571428571438E-2,3.8617886178861791E-2,4.0650406504065045E-3,0,1.893939393939394E-3,2.8409090909090908E-2,0,0,0,0,1.7271157167530224E-3,1.6407599309153715E-2,0,1.7271157167530224E-3,0,0,1.9950038763028685E-2,6.5466448445171853E-3,0,8.1833060556464818E-2,1.6366612111292963E-3,0,4.8517438512042967E-2,9.1282519397535371E-4,1.217100258633805E-3,5.5073786703179674E-2,3.1796744256808153E-2,1.5213753232922562E-4,5.1725812030082044E-2,0,4.6632469522350274E-4,3.364199586969556E-2,2.9911398307907535E-2,0,6.482496262393167E-2,0,7.5993616536210962E-5,3.5565012538946728E-2,2.758568280264458E-2,0,0,0,0,0,0,0]
[90,0,2.2189349112426034E-2,0,0,0,0,1.0869819319043709E-2,5.6625141562853911E-4,0,3.7372593431483581E-2,0,0,0,0,6.7346938775510207E-2,5.08130081300813E-2,0,2.0325203252032522E-3,0,9.46969696969697E-3,0,0,0,0,0,1.1226252158894647E-2,0,2.5906735751295338E-3,0,0,8.3125161512619516E-3,0,1.6366612111292963E-3,5.2373158756137482E-2,0,0,1.1137650979179676E-2,4.5641259698767686E-4,1.0649627263045794E-3,3.6360870226684924E-2,1.7191541153202494E-2,0,2.1782838703672099E-2,0,1.0658850176537206E-3,1.8453134368130036E-2,1.5788421823995737E-2,0,1.3425288117382297E-2,0,0,1.9302378600197585E-2,1.8010487119081996E-2,7.5993616536210962E-5,0,0,0,0,0,0]
[100,null,2.1301775147928994E-2,0,0,0,0,null,0,0,2.4348810872027182E-2,0,0,null,0,8.9795918367346933E-2,4.4715447154471545E-2,0,0,null,1.3257575757575758E-2,0,0,0,0,null,5.1813471502590676E-3,0,8.6355785837651119E-4,0,0,null,3.2733224222585926E-3,0,5.2373158756137482E-2,0,0,null,1.5213753232922562E-4,7.6068766164612809E-4,1.7800091282519397E-2,1.0497489730716568E-2,0,null,0,9.9926720405036306E-4,1.1125174871760709E-2,7.1947238691626144E-3,0,null,0,7.5993616536210962E-5,1.2082985029257542E-2,1.1323048863895433E-2,1.5198723307242192E-4,null,0,0,0,0,0]
[110,null,8.8757396449704144E-3,0,0,0,0,null,0,5.6625141562853911E-4,2.7746319365798414E-2,0,0,null,0,7.3469387755102047E-2,2.6422764227642278E-2,2.0325203252032522E-3,0,null,7.575757575757576E-3,0,0,0,0,null,3.4542314335060447E-3,0,5.1813471502590676E-3,0,0,null,3.2733224222585926E-3,0,4.4189852700491E-2,0,0,null,0,7.6068766164612809E-4,1.4605203103605659E-2,7.4547390841320556E-3,0,null,0,7.3279594963693295E-4,6.2620744787156082E-3,4.1303044434081674E-3,0,null,0,3.0397446614484385E-4,8.8912531347366819E-3,6.2314765559692989E-3,7.5993616536210962E-5,null,0,0,0,0,0]
[120,null,2.9585798816568047E-3,0,0,0,0,null,0,0,2.491506228765572E-2,0,0,null,0,3.4693877551020408E-2,1.2195121951219513E-2,4.0650406504065045E-3,0,null,1.893939393939394E-3,0,0,0,0,null,8.6355785837651119E-4,0,2.5906735751295338E-3,0,0,null,0,0,2.4549918166939442E-2,0,0,null,0,1.0649627263045794E-3,1.3692377909630305E-2,5.4769511638521227E-3,1.5213753232922562E-4,null,0,1.9985344081007261E-4,6.5285457331290386E-3,2.5314769169275863E-3,0,null,0,1.5198723307242192E-4,9.2712212174177362E-3,5.6235276236796111E-3,0,null,0,0,0,0,0]
[130,null,2.9585798816568048E-4,0,0,0,0,null,0,0,1.5855039637599093E-2,0,0,null,0,2.0408163265306121E-2,2.032520325203252E-2,0,0,null,0,0,0,0,0,null,1.7271157167530224E-3,0,8.6355785837651119E-4,0,0,null,0,1.6366612111292963E-3,2.6186579378068741E-2,0,0,null,0,3.0427506465845124E-4,1.3083827780313403E-2,1.0041077133728891E-2,0,null,0,0,6.2620744787156082E-3,2.3982412897208712E-3,0,null,0,0,1.1399042480431644E-2,5.9275020898244546E-3,0,null,0,0,0,0,0]
[140,null,5.9171597633136095E-4,0,0,0,0,null,0,0,1.3023782559456399E-2,0,0,null,0,6.1224489795918373E-3,1.2195121951219513E-2,0,0,null,0,0,0,0,0,null,0,0,2.5906735751295338E-3,0,0,null,0,0,1.6366612111292964E-2,0,0,null,0,0,1.1714589989350373E-2,6.2376388254982507E-3,0,null,0,0,1.4456065551928585E-2,3.3975084937712344E-3,0,null,0,0,1.4058819059199028E-2,5.699521240215822E-3,0,null,0,0,0,0,0]
[150,null,8.8757396449704138E-4,0,0,0,0,null,0,0,1.0758776896942242E-2,0,0,null,0,0,1.2195121951219513E-2,2.0325203252032522E-3,0,null,1.893939393939394E-3,0,0,0,0,null,0,0,8.6355785837651119E-4,0,0,null,0,0,1.9639934533551555E-2,0,0,null,0,0,1.5518028297581013E-2,6.5419138901567017E-3,0,null,0,0,2.6780361068549731E-2,3.7305975617880219E-3,1.3323562720671508E-4,null,0,0,2.1050231780530435E-2,6.1554829394330872E-3,0,null,0,0,0,0,0]
[160,null,0,0,0,0,0,null,0,0,1.0758776896942242E-2,0,0,null,0,2.0408163265306124E-3,1.016260162601626E-2,4.0650406504065045E-3,0,null,0,0,0,0,0,null,0,0,0,0,0,null,0,0,9.8199672667757774E-3,0,0,null,0,3.0427506465845124E-4,1.4148790506617983E-2,6.9983264871443787E-3,0,null,0,0,3.1243754579974685E-2,6.6617813603357537E-3,2.6647125441343016E-4,null,0,0,2.3634014742761607E-2,9.4992020670263706E-3,0,null,0,0,0,0,0]
[170,null,2.9585798816568048E-4,0,0,0,0,null,0,0,9.0600226500566258E-3,0,0,null,0,2.0408163265306124E-3,2.0325203252032522E-3,0,0,null,0,0,0,0,0,null,0,0,2.5906735751295338E-3,0,0,null,0,0,4.9099836333878887E-3,0,0,null,0,0,1.0649627263045794E-2,1.0193214666058116E-2,0,null,0,0,2.0584904403437479E-2,1.0392378922123776E-2,1.3323562720671508E-4,null,0,0,1.9454365833270006E-2,1.3450870126909339E-2,0,null,0,0,0,0,0]
[180,null,0,null,0,0,0,null,0,null,5.6625141562853904E-3,0,0,null,0,null,2.0325203252032522E-3,0,0,null,0,null,0,0,0,null,0,null,8.6355785837651119E-4,0,0,null,0,null,1.6366612111292963E-3,1.6366612111292963E-3,0,null,0,null,5.9333637608397988E-3,9.7368020690704396E-3,1.5213753232922562E-4,null,0,null,1.4256212111118513E-2,1.9385783758577045E-2,0,null,0,null,1.5274716923778403E-2,2.1810167945892547E-2,0,null,0,null,0,0,0]
[190,null,null,null,0,0,0,null,null,null,3.3975084937712344E-3,0,0,null,null,null,6.0975609756097563E-3,2.0325203252032522E-3,0,null,null,null,0,0,0,null,null,null,0,0,0,null,null,null,0,0,0,null,null,null,4.4119884375475428E-3,1.1866727521679598E-2,1.5213753232922562E-4,null,null,null,6.928252614749184E-3,2.6114182932516154E-2,0,null,null,null,7.6753552701573071E-3,3.1309370012918912E-2,0,null,null,null,0,0,0]
[200,null,null,null,0,0,0,null,null,null,2.8312570781426952E-3,0,0,null,null,null,2.0325203252032522E-3,0,0,null,null,null,0,0,0,null,null,null,0,0,0,null,null,null,0,0,0,null,null,null,2.4342005172676099E-3,6.6940514224859277E-3,1.5213753232922562E-4,null,null,null,3.1976550529611617E-3,2.7912863899806808E-2,0,null,null,null,3.9516680598829694E-3,2.6369784938065202E-2,0,null,null,null,0,0,0]
[210,null,null,null,0,0,0,null,null,null,5.6625141562853911E-4,0,0,null,null,null,2.0325203252032522E-3,0,0,null,null,null,0,0,0,null,null,null,0,0,0,null,null,null,1.6366612111292963E-3,0,0,null,null,null,2.1299254526091589E-3,5.1726760991936708E-3,1.5213753232922562E-4,null,null,null,1.1991206448604356E-3,2.2117114116314701E-2,6.661781360335754E-5,null,null,null,2.2798084960863286E-3,2.067026369784938E-2,0,null,null,null,0,0,0]
[220,null,null,null,0,0,0,null,null,null,5.6625141562853911E-4,0,0,null,null,null,6.0975609756097563E-3,2.0325203252032522E-3,0,null,null,null,0,0,0,null,null,null,0,0,0,null,null,null,0,0,0,null,null,null,1.217100258633805E-3,3.8034383082306404E-3,0,null,null,null,3.3308906801678769E-4,1.8519752181733396E-2,0,null,null,null,9.8791701497074236E-4,1.4590774374952504E-2,0,null,null,null,0,0,0]
[230,null,null,null,0,0,0,null,null,null,5.6625141562853911E-4,0,0,null,null,null,0,0,0,null,null,null,0,0,0,null,null,null,0,0,0,null,null,null,0,0,0,null,null,null,0,3.4991632435721893E-3,3.0427506465845124E-4,null,null,null,1.3323562720671508E-4,1.1658117380587569E-2,0,null,null,null,7.5993616536210954E-4,5.6235276236796111E-3,0,null,null,null,0,0,0]
[240,null,null,null,0,0,0,null,null,null,5.6625141562853911E-4,0,0,null,null,null,0,0,0,null,null,null,0,0,0,null,null,null,0,0,0,null,null,null,0,0,0,null,null,null,0,9.1282519397535371E-4,0,null,null,null,1.9985344081007261E-4,8.3938445140230491E-3,0,null,null,null,6.079489322896877E-4,4.7875978417812907E-3,0,null,null,null,0,0,0]
[250,null,null,null,0,0,0,null,null,null,5.6625141562853911E-4,0,0,null,null,null,0,0,0,null,null,null,0,0,0,null,null,null,0,0,0,null,null,null,0,0,0,null,null,null,1.5213753232922562E-4,1.8256503879507074E-3,3.0427506465845124E-4,null,null,null,0,4.7964825794417423E-3,0,null,null,null,3.0397446614484385E-4,3.9516680598829694E-3,0,null,null,null,0,0,0]
[260,null,null,null,0,0,0,null,null,null,5.6625141562853911E-4,0,0,null,null,null,0,0,0,null,null,null,0,0,0,null,null,null,0,0,0,null,null,null,0,0,0,null,null,null,0,6.0855012931690248E-4,0,null,null,null,0,4.0636866298048094E-3,0,null,null,null,0,1.8998404134052739E-3,0,null,null,null,0,0,0]
[270,null,null,null,0,0,0,null,null,null,0,0,0,null,null,null,0,0,0,null,null,null,0,0,0,null,null,null,0,0,0,null,null,null,0,0,0,null,null,null,0,3.0427506465845124E-4,0,null,null,null,0,8.6603157684364801E-4,0,null,null,null,0,9.1192339843453149E-4,0,null,null,null,0,0,0]
[280,null,null,null,0,0,0,null,null,null,0,0,0,null,null,null,0,0,0,null,null,null,0,0,0,null,null,null,0,0,0,null,null,null,0,0,0,null,null,null,0,1.5213753232922562E-4,0,null,null,null,0,4.6632469522350274E-4,0,null,null,null,0,0,0,null,null,null,0,0,0]
[290,null,null,null,0,0,0,null,null,null,0,0,0,null,null,null,0,0,0,null,null,null,0,0,0,null,null,null,0,0,0,null,null,null,0,0,0,null,null,null,0,1.5213753232922562E-4,1.5213753232922562E-4,null,null,null,0,1.9985344081007261E-4,0,null,null,null,0,0,0,null,null,null,0,0,0]
[300,null,null,null,0,0,0,null,null,null,0,0,0,null,null,null,0,0,0,null,null,null,0,0,0,null,null,null,0,0,0,null,null,null,0,0,0,null,null,null,0,0,1.5213753232922562E-4,null,null,null,0,1.3323562720671508E-4,0,null,null,null,0,0,0,null,null,null,0,0,0]
[310,null,null,null,0,0,0,null,null,null,0,0,0,null,null,null,0,0,0,null,null,null,0,0,0,null,null,null,0,0,0,null,null,null,0,0,0,null,null,null,0,0,0,null,null,null,0,0,0,null,null,null,0,7.5993616536210962E-5,0,null,null,null,0,0,0]
[320,null,null,null,0,0,0,null,null,null,0,0,0,null,null,null,0,0,0,null,null,null,0,0,0,null,null,null,0,0,0,null,null,null,0,0,0,null,null,null,0,1.5213753232922562E-4,0,null,null,null,0,0,0,null,null,null,0,7.5993616536210962E-5,0,null,null,null,0,0,0]
[330,null,null,null,0,0,0,null,null,null,0,0,0,null,null,null,0,0,0,null,null,null,0,0,0,null,null,null,0,0,0,null,null,null,0,0,0,null,null,null,0,0,0,null,null,null,0,0,0,null,null,null,0,0,0,null,null,null,0,0,0]
[340,null,null,null,null,0,0,null,null,null,null,0,0,null,null,null,null,0,0,null,null,null,null,0,0,null,null,null,null,0,0,null,null,null,null,0,0,null,null,null,null,0,0,null,null,null,null,0,0,null,null,null,null,0,0,null,null,null,null,0,0]
[350,null,null,null,null,0,0,null,null,null,null,0,0,null,null,null,null,0,0,null,null,null,null,0,0,null,null,null,null,0,0,null,null,null,null,0,0,null,null,null,null,0,0,null,null,null,null,0,0,null,null,null,null,0,0,null,null,null,null,0,0]
[360,null,null,null,null,0,0,null,null,null,null,0,0,null,null,null,null,0,0,null,null,null,null,0,0,null,null,null,null,0,0,null,null,null,null,0,0,null,null,null,null,0,0,null,null,null,null,0,0,null,null,null,null,0,0,null,null,null,null,0,0]
[370,null,null,null,null,0,0,null,null,null,null,0,0,null,null,null,null,0,0,null,null,null,null,0,0,null,null,null,null,0,0,null,null,null,null,0,0,null,null,null,null,0,0,null,null,null,null,0,0,null,null,null,null,0,0,null,null,null,null,0,0]
[380,null,null,null,null,0,0,null,null,null,null,0,0,null,null,null,null,0,0,null,null,null,null,0,0,null,null,null,null,0,0,null,null,null,null,0,0,null,null,null,null,0,0,null,null,null,null,0,0,null,null,null,null,0,0,null,null,null,null,0,0]
[390,null,null,null,null,0,0,null,null,null,null,0,0,null,null,null,null,0,0,null,null,null,null,0,0,null,null,null,null,0,0,null,null,null,null,0,0,null,null,null,null,0,0,null,null,null,null,0,0,null,null,null,null,0,0,null,null,null,null,0,0]
[400,null,null,null,null,0,0,null,null,null,null,0,0,null,null,null,null,0,0,null,null,null,null,0,0,null,null,null,null,0,0,null,null,null,null,0,0,null,null,null,null,0,0,null,null,null,null,0,0,null,null,null,null,0,0,null,null,null,null,0,0]
[410,null,null,null,null,null,0,null,null,null,null,null,0,null,null,null,null,null,0,null,null,null,null,null,0,null,null,null,null,null,0,null,null,null,null,null,0,null,null,null,null,null,0,null,null,null,null,null,0,null,null,null,null,null,0,null,null,null,null,null,0]
[420,null,null,null,null,null,0,null,null,null,null,null,0,null,null,null,null,null,0,null,null,null,null,null,0,null,null,null,null,null,0,null,null,null,null,null,0,null,null,null,null,null,0,null,null,null,null,null,0,null,null,null,null,null,0,null,null,null,null,null,0]
[430,null,null,null,null,null,0,null,null,null,null,null,0,null,null,null,null,null,0,null,null,null,null,null,0,null,null,null,null,null,0,null,null,null,null,null,0,null,null,null,null,null,0,null,null,null,null,null,0,null,null,null,null,null,0,null,null,null,null,null,0]
[440,null,null,null,null,null,0,null,null,null,null,null,0,null,null,null,null,null,0,null,null,null,null,null,0,null,null,null,null,null,0,null,null,null,null,null,0,null,null,null,null,null,0,null,null,null,null,null,0,null,null,null,null,null,0,null,null,null,null,null,0]
[450,null,null,null,null,null,0,null,null,null,null,null,0,null,null,null,null,null,0,null,null,null,null,null,0,null,null,null,null,null,0,null,null,null,null,null,0,null,null,null,null,null,0,null,null,null,null,null,0,null,null,null,null,null,0,null,null,null,null,null,0]
[460,null,null,null,null,null,0,null,null,null,null,null,0,null,null,null,null,null,0,null,null,null,null,null,0,null,null,null,null,null,0,null,null,null,null,null,0,null,null,null,null,null,0,null,null,null,null,null,0,null,null,null,null,null,0,null,null,null,null,null,0]
[470,null,null,null,null,null,0,null,null,null,null,null,0,null,null,null,null,null,0,null,null,null,null,null,0,null,null,null,null,null,0,null,null,null,null,null,0,null,null,null,null,null,0,null,null,null,null,null,0,null,null,null,null,null,0,null,null,null,null,null,0]
[480,null,null,null,null,null,0,null,null,null,null,null,0,null,null,null,null,null,0,null,null,null,null,null,0,null,null,null,null,null,0,null,null,null,null,null,0,null,null,null,null,null,0,null,null,null,null,null,0,null,null,null,null,null,0,null,null,null,null,null,0]
[490]
[500]

{"sheet":"51601-1","index":14,"n_rows":56,"n_cols":61,"rows_kept":56,"cut":false,"hidden":true,"merged":[[0,20,0,29],[4,37,4,42],[4,43,4,48],[4,49,4,54],[4,55,4,60],[4,31,4,36],[4,1,4,6],[4,7,4,12],[4,13,4,18],[4,19,4,24],[4,25,4,30]]}
[null,null,null,null,null,null,null,null,null,null,null,null,null,null,null,null,null,null,null,null,"Recorded Classified Counts"]
["Year","WiM site ID & Lane",null,null,null,null,null,null,null,null,null,null,null,null,null,null,null,null,null,null,"Class 3","Class 4","Class 5","Class 6","Class 7","Class 8","Class 9","Class 10","Class 11","Class 12"]
[{"$f":"'Presumptive CTLD'!A3","v":"2014-2023"},{"$f":"MID(CELL(\"filename\",A1),FIND(\"]\",CELL(\"filename\",A1))+1,255)","v":"51601-1"},null,null,null,null,null,null,null,null,null,null,null,null,null,null,null,null,null,null,5615,2997,565,824,1791,2077,18803,25262,754,0]
[]
[null,"Class 3",null,null,null,null,null,"Class 4",null,null,null,null,null,"Class 5",null,null,null,null,null,"Class 6",null,null,null,null,null,"Class 7",null,null,null,null,null,"Class 8",null,null,null,null,null,"Class 9",null,null,null,null,null,"Class 10",null,null,null,null,null,"Class 11",null,null,null,null,null,"Class 12"]
["Load (kN)","SAST","SADT","TAST","TADT","TRDT","QADT","SAST","SADT","TAST","TADT","TRDT","QADT","SAST","SADT","TAST","TADT","TRDT","QADT","SAST","SADT","TAST","TADT","TRDT","QADT","SAST","SADT","TAST","TADT","TRDT","QADT","SAST","SADT","TAST","TADT","TRDT","QADT","SAST","SADT","TAST","TADT","TRDT","QADT","SAST","SADT","TAST","TADT","TRDT","QADT","SAST","SADT","TAST","TADT","TRDT","QADT","SAST","SADT","TAST","TADT","TRDT","QADT"]
[10,0,0,0,0,0,0,1.686922123564032E-4,0,0,0,0,0,0,0,0,0,0,0,1.215066828675577E-3,4.12621359223301E-2,0,0,0,0,9.3822742901587038E-3,1.7978352595853973E-2,0,1.3392038158136122E-2,0,0,3.1549935454977757E-4,3.1230480949406619E-4,0,7.8076202373516547E-4,3.1230480949406619E-4,0,3.5591230190844845E-5,0,0,1.7557721007813185E-5,0,0,1.0104164804633514E-5,0,0,0,0,0,0,0,0,0,0,0,0,0,0,0,0,0]
[20,3.4037979218917949E-2,3.5625222657641609E-3,0,0,0,0,3.0364598224152579E-3,0,0,0,0,0,0,0,0,0,0,0,0.1065208586472256,0.12702265372168284,0,0,0,0,0.15287588108082123,9.7229866079618421E-2,0,6.8244358833241606E-2,0,0,7.8874838637444378E-3,3.7476577139287947E-3,0,3.1230480949406619E-3,1.5615240474703309E-3,0,2.8472984152675876E-4,1.6328680537266262E-3,0,3.6871214116407689E-4,1.7562544292524963E-5,0,7.0729153632434594E-5,4.9482903656786578E-5,0,1.0589341382552329E-3,5.9386499425403557E-5,0,0,2.6525198938992041E-3,0,2.652519893899204E-4,0,0,0,0,0,0,0,0]
[30,0.16992117520601935,8.7103669397933736E-2,0,0,0,0,1.4170145837937869E-2,0,0,1.7017017017017019E-2,0,0,0,0,0,6.1946902654867256E-3,0,0,6.8448764682057517E-2,0.12985436893203883,0,0,0,0,6.236452910517256E-2,0.10218308567235369,0,0.10548523206751055,0,0,7.7297341864695501E-3,1.2648344784509682E-2,0,7.4953154278575894E-3,2.966895690193629E-3,0,2.9540721058401221E-3,4.3191993679220437E-3,0,2.7390044772188571E-3,7.7275194887109846E-4,0,2.3441662346749756E-3,1.6824187243307437E-4,0,1.0896135385224406E-2,6.235582439667373E-4,0,1.0840108401084009E-3,1.0610079575596816E-3,0,1.856763925729443E-3,2.6542072475212774E-3,0,0,0,0,0,0,0]
[40,0.12809029021855964,0.1059850374064838,0,0,0,0,8.3671337328775991E-2,0,0,4.2709376042709378E-2,0,0,0,0,3.5843091148853685E-3,2.1238938053097345E-2,0,0,6.1968408262454443E-2,8.2928802588996764E-2,0,0,0,0,3.8264961810843337E-2,4.3111355714547786E-2,0,4.7330764997248212E-2,0,0,3.2811932873176866E-2,2.0455965021861335E-2,0,1.3741411617738912E-2,4.6845721424109933E-3,0,1.6710082574601656E-2,2.0015801948907032E-3,0,4.7054692300939338E-3,4.5311364274714409E-3,0,9.7707273660806084E-3,1.8803503389578901E-4,0,1.4409421544856253E-2,3.8205314630342956E-3,0,5.6910569105691061E-3,1.0610079575596816E-3,0,1.0344827586206896E-2,9.2897253663244712E-3,0,0,0,0,0,0,0]
[50,8.0168398423504122E-2,7.7841111506946919E-2,0,0,0,0,0.13292946333684574,1.6683350016683351E-4,0,4.971638304971638E-2,0,0,0,0,1.612939101698416E-2,3.9823008849557522E-2,5.3097345132743362E-3,0,3.8477116241393279E-2,7.6456310679611644E-2,0,0,0,0,2.2443871831360037E-2,2.1280498991010824E-2,0,1.3208585580627407E-2,0,0,7.193385283734928E-2,1.0306058713304185E-2,0,3.0918176139912556E-2,2.0299812617114305E-3,0,7.0595205083540752E-2,4.9161618821876919E-4,0,9.6391888332894391E-3,1.5296976078789245E-2,0,4.6559991419751236E-2,3.9586322925429266E-5,2.9999010341926865E-5,1.3330694245138304E-2,1.0323353150115984E-2,0,2.6016260162601626E-2,5.305039787798408E-4,0,2.0424403183023871E-2,1.406729841186277E-2,0,0,0,0,0,0,0]
[60,5.034037979218918E-2,6.7420733879586747E-2,0,0,0,0,0.12162708510896671,0,0,4.7380714047380715E-2,0,0,0,0,4.8388173050952478E-2,4.5132743362831858E-2,2.6548672566371681E-3,0,3.6857027136492505E-2,6.3511326860841419E-2,0,0,0,0,2.0788176368390855E-2,1.9629425793432399E-2,0,8.2553659878921298E-3,0,0,8.6289073469364166E-2,7.4953154278575894E-3,0,3.1386633354153655E-2,1.4053716427232979E-3,0,8.3497026027722007E-2,1.9313493108594505E-4,5.4699053908956467E-5,1.8365376174172592E-2,2.302449556750023E-2,3.511544201562637E-5,5.9493322369682133E-2,5.9379484388143896E-5,9.9996701139756215E-6,1.3390073729526449E-2,1.7568506080015221E-2,0,5.0948509485094849E-2,2.652519893899204E-4,0,1.9628647214854113E-2,2.6011231025708518E-2,0,0,0,0,0,0,0]
[70,2.4453600859906846E-2,4.6223726398289991E-2,0,0,0,0,8.4683490602914413E-2,1.6683350016683351E-4,0,5.0884217550884216E-2,0,0,8.8495575221238937E-4,0,9.5880268823183609E-2,6.4601769911504431E-2,3.5398230088495575E-3,0,1.3365735115431349E-2,4.3689320388349516E-2,0,0,0,0,1.5085225329274778E-2,1.4676206200697119E-2,0,6.0539350577875619E-3,0,0,7.351134961009817E-2,7.1830106183635228E-3,1.5615240474703309E-4,3.7788881948782015E-2,7.8076202373516547E-4,0,9.2216877424478996E-2,2.8092353612501096E-4,9.1165089848260775E-5,2.7021332631024492E-2,2.632625389449492E-2,1.7557721007813185E-5,6.9435820537441517E-2,2.9689742194071948E-5,1.9999340227951243E-5,1.5023009550200406E-2,2.3526951522364045E-2,9.8965807313573165E-6,6.9376693766937655E-2,2.1220159151193632E-3,0,1.4854111405835544E-2,1.4332719136614897E-2,0,0,0,0,0,0,0]
[80,9.6739519885345755E-3,3.8208051300320629E-2,0,0,0,0,4.3016514150882819E-2,0,0,3.9539539539539537E-2,0,0,0,0,0.11111358256144643,6.5486725663716813E-2,0,0,4.8602673147023082E-3,4.3689320388349516E-2,0,0,0,0,6.0708833642203371E-3,1.4492753623188406E-2,0,6.7877453678224179E-3,0,0,3.2023184486802421E-2,4.8407245471580266E-3,0,5.4809494066208622E-2,4.6845721424109934E-4,0,4.7478701074587022E-2,2.1069265209375823E-4,1.0939810781791293E-4,3.2358879817399704E-2,2.5939877920059373E-2,1.7557721007813185E-5,4.5842595718622252E-2,0,8.999703102578059E-5,1.6497600079172645E-2,2.4704783760967883E-2,0,3.5501355013550139E-2,2.6525198938992041E-3,0,1.0610079575596816E-2,1.0882249714837238E-2,0,0,0,0,0,0,0]
[90,3.3142242923683268E-3,2.5204845030281441E-2,0,0,0,0,1.6363144598571112E-2,0,1.6683350016683351E-4,3.8038038038038041E-2,0,0,0,0,7.6166568691314079E-2,4.6017699115044247E-2,8.8495575221238937E-4,0,1.6200891049007696E-3,2.6294498381877023E-2,0,0,0,0,1.2877631378649201E-3,1.1374059805540267E-2,0,1.0640249495505412E-2,0,0,1.1357976763791992E-2,2.8107432854465957E-3,3.1230480949406619E-4,5.4184884447220485E-2,4.6845721424109934E-4,0,1.5891484280212222E-2,2.633658151171978E-4,5.4699053908956467E-5,3.1042050741813713E-2,2.8029820690869841E-2,3.511544201562637E-5,1.5519997139917079E-2,0,1.6999439193758555E-4,1.7774258993517738E-2,2.3497258272651343E-2,0,1.1382113821138212E-2,9.2838196286472146E-3,0,1.0610079575596816E-2,7.9626217425638329E-3,0,0,0,0,0,0,0]
[100,null,2.101888136800855E-2,0,0,0,0,null,0,0,3.3366700033366697E-2,0,0,null,0,5.6452868559444563E-2,2.743362831858407E-2,1.7699115044247787E-3,0,null,1.3754045307443365E-2,0,0,0,0,null,8.6222711429095582E-3,0,9.7229866079618418E-3,0,0,null,4.6845721424109934E-4,0,5.1374141161773891E-2,7.8076202373516547E-4,0,null,7.0230884031252739E-5,9.1165089848260775E-5,2.9988587481344923E-2,2.5167125971188271E-2,3.511544201562637E-5,null,0,8.999703102578059E-5,1.8763917066653472E-2,2.230952828414327E-2,0,null,2.6525198938992041E-3,0,1.220159151193634E-2,1.4598139861367028E-2,0,null,0,0,0,0,0]
[110,null,1.3181332383327396E-2,0,0,0,0,null,0,0,3.6870203536870205E-2,0,0,null,0,3.1362704755246981E-2,2.5663716814159292E-2,0,0,null,9.7087378640776691E-3,0,0,0,0,null,3.852504127682994E-3,0,6.4208402128049895E-3,0,0,null,9.3691442848219868E-4,0,4.6533416614615866E-2,3.1230480949406619E-4,0,null,1.5801948907031866E-4,0,2.7126678957071371E-2,2.0829177530934606E-2,3.511544201562637E-5,null,0,7.9997360911804972E-5,1.8536295709832253E-2,2.0419058052434592E-2,9.8965807313573165E-6,null,5.305039787798408E-4,0,1.4323607427055704E-2,1.1147670439589365E-2,0,null,0,0,0,0,0]
[120,null,7.7484859280370511E-3,0,0,0,0,null,0,0,2.952952952952953E-2,0,0,null,0,2.3298009246754899E-2,2.6548672566371681E-2,0,0,null,5.2588996763754045E-3,0,0,0,0,null,1.1007154650522839E-3,0,4.58631443771785E-3,0,0,null,7.8076202373516547E-4,0,4.4191130543410367E-2,4.6845721424109934E-4,0,null,3.511544201562637E-5,0,2.3263980335352472E-2,1.8019170444130615E-2,5.2673163023439558E-5,null,0,9.9996701139756208E-5,1.8862882873967046E-2,1.938969206239426E-2,9.8965807313573165E-6,null,2.652519893899204E-4,0,1.5384615384615385E-2,1.7252347108888306E-2,0,null,0,0,0,0,0]
[130,null,3.7406483790523694E-3,0,0,0,0,null,0,1.6683350016683351E-4,2.3523523523523524E-2,0,0,null,0,1.0752927344656106E-2,2.2123893805309734E-2,1.7699115044247787E-3,0,null,2.4271844660194173E-3,0,0,0,0,null,7.3381031003485597E-4,0,2.9352412401394239E-3,0,0,null,0,0,4.0599625234228609E-2,4.6845721424109934E-4,0,null,0,7.2932071878608628E-5,2.1595996839610217E-2,1.684247997653144E-2,0,null,0,1.3999538159565871E-4,2.0624474244148646E-2,1.774666557829143E-2,0,null,0,0,2.0424403183023871E-2,1.5128981310871282E-2,0,null,0,0,0,0,0]
[140,null,1.7812611328820805E-3,0,0,0,0,null,0,0,2.1187854521187856E-2,0,0,null,0,8.9607727872134217E-3,1.5929203539823009E-2,0,0,null,0,0,0,0,0,null,7.3381031003485597E-4,0,2.5683360851219959E-3,0,0,null,3.1230480949406619E-4,0,3.5915053091817611E-2,1.5615240474703309E-4,0,null,0,0,1.746993240277412E-2,1.4331036142700371E-2,3.511544201562637E-5,null,0,2.9999010341926865E-5,1.8625364936414469E-2,1.7241880333175499E-2,0,null,0,0,2.546419098143236E-2,1.2474774063350003E-2,0,null,0,0,0,0,0]
[150,null,7.125044531528323E-4,0,0,0,0,null,0,0,1.7517517517517518E-2,0,0,null,0,8.0646955084920802E-3,1.2389380530973451E-2,1.7699115044247787E-3,0,null,0,0,0,0,0,null,0,0,2.3848835076132821E-3,0,0,null,0,0,2.9044347282948156E-2,3.1230480949406619E-4,0,null,0,0,1.5415679044859977E-2,1.2241093371889899E-2,7.0230884031252739E-5,null,0,8.999703102578059E-5,1.7457568410114307E-2,1.6222412093039408E-2,0,null,0,0,2.9177718832891247E-2,1.406729841186277E-2,0,null,0,0,0,0,0]
[160,null,1.7812611328820807E-4,0,0,0,0,null,0,0,1.5515515515515516E-2,0,0,null,0,7.168618229770737E-3,1.2389380530973451E-2,2.6548672566371681E-3,0,null,8.090614886731392E-4,0,0,0,0,null,0,0,2.7517886626307101E-3,0,0,null,0,0,2.6702061211742661E-2,3.1230480949406619E-4,0,null,1.7557721007813185E-5,0,1.2992713545781758E-2,1.0888777461365478E-2,0,null,0,7.9997360911804972E-5,1.6458013756247218E-2,1.6826174837197675E-2,0,null,0,0,2.3607427055702918E-2,1.4863560586119155E-2,0,null,0,0,0,0,0]
[170,null,8.9063056644104037E-5,0,0,0,0,null,0,0,8.1748415081748411E-3,0,0,null,0,1.7921545574426843E-3,7.9646017699115043E-3,8.8495575221238937E-4,0,null,0,0,0,0,0,null,1.8345257750871399E-4,0,9.1726288754356996E-4,0,0,null,0,0,2.1861336664584636E-2,1.5615240474703309E-4,0,null,0,0,1.2360635589500483E-2,8.8515223234325816E-3,3.511544201562637E-5,null,0,2.9999010341926865E-5,1.5725666782126776E-2,1.6400571591315617E-2,0,null,0,0,2.440318302387268E-2,2.0702816530665965E-2,0,null,0,0,0,0,0]
[180,null,0,null,0,0,0,null,0,null,8.0080080080080079E-3,0,0,null,0,null,7.9646017699115043E-3,0,0,null,0,null,0,0,0,null,0,null,1.1007154650522839E-3,0,0,null,0,null,1.4678326046221112E-2,0,0,null,0,null,1.1394960934070757E-2,7.8504572987586584E-3,1.7557721007813185E-5,null,0,null,1.6655945370874364E-2,1.66579130888257E-2,0,null,0,null,2.6259946949602122E-2,1.8579450732648942E-2,0,null,0,null,0,0,0]
[190,null,null,null,0,0,0,null,null,null,6.1728395061728392E-3,0,0,null,null,null,6.1946902654867256E-3,0,0,null,null,null,0,0,0,null,null,null,5.5035773252614197E-4,0,0,null,null,null,1.1555277951280449E-2,0,0,null,null,null,1.0376613115617593E-2,7.025017717009985E-3,3.511544201562637E-5,null,null,null,1.5735563362858133E-2,1.5301921351945651E-2,0,null,null,null,2.0159151193633953E-2,1.8314030007896814E-2,0,null,null,null,0,0,0]
[200,null,null,null,0,0,0,null,null,null,4.3376710043376713E-3,0,0,null,null,null,5.3097345132743362E-3,8.8495575221238937E-4,8.8495575221238937E-4,null,null,null,0,0,0,null,null,null,1.8345257750871399E-4,0,0,null,null,null,8.2760774515927542E-3,0,0,null,null,null,7.9712053375471867E-3,6.6035166539893863E-3,0,null,null,null,1.3380177148795091E-2,1.5836399846774284E-2,0,null,null,null,1.5384615384615385E-2,1.8048609283144688E-2,0,null,null,null,0,0,0]
[210,null,null,null,0,0,0,null,null,null,2.8361695028361693E-3,0,0,null,null,null,5.3097345132743362E-3,0,0,null,null,null,0,0,0,null,null,null,5.5035773252614197E-4,0,0,null,null,null,7.0268582136164895E-3,1.5615240474703309E-4,0,null,null,null,6.7070494249846374E-3,6.3927661224790861E-3,1.7557721007813185E-5,null,null,null,1.1519619971299916E-2,1.5608751598976903E-2,9.8965807313573165E-6,null,null,null,1.0344827586206896E-2,2.3091603053435116E-2,0,null,null,null,0,0,0]
[220,null,null,null,0,0,0,null,null,null,2.6693360026693361E-3,0,0,null,null,null,2.6548672566371681E-3,0,0,null,null,null,0,0,0,null,null,null,0,0,0,null,null,null,6.4022485946283571E-3,0,0,null,null,null,5.4253357914142743E-3,6.0766403252136376E-3,1.7557721007813185E-5,null,null,null,8.3428175565342169E-3,1.5272228102232948E-2,0,null,null,null,9.2838196286472146E-3,2.0968237255418094E-2,0,null,null,null,0,0,0]
[230,null,null,null,0,0,0,null,null,null,1.3346680013346681E-3,0,0,null,null,null,0,0,0,null,null,null,0,0,0,null,null,null,0,0,0,null,null,null,2.1861336664584633E-3,0,0,null,null,null,3.7749100166798348E-3,5.6375767179005134E-3,3.511544201562637E-5,null,null,null,6.1358800534415357E-3,1.5687933598210774E-2,0,null,null,null,8.4880636604774528E-3,1.8579450732648942E-2,0,null,null,null,0,0,0]
[240,null,null,null,0,0,0,null,null,null,1.001001001001001E-3,0,0,null,null,null,8.8495575221238937E-4,0,0,null,null,null,0,0,0,null,null,null,0,0,0,null,null,null,2.1861336664584633E-3,0,0,null,null,null,2.8092353612501099E-3,5.8834523379958622E-3,0,null,null,null,3.9388391310802122E-3,1.466846535807468E-2,0,null,null,null,6.8965517241379309E-3,1.7517767833640431E-2,0,null,null,null,0,0,0]
[250,null,null,null,0,0,0,null,null,null,1.1678345011678344E-3,0,0,null,null,null,2.6548672566371681E-3,0,0,null,null,null,0,0,0,null,null,null,1.8345257750871399E-4,0,0,null,null,null,1.8738288569643974E-3,0,0,null,null,null,1.9137915898516373E-3,4.7594495032742658E-3,5.2673163023439558E-5,null,null,null,2.8601118313622644E-3,1.2946256874737974E-2,0,null,null,null,3.7135278514588859E-3,1.6721505659384048E-2,0,null,null,null,0,0,0]
[260,null,null,null,0,0,0,null,null,null,5.005005005005005E-4,0,0,null,null,null,0,8.8495575221238937E-4,0,null,null,null,0,0,0,null,null,null,0,0,0,null,null,null,3.1230480949406619E-4,0,0,null,null,null,1.2465981915547363E-3,4.0569477315732664E-3,3.511544201562637E-5,null,null,null,1.8407640160324609E-3,1.1649651637283332E-2,0,null,null,null,1.856763925729443E-3,1.2209353338597876E-2,0,null,null,null,0,0,0]
[270,null,null,null,0,0,0,null,null,null,1.6683350016683351E-4,0,0,null,null,null,8.8495575221238937E-4,0,0,null,null,null,0,0,0,null,null,null,0,0,0,null,null,null,1.5615240474703309E-4,0,0,null,null,null,7.725397243437802E-4,3.7759470228928668E-3,1.7557721007813185E-5,null,null,null,1.2469691721510219E-3,8.9277704136190017E-3,0,null,null,null,1.856763925729443E-3,1.3536456962358516E-2,0,null,null,null,0,0,0]
[280,null,null,null,0,0,0,null,null,null,3.3366700033366702E-4,0,0,null,null,null,8.8495575221238937E-4,8.8495575221238937E-4,0,null,null,null,0,0,0,null,null,null,0,0,0,null,null,null,4.6845721424109934E-4,0,0,null,null,null,5.267316302343956E-4,2.2831307580282452E-3,1.7557721007813185E-5,null,null,null,6.9276065119501214E-4,7.2748461796119362E-3,0,null,null,null,1.0610079575596816E-3,7.1663595683074486E-3,0,null,null,null,0,0,0]
[290,null,null,null,0,0,0,null,null,null,0,0,0,null,null,null,8.8495575221238937E-4,8.8495575221238937E-4,0,null,null,null,0,0,0,null,null,null,0,0,0,null,null,null,0,0,0,null,null,null,2.1069265209375823E-4,2.1250678593955205E-3,0,null,null,null,4.4534613291107923E-4,5.2260119494355129E-3,0,null,null,null,7.9575596816976125E-4,8.2280424673159599E-3,0,null,null,null,0,0,0]
[300,null,null,null,0,0,0,null,null,null,0,0,0,null,null,null,8.8495575221238937E-4,0,0,null,null,null,0,0,0,null,null,null,0,0,0,null,null,null,0,0,0,null,null,null,8.7788605039065934E-5,1.7035667963749216E-3,3.511544201562637E-5,null,null,null,1.8803503389578901E-4,3.9294067119808691E-3,0,null,null,null,0,4.2467315960340443E-3,0,null,null,null,0,0,0]
[310,null,null,null,0,0,0,null,null,null,0,0,0,null,null,null,0,0,0,null,null,null,0,0,0,null,null,null,0,0,0,null,null,null,0,0,0,null,null,null,7.0230884031252739E-5,1.4050035434019972E-3,3.511544201562637E-5,null,null,null,6.9276065119501214E-5,2.5536194752923532E-3,0,null,null,null,0,3.4504694217776608E-3,0,null,null,null,0,0,0]
[320,null,null,null,0,0,0,null,null,null,1.6683350016683351E-4,0,0,null,null,null,0,0,0,null,null,null,0,0,0,null,null,null,0,0,0,null,null,null,0,0,0,null,null,null,1.7557721007813185E-5,1.018627568966448E-3,1.7557721007813185E-5,null,null,null,1.9793161462714633E-5,2.0884252297933585E-3,0,null,null,null,0,3.7158901465297886E-3,0,null,null,null,0,0,0]
[330,null,null,null,0,0,0,null,null,null,0,0,0,null,null,null,0,0,0,null,null,null,0,0,0,null,null,null,0,0,0,null,null,null,0,0,0,null,null,null,0,5.6200141736079882E-4,1.7557721007813185E-5,null,null,null,0,1.5638444848689603E-3,0,null,null,null,0,2.6542072475212774E-3,0,null,null,null,0,0,0]
[340,null,null,null,null,0,0,null,null,null,null,0,0,null,null,null,null,0,0,null,null,null,null,0,0,null,null,null,null,0,0,null,null,null,null,0,0,null,null,null,null,4.0393851872807412E-4,0,null,null,null,null,9.0069524128528729E-4,0,null,null,null,null,1.0616828990085111E-3,0,null,null,null,null,0,0]
[350,null,null,null,null,0,0,null,null,null,null,0,0,null,null,null,null,0,0,null,null,null,null,0,0,null,null,null,null,0,0,null,null,null,null,0,0,null,null,null,null,3.8637597443554923E-4,0,null,null,null,null,7.5222899272177834E-4,0,null,null,null,null,1.0616828990085111E-3,0,null,null,null,null,0,0]
[360,null,null,null,null,0,0,null,null,null,null,0,0,null,null,null,null,0,0,null,null,null,null,0,0,null,null,null,null,0,0,null,null,null,null,0,0,null,null,null,null,1.9318798721777462E-4,0,null,null,null,null,6.0376274415826949E-4,0,null,null,null,null,5.3084144950425554E-4,0,null,null,null,null,0,0]
[370,null,null,null,null,0,0,null,null,null,null,0,0,null,null,null,null,0,0,null,null,null,null,0,0,null,null,null,null,0,0,null,null,null,null,0,0,null,null,null,null,2.1075053151029959E-4,0,null,null,null,null,3.6621674645665527E-4,0,null,null,null,null,1.3271036237606387E-3,0,null,null,null,null,0,0]
[380,null,null,null,null,0,0,null,null,null,null,0,0,null,null,null,null,0,0,null,null,null,null,0,0,null,null,null,null,0,0,null,null,null,null,0,0,null,null,null,null,7.0250177170099853E-5,3.511544201562637E-5,null,null,null,null,1.484662485635089E-4,9.8965807313573165E-6,null,null,null,null,5.3084144950425554E-4,0,null,null,null,null,0,0]
[390,null,null,null,null,0,0,null,null,null,null,0,0,null,null,null,null,0,8.8495575221238937E-4,null,null,null,null,0,0,null,null,null,null,0,0,null,null,null,null,0,0,null,null,null,null,7.0250177170099853E-5,0,null,null,null,null,1.5836399846774283E-4,0,null,null,null,null,0,0,null,null,null,null,0,0]
[400,null,null,null,null,0,0,null,null,null,null,0,0,null,null,null,null,0,0,null,null,null,null,0,0,null,null,null,null,0,0,null,null,null,null,0,0,null,null,null,null,5.2687632877574896E-5,0,null,null,null,null,9.897749904233927E-5,0,null,null,null,null,2.6542072475212777E-4,0,null,null,null,null,0,0]
[410,null,null,null,null,null,0,null,null,null,null,null,0,null,null,null,null,null,0,null,null,null,null,null,0,null,null,null,null,null,0,null,null,null,null,null,0,null,null,null,null,null,0,null,null,null,null,null,0,null,null,null,null,null,0,null,null,null,null,null,0]
[420,null,null,null,null,null,0,null,null,null,null,null,0,null,null,null,null,null,0,null,null,null,null,null,0,null,null,null,null,null,0,null,null,null,null,null,0,null,null,null,null,null,0,null,null,null,null,null,0,null,null,null,null,null,0,null,null,null,null,null,0]
[430,null,null,null,null,null,0,null,null,null,null,null,0,null,null,null,null,null,0,null,null,null,null,null,0,null,null,null,null,null,0,null,null,null,null,null,0,null,null,null,null,null,0,null,null,null,null,null,0,null,null,null,null,null,0,null,null,null,null,null,0]
[440,null,null,null,null,null,0,null,null,null,null,null,0,null,null,null,null,null,0,null,null,null,null,null,0,null,null,null,null,null,0,null,null,null,null,null,0,null,null,null,null,null,0,null,null,null,null,null,0,null,null,null,null,null,0,null,null,null,null,null,0]
[450,null,null,null,null,null,0,null,null,null,null,null,0,null,null,null,null,null,0,null,null,null,null,null,0,null,null,null,null,null,0,null,null,null,null,null,0,null,null,null,null,null,0,null,null,null,null,null,0,null,null,null,null,null,0,null,null,null,null,null,0]
[460,null,null,null,null,null,0,null,null,null,null,null,0,null,null,null,null,null,0,null,null,null,null,null,0,null,null,null,null,null,0,null,null,null,null,null,0,null,null,null,null,null,0,null,null,null,null,null,0,null,null,null,null,null,0,null,null,null,null,null,0]
[470,null,null,null,null,null,0,null,null,null,null,null,0,null,null,null,null,null,0,null,null,null,null,null,0,null,null,null,null,null,0,null,null,null,null,null,0,null,null,null,null,null,0,null,null,null,null,null,0,null,null,null,null,null,0,null,null,null,null,null,0]
[480,null,null,null,null,null,0,null,null,null,null,null,0,null,null,null,null,null,0,null,null,null,null,null,0,null,null,null,null,null,0,null,null,null,null,null,0,null,null,null,null,null,0,null,null,null,null,null,0,null,null,null,null,null,0,null,null,null,null,null,0]
[490]
[500]

{"sheet":"51601-2","index":15,"n_rows":56,"n_cols":61,"rows_kept":56,"cut":false,"hidden":true,"merged":[[0,20,0,29],[4,37,4,42],[4,43,4,48],[4,49,4,54],[4,55,4,60],[4,31,4,36],[4,1,4,6],[4,7,4,12],[4,13,4,18],[4,19,4,24],[4,25,4,30]]}
[null,null,null,null,null,null,null,null,null,null,null,null,null,null,null,null,null,null,null,null,"Recorded Classified Counts"]
["Year","WiM site ID & Lane",null,null,null,null,null,null,null,null,null,null,null,null,null,null,null,null,null,null,"Class 3","Class 4","Class 5","Class 6","Class 7","Class 8","Class 9","Class 10","Class 11","Class 12"]
[{"$f":"'Presumptive CTLD'!A3","v":"2014-2023"},{"$f":"MID(CELL(\"filename\",A1),FIND(\"]\",CELL(\"filename\",A1))+1,255)","v":"51601-2"},null,null,null,null,null,null,null,null,null,null,null,null,null,null,null,null,null,null,5249,2390,619,739,1622,1810,16323,23728,699,0]
[]
[null,"Class 3",null,null,null,null,null,"Class 4",null,null,null,null,null,"Class 5",null,null,null,null,null,"Class 6",null,null,null,null,null,"Class 7",null,null,null,null,null,"Class 8",null,null,null,null,null,"Class 9",null,null,null,null,null,"Class 10",null,null,null,null,null,"Class 11",null,null,null,null,null,"Class 12"]
["Load (kN)","SAST","SADT","TAST","TADT","TRDT","QADT","SAST","SADT","TAST","TADT","TRDT","QADT","SAST","SADT","TAST","TADT","TRDT","QADT","SAST","SADT","TAST","TADT","TRDT","QADT","SAST","SADT","TAST","TADT","TRDT","QADT","SAST","SADT","TAST","TADT","TRDT","QADT","SAST","SADT","TAST","TADT","TRDT","QADT","SAST","SADT","TAST","TADT","TRDT","QADT","SAST","SADT","TAST","TADT","TRDT","QADT","SAST","SADT","TAST","TADT","TRDT","QADT"]
[10,0,0,0,0,0,0,0,0,0,0,0,0,0,0,0,0,0,0,0,4.781235904375282E-2,0,0,0,0,7.3248861476457802E-3,1.3987431583215082E-2,0,1.1960267585647678E-2,0,0,3.6240390987541635E-4,5.4210336104083844E-4,0,3.6140224069389231E-4,0,0,4.0447813789454173E-5,2.0179191218015981E-5,0,2.0179191218015981E-5,0,0,0,0,0,0,0,0,0,0,0,0,0,0,0,0,0,0,0,0]
[20,2.573670110983544E-2,4.6675557248999806E-3,0,0,0,0,5.0718943142960306E-3,0,0,4.1841004184100416E-4,0,0,0,0,0,1.6182285972269818E-3,0,0,0.1052393857271906,0.12855209742895804,0,0,0,0,0.17233829352933266,0.12000810865599026,0,7.8451246705858499E-2,0,0,8.516491882072286E-3,7.2280448138778456E-3,0,5.782435851102277E-3,1.6263100831225153E-3,0,3.0335860342090628E-4,3.4304625070627167E-4,0,1.2107514730809589E-4,6.0537573654047943E-5,0,1.2703714139065619E-4,0,0,1.2644089941626451E-3,2.2127157397846289E-4,0,0,0,0,2.861230329041488E-4,8.5836909871244631E-4,0,0,0,0,0,0,0]
[30,0.16322234978951397,9.4208420651552674E-2,0,0,0,0,1.7751630100036109E-2,0,0,1.1297071129707114E-2,0,0,0,0,2.4590751012677366E-3,1.2136714479202363E-2,0,0,7.0912375790424573E-2,0.13622011727559766,0,0,0,0,6.5720506269155196E-2,9.5073991485911211E-2,0,0.11433204946280154,0,0,7.6104821073837443E-3,1.2649078424286231E-2,0,6.5052403324900613E-3,3.0719190458980846E-3,0,3.4380641721036042E-3,1.1703930906449269E-3,0,6.6591331019452736E-4,1.4529017676971508E-3,0,2.6360206838561156E-3,4.214696647208817E-5,0,7.6180641898299373E-3,1.5910479843213284E-3,0,3.1518754213737195E-3,0,0,4.2918454935622317E-3,1.3161659513590844E-2,0,0,0,0,0,0,0]
[40,0.1386337543053961,0.11783196799390359,0,0,0,0,5.346621922987066E-2,0,0,4.1422594142259413E-2,0,0,0,0,4.0984585021128948E-3,2.1036971763950762E-2,8.0775444264943462E-4,0,7.3170731707317069E-2,7.307171853856563E-2,0,0,0,0,3.2555049545092356E-2,3.324548956010541E-2,0,5.3517129535779445E-2,0,0,3.4971977302977679E-2,6.8666425731839535E-3,0,1.4636790748102639E-2,3.4333212865919767E-3,0,2.0365474242990175E-2,9.6860117846476709E-4,4.0358382436031962E-5,1.8968439744935022E-3,6.7398498668173375E-3,0,1.2502571998530413E-2,9.4830674562198388E-5,0,1.1853834320274799E-2,9.6516553221081911E-3,0,6.0172167135316458E-3,0,0,1.7453505007153074E-2,7.181688125894134E-2,0,0,0,0,0,0,0]
[50,8.9934940681209344E-2,0.1029719946656506,0,0,0,0,0.12869931822526176,4.1841004184100416E-4,0,4.895397489539749E-2,0,0,0,0,2.2131675911409632E-2,3.5601029138993601E-2,8.0775444264943462E-4,0,4.6522131887985547E-2,7.532701849345963E-2,0,0,0,0,1.7498339130487144E-2,2.473140077032232E-2,0,1.6825461179809445E-2,0,0,8.0272466037404733E-2,7.9508492952656308E-3,0,3.379110950487893E-2,2.1684134441633538E-3,0,8.1401225251276521E-2,1.0089595609007991E-3,4.0358382436031962E-5,7.5671967067559931E-3,1.2995399144402292E-2,0,5.4054303661724201E-2,6.3220449708132259E-5,0,1.3107706572819421E-2,1.7786019851221208E-2,0,4.1260914607074144E-2,0,0,4.2918454935622317E-2,0.11702432045779686,0,0,0,0,0,0,0]
[60,5.0516647531572902E-2,6.2488092970089539E-2,0,0,0,0,0.13313722575027082,0,0,5.1882845188284517E-2,0,0,0,0,3.8525509919861207E-2,4.4501286423742001E-2,1.6155088852988692E-3,0,1.9873532068654019E-2,7.1718538565629222E-2,0,0,0,0,1.5463648533918869E-2,1.844719237786337E-2,0,7.2977903912426513E-3,0,0,8.1178475812093268E-2,7.2280448138778456E-3,0,5.8005059631369711E-2,2.8912179255511385E-3,0,8.8722279547167715E-2,1.4730809589151668E-3,1.0089595609007991E-4,1.6062636209540723E-2,1.9412381951731374E-2,0,6.8642402064751223E-2,6.3220449708132259E-5,0,1.6268729058226034E-2,2.1231534360314417E-2,0,4.7564665449821582E-2,0,0,4.2918454935622317E-2,8.7553648068669526E-2,0,0,0,0,0,0,0]
[70,2.1335629544584768E-2,4.1245951609830446E-2,0,0,0,0,9.3196058025189557E-2,0,0,6.4644351464435146E-2,0,0,0,0,5.0820885426199891E-2,4.2073943527901524E-2,8.0775444264943462E-4,0,1.1291779584462511E-2,5.4578258908434825E-2,0,0,0,0,1.2411612639066462E-2,1.9663490776403812E-2,0,8.1086559902696122E-3,0,0,6.9762752651017654E-2,6.3245392121431153E-3,0,6.5594506685941453E-2,1.0842067220816769E-3,0,7.9843984420382527E-2,1.6546936798773105E-3,8.0716764872063924E-5,2.3407861812898539E-2,2.1793526515457261E-2,2.0179191218015981E-5,5.8511190038846389E-2,4.214696647208817E-5,2.2829606839047756E-5,1.77333361431311E-2,2.0799527953975511E-2,0,5.2149211517274273E-2,0,0,4.7496423462088697E-2,3.7195994277539342E-2,0,0,0,0,0,0,0]
[80,8.1324148488327603E-3,2.9624690417222328E-2,0,0,0,0,5.0718943142960306E-2,0,0,4.7698744769874478E-2,0,0,8.0775444264943462E-4,0,7.8690403240567572E-2,5.6638000902944366E-2,1.6155088852988692E-3,0,4.9683830171635048E-3,3.8791159224176815E-2,0,0,0,0,4.0693811931365445E-3,1.1149401986620717E-2,0,5.6760591931887287E-3,0,0,3.7146400762230178E-2,3.2526201662450307E-3,0,6.9931333574268159E-2,9.035056017347307E-4,0,4.3966773589136685E-2,1.6345144886592946E-3,1.4125433852611187E-4,2.6656711598999114E-2,2.3730728872386794E-2,0,4.0450743104474773E-2,2.1073483236044085E-5,4.5659213678095513E-5,1.8502518281246709E-2,2.0957579078245844E-2,0,3.6962902668837262E-2,0,2.861230329041488E-4,5.3791130185979974E-2,2.2317596566523604E-2,0,0,0,0,0,0,0]
[90,2.4875621890547263E-3,1.8765479138883597E-2,0,0,0,0,1.7540301170273772E-2,0,0,4.0167364016736401E-2,0,0,0,0,9.0166087046483684E-2,5.9065343798784836E-2,2.4232633279483036E-3,0,1.3550135501355014E-3,2.0297699594046009E-2,0,0,0,0,1.4242834175977905E-3,9.9331035880802759E-3,0,2.8380295965943643E-3,0,0,7.0668762425706196E-3,2.7105168052041924E-3,1.8070112034694616E-4,6.252258764004337E-2,1.0842067220816769E-3,0,1.047598377146863E-2,1.3318266203890547E-3,1.0089595609007991E-4,2.9320364839777222E-2,2.2318185487125677E-2,0,1.2269670572647542E-2,0,3.4244410258571641E-5,1.9766927275409352E-2,1.8955598170821656E-2,0,1.2320967556279084E-2,0,2.861230329041488E-4,2.5178826895565092E-2,1.0014306151645207E-2,0,0,0,0,0,0,0]
[100,null,1.2383311106877501E-2,0,0,0,0,null,0,2.0920502092050208E-4,3.7238493723849374E-2,0,0,null,0,7.8690403240567572E-2,3.9646600632061053E-2,2.4232633279483036E-3,0,null,9.4722598105548041E-3,0,0,0,0,null,5.4733427934319885E-3,0,3.6488951956213257E-3,0,0,null,3.6140224069389231E-4,0,5.4210336104083844E-2,3.6140224069389231E-4,0,null,1.0291387521188151E-3,4.0358382436031962E-5,2.8694809912018726E-2,1.9977399305835822E-2,0,null,0,1.0273323077571492E-4,2.0356984806018587E-2,1.9103112553473963E-2,0,null,0,0,1.2589413447782546E-2,1.7167381974248926E-3,0,null,0,0,0,0,0]
[110,null,8.001524099828539E-3,0,0,0,0,null,0,2.0920502092050208E-4,2.8451882845188285E-2,0,0,null,0,5.6558727329157947E-2,3.4791914840380106E-2,0,0,null,4.9616599007668016E-3,0,0,0,0,null,2.027163997567403E-3,0,2.4325967970808839E-3,0,0,null,3.6140224069389231E-4,0,5.1499819298879652E-2,3.6140224069389231E-4,0,null,7.264508838485754E-4,8.0716764872063924E-5,2.8815885059326821E-2,1.8060376140124304E-2,2.0179191218015981E-5,null,0,9.1318427356191026E-5,2.0810064695593534E-2,1.9608876151139022E-2,0,null,0,0,6.5808297567954222E-3,1.4306151645207439E-3,0,null,0,0,0,0,0]
[120,null,4.286530767765289E-3,0,0,0,0,null,0,0,2.4058577405857741E-2,0,0,null,0,3.7705818219438629E-2,2.9128114750085671E-2,0,0,null,2.7063599458728013E-3,0,0,0,0,null,1.216298398540442E-3,0,1.4190147982971822E-3,0,0,null,7.2280448138778463E-4,0,3.9754246476328151E-2,3.6140224069389231E-4,0,null,3.8340463314230367E-4,6.0537573654047943E-5,2.94212607958673E-2,1.5921381871014609E-2,2.0179191218015981E-5,null,0,1.3697764103428657E-4,2.3064927401850253E-2,2.0061956040713969E-2,0,null,0,0,8.8698140200286126E-3,1.7167381974248926E-3,0,null,0,0,0,0,0]
[130,null,2.190893503524481E-3,0,0,0,0,null,0,0,2.3640167364016737E-2,0,0,null,0,1.6393834008451579E-2,1.5373171673656327E-2,0,0,null,1.8042399639152007E-3,0,0,0,0,null,6.0814919927022098E-4,0,1.6217311980539226E-3,0,0,null,0,0,2.9996385977593062E-2,0,0,null,3.0268786827023972E-4,1.0089595609007991E-4,2.9966098958753733E-2,1.5981919444668657E-2,2.0179191218015981E-5,null,0,9.1318427356191026E-5,2.5572671906939497E-2,1.9587802667902977E-2,0,null,0,0,2.5751072961373391E-3,2.5751072961373391E-3,0,null,0,0,0,0,0]
[140,null,8.573061535530577E-4,0,0,0,0,null,0,0,1.9874476987447699E-2,0,0,null,0,8.1969170042257896E-3,1.9418743166723783E-2,0,0,null,4.5105999097880018E-4,0,0,0,0,null,4.0543279951348065E-4,0,1.6217311980539226E-3,0,0,null,0,0,2.6201662450307191E-2,1.8070112034694616E-4,0,null,4.0358382436031962E-5,4.0358382436031962E-5,2.5627572846880296E-2,1.6304786504156912E-2,2.0179191218015981E-5,null,0,6.8488820517143283E-5,2.4129138305270477E-2,2.1178850652224305E-2,0,null,0,0,6.5808297567954222E-3,5.1502145922746783E-3,0,null,0,0,0,0,0]
[150,null,9.5256239283673087E-5,0,0,0,0,null,0,0,1.6527196652719664E-2,0,0,null,0,8.1969170042257896E-3,1.2136714479202363E-2,1.6155088852988692E-3,0,null,9.0211998195760036E-4,0,0,0,0,null,0,0,1.0135819987837015E-3,0,0,null,1.8070112034694616E-4,0,2.3129743404409108E-2,1.8070112034694616E-4,0,null,2.0179191218015981E-5,0,2.0764387763338447E-2,1.5255468560820083E-2,1.2107514730809589E-4,null,0,1.2556283761476267E-4,2.3581227741133332E-2,2.2169304364318378E-2,0,null,0,0,1.0872675250357653E-2,2.5751072961373391E-3,0,null,0,0,0,0,0]
[160,null,1.9051247856734617E-4,0,0,0,0,null,0,0,1.0460251046025104E-2,0,0,null,0,4.0984585021128948E-3,9.7093715833618914E-3,0,0,null,0,0,0,0,0,null,0,0,8.108655990269613E-4,0,0,null,0,0,1.4636790748102639E-2,0,0,null,0,0,1.7535717168455887E-2,1.4750988780369683E-2,6.0537573654047943E-5,null,0,5.7074017097619405E-5,2.01251764904221E-2,2.3096537626704317E-2,0,null,0,0,1.2875536480686695E-2,3.7195994277539344E-3,0,null,0,0,0,0,0]
[170,null,1.9051247856734617E-4,0,0,0,0,null,0,0,1.1297071129707114E-2,0,0,null,0,2.4590751012677366E-3,9.7093715833618914E-3,8.0775444264943462E-4,0,null,0,0,0,0,0,null,0,0,8.108655990269613E-4,0,0,null,0,0,1.4094687387061799E-2,1.8070112034694616E-4,0,null,0,0,1.3721850028250868E-2,1.4771167971587699E-2,2.0179191218015981E-5,null,0,4.5659213678095513E-5,1.7901924009019451E-2,2.0546646155142984E-2,0,null,0,0,1.1158798283261802E-2,5.4363376251788265E-3,0,null,0,0,0,0,0]
[180,null,0,null,0,0,0,null,0,null,7.7405857740585771E-3,0,0,null,0,null,4.8546857916809457E-3,0,0,null,0,null,0,0,0,null,0,null,8.108655990269613E-4,0,0,null,0,null,1.0661366100469824E-2,5.4210336104083844E-4,0,null,0,null,1.3277907821454516E-2,1.2006618774719509E-2,1.2107514730809589E-4,null,0,null,1.6121214675573727E-2,1.944028828525067E-2,0,null,0,null,1.0300429184549357E-2,6.0085836909871248E-3,0,null,0,null,0,0,0]
[190,null,null,null,0,0,0,null,null,null,4.3933054393305443E-3,0,0,null,null,null,9.7093715833618914E-3,8.0775444264943462E-4,0,null,null,null,0,0,0,null,null,null,6.0814919927022098E-4,0,0,null,null,null,8.1315504156125769E-3,1.8070112034694616E-4,0,null,null,null,1.089676325772863E-2,1.0170312373880054E-2,6.0537573654047943E-5,null,null,null,1.4466946241544265E-2,1.7164352095757909E-2,0,null,null,null,1.3447782546494993E-2,5.7224606580829757E-3,0,null,null,null,0,0,0]
[200,null,null,null,0,0,0,null,null,null,4.6025104602510462E-3,0,0,null,null,null,7.2820286875214177E-3,0,0,null,null,null,0,0,0,null,null,null,2.0271639975674033E-4,0,0,null,null,null,4.6982291290205997E-3,0,0,null,null,null,7.0021793526515459E-3,9.3429655339413997E-3,0,null,null,null,9.7359492550523671E-3,1.5678671527616799E-2,0,null,null,null,1.0586552217453506E-2,6.5808297567954222E-3,0,null,null,null,0,0,0]
[210,null,null,null,0,0,0,null,null,null,1.6736401673640166E-3,0,0,null,null,null,4.8546857916809457E-3,0,0,null,null,null,0,0,0,null,null,null,2.0271639975674033E-4,0,0,null,null,null,1.6263100831225153E-3,0,0,null,null,null,4.6008555977076438E-3,8.5761562676567923E-3,1.8161272096214385E-4,null,null,null,6.7751248603881735E-3,1.4709291298758772E-2,0,null,null,null,6.8669527896995704E-3,6.2947067238912731E-3,0,null,null,null,0,0,0]
[220,null,null,null,0,0,0,null,null,null,1.6736401673640166E-3,0,0,null,null,null,4.0455714930674545E-3,8.0775444264943462E-4,0,null,null,null,0,0,0,null,null,null,4.0543279951348065E-4,0,0,null,null,null,9.035056017347307E-4,0,0,null,null,null,2.6232948583420775E-3,8.0716764872063931E-3,4.0358382436031962E-5,null,null,null,4.0250352980844206E-3,1.3992792868733273E-2,0,null,null,null,2.8612303290414878E-3,8.2975679542203144E-3,0,null,null,null,0,0,0]
[230,null,null,null,0,0,0,null,null,null,8.3682008368200832E-4,0,0,null,null,null,2.4273428958404729E-3,0,0,null,null,null,0,0,0,null,null,null,0,0,0,null,null,null,5.4210336104083844E-4,0,0,null,null,null,1.3721850028250867E-3,7.2241504560497218E-3,1.4125433852611187E-4,null,null,null,1.8860767496259457E-3,1.2644089941626451E-2,0,null,null,null,8.5836909871244631E-4,9.1559370529327617E-3,0,null,null,null,0,0,0]
[240,null,null,null,0,0,0,null,null,null,2.0920502092050208E-4,0,0,null,null,null,0,3.2310177705977385E-3,0,null,null,null,0,0,0,null,null,null,0,0,0,null,null,null,1.8070112034694616E-4,0,0,null,null,null,7.4663007506659137E-4,5.7914278795705865E-3,1.4125433852611187E-4,null,null,null,8.007923629696753E-4,1.2064569152635238E-2,0,null,null,null,8.5836909871244631E-4,9.7281831187410583E-3,0,null,null,null,0,0,0]
[250,null,null,null,0,0,0,null,null,null,0,0,0,null,null,null,2.4273428958404729E-3,0,0,null,null,null,0,0,0,null,null,null,4.0543279951348065E-4,0,0,null,null,null,3.6140224069389231E-4,0,0,null,null,null,2.219711033981758E-4,5.0649769957220115E-3,1.6143352974412785E-4,null,null,null,3.4771247339472741E-4,1.0715866225528418E-2,0,null,null,null,2.861230329041488E-4,6.5808297567954222E-3,0,null,null,null,0,0,0]
[260,null,null,null,0,0,0,null,null,null,2.0920502092050208E-4,0,0,null,null,null,0,0,0,null,null,null,0,0,0,null,null,null,2.0271639975674033E-4,0,0,null,null,null,1.8070112034694616E-4,0,0,null,null,null,1.0089595609007991E-4,3.6524336104608928E-3,1.6143352974412785E-4,null,null,null,1.3697764103428657E-4,7.89201947189851E-3,0,null,null,null,0,2.2889842632331904E-3,0,null,null,null,0,0,0]
[270,null,null,null,0,0,0,null,null,null,2.0920502092050208E-4,0,0,null,null,null,1.6182285972269818E-3,8.0775444264943462E-4,0,null,null,null,0,0,0,null,null,null,0,0,0,null,null,null,0,0,0,null,null,null,6.0537573654047943E-5,2.1995318427637418E-3,2.6232948583420777E-4,null,null,null,2.1073483236044085E-5,5.4053484500453082E-3,0,null,null,null,0,5.7224606580829761E-4,0,null,null,null,0,0,0]
[280,null,null,null,0,0,0,null,null,null,0,0,0,null,null,null,8.0911429861349091E-4,0,0,null,null,null,0,0,0,null,null,null,0,0,0,null,null,null,0,0,0,null,null,null,0,1.7555896359673904E-3,1.6143352974412785E-4,null,null,null,1.0536741618022043E-5,3.4244410258571639E-3,0,null,null,null,2.861230329041488E-4,1.4306151645207439E-3,0,null,null,null,0,0,0]
[290,null,null,null,0,0,0,null,null,null,0,0,0,null,null,null,0,0,0,null,null,null,0,0,0,null,null,null,0,0,0,null,null,null,0,0,0,null,null,null,0,7.0627169263055942E-4,1.2107514730809589E-4,null,null,null,0,1.9914441658061663E-3,0,null,null,null,2.861230329041488E-4,0,0,null,null,null,0,0,0]
[300,null,null,null,0,0,0,null,null,null,0,0,0,null,null,null,0,0,0,null,null,null,0,0,0,null,null,null,0,0,0,null,null,null,0,0,0,null,null,null,0,4.2376301557833562E-4,1.2107514730809589E-4,null,null,null,0,1.0958211282742925E-3,0,null,null,null,0,0,0,null,null,null,0,0,0]
[310,null,null,null,0,0,0,null,null,null,0,0,0,null,null,null,0,0,0,null,null,null,0,0,0,null,null,null,0,0,0,null,null,null,0,0,0,null,null,null,0,2.4215029461619177E-4,1.4125433852611187E-4,null,null,null,0,5.6898404737319036E-4,0,null,null,null,0,0,0,null,null,null,0,0,0]
[320,null,null,null,0,0,0,null,null,null,0,0,0,null,null,null,0,0,0,null,null,null,0,0,0,null,null,null,0,0,0,null,null,null,0,0,0,null,null,null,0,1.2107514730809589E-4,1.0089595609007991E-4,null,null,null,0,1.4751438265230861E-4,0,null,null,null,0,0,0,null,null,null,0,0,0]
[330,null,null,null,0,0,0,null,null,null,0,0,0,null,null,null,0,0,0,null,null,null,0,0,0,null,null,null,0,0,0,null,null,null,0,0,0,null,null,null,0,0,6.0537573654047943E-5,null,null,null,0,1.2644089941626452E-4,0,null,null,null,0,0,0,null,null,null,0,0,0]
[340,null,null,null,null,0,0,null,null,null,null,0,0,null,null,null,null,0,0,null,null,null,null,0,0,null,null,null,null,0,0,null,null,null,null,0,0,null,null,null,null,2.0179191218015981E-5,6.0537573654047943E-5,null,null,null,null,3.1610224854066129E-5,0,null,null,null,null,0,0,null,null,null,null,0,0]
[350,null,null,null,null,0,0,null,null,null,null,0,0,null,null,null,null,0,0,null,null,null,null,0,0,null,null,null,null,0,0,null,null,null,null,0,0,null,null,null,null,0,2.0179191218015981E-5,null,null,null,null,2.1073483236044085E-5,0,null,null,null,null,0,0,null,null,null,null,0,0]
[360,null,null,null,null,0,0,null,null,null,null,0,0,null,null,null,null,0,0,null,null,null,null,0,0,null,null,null,null,0,0,null,null,null,null,0,0,null,null,null,null,2.0179191218015981E-5,0,null,null,null,null,1.0536741618022043E-5,0,null,null,null,null,0,0,null,null,null,null,0,0]
[370,null,null,null,null,0,0,null,null,null,null,0,0,null,null,null,null,0,0,null,null,null,null,0,0,null,null,null,null,0,0,null,null,null,null,0,0,null,null,null,null,2.0179191218015981E-5,0,null,null,null,null,0,0,null,null,null,null,0,0,null,null,null,null,0,0]
[380,null,null,null,null,0,0,null,null,null,null,0,0,null,null,null,null,0,0,null,null,null,null,0,0,null,null,null,null,0,0,null,null,null,null,0,0,null,null,null,null,0,0,null,null,null,null,0,0,null,null,null,null,0,0,null,null,null,null,0,0]
[390,null,null,null,null,0,0,null,null,null,null,0,0,null,null,null,null,0,0,null,null,null,null,0,0,null,null,null,null,0,0,null,null,null,null,0,0,null,null,null,null,0,0,null,null,null,null,0,0,null,null,null,null,0,0,null,null,null,null,0,0]
[400,null,null,null,null,0,0,null,null,null,null,0,0,null,null,null,null,0,8.0775444264943462E-4,null,null,null,null,0,0,null,null,null,null,0,0,null,null,null,null,0,0,null,null,null,null,2.0179191218015981E-5,0,null,null,null,null,0,0,null,null,null,null,0,0,null,null,null,null,0,0]
[410,null,null,null,null,null,0,null,null,null,null,null,0,null,null,null,null,null,0,null,null,null,null,null,0,null,null,null,null,null,0,null,null,null,null,null,0,null,null,null,null,null,0,null,null,null,null,null,0,null,null,null,null,null,0,null,null,null,null,null,0]
[420,null,null,null,null,null,0,null,null,null,null,null,0,null,null,null,null,null,0,null,null,null,null,null,0,null,null,null,null,null,0,null,null,null,null,null,0,null,null,null,null,null,0,null,null,null,null,null,0,null,null,null,null,null,0,null,null,null,null,null,0]
[430,null,null,null,null,null,0,null,null,null,null,null,0,null,null,null,null,null,0,null,null,null,null,null,0,null,null,null,null,null,0,null,null,null,null,null,0,null,null,null,null,null,2.0179191218015981E-5,null,null,null,null,null,0,null,null,null,null,null,0,null,null,null,null,null,0]
[440,null,null,null,null,null,0,null,null,null,null,null,0,null,null,null,null,null,0,null,null,null,null,null,0,null,null,null,null,null,0,null,null,null,null,null,0,null,null,null,null,null,0,null,null,null,null,null,0,null,null,null,null,null,0,null,null,null,null,null,0]
[450,null,null,null,null,null,0,null,null,null,null,null,0,null,null,null,null,null,0,null,null,null,null,null,0,null,null,null,null,null,0,null,null,null,null,null,0,null,null,null,null,null,0,null,null,null,null,null,0,null,null,null,null,null,0,null,null,null,null,null,0]
[460,null,null,null,null,null,0,null,null,null,null,null,0,null,null,null,null,null,0,null,null,null,null,null,0,null,null,null,null,null,0,null,null,null,null,null,0,null,null,null,null,null,0,null,null,null,null,null,0,null,null,null,null,null,0,null,null,null,null,null,0]
[470,null,null,null,null,null,0,null,null,null,null,null,0,null,null,null,null,null,0,null,null,null,null,null,0,null,null,null,null,null,0,null,null,null,null,null,0,null,null,null,null,null,0,null,null,null,null,null,0,null,null,null,null,null,0,null,null,null,null,null,0]
[480,null,null,null,null,null,0,null,null,null,null,null,0,null,null,null,null,null,0,null,null,null,null,null,0,null,null,null,null,null,0,null,null,null,null,null,0,null,null,null,null,null,0,null,null,null,null,null,0,null,null,null,null,null,0,null,null,null,null,null,0]
[490]
[500]

{"sheet":"70164-1","index":16,"n_rows":56,"n_cols":61,"rows_kept":56,"cut":false,"hidden":true,"merged":[[0,20,0,29],[4,37,4,42],[4,43,4,48],[4,49,4,54],[4,55,4,60],[4,31,4,36],[4,1,4,6],[4,7,4,12],[4,13,4,18],[4,19,4,24],[4,25,4,30]]}
[null,null,null,null,null,null,null,null,null,null,null,null,null,null,null,null,null,null,null,null,"Recorded Classified Counts"]
["Year","WiM site ID & Lane",null,null,null,null,null,null,null,null,null,null,null,null,null,null,null,null,null,null,"Class 3","Class 4","Class 5","Class 6","Class 7","Class 8","Class 9","Class 10","Class 11","Class 12"]
[{"$f":"'Presumptive CTLD'!A3","v":"2014-2023"},{"$f":"MID(CELL(\"filename\",A1),FIND(\"]\",CELL(\"filename\",A1))+1,255)","v":"70164-1"},null,null,null,null,null,null,null,null,null,null,null,null,null,null,null,null,null,null,8096,3297,1420,2478,6917,1111,5226,4677,11359,15750]
[]
[null,"Class 3",null,null,null,null,null,"Class 4",null,null,null,null,null,"Class 5",null,null,null,null,null,"Class 6",null,null,null,null,null,"Class 7",null,null,null,null,null,"Class 8",null,null,null,null,null,"Class 9",null,null,null,null,null,"Class 10",null,null,null,null,null,"Class 11",null,null,null,null,null,"Class 12"]
["Load (kN)","SAST","SADT","TAST","TADT","TRDT","QADT","SAST","SADT","TAST","TADT","TRDT","QADT","SAST","SADT","TAST","TADT","TRDT","QADT","SAST","SADT","TAST","TADT","TRDT","QADT","SAST","SADT","TAST","TADT","TRDT","QADT","SAST","SADT","TAST","TADT","TRDT","QADT","SAST","SADT","TAST","TADT","TRDT","QADT","SAST","SADT","TAST","TADT","TRDT","QADT","SAST","SADT","TAST","TADT","TRDT","QADT","SAST","SADT","TAST","TADT","TRDT","QADT"]
[10,6.1850569025235038E-5,0,0,0,0,0,3.0581423271701358E-4,0,0,0,0,0,0,0,0,0,0,0,5.3806833467850415E-4,5.8111380145278453E-2,0,0,0,0,7.9719267017172731E-4,3.5160095635460131E-2,0,6.3756973418967701E-3,0,0,2.9212297136825441E-4,5.5152394775036286E-3,0,1.1611030478955006E-3,5.8055152394775032E-4,0,1.2549187290456063E-4,0,0,1.2508599662267809E-4,0,0,5.389014412609306E-5,0,0,0,0,0,2.0444800206639781E-4,0,0,0,0,0,1.8182676521235402E-4,0,0,0,0,0]
[20,6.4448292924294895E-2,2.3468379446640315E-3,0,0,0,0,7.4924487015668338E-3,0,0,0,0,0,0,0,0,0,0,0,0.24670433145009416,0.23876782351358622,0,0,0,0,0.21857147268649535,0.10852749519478692,0,5.930336130514275E-2,0,0,2.5998944451774638E-2,6.6763425253991288E-3,0,5.8055152394775036E-3,4.6444121915820025E-3,0,8.1569717387964407E-4,2.5017199324535618E-4,0,5.6288698480205139E-4,0,0,6.4668172951311677E-4,1.0722135849461212E-4,0,2.6805339623653033E-4,5.3618206722628626E-5,0,6.3038133970472654E-4,8.493146031152859E-5,0,1.3589033649844575E-4,0,0,5.5457163389767969E-4,1.8135325801128018E-5,0,9.0676629005640089E-6,0,0]
[30,0.18177882236516577,0.15248270750988141,0,0,0,0,7.7982629342838467E-3,0,0,2.5781013042159538E-3,0,0,0,0,3.59982533992709E-4,0,0,0,3.9413505515200432E-2,0.24562819478073716,0,0,0,0,5.3365015215025041E-2,0.13778069476348975,0,0.14837560358164173,0,0,2.2201345823987334E-2,1.8867924528301886E-2,0,2.4383164005805515E-2,7.5471698113207548E-3,0,3.3255346319708569E-3,3.0646069172556131E-3,6.2767973125408614E-5,9.3814497467008566E-4,5.0034398649071235E-4,6.2542998311339044E-5,2.478946629800281E-3,5.3610679247306062E-5,0,4.878571811504852E-3,3.2170924033577178E-4,0,1.6696586835422487E-3,2.3780808887228006E-4,0,7.8136943486606305E-4,1.8684921268536292E-4,0,1.272787356486478E-3,0,0,4.443154821276364E-4,3.355035273208683E-4,0]
[40,0.10118753092528451,0.11635375494071146,0,0,0,0,1.8195946846662311E-2,1.5165301789505612E-4,0,1.1373976342129208E-2,0,0,0,0,1.439930135970836E-3,1.7635373049105442E-3,0,0,2.3809523809523808E-2,4.6946462200699486E-2,0,0,0,0,1.5943853403434547E-2,3.5347616145515917E-2,0,5.3255824855843605E-2,0,0,1.9864362053041301E-2,1.625544267053701E-2,0,3.0478955007256895E-2,1.2772133526850507E-2,0,7.9059879929873206E-3,5.6914128463318534E-3,6.2767973125408614E-5,3.1896929138782912E-3,9.3814497467008566E-4,0,6.3051468627528884E-3,1.0722135849461212E-4,0,7.6127164531174614E-3,8.5789130756205802E-4,0,5.9289920599255369E-3,3.567121333084201E-4,0,2.4120534728474122E-3,1.1210952761121775E-3,0,4.7456785720424392E-3,5.440597740338405E-5,0,1.6140439963003934E-3,9.3396927875809288E-4,0]
[50,8.6095992083127168E-2,6.5402667984189727E-2,0,0,0,0,8.1346585902725629E-2,0,0,1.6833484986351229E-2,0,0,0,0,3.5998253399270896E-3,3.8797820708031975E-3,3.5211267605633805E-4,0,1.2510088781275222E-2,3.5243475921442023E-2,0,0,0,0,1.2192358484979359E-2,1.2985795321363274E-2,0,8.9541043551638454E-3,0,0,3.3886264678717505E-2,2.0319303338171262E-2,0,1.3062409288824383E-2,8.708272859216255E-3,0,2.334148836024828E-2,5.4412408530864972E-3,1.2553594625081723E-4,5.3786978547751578E-3,2.6268059290762398E-3,0,1.2610293725505777E-2,4.288854339784485E-4,5.3610679247306062E-5,5.2002358869886883E-3,3.1098559899124605E-3,0,1.0801669442508018E-2,8.493146031152859E-5,1.6986292062305719E-5,5.7923255932462499E-3,6.420818399551562E-3,0,6.309388752868684E-3,5.440597740338405E-5,0,2.7656371846720225E-3,2.974193431384995E-3,0]
[60,4.5583869371598217E-2,4.7801383399209488E-2,0,0,0,0,0.17247922725239567,3.0330603579011223E-4,0,2.6994237185319989E-2,0,0,0,0,9.3595458838104332E-3,1.5871835744194901E-2,3.1690140845070424E-3,0,8.7436104385256921E-3,1.8159806295399514E-2,0,0,0,0,1.3927424884764885E-2,1.3876517744128264E-2,0,2.953448033378651E-3,0,0,0.10019817917931126,1.9448476052249638E-2,0,1.6835994194484762E-2,2.6124818577648768E-3,0,0.11739764710221648,4.3154668834823945E-3,2.5107189250163446E-4,5.5663268497091753E-3,7.6302457939833633E-3,0,9.1505464726106017E-2,5.3610679247306062E-5,0,7.8271591701066859E-3,6.1124755663796637E-3,0,7.1590875390250303E-2,8.493146031152859E-5,3.3972584124611439E-5,9.5632824310781205E-3,1.3707937694280716E-2,0,4.6574925909144478E-2,0,0,1.106254873868809E-2,4.8874703034040004E-3,0]
[70,1.5277090549233053E-2,3.77346837944664E-2,0,0,0,0,0.15367165194029936,1.5165301789505612E-4,0,2.8662420382165606E-2,0,0,3.5211267605633805E-4,0,2.2678899641540667E-2,1.7282665588123337E-2,3.5211267605633804E-3,0,1.2106537530266344E-3,9.5507129405434498E-3,0,0,0,0,7.7374582693138239E-3,1.0594908818151985E-2,0,3.5628896910599598E-3,0,0,9.5232088666050929E-2,9.8693759071117569E-3,0,2.3222060957910014E-2,3.4833091436865023E-3,0,0.1323311799778592,3.0646069172556131E-3,2.5107189250163446E-4,1.0006879729814247E-2,1.6448808555882169E-2,0,0.1148937872768304,1.608320377419182E-4,5.3610679247306062E-5,1.1955181472149252E-2,1.0777259551248355E-2,0,8.6106683536964546E-2,1.6986292062305719E-5,1.6986292062305719E-5,1.7852592957483312E-2,1.2960540843539264E-2,0,7.210340374495898E-2,9.0676629005640089E-6,0,2.6976297129177925E-2,8.8953773054532923E-3,0]
[80,4.5150915388421572E-3,2.6494565217391304E-2,0,0,0,0,4.449597086032548E-2,0,1.5165301789505612E-4,3.2453745829542011E-2,0,0,3.5211267605633805E-4,0,5.3997380098906339E-2,1.3755590978302246E-2,7.7464788732394367E-3,0,4.0355125100887811E-4,7.2639225181598066E-3,0,0,0,0,1.4537042809013852E-3,9.9385870329567298E-3,0,3.5160095635460129E-3,0,0,1.8695870167568282E-2,6.0957910014513787E-3,0,2.7285921625544267E-2,1.1611030478955006E-3,0,2.1835585885393551E-2,2.6268059290762398E-3,1.1925914893827635E-3,2.0138845456251171E-2,2.0076302457939833E-2,0,1.8107088426367268E-2,1.0722135849461212E-4,1.0722135849461212E-4,1.8334852302578673E-2,1.2493042166372471E-2,0,1.4294322811142315E-2,5.0958876186917158E-5,0,2.2676699903178135E-2,1.8718893852660904E-2,0,1.0182298851891824E-2,9.0676629005640089E-6,9.0676629005640089E-6,5.0289258446527992E-2,2.0220888268257738E-2,0]
[90,1.0514596734289955E-3,2.3962450592885376E-2,0,0,0,0,1.34558262395486E-2,1.5165301789505612E-4,0,3.8368213527449194E-2,0,0,0,0,7.7396244808432421E-2,1.4461005900266465E-2,2.2535211267605635E-2,0,0,2.4213075060532689E-3,0,0,0,0,2.8136211888413909E-4,6.9851389995780793E-3,0,3.8441704561436407E-3,0,0,4.9660905132603251E-3,4.3541364296081275E-3,2.9027576197387516E-4,3.4252539912917268E-2,8.7082728592162558E-4,0,2.3215996487343715E-3,1.7512039527174932E-3,3.8288463606499252E-3,2.5830258302583026E-2,2.0639189442741884E-2,0,1.5089240355306056E-3,5.3610679247306062E-5,5.3610679247306065E-4,2.7073393019889563E-2,3.168836017307352E-2,0,1.5503973490035169E-3,3.3972584124611439E-5,1.6986292062305719E-5,2.5054780791900936E-2,4.3077236670007304E-2,0,8.3640311997682849E-4,9.0676629005640089E-6,9.0676629005640089E-6,3.7340635824522586E-2,6.3972361763479077E-2,0]
[100,null,1.951581027667984E-2,0,0,0,0,null,0,0,4.3372763117986046E-2,0,0,null,0,6.4796856118687615E-2,1.4813713361248572E-2,5.1408450704225353E-2,0,null,2.4213075060532689E-3,0,0,0,0,null,4.1254512212273216E-3,0,1.9220852280718204E-3,0,0,null,2.9027576197387518E-3,5.8055152394775032E-4,3.3091436865021771E-2,8.7082728592162558E-4,0,null,1.1883169679154418E-3,3.5150064950228823E-3,2.7268747263743825E-2,2.2452936393770717E-2,6.2542998311339044E-5,null,1.0722135849461212E-4,5.8971747172036667E-4,3.1147804642684823E-2,3.6353144157942212E-2,0,null,0,5.0958876186917158E-5,2.4850945287153266E-2,5.3999422466069882E-2,0,null,0,1.8135325801128018E-5,2.4636840100832412E-2,8.0076531074880761E-2,0]
[110,null,5.558300395256917E-3,0,0,0,0,null,0,3.0330603579011223E-4,4.8680618744313009E-2,0,0,null,0,6.7676716390629277E-2,1.6929958127141227E-2,3.732394366197183E-2,0,null,9.4161958568738226E-4,0,0,0,0,null,2.0627256106136608E-3,0,1.2188833153626178E-3,0,0,null,2.9027576197387516E-4,0,4.0058055152394773E-2,5.8055152394775032E-4,0,null,2.5017199324535618E-4,3.0756306831450221E-3,3.1646757145537559E-2,1.976358746638314E-2,2.5017199324535618E-4,null,5.3610679247306062E-5,3.7527475473114242E-4,2.723422505763148E-2,2.3860101991569741E-2,0,null,0,1.6986292062305719E-5,2.7636697185371404E-2,3.2953406600873099E-2,0,null,0,1.8135325801128018E-5,2.9107197910810467E-2,4.1013039299251014E-2,9.0676629005640089E-6]
[120,null,1.2351778656126482E-3,0,0,0,0,null,0,0,7.2186836518046707E-2,0,0,null,0,6.2276978380738653E-2,1.9398910354015989E-2,2.0774647887323944E-2,0,null,9.4161958568738226E-4,0,0,0,0,null,8.4384229525104304E-4,0,9.8448267779288352E-4,0,0,null,5.8055152394775032E-4,0,4.470246734397678E-2,2.9027576197387516E-4,0,null,1.8762899493401713E-4,3.1383986562704309E-3,2.8894865219838639E-2,1.8450184501845018E-2,6.2542998311339044E-5,null,0,4.8249611322575457E-4,2.3481477510320054E-2,1.6782498704182761E-2,0,null,0,1.6986292062305719E-5,2.8621902124985138E-2,1.8532044639975539E-2,1.6986292062305719E-5,null,0,0,3.6814711376289874E-2,2.1127654558314141E-2,9.0676629005640089E-6]
[130,null,6.1758893280632412E-4,0,0,0,0,null,0,0,6.1722778283287837E-2,0,0,null,0,3.8518131137219858E-2,1.6577250666159119E-2,1.7253521126760565E-2,0,null,1.3451708366962604E-4,0,0,0,0,null,2.8128076508368105E-4,0,7.0320191270920257E-4,0,0,null,0,2.9027576197387516E-4,4.3541364296081277E-2,5.8055152394775032E-4,0,null,6.2542998311339044E-5,1.443663381884398E-3,2.826943523672525E-2,1.9013071486647069E-2,6.2542998311339044E-5,null,0,2.6805339623653033E-4,2.1229828981933201E-2,1.3190078853766642E-2,0,null,0,0,2.8350121451988244E-2,1.2620815002293149E-2,0,null,0,0,3.2770533722638329E-2,1.8960483125079343E-2,0]
[140,null,3.0879446640316206E-4,0,0,0,0,null,0,0,4.6709129511677279E-2,0,0,null,0,3.491830579729277E-2,1.0581223829463266E-2,1.5845070422535211E-2,0,null,0,0,0,0,0,null,9.376025502789367E-5,0,7.5008204022314936E-4,0,0,null,0,0,4.6444121915820029E-2,2.9027576197387516E-4,0,null,0,4.3937581187786028E-4,2.8206892238413911E-2,1.7449496528863594E-2,6.2542998311339044E-5,null,0,1.608320377419182E-4,2.1926767812148178E-2,1.4959479675613386E-2,0,null,0,0,2.931834009953967E-2,1.4472320837084473E-2,0,null,0,0,2.603326018751927E-2,2.1046045592209062E-2,9.0676629005640089E-6]
[150,null,1.8527667984189722E-4,0,0,0,0,null,0,1.5165301789505612E-4,2.4264482863208977E-2,0,0,null,0,2.4478812311504207E-2,8.1122716025885042E-3,1.4436619718309859E-2,0,null,0,0,0,0,0,null,0,0,5.1568140265341521E-4,0,0,null,0,0,4.0638606676342524E-2,0,0,null,0,6.2767973125408614E-5,2.9207580211395336E-2,1.5010319594721371E-2,0,null,0,0,2.6912560982147643E-2,1.3726260920992928E-2,0,null,0,0,3.0592312004212599E-2,1.5168758811639007E-2,1.6986292062305719E-5,null,0,0,2.350338223826191E-2,1.9713099145826155E-2,0]
[160,null,0,0,0,0,0,null,0,0,1.562026084319078E-2,0,0,null,0,2.3038882175533376E-2,1.1639346212409592E-2,9.5070422535211262E-3,0,null,1.3451708366962604E-4,0,0,0,0,null,0,0,2.8128076508368105E-4,0,0,null,0,0,3.6574746008708275E-2,0,0,null,0,0,2.6393145287385077E-2,1.5323034586278067E-2,1.2508599662267809E-4,null,0,0,2.6858950302900336E-2,1.5334807122671788E-2,0,null,0,0,3.1339708854954053E-2,1.6935333186118801E-2,1.6986292062305719E-5,null,0,0,2.0846557008396657E-2,1.879726519286919E-2,0]
[170,null,0,0,0,0,0,null,0,1.5165301789505612E-4,1.1828935395814377E-2,0,0,null,0,1.4759283893701068E-2,1.0933931290445374E-2,1.0915492957746478E-2,0,null,0,0,0,0,0,null,0,0,2.3440063756973418E-4,0,0,null,0,0,2.8156748911465891E-2,0,0,null,0,0,2.6017887297517042E-2,1.2195884670711114E-2,6.2542998311339044E-5,null,0,0,3.0075591057738701E-2,1.5978225603343332E-2,0,null,0,0,2.9437244143975812E-2,1.8566017224100152E-2,1.6986292062305719E-5,null,0,0,1.7672874993199254E-2,2.0311564897263379E-2,0]
[180,null,0,null,0,0,0,null,0,null,8.0376099484379734E-3,0,0,null,0,null,6.3487342976779604E-3,9.8591549295774655E-3,0,null,0,null,0,0,0,null,4.6880127513946835E-5,null,2.3440063756973418E-4,0,0,null,0,null,1.3642960812772133E-2,0,0,null,0,null,2.0514103446119206E-2,1.31340296453812E-2,0,null,0,null,2.900337747279258E-2,1.7104207944518533E-2,0,null,0,null,2.2235056309558188E-2,2.1198892493757539E-2,3.3972584124611439E-5,null,0,null,1.4626140258609746E-2,2.1889338241961518E-2,1.8135325801128018E-5]
[190,null,null,null,0,0,0,null,null,null,3.9429784652714591E-3,0,0,null,null,null,4.937904453749524E-3,1.7605633802816902E-2,0,null,null,null,0,0,0,null,null,null,0,0,0,null,null,null,7.5471698113207548E-3,0,0,null,null,null,1.2946400650447182E-2,1.4572518606541997E-2,6.2542998311339044E-5,null,null,null,2.3106202755588914E-2,1.876637235292002E-2,0,null,null,null,1.5321635440199759E-2,2.4545192030031766E-2,0,null,null,null,9.9290908761175897E-3,2.4500825157323953E-2,9.0676629005640089E-6]
[200,null,null,null,0,0,0,null,null,null,3.1847133757961785E-3,0,0,null,null,null,4.5851969927674157E-3,9.8591549295774655E-3,0,null,null,null,0,0,0,null,null,null,9.376025502789367E-5,0,0,null,null,null,4.6444121915820025E-3,0,0,null,null,null,9.0687347551441609E-3,1.1695540684220402E-2,6.2542998311339044E-5,null,null,null,1.1740738755160027E-2,2.1286428068883565E-2,0,null,null,null,8.73095412002514E-3,2.6957245502879177E-2,1.6986292062305719E-5,null,null,null,5.9121162111677337E-3,2.3584991204366985E-2,0]
[210,null,null,null,0,0,0,null,null,null,1.3648771610555051E-3,0,0,null,null,null,3.8797820708031975E-3,1.5845070422535211E-2,0,null,null,null,0,0,0,null,null,null,0,0,0,null,null,null,2.0319303338171262E-3,0,0,null,null,null,5.1285258615298016E-3,1.1132653699418351E-2,0,null,null,null,4.5569077360210156E-3,2.5951212053752257E-2,0,null,null,null,4.8920521139440469E-3,2.559834213789472E-2,0,null,null,null,3.3550352732086832E-3,2.10369779293085E-2,0]
[220,null,null,null,0,0,0,null,null,null,6.0661207158022447E-4,0,0,null,null,null,2.8216596878568711E-3,7.0422535211267607E-3,0,null,null,null,0,0,0,null,null,null,0,0,0,null,null,null,1.7416545718432512E-3,0,0,null,null,null,2.0013759459628494E-3,9.5690787416348733E-3,1.2508599662267809E-4,null,null,null,2.3588698868814667E-3,2.6380157707533283E-2,0,null,null,null,2.5309575172835523E-3,2.0859166652511422E-2,0,null,null,null,1.4870967156924975E-3,1.5705192143776862E-2,9.0676629005640089E-6]
[230,null,null,null,0,0,0,null,null,null,1.5165301789505612E-4,0,0,null,null,null,2.1162447658926533E-3,7.3943661971830983E-3,0,null,null,null,0,0,0,null,null,null,0,0,0,null,null,null,2.9027576197387516E-4,0,0,null,null,null,1.0632309712927637E-3,7.3800738007380072E-3,6.2542998311339044E-5,null,null,null,1.715541735913794E-3,2.2090701169722997E-2,0,null,null,null,1.4098622411713748E-3,1.4489307129146778E-2,0,null,null,null,7.6168368364737675E-4,1.1234834333798807E-2,9.0676629005640089E-6]
[240,null,null,null,0,0,0,null,null,null,1.5165301789505612E-4,0,0,null,null,null,1.7635373049105442E-3,4.5774647887323943E-3,0,null,null,null,0,0,0,null,null,null,0,0,0,null,null,null,1.1611030478955006E-3,0,0,null,null,null,5.6288698480205139E-4,6.2542998311339044E-3,1.2508599662267809E-4,null,null,null,5.8971747172036667E-4,1.5013097882336015E-2,5.3610679247306062E-5,null,null,null,6.7945168249222872E-4,9.3084880501435336E-3,0,null,null,null,3.8990950472425238E-4,7.335739286556283E-3,1.8135325801128018E-5]
[250,null,null,null,0,0,0,null,null,null,1.5165301789505612E-4,0,0,null,null,null,2.468952226874762E-3,3.1690140845070424E-3,0,null,null,null,0,0,0,null,null,null,0,0,0,null,null,null,0,0,0,null,null,null,1.8762899493401713E-4,4.4405528801050725E-3,1.2508599662267809E-4,null,null,null,3.7527475473114242E-4,9.2759497630147542E-3,0,null,null,null,4.7561617774456011E-4,5.8942433456200842E-3,0,null,null,null,3.4457119022143231E-4,4.0351099907509841E-3,9.0676629005640089E-6]
[260,null,null,null,0,0,0,null,null,null,0,0,0,null,null,null,1.7635373049105442E-3,3.5211267605633805E-4,0,null,null,null,0,0,0,null,null,null,0,0,0,null,null,null,5.8055152394775032E-4,0,0,null,null,null,3.1271499155669522E-4,2.6268059290762398E-3,1.2508599662267809E-4,null,null,null,5.3610679247306062E-5,4.1286019176424047E-3,0,null,null,null,1.8684921268536292E-4,2.955614818841195E-3,0,null,null,null,1.5415026930958815E-4,2.3122540396438222E-3,0]
[270,null,null,null,0,0,0,null,null,null,0,0,0,null,null,null,1.4108298439284355E-3,3.5211267605633805E-4,0,null,null,null,0,0,0,null,null,null,0,0,0,null,null,null,0,0,0,null,null,null,6.2542998311339044E-5,1.375945962849459E-3,0,null,null,null,1.0722135849461212E-4,2.7881467495766885E-3,5.3610679247306062E-5,null,null,null,6.7945168249222877E-5,1.2569856126106232E-3,1.6986292062305719E-5,null,null,null,9.0676629005640092E-5,1.142525525471065E-3,0]
[280,null,null,null,0,0,0,null,null,null,0,0,0,null,null,null,3.5270746098210889E-4,0,0,null,null,null,0,0,0,null,null,null,0,0,0,null,null,null,0,0,0,null,null,null,6.2542998311339044E-5,5.6288698480205139E-4,1.8762899493401713E-4,null,null,null,2.6805339623653033E-4,1.1796005478978298E-3,0,null,null,null,1.6986292062305719E-5,9.5123235548912023E-4,0,null,null,null,9.0676629005640089E-6,6.2566874013891664E-4,0]
[290,null,null,null,0,0,0,null,null,null,0,0,0,null,null,null,0,0,0,null,null,null,0,0,0,null,null,null,0,0,0,null,null,null,0,0,0,null,null,null,1.2508599662267809E-4,5.6288698480205139E-4,1.2508599662267809E-4,null,null,null,0,6.4341848067154357E-4,0,null,null,null,1.6986292062305719E-5,6.4547909836761735E-4,0,null,null,null,2.7202988701692025E-5,3.8084184182368838E-4,9.0676629005640089E-6]
[300,null,null,null,0,0,0,null,null,null,0,0,0,null,null,null,3.5270746098210889E-4,3.5211267605633805E-4,0,null,null,null,0,0,0,null,null,null,0,0,0,null,null,null,0,0,0,null,null,null,0,3.7525798986803426E-4,0,null,null,null,0,1.6085462016788589E-4,0,null,null,null,0,3.9068471743303152E-4,0,null,null,null,1.8135325801128018E-5,2.5389456121579227E-4,9.0676629005640089E-6]
[310,null,null,null,0,0,0,null,null,null,0,0,0,null,null,null,0,0,0,null,null,null,0,0,0,null,null,null,0,0,0,null,null,null,0,0,0,null,null,null,0,2.5017199324535618E-4,6.2542998311339044E-5,null,null,null,5.3610679247306062E-5,3.753274470584004E-4,0,null,null,null,0,2.0383550474766863E-4,0,null,null,null,2.7202988701692025E-5,2.3575923541466423E-4,0]
[320,null,null,null,0,0,0,null,null,null,0,0,0,null,null,null,0,0,0,null,null,null,0,0,0,null,null,null,0,0,0,null,null,null,0,0,0,null,null,null,0,1.8762899493401713E-4,6.2542998311339044E-5,null,null,null,0,5.3618206722628626E-5,5.3610679247306062E-5,null,null,null,0,8.493146031152859E-5,0,null,null,null,0,1.7228559511071615E-4,0]
[330,null,null,null,0,0,0,null,null,null,0,0,0,null,null,null,0,0,0,null,null,null,0,0,0,null,null,null,0,0,0,null,null,null,0,0,0,null,null,null,0,1.2508599662267809E-4,2.5017199324535618E-4,null,null,null,0,3.753274470584004E-4,0,null,null,null,0,1.3589033649844575E-4,0,null,null,null,0,6.3473640303948067E-5,0]
[340,null,null,null,null,0,0,null,null,null,null,0,0,null,null,null,null,0,0,null,null,null,null,0,0,null,null,null,null,0,0,null,null,null,null,0,0,null,null,null,null,6.2542998311339044E-5,6.2542998311339044E-5,null,null,null,null,1.6085462016788589E-4,0,null,null,null,null,1.6986292062305719E-5,0,null,null,null,null,3.6270651602256035E-5,0]
[350,null,null,null,null,0,0,null,null,null,null,0,0,null,null,null,null,0,0,null,null,null,null,0,0,null,null,null,null,0,0,null,null,null,null,0,0,null,null,null,null,1.8762899493401713E-4,0,null,null,null,null,1.0723641344525725E-4,0,null,null,null,null,1.6986292062305719E-5,0,null,null,null,null,4.5338314502820046E-5,0]
[360,null,null,null,null,0,0,null,null,null,null,0,0,null,null,null,null,0,0,null,null,null,null,0,0,null,null,null,null,0,0,null,null,null,null,0,0,null,null,null,null,6.2542998311339044E-5,6.2542998311339044E-5,null,null,null,null,2.144728268905145E-4,0,null,null,null,null,1.6986292062305719E-5,0,null,null,null,null,9.0676629005640089E-6,0]
[370,null,null,null,null,0,0,null,null,null,null,0,0,null,null,null,null,0,0,null,null,null,null,0,0,null,null,null,null,0,0,null,null,null,null,0,0,null,null,null,null,6.2542998311339044E-5,6.2542998311339044E-5,null,null,null,null,1.0723641344525725E-4,0,null,null,null,null,0,0,null,null,null,null,0,0]
[380,null,null,null,null,0,0,null,null,null,null,0,0,null,null,null,null,0,0,null,null,null,null,0,0,null,null,null,null,0,0,null,null,null,null,0,0,null,null,null,null,0,0,null,null,null,null,1.0723641344525725E-4,0,null,null,null,null,0,0,null,null,null,null,2.7202988701692025E-5,0]
[390,null,null,null,null,0,0,null,null,null,null,0,0,null,null,null,null,0,0,null,null,null,null,0,0,null,null,null,null,0,0,null,null,null,null,0,0,null,null,null,null,0,0,null,null,null,null,0,0,null,null,null,null,1.6986292062305719E-5,0,null,null,null,null,0,0]
[400,null,null,null,null,0,0,null,null,null,null,0,0,null,null,null,null,0,0,null,null,null,null,0,0,null,null,null,null,0,0,null,null,null,null,0,0,null,null,null,null,1.2508599662267809E-4,0,null,null,null,null,0,5.3610679247306062E-5,null,null,null,null,0,0,null,null,null,null,0,0]
[410,null,null,null,null,null,0,null,null,null,null,null,0,null,null,null,null,null,0,null,null,null,null,null,0,null,null,null,null,null,0,null,null,null,null,null,0,null,null,null,null,null,0,null,null,null,null,null,0,null,null,null,null,null,0,null,null,null,null,null,0]
[420,null,null,null,null,null,0,null,null,null,null,null,0,null,null,null,null,null,0,null,null,null,null,null,0,null,null,null,null,null,0,null,null,null,null,null,0,null,null,null,null,null,0,null,null,null,null,null,0,null,null,null,null,null,0,null,null,null,null,null,0]
[430,null,null,null,null,null,0,null,null,null,null,null,0,null,null,null,null,null,0,null,null,null,null,null,0,null,null,null,null,null,0,null,null,null,null,null,0,null,null,null,null,null,0,null,null,null,null,null,0,null,null,null,null,null,0,null,null,null,null,null,0]
[440,null,null,null,null,null,0,null,null,null,null,null,0,null,null,null,null,null,0,null,null,null,null,null,0,null,null,null,null,null,0,null,null,null,null,null,0,null,null,null,null,null,0,null,null,null,null,null,0,null,null,null,null,null,0,null,null,null,null,null,0]
[450,null,null,null,null,null,0,null,null,null,null,null,0,null,null,null,null,null,0,null,null,null,null,null,0,null,null,null,null,null,0,null,null,null,null,null,0,null,null,null,null,null,0,null,null,null,null,null,0,null,null,null,null,null,0,null,null,null,null,null,0]
[460,null,null,null,null,null,0,null,null,null,null,null,0,null,null,null,null,null,0,null,null,null,null,null,0,null,null,null,null,null,0,null,null,null,null,null,0,null,null,null,null,null,0,null,null,null,null,null,0,null,null,null,null,null,0,null,null,null,null,null,0]
[470,null,null,null,null,null,0,null,null,null,null,null,0,null,null,null,null,null,0,null,null,null,null,null,0,null,null,null,null,null,0,null,null,null,null,null,0,null,null,null,null,null,0,null,null,null,null,null,0,null,null,null,null,null,0,null,null,null,null,null,0]
[480,null,null,null,null,null,0,null,null,null,null,null,0,null,null,null,null,null,0,null,null,null,null,null,0,null,null,null,null,null,0,null,null,null,null,null,0,null,null,null,null,null,0,null,null,null,null,null,0,null,null,null,null,null,0,null,null,null,null,null,0]
[490]
[500]

{"sheet":"70164-2","index":17,"n_rows":56,"n_cols":61,"rows_kept":56,"cut":false,"hidden":true,"merged":[[0,20,0,29],[4,37,4,42],[4,43,4,48],[4,49,4,54],[4,55,4,60],[4,31,4,36],[4,1,4,6],[4,7,4,12],[4,13,4,18],[4,19,4,24],[4,25,4,30]]}
[null,null,null,null,null,null,null,null,null,null,null,null,null,null,null,null,null,null,null,null,"Recorded Classified Counts"]
["Year","WiM site ID & Lane",null,null,null,null,null,null,null,null,null,null,null,null,null,null,null,null,null,null,"Class 3","Class 4","Class 5","Class 6","Class 7","Class 8","Class 9","Class 10","Class 11","Class 12"]
[{"$f":"'Presumptive CTLD'!A3","v":"2014-2023"},{"$f":"MID(CELL(\"filename\",A1),FIND(\"]\",CELL(\"filename\",A1))+1,255)","v":"70164-2"},null,null,null,null,null,null,null,null,null,null,null,null,null,null,null,null,null,null,6123,3272,1326,1363,5078,1062,5130,4673,12249,14347]
[]
[null,"Class 3",null,null,null,null,null,"Class 4",null,null,null,null,null,"Class 5",null,null,null,null,null,"Class 6",null,null,null,null,null,"Class 7",null,null,null,null,null,"Class 8",null,null,null,null,null,"Class 9",null,null,null,null,null,"Class 10",null,null,null,null,null,"Class 11",null,null,null,null,null,"Class 12"]
["Load (kN)","SAST","SADT","TAST","TADT","TRDT","QADT","SAST","SADT","TAST","TADT","TRDT","QADT","SAST","SADT","TAST","TADT","TRDT","QADT","SAST","SADT","TAST","TADT","TRDT","QADT","SAST","SADT","TAST","TADT","TRDT","QADT","SAST","SADT","TAST","TADT","TRDT","QADT","SAST","SADT","TAST","TADT","TRDT","QADT","SAST","SADT","TAST","TADT","TRDT","QADT","SAST","SADT","TAST","TADT","TRDT","QADT","SAST","SADT","TAST","TADT","TRDT","QADT"]
[10,8.1699346405228753E-5,0,0,0,0,0,0,0,0,0,0,0,0,0,0,0,0,0,1.3450721447786746E-2,5.0623624358033747E-2,0,0,0,0,2.9423177244268257E-2,3.7185609678446356E-2,0,6.6220948742438711E-3,0,0,4.8528965726417957E-3,6.0661207158022442E-3,0,6.0661207158022447E-4,3.0330603579011223E-4,0,1.9116803670426305E-4,1.9116803670426305E-4,0,1.9116803670426305E-4,0,0,5.3613553506326402E-5,1.072271070126528E-4,0,1.072271070126528E-4,0,0,1.2583562721195439E-4,1.5729453401494299E-5,0,4.7188360204482896E-5,0,0,6.9687800935222535E-5,0,0,1.9909412174605545E-5,0,0]
[20,4.9591503267973853E-2,1.796504981218357E-3,0,0,0,0,5.3484107579462106E-3,3.0562347188264059E-4,0,3.0562347188264059E-4,0,0,0,0,0,0,0,0,0.20396184886280264,0.24798239178283199,0,0,0,0,0.19526290353014392,0.15752944921999362,0,5.5842088506844953E-2,0,0,2.1838034576888082E-2,8.4925690021231421E-3,0,1.1828935395814377E-2,7.2793448589626936E-3,0,3.823360734085261E-4,1.0832855413241572E-3,0,8.9211750461989426E-4,6.3722678901421013E-5,0,1.072271070126528E-4,2.1445421402530561E-4,0,1.1258846236328543E-3,1.072271070126528E-4,0,1.7302398741643728E-4,1.5729453401494299E-5,0,2.8313016122689737E-4,1.1010617381046009E-4,0,1.3937560187044507E-4,2.9864118261908317E-5,0,1.1945647304763327E-4,6.9682942611119409E-5,0]
[30,0.19142156862745097,0.11693614241384942,0,0,0,0,2.0782396088019559E-2,3.0562347188264059E-4,0,2.7506112469437654E-3,0,0,0,0,2.2641509433962265E-3,1.1312217194570137E-3,1.1312217194570137E-3,0,5.2824651504035217E-2,0.2306187331865982,0,0,0,0,3.8657724214871937E-2,8.2075772047118759E-2,0,0.15727475326329193,0,0,2.7297543221110099E-2,2.8207461328480437E-2,0,4.0339702760084924E-2,6.369426751592357E-3,0,7.0732173580577325E-3,1.2362199706875677E-2,0,1.5293442936341044E-3,1.5930669725355254E-3,0,4.0210165129744803E-3,3.2168132103795841E-4,0,1.1848595324898134E-2,5.3613553506326396E-4,0,4.8918600078647267E-3,1.7302398741643728E-4,0,5.0176956350766813E-3,2.2807707432166732E-3,0,3.583944048097159E-3,0,0,1.483251207008113E-3,1.3040664974366633E-3,0]
[40,0.125,0.10574881593989874,0,0,0,0,8.6949877750611249E-2,1.5281173594132029E-4,3.0562347188264059E-4,1.4211491442542787E-2,0,0,0,0,1.1320754716981133E-2,1.5082956259426848E-3,3.770739064856712E-3,0,4.3775984348251404E-2,7.7035950110051363E-2,0,0,0,0,2.0188630273664587E-2,2.7188793377905127E-2,0,4.2406876790830945E-2,0,0,4.7012435547467396E-2,1.6985138004246284E-2,0,2.4264482863208977E-2,9.0991810737033659E-3,0,1.7523736697890778E-2,8.5388389727904159E-3,0,6.8820493213534693E-3,4.2056968074937872E-3,0,9.543212524126099E-3,3.2168132103795841E-4,1.072271070126528E-4,1.1098005575809564E-2,3.9674029594681534E-3,0,9.2489186000786466E-3,1.2583562721195439E-4,0,8.3523397561934727E-3,6.0243806527723164E-3,0,9.3082991249190099E-3,9.9547060873027723E-6,0,3.8524712557861727E-3,3.5239659549051814E-3,0]
[50,8.8643790849673207E-2,8.9171974522292988E-2,0,0,0,0,0.19590464547677261,0,0,2.8422982885085574E-2,0,0,0,0,3.3962264150943396E-2,7.1644042232277523E-3,1.2443438914027148E-2,0,1.3939838591342627E-2,2.1276595744680851E-2,0,0,0,0,2.1398674359467823E-2,2.2858962113976439E-2,0,8.6596625278573709E-3,0,0,9.2811646951774338E-2,1.6681831968456171E-2,0,2.6387625113739762E-2,6.6727327873824689E-3,0,7.8888676479959216E-2,3.6321926973809978E-3,6.3722678901421013E-5,6.8820493213534693E-3,1.064168737653731E-2,0,5.07720351704911E-2,5.3613553506326402E-5,1.072271070126528E-4,1.0508256487239975E-2,1.6673815140467511E-2,0,3.0751081399921353E-2,1.2583562721195439E-4,0,2.3075108139992136E-2,2.5937868659064098E-2,0,1.518198520374491E-2,3.9818824349211089E-5,0,1.2722114379572944E-2,8.6207754716042008E-3,0]
[60,3.8807189542483661E-2,6.6634002939735426E-2,0,0,0,0,0.14012836185819072,3.0562347188264059E-4,4.5843520782396088E-4,4.9969437652811734E-2,0,0,0,0,0.08,2.564102564102564E-2,3.4690799396681751E-2,0,4.8911714355588162E-3,1.491807287845439E-2,0,0,0,0,1.4966334745461128E-2,2.2922636103151862E-2,0,4.9028971665074821E-3,0,0,9.7361237488626018E-2,1.364877161055505E-2,0,3.5790112223233243E-2,3.0330603579011221E-3,0,0.14484164914292996,1.5930669725355254E-3,1.9754030459440517E-3,1.9690307780539092E-2,3.7086599120627034E-2,6.3722678901421013E-5,0.12604546429337338,2.6806776753163198E-4,0,2.0641218099935663E-2,3.5384945314175423E-2,0,9.5446323240267403E-2,1.1010617381046009E-4,0,2.7353519465198584E-2,4.7487219819111283E-2,0,6.1962410431546433E-2,6.9682942611119409E-5,9.9547060873027723E-6,2.6051465830471354E-2,2.4976357573042656E-2,0]
[70,5.5555555555555558E-3,5.1363710599379386E-2,0,0,0,0,4.2481662591687043E-2,0,0,7.7017114914425422E-2,0,0,0,0,6.1509433962264146E-2,2.4132730015082957E-2,5.9954751131221722E-2,0,4.8911714355588166E-4,1.1005135730007337E-2,0,0,0,0,2.8658938874287269E-3,1.3053167780961477E-2,0,4.4571792422795284E-3,0,0,2.5781013042159538E-2,7.5826508947528055E-3,3.0330603579011223E-4,3.8216560509554139E-2,1.5165301789505611E-3,0,5.5311285286433441E-2,1.1470082202255784E-3,2.6126298349582618E-3,3.6194481616007135E-2,4.2056968074937869E-2,0,5.3559939952820074E-2,1.608406605189792E-4,3.7529487454428478E-4,3.4366287797555219E-2,3.7958395882479089E-2,0,4.7770349980338182E-2,3.1458906802988597E-5,1.5729453401494299E-5,3.0845458120330318E-2,4.9406213134093588E-2,1.5729453401494299E-5,4.7288150634615285E-2,2.9864118261908317E-5,0,2.6151012891344382E-2,4.0236922004877808E-2,0]
[80,7.3529411764705881E-4,3.2582067613914745E-2,0,0,0,0,6.7237163814180927E-3,0,1.5281173594132029E-4,5.0733496332518335E-2,0,0,0,0,8.8679245283018862E-2,2.2624434389140271E-2,4.4117647058823532E-2,0,0,6.8476400097823428E-3,0,0,0,0,5.7317877748574531E-4,9.0417064629099014E-3,0,4.9028971665074821E-3,0,0,3.3363663936912345E-3,4.246284501061571E-3,3.0330603579011223E-4,4.9742189869578401E-2,1.2132241431604489E-3,0,4.3331421652966287E-3,3.1861339450710508E-4,5.4801503855222075E-3,4.8684126680685655E-2,3.7851271267444087E-2,6.3722678901421013E-5,3.3776538708985633E-3,5.3613553506326402E-5,3.7529487454428478E-4,4.0585460004289087E-2,3.5653013081707055E-2,0,4.0739284309870231E-3,3.1458906802988597E-5,3.1458906802988597E-5,2.9838773102634684E-2,3.6460872984663786E-2,0,5.127031068805658E-3,9.9547060873027723E-6,9.9547060873027723E-6,2.3463242247772634E-2,3.8295754317853765E-2,9.9547060873027723E-6]
[90,1.6339869281045751E-4,2.0659807284011105E-2,0,0,0,0,6.1124694376528117E-4,0,0,3.682762836185819E-2,0,0,0,0,6.7547169811320751E-2,1.9984917043740572E-2,1.7722473604826545E-2,0,0,3.4238200048911714E-3,0,0,0,0,0,5.7306590257879654E-3,0,3.4383954154727794E-3,0,0,9.099181073703367E-4,2.1231422505307855E-3,3.0330603579011223E-4,6.2177737336973009E-2,9.099181073703367E-4,0,1.2744535780284203E-4,2.5489071560568405E-4,5.2889823488179444E-3,4.747339578155866E-2,2.6572357101892565E-2,6.3722678901421013E-5,3.7529487454428478E-4,0,4.2890842805061121E-4,4.1711344627921941E-2,3.1631996568732577E-2,0,7.8647267007471493E-5,0,3.1458906802988597E-5,2.5560361777428233E-2,2.5717656311443179E-2,6.2917813605977194E-5,1.2942020173684185E-4,1.9909412174605545E-5,0,2.1860534567716888E-2,2.6967298790503209E-2,2.9864118261908317E-5]
[100,null,1.1024007839294463E-2,0,0,0,0,null,0,1.5281173594132029E-4,4.3704156479217604E-2,0,0,null,0,3.8867924528301886E-2,2.1870286576168928E-2,6.7873303167420816E-3,0,null,1.7119100024455857E-3,0,0,0,0,null,3.3747214262973575E-3,0,1.4645017510347023E-3,0,0,null,1.8198362147406734E-3,0,6.0357901122232334E-2,9.099181073703367E-4,0,null,0,1.4656216147326834E-3,4.1483463964825079E-2,2.0646147964060408E-2,1.9116803670426305E-4,null,0,6.4336264207591682E-4,3.4902423332618483E-2,2.5412824361998713E-2,1.072271070126528E-4,null,0,3.1458906802988597E-5,2.2634683444750295E-2,1.9001179709005112E-2,1.5729453401494299E-5,null,9.9547060873027723E-6,9.9547060873027723E-6,2.215917575033597E-2,2.0446966303319894E-2,0]
[110,null,3.2663726931242854E-3,0,0,0,0,null,0,0,5.1497555012224937E-2,0,0,null,0,2.4905660377358488E-2,1.4328808446455505E-2,4.9019607843137254E-3,0,null,9.7823428711176332E-4,0,0,0,0,null,1.9102196752626551E-3,0,1.0824578159821714E-3,0,0,null,0,0,5.0348801941158629E-2,0,0,null,0,5.7350411011278918E-4,3.1733894092907666E-2,1.6950232587777989E-2,6.3722678901421013E-5,null,0,3.7529487454428478E-4,3.0666952605618702E-2,1.9729787690328116E-2,0,null,0,0,2.3012190326386159E-2,1.5068816358631538E-2,3.1458906802988597E-5,null,0,0,2.2577273406002688E-2,1.6624359165795629E-2,0]
[120,null,6.5327453862485708E-4,0,0,0,0,null,0,0,5.2414425427872863E-2,0,0,null,0,1.5849056603773583E-2,1.6968325791855202E-2,6.7873303167420816E-3,0,null,2.4455857177794083E-4,0,0,0,0,null,4.4571792422795289E-4,0,8.2776185928048389E-4,0,0,null,0,0,4.3676069153776163E-2,0,0,null,0,2.5489071560568405E-4,2.5998852991779776E-2,1.4465048110622571E-2,4.4605875230994713E-4,null,0,2.1445421402530561E-4,2.2785760240188718E-2,1.1634141110872829E-2,0,null,0,0,2.4254817145104208E-2,1.4392449862367283E-2,3.1458906802988597E-5,null,0,0,2.76541735105271E-2,1.4812602657906525E-2,0]
[130,null,1.6331863465621427E-4,0,0,0,0,null,0,0,3.9272616136919312E-2,0,0,null,0,2.339622641509434E-2,1.2443438914027148E-2,3.3936651583710408E-3,0,null,0,0,0,0,0,null,0,0,6.3673989175421842E-4,0,0,null,0,0,3.3970276008492568E-2,3.0330603579011223E-4,0,null,0,3.1861339450710508E-4,1.9562862422736253E-2,1.1597527560058624E-2,2.5489071560568405E-4,null,0,5.3613553506326402E-5,2.5466437915505041E-2,8.7390092215312038E-3,0,null,0,0,2.6629964608729847E-2,1.244199764058199E-2,1.5729453401494299E-5,null,0,0,3.3019760091583299E-2,1.3627992633517496E-2,0]
[140,null,0,0,0,0,0,null,0,0,2.5061124694376529E-2,0,0,null,0,2.339622641509434E-2,1.2443438914027148E-2,6.41025641025641E-3,0,null,0,0,0,0,0,null,0,0,5.7306590257879652E-4,0,0,null,0,0,2.2747952684258416E-2,0,0,null,0,1.9116803670426305E-4,1.7332568661186515E-2,9.5584018352131532E-3,1.2744535780284203E-4,null,0,0,2.6270641218099935E-2,8.4173279004932447E-3,0,null,0,0,2.7605190719622492E-2,1.1309476995674401E-2,1.5729453401494299E-5,null,0,0,3.6384450749091635E-2,1.4513961475287442E-2,0]
[150,null,0,0,0,0,0,null,0,0,1.05440097799511E-2,0,0,null,0,2.1509433962264152E-2,9.4268476621417793E-3,7.1644042232277523E-3,0,null,0,0,0,0,0,null,0,0,6.3673989175421842E-5,0,0,null,0,0,1.5165301789505611E-2,0,0,null,0,0,1.4528770789523991E-2,8.730007009494679E-3,6.3722678901421013E-5,null,0,0,2.5251983701479734E-2,7.6667381514046755E-3,0,null,0,0,2.5434526150216279E-2,1.2221785292961069E-2,1.5729453401494299E-5,null,0,0,3.3238763625503959E-2,1.7211686824946493E-2,0]
[160,null,0,0,0,0,0,null,0,0,8.0990220048899747E-3,0,0,null,0,5.2830188679245287E-3,5.279034690799397E-3,7.5414781297134239E-3,0,null,0,0,0,0,0,null,0,0,1.2734797835084368E-4,0,0,null,0,0,7.8859569305429183E-3,0,0,null,0,0,1.1342636844452941E-2,8.8574523672975206E-3,1.9116803670426305E-4,null,0,0,2.144542140253056E-2,1.1794981771391808E-2,0,null,0,0,2.1140385371608336E-2,1.661030279197798E-2,0,null,0,0,2.9545567667114629E-2,2.5036085809566472E-2,0]
[170,null,0,0,0,0,0,null,0,0,4.1259168704156478E-3,0,0,null,0,1.5094339622641511E-3,3.3936651583710408E-3,1.1312217194570135E-2,0,null,0,0,0,0,0,null,0,0,6.3673989175421842E-5,0,0,null,0,0,3.9429784652714591E-3,0,0,null,0,0,8.6662843305932574E-3,7.837889504874785E-3,1.2744535780284203E-4,null,0,0,1.6298520265923225E-2,1.6191293158910571E-2,0,null,0,0,1.6264254817145104E-2,2.4286276051907196E-2,1.5729453401494299E-5,null,0,0,2.2477726345129661E-2,3.7180827236075853E-2,0]
[180,null,0,null,0,0,0,null,0,null,2.4449877750611247E-3,0,0,null,0,null,5.279034690799397E-3,1.5460030165912519E-2,0,null,0,null,0,0,0,null,0,null,0,0,0,null,0,null,4.246284501061571E-3,0,0,null,0,null,5.9899318167335753E-3,6.0536544956349969E-3,1.2744535780284203E-4,null,0,null,1.0079348059189364E-2,1.8389448852669955E-2,5.3613553506326402E-5,null,0,null,1.1922925678332677E-2,2.8548957923712152E-2,0,null,0,null,1.5549250908366931E-2,4.4587128565029117E-2,9.9547060873027723E-6]
[190,null,null,null,0,0,0,null,null,null,4.5843520782396088E-4,0,0,null,null,null,2.6395173453996985E-3,1.1312217194570135E-2,0,null,null,null,0,0,0,null,null,null,0,0,0,null,null,null,6.0661207158022447E-4,0,0,null,null,null,2.9949659083667876E-3,7.2643853947619956E-3,1.2744535780284203E-4,null,null,null,5.6294231181642724E-3,1.7049110015011797E-2,0,null,null,null,7.8489972473456543E-3,2.9193865513173416E-2,1.5729453401494299E-5,null,null,null,1.0800856104723509E-2,3.9350953163107862E-2,0]
[200,null,null,null,0,0,0,null,null,null,9.1687041564792176E-4,0,0,null,null,null,2.2624434389140274E-3,1.282051282051282E-2,0,null,null,null,0,0,0,null,null,null,0,0,0,null,null,null,9.099181073703367E-4,0,0,null,null,null,1.8479576881412095E-3,4.7792009176065766E-3,6.3722678901421013E-5,null,null,null,1.9300879262277503E-3,1.4797340767746086E-2,0,null,null,null,4.0424695241840346E-3,2.4899724734565473E-2,0,null,null,null,6.8488377880643074E-3,3.414464187944851E-2,0]
[210,null,null,null,0,0,0,null,null,null,1.5281173594132029E-4,0,0,null,null,null,2.2624434389140274E-3,7.1644042232277523E-3,0,null,null,null,0,0,0,null,null,null,0,0,0,null,null,null,3.0330603579011223E-4,0,0,null,null,null,6.3722678901421016E-4,3.8870834129866821E-3,0,null,null,null,1.1258846236328543E-3,1.1526914003860175E-2,5.3613553506326402E-5,null,null,null,1.9504522217852929E-3,1.6846244593000392E-2,0,null,null,null,3.752924194913145E-3,2.5314817580010949E-2,0]
[220,null,null,null,0,0,0,null,null,null,0,0,0,null,null,null,2.6395173453996985E-3,2.2624434389140274E-3,0,null,null,null,0,0,0,null,null,null,0,0,0,null,null,null,0,0,0,null,null,null,5.7350411011278918E-4,2.8675205505639457E-3,6.3722678901421013E-5,null,null,null,4.2890842805061121E-4,7.7739652584173282E-3,0,null,null,null,1.2898151789225325E-3,1.0774675580023594E-2,0,null,null,null,1.572843561793838E-3,1.4842466776168434E-2,0]
[230,null,null,null,0,0,0,null,null,null,0,0,0,null,null,null,1.5082956259426848E-3,1.5082956259426848E-3,0,null,null,null,0,0,0,null,null,null,0,0,0,null,null,null,9.099181073703367E-4,0,0,null,null,null,1.2744535780284203E-4,2.0391257248454724E-3,1.2744535780284203E-4,null,null,null,1.608406605189792E-4,5.3613553506326401E-3,0,null,null,null,2.6740070782540305E-4,6.449075894612662E-3,0,null,null,null,4.0814294957941365E-4,7.6651236872231346E-3,0]
[240,null,null,null,0,0,0,null,null,null,0,0,0,null,null,null,1.885369532428356E-3,0,0,null,null,null,0,0,0,null,null,null,0,0,0,null,null,null,0,0,0,null,null,null,1.2744535780284203E-4,1.6567896514369464E-3,6.3722678901421013E-5,null,null,null,1.072271070126528E-4,3.4848809779112161E-3,0,null,null,null,1.2583562721195439E-4,3.3189146677152967E-3,0,null,null,null,1.4932059130954157E-4,3.3945547757702455E-3,0]
[250,null,null,null,0,0,0,null,null,null,0,0,0,null,null,null,7.5414781297134241E-4,3.7707390648567121E-4,0,null,null,null,0,0,0,null,null,null,0,0,0,null,null,null,0,0,0,null,null,null,1.9116803670426305E-4,7.0094946791563113E-4,2.5489071560568405E-4,null,null,null,1.072271070126528E-4,1.5011794981771391E-3,0,null,null,null,3.1458906802988597E-5,1.5414864333464413E-3,0,null,null,null,4.9773530436513865E-5,1.2742023791747548E-3,0]
[260,null,null,null,0,0,0,null,null,null,0,0,0,null,null,null,3.7707390648567121E-4,0,0,null,null,null,0,0,0,null,null,null,0,0,0,null,null,null,0,0,0,null,null,null,0,5.7350411011278918E-4,0,null,null,null,5.3613553506326402E-5,5.8974908856959044E-4,0,null,null,null,1.5729453401494299E-5,6.9209594966574914E-4,0,null,null,null,9.9547060873027723E-6,5.7737295306356084E-4,0]
[270,null,null,null,0,0,0,null,null,null,0,0,0,null,null,null,1.5082956259426848E-3,0,0,null,null,null,0,0,0,null,null,null,0,0,0,null,null,null,0,0,0,null,null,null,1.2744535780284203E-4,1.9116803670426305E-4,6.3722678901421013E-5,null,null,null,0,2.6806776753163198E-4,0,null,null,null,0,4.0896578843885176E-4,0,null,null,null,0,1.8913941565875268E-4,0]
[280,null,null,null,0,0,0,null,null,null,0,0,0,null,null,null,3.7707390648567121E-4,3.7707390648567121E-4,0,null,null,null,0,0,0,null,null,null,0,0,0,null,null,null,0,0,0,null,null,null,0,0,1.9116803670426305E-4,null,null,null,0,2.1445421402530561E-4,0,null,null,null,0,7.8647267007471493E-5,0,null,null,null,0,8.9592354785724947E-5,0]
[290,null,null,null,0,0,0,null,null,null,0,0,0,null,null,null,7.5414781297134241E-4,0,0,null,null,null,0,0,0,null,null,null,0,0,0,null,null,null,0,0,0,null,null,null,0,6.3722678901421013E-5,2.5489071560568405E-4,null,null,null,0,5.3613553506326402E-5,0,null,null,null,0,7.8647267007471493E-5,0,null,null,null,0,4.9773530436513865E-5,0]
[300,null,null,null,0,0,0,null,null,null,0,0,0,null,null,null,0,0,0,null,null,null,0,0,0,null,null,null,0,0,0,null,null,null,0,0,0,null,null,null,0,0,1.9116803670426305E-4,null,null,null,5.3613553506326402E-5,5.3613553506326402E-5,0,null,null,null,0,0,0,null,null,null,0,2.9864118261908317E-5,0]
[310,null,null,null,0,0,0,null,null,null,0,0,0,null,null,null,0,0,0,null,null,null,0,0,0,null,null,null,0,0,0,null,null,null,0,0,0,null,null,null,0,0,1.2744535780284203E-4,null,null,null,0,5.3613553506326402E-5,0,null,null,null,0,3.1458906802988597E-5,0,null,null,null,0,9.9547060873027723E-6,0]
[320,null,null,null,0,0,0,null,null,null,0,0,0,null,null,null,0,0,0,null,null,null,0,0,0,null,null,null,0,0,0,null,null,null,0,0,0,null,null,null,0,0,0,null,null,null,0,0,0,null,null,null,0,0,0,null,null,null,0,0,0]
[330,null,null,null,0,0,0,null,null,null,0,0,0,null,null,null,0,0,0,null,null,null,0,0,0,null,null,null,0,0,0,null,null,null,0,0,0,null,null,null,0,0,0,null,null,null,0,5.3613553506326402E-5,0,null,null,null,0,0,0,null,null,null,0,9.9547060873027723E-6,0]
[340,null,null,null,null,0,0,null,null,null,null,0,0,null,null,null,null,0,0,null,null,null,null,0,0,null,null,null,null,0,0,null,null,null,null,0,0,null,null,null,null,1.2744535780284203E-4,0,null,null,null,null,5.3613553506326402E-5,0,null,null,null,null,0,0,null,null,null,null,9.9547060873027723E-6,0]
[350,null,null,null,null,0,0,null,null,null,null,0,0,null,null,null,null,0,0,null,null,null,null,0,0,null,null,null,null,0,0,null,null,null,null,0,0,null,null,null,null,0,0,null,null,null,null,0,0,null,null,null,null,0,0,null,null,null,null,0,0]
[360,null,null,null,null,0,0,null,null,null,null,0,0,null,null,null,null,0,0,null,null,null,null,0,0,null,null,null,null,0,0,null,null,null,null,0,0,null,null,null,null,0,0,null,null,null,null,5.3613553506326402E-5,0,null,null,null,null,0,0,null,null,null,null,0,0]
[370,null,null,null,null,0,0,null,null,null,null,0,0,null,null,null,null,0,0,null,null,null,null,0,0,null,null,null,null,0,0,null,null,null,null,0,0,null,null,null,null,0,0,null,null,null,null,5.3613553506326402E-5,0,null,null,null,null,0,0,null,null,null,null,0,0]
[380,null,null,null,null,0,0,null,null,null,null,0,0,null,null,null,null,0,0,null,null,null,null,0,0,null,null,null,null,0,0,null,null,null,null,0,0,null,null,null,null,0,6.3722678901421013E-5,null,null,null,null,0,5.3613553506326402E-5,null,null,null,null,0,0,null,null,null,null,0,0]
[390,null,null,null,null,0,0,null,null,null,null,0,0,null,null,null,null,0,0,null,null,null,null,0,0,null,null,null,null,0,0,null,null,null,null,0,0,null,null,null,null,0,0,null,null,null,null,5.3613553506326402E-5,0,null,null,null,null,0,0,null,null,null,null,0,0]
[400,null,null,null,null,0,0,null,null,null,null,0,0,null,null,null,null,0,0,null,null,null,null,0,0,null,null,null,null,0,0,null,null,null,null,0,0,null,null,null,null,0,0,null,null,null,null,0,0,null,null,null,null,0,0,null,null,null,null,0,0]
[410,null,null,null,null,null,0,null,null,null,null,null,0,null,null,null,null,null,0,null,null,null,null,null,0,null,null,null,null,null,0,null,null,null,null,null,0,null,null,null,null,null,0,null,null,null,null,null,0,null,null,null,null,null,0,null,null,null,null,null,0]
[420,null,null,null,null,null,0,null,null,null,null,null,0,null,null,null,null,null,0,null,null,null,null,null,0,null,null,null,null,null,0,null,null,null,null,null,0,null,null,null,null,null,0,null,null,null,null,null,0,null,null,null,null,null,0,null,null,null,null,null,0]
[430,null,null,null,null,null,0,null,null,null,null,null,0,null,null,null,null,null,0,null,null,null,null,null,0,null,null,null,null,null,0,null,null,null,null,null,0,null,null,null,null,null,0,null,null,null,null,null,0,null,null,null,null,null,0,null,null,null,null,null,0]
[440,null,null,null,null,null,0,null,null,null,null,null,0,null,null,null,null,null,0,null,null,null,null,null,0,null,null,null,null,null,0,null,null,null,null,null,0,null,null,null,null,null,0,null,null,null,null,null,5.3613553506326402E-5,null,null,null,null,null,0,null,null,null,null,null,0]
[450,null,null,null,null,null,0,null,null,null,null,null,0,null,null,null,null,null,0,null,null,null,null,null,0,null,null,null,null,null,0,null,null,null,null,null,0,null,null,null,null,null,0,null,null,null,null,null,0,null,null,null,null,null,0,null,null,null,null,null,0]
[460,null,null,null,null,null,0,null,null,null,null,null,0,null,null,null,null,null,0,null,null,null,null,null,0,null,null,null,null,null,0,null,null,null,null,null,0,null,null,null,null,null,0,null,null,null,null,null,0,null,null,null,null,null,0,null,null,null,null,null,0]
[470,null,null,null,null,null,0,null,null,null,null,null,0,null,null,null,null,null,0,null,null,null,null,null,0,null,null,null,null,null,0,null,null,null,null,null,0,null,null,null,null,null,0,null,null,null,null,null,0,null,null,null,null,null,0,null,null,null,null,null,0]
[480,null,null,null,null,null,0,null,null,null,null,null,0,null,null,null,null,null,0,null,null,null,null,null,0,null,null,null,null,null,0,null,null,null,null,null,0,null,null,null,null,null,0,null,null,null,null,null,0,null,null,null,null,null,0,null,null,null,null,null,0]
[490]
[500]

{"sheet":"91389-2","index":18,"n_rows":56,"n_cols":61,"rows_kept":56,"cut":false,"hidden":true,"merged":[[0,20,0,29],[4,37,4,42],[4,43,4,48],[4,49,4,54],[4,55,4,60],[4,31,4,36],[4,1,4,6],[4,7,4,12],[4,13,4,18],[4,19,4,24],[4,25,4,30]]}
[null,null,null,null,null,null,null,null,null,null,null,null,null,null,null,null,null,null,null,null,"Recorded Classified Counts"]
["Year","WiM site ID & Lane",null,null,null,null,null,null,null,null,null,null,null,null,null,null,null,null,null,null,"Class 3","Class 4","Class 5","Class 6","Class 7","Class 8","Class 9","Class 10","Class 11","Class 12"]
[{"$f":"'Presumptive CTLD'!A3","v":"2014-2023"},{"$f":"MID(CELL(\"filename\",A1),FIND(\"]\",CELL(\"filename\",A1))+1,255)","v":"91389-2"},null,null,null,null,null,null,null,null,null,null,null,null,null,null,null,null,null,null,5877,2355,723,539,2075,840,7597,5873,5805,4672]
[]
[null,"Class 3",null,null,null,null,null,"Class 4",null,null,null,null,null,"Class 5",null,null,null,null,null,"Class 6",null,null,null,null,null,"Class 7",null,null,null,null,null,"Class 8",null,null,null,null,null,"Class 9",null,null,null,null,null,"Class 10",null,null,null,null,null,"Class 11",null,null,null,null,null,"Class 12"]
["Load (kN)","SAST","SADT","TAST","TADT","TRDT","QADT","SAST","SADT","TAST","TADT","TRDT","QADT","SAST","SADT","TAST","TADT","TRDT","QADT","SAST","SADT","TAST","TADT","TRDT","QADT","SAST","SADT","TAST","TADT","TRDT","QADT","SAST","SADT","TAST","TADT","TRDT","QADT","SAST","SADT","TAST","TADT","TRDT","QADT","SAST","SADT","TAST","TADT","TRDT","QADT","SAST","SADT","TAST","TADT","TRDT","QADT","SAST","SADT","TAST","TADT","TRDT","QADT"]
[10,0,0,0,0,0,0,0,0,0,0,0,0,0,0,0,0,0,0,6.1842918985776133E-4,5.5040197897340756E-2,0,0,0,0,3.1362709738121374E-4,1.7719931002038575E-2,0,2.6658303277403168E-3,0,0,0,2.2197558268590455E-3,0,3.6995930447650759E-4,0,0,0,4.2780748663101606E-5,0,4.2780748663101606E-5,0,0,0,0,0,0,0,0,0,0,0,0,0,0,0,0,0,0,0,0]
[20,2.3030821917808218E-2,6.5509613748511147E-3,0,0,0,0,3.6093418259023355E-3,0,0,0,0,0,0,0,7.1739717969507635E-4,0,0,0,0.20346320346320346,0.34199134199134201,0,0,0,0,0.19397835973028069,0.15210914222988867,0,5.8177826564215149E-2,0,0,1.1482457025420984E-2,2.1087680355160933E-2,0,4.0695523492415833E-3,0,0,1.2834224598930481E-4,9.8395721925133685E-4,0,2.5668449197860962E-4,0,0,0,4.2594880095412528E-5,0,0,0,0,0,1.3332888903703211E-4,0,0,0,0,0,1.2107270415884738E-4,0,3.0268176039711846E-5,0,0]
[30,0.19828767123287672,0.11459928534966819,0,0,0,0,1.1464968152866241E-2,0,0,6.3694267515923564E-4,0,0,0,0,0,0,0,0,9.0290661719233153E-2,0.14594928880643165,0,0,0,0,7.3545554335894617E-2,0.10161517955151325,0,0.12937117766975068,0,0,1.2964064383539821E-2,7.9541250462449128E-2,0,9.24898261191269E-3,3.3296337402885681E-3,0,9.4117647058823532E-4,8.1283422459893055E-3,0,1.7112299465240642E-4,0,0,8.5189760190825057E-5,1.7889849640073264E-3,0,1.2778464028623759E-4,0,0,0,0,0,0,0,0,0,9.0804528119135548E-5,0,0,0,0]
[40,0.1488013698630137,0.11868300153139356,0,0,0,0,0.1,0,0,2.9723991507431E-3,0,0,0,0,0,0,0,0,2.8447742733457019E-2,5.627705627705628E-2,0,0,0,0,1.9758507135016465E-2,3.3244472322408659E-2,0,6.5077622706601848E-2,0,0,5.2226659373688991E-2,3.2186459489456157E-2,0,1.2208657047724751E-2,1.4798372179060304E-3,0,8.0427807486631014E-3,5.6898395721925133E-3,1.3190730837789663E-4,2.7379679144385028E-3,8.5573780056224193E-5,0,4.0891084891596027E-3,1.2352515227669633E-3,0,8.5189760190825057E-3,0,0,7.3330888970367652E-4,0,0,2.9999000033332222E-4,0,0,0,0,0,0,0,0]
[50,7.8852739726027396E-2,0.11774714990641484,0,0,0,0,0.19405520169851381,0,0,1.4012738853503185E-2,0,0,0,0,7.1739717969507644E-3,3.4578146611341631E-3,0,0,7.4211502782931356E-3,2.7210884353741496E-2,0,0,0,0,1.9288066488944645E-2,2.6501489728712562E-2,0,1.3956405833464011E-2,0,0,0.14038229718175976,2.2567517573066964E-2,0,8.1391046984831666E-3,3.6995930447650759E-3,0,0.13561497326203209,3.1657754010695188E-3,1.3190730837789663E-4,1.4973262032085561E-3,2.139344501405605E-4,0,9.3325382289048853E-2,1.7037952038165011E-4,0,3.1435021510414447E-2,1.2780350705728237E-4,0,4.246525115829472E-2,0,0,7.9997333422219261E-4,6.6664444518516056E-5,0,5.5996125673466917E-3,3.0268176039711846E-5,0,2.7241358435740664E-4,0,0]
[60,4.0068493150684933E-2,7.3336736430151442E-2,0,0,0,0,0.13673036093418259,2.1231422505307856E-4,0,3.4607218683651804E-2,0,0,0,0,5.452218565682581E-2,5.5325034578146609E-2,0,0,2.4737167594310453E-3,2.0408163265306121E-2,0,0,0,0,1.4270032930845226E-2,2.0072134232397679E-2,0,6.5861690450054883E-3,0,0,7.7413984461709218E-2,1.4798372179060304E-2,0,2.8486866444691086E-2,7.3991860895301518E-4,0,0.14241711229946524,3.6363636363636364E-3,8.7938205585264399E-5,4.406417112299465E-3,1.3691804808995871E-3,0,0.12365293691698258,4.2594880095412528E-5,1.3100610180605873E-4,1.3332197469864122E-2,2.2578619580119882E-3,0,0.10269657678077397,3.3332222259258028E-5,0,7.966401119962668E-3,1.2999566681110629E-3,0,5.1788849203946968E-2,3.0268176039711846E-5,0,8.4750892911193178E-3,8.1724075307221982E-4,0]
[70,6.4212328767123293E-3,4.1262548919516757E-2,0,0,0,0,4.7770700636942678E-2,2.1231422505307856E-4,0,8.598726114649681E-2,0,0,6.9156293222683268E-4,0,0.10760957695426146,7.9529737206085749E-2,0,0,0,1.1131725417439703E-2,0,0,0,0,2.8226438764309236E-3,1.3799592284773404E-2,0,7.840677434530343E-3,0,0,1.4075269902128948E-2,4.0695523492415833E-3,0,6.9552349241583419E-2,7.3991860895301518E-4,0,2.7850267379679144E-2,2.7807486631016044E-3,7.0350564468211519E-4,1.9807486631016044E-2,1.283606700843363E-2,0,2.1467819568087916E-2,0,0,2.674958469991907E-2,1.7466479297828592E-2,0,4.2231925602479917E-2,0,0,1.9566014466184462E-2,2.1132628912369587E-2,0,6.3442096979236029E-2,3.0268176039711846E-5,0,2.2428718445426477E-2,1.8887341848780194E-2,0]
[80,3.5102739726027396E-3,1.6845329249617153E-2,0,0,0,0,5.7324840764331206E-3,2.1231422505307856E-4,0,9.5329087048832278E-2,0,0,0,0,8.9674647461884555E-2,6.1549100968188108E-2,0,0,0,6.1842918985776131E-3,0,0,0,0,6.2725419476242748E-4,5.8021013015524545E-3,0,5.8021013015524545E-3,0,0,7.4080367905941834E-4,2.9596744358120607E-3,5.5493895671476139E-4,6.8442471328153898E-2,1.3318534961154272E-2,0,3.4224598930481282E-3,2.8235294117647061E-3,1.0552584670231731E-3,3.8887700534759359E-2,2.4987543776417463E-2,0,2.2149337649614515E-3,0,4.3668700602019568E-4,3.4587042637474974E-2,3.5827583145058156E-2,0,4.9331688943701881E-3,0,0,2.059931335622146E-2,4.3998533382220595E-2,0,1.9734850777892124E-2,0,0,1.5890792420848721E-2,9.8220231248864948E-2,0]
[90,1.0273972602739727E-3,6.2957291134932789E-3,0,0,0,0,0,0,0,6.4331210191082802E-2,0,0,0,0,5.8826568734996261E-2,5.3941908713692949E-2,6.9156293222683268E-4,0,6.1842918985776133E-4,2.4737167594310453E-3,0,0,0,0,1.5681354869060687E-4,2.3522032303591031E-3,0,4.2339658146463852E-3,0,0,3.7040183952970917E-4,0,5.5493895671476139E-4,5.6603773584905662E-2,8.8790233074361822E-3,0,2.5668449197860962E-4,6.4171122994652406E-4,7.9144385026737969E-4,4.3037433155080212E-2,3.4956889152967588E-2,0,1.2778464028623759E-4,0,4.8035570662221529E-4,2.6621800059632831E-2,3.1652668581186934E-2,0,2.3332555581480617E-4,0,0,3.0665644478517384E-2,3.9798673377554085E-2,0,8.4750892911193167E-4,0,0,4.0862037653610996E-2,0.15276348447242569,0]
[100,null,1.9567806704100734E-3,0,0,0,0,null,0,0,4.225053078556263E-2,0,0,null,0,4.3761227961399661E-2,4.5643153526970952E-2,0,0,null,0,0,0,0,0,null,4.7044064607182058E-4,0,2.0385761329778894E-3,0,0,null,0,0,4.4765075841657419E-2,4.4395116537180911E-3,0,null,1.2834224598930481E-4,5.7159833630421862E-4,3.4053475935828879E-2,3.2389675751280857E-2,0,null,0,4.3668700602019568E-4,2.2106742769519103E-2,1.9766942424859671E-2,0,null,0,0,2.4865837805406486E-2,2.8765707809739676E-2,0,null,0,0,3.5504570494582E-2,5.4634057751679885E-2,0]
[110,null,1.1910838863365663E-3,0,0,0,0,null,0,0,3.2059447983014862E-2,0,0,null,0,3.802205052383905E-2,1.9363762102351315E-2,6.9156293222683268E-4,0,null,0,0,0,0,0,null,0,0,1.254508389524855E-3,0,0,null,0,0,4.6614872364039953E-2,1.849796522382538E-3,0,null,4.2780748663101606E-5,1.1871657754010695E-3,2.1048128342245988E-2,2.4174592865883339E-2,0,null,0,1.615741922274724E-3,3.245729863270435E-2,1.7423878128809495E-2,0,null,0,0,2.0232658911369623E-2,2.6632445585147161E-2,0,null,0,0,1.3560142865790907E-2,2.7332162963859798E-2,0]
[120,null,5.9554194316828316E-4,0,0,0,0,null,0,0,2.9936305732484077E-2,0,0,null,0,4.3043830781704581E-2,1.6597510373443983E-2,0,0,null,0,0,0,0,0,null,0,0,7.8406774345303432E-4,0,0,null,0,0,3.1446540880503145E-2,1.1098779134295228E-3,0,null,0,6.59536541889483E-4,1.5187165775401069E-2,1.0910656957168585E-2,0,null,0,7.4236791023433264E-4,3.8420581846062105E-2,1.2098732001422729E-2,0,null,0,0,1.706609779674011E-2,1.8799373354221525E-2,0,null,0,0,1.0381984381621164E-2,1.7949028391549125E-2,0]
[130,null,7.6569678407350692E-4,0,0,0,0,null,0,0,2.0806794055201697E-2,0,0,null,0,2.2956709750242443E-2,1.9363762102351315E-2,6.9156293222683268E-4,0,null,0,0,0,0,0,null,0,3.1362709738121374E-4,9.4088129214364117E-4,0,0,null,0,0,2.5157232704402517E-2,1.1098779134295228E-3,0,null,0,4.39691027926322E-5,1.8866310160427807E-2,6.5036072842730389E-3,4.2780748663101606E-5,null,0,6.9869920963231303E-4,4.5235762661328109E-2,1.0437286409678059E-2,0,null,0,0,1.72327589080364E-2,1.2566247791740275E-2,0,null,0,0,7.445971305769114E-3,1.1501906895090503E-2,0]
[140,null,1.7015484090522376E-4,0,0,0,0,null,0,0,2.526539278131635E-2,0,0,null,0,1.2913149234511374E-2,1.4522821576763486E-2,6.9156293222683268E-4,0,null,0,0,0,0,0,null,0,0,1.0976948408342481E-3,0,0,null,0,0,2.293747687754347E-2,7.3991860895301518E-4,0,null,0,0,2.695187165775401E-2,4.7493447931204425E-3,4.2780748663101606E-5,null,0,3.4934960481615651E-4,5.0389743152873027E-2,8.179424451666072E-3,0,null,0,0,1.8932702243258558E-2,1.063297890070331E-2,0,null,0,0,1.213753859192445E-2,4.1770082934802352E-3,0]
[150,null,0,0,0,0,0,null,0,3.1847133757961782E-4,1.9320594479830148E-2,0,0,null,0,5.7391774375606108E-3,1.1756569847856155E-2,0,0,null,0,0,0,0,0,null,0,0,1.5681354869060687E-4,0,0,null,0,0,1.9237883832778396E-2,0,0,null,0,4.8366013071895423E-4,3.9828877005347596E-2,4.1075414426987615E-3,4.2780748663101606E-5,null,0,1.7467480240807826E-4,6.7981428632278407E-2,6.9013893810932472E-3,0,null,0,0,2.5399153361554613E-2,9.0663644545181821E-3,0,null,0,0,2.1702282220473393E-2,3.4505720685271504E-3,0]
[160,null,0,0,0,0,0,null,0,0,1.3588110403397028E-2,0,0,null,0,6.4565746172556872E-3,1.313969571230982E-2,2.7662517289073307E-3,0,null,0,0,0,0,0,null,0,3.1362709738121374E-4,1.5681354869060687E-4,0,0,null,0,0,9.6189419163891978E-3,0,0,null,0,3.517528223410576E-4,4.1454545454545452E-2,4.6209841230361063E-3,4.2780748663101606E-5,null,0,0,4.4682029220087745E-2,6.9865917191314362E-3,0,null,0,0,4.3898536715442818E-2,1.0199660011332956E-2,0,null,0,0,2.5334463345238815E-2,3.8743265330831163E-3,0]
[170,null,0,0,0,0,0,null,0,3.1847133757961782E-4,9.5541401273885346E-3,0,0,null,0,7.8913689766458399E-3,7.6071922544951589E-3,3.4578146611341631E-3,0,null,0,0,0,0,0,null,0,0,3.1362709738121374E-4,0,0,null,0,0,4.4395116537180911E-3,7.3991860895301518E-4,0,null,0,1.3190730837789663E-4,2.4342245989304814E-2,4.2786890028112092E-3,0,null,0,1.3100610180605873E-4,9.9246070622311198E-3,6.7735858740359655E-3,0,null,0,0,3.6865437818739376E-2,1.0399653344888503E-2,0,null,0,0,1.919002360917731E-2,6.6892669047763182E-3,0]
[180,null,0,null,0,0,0,null,0,null,7.0063694267515925E-3,0,0,null,0,null,3.4578146611341631E-3,7.6071922544951589E-3,0,null,0,null,0,0,0,null,0,null,1.5681354869060687E-4,0,0,null,0,null,2.2197558268590455E-3,3.6995930447650759E-4,0,null,0,null,9.6684491978609628E-3,5.861803933851357E-3,4.2780748663101606E-5,null,0,null,3.3224006474421777E-3,9.2870548461625197E-3,0,null,0,null,2.2932568914369521E-2,1.6832772240925303E-2,0,null,0,null,1.180458865548762E-2,1.247048852836128E-2,0]
[190,null,null,null,0,0,0,null,null,null,1.0615711252653928E-3,0,0,null,null,null,7.6071922544951589E-3,1.313969571230982E-2,0,null,null,null,0,0,0,null,null,null,1.5681354869060687E-4,0,0,null,null,null,0,0,0,null,null,null,3.251336898395722E-3,8.2578697754256362E-3,0,null,null,null,1.448225923244026E-3,1.3802778762186494E-2,4.2594880095412528E-5,null,null,null,9.0330322322589255E-3,2.3432552248258392E-2,0,null,null,null,8.2026757067619107E-3,1.7827955687390276E-2,0]
[200,null,null,null,0,0,0,null,null,null,4.2462845010615713E-4,0,0,null,null,null,3.4578146611341631E-3,1.313969571230982E-2,0,null,null,null,0,0,0,null,null,null,0,0,0,null,null,null,7.3991860895301518E-4,0,0,null,null,null,1.7967914438502674E-3,1.4162460599305104E-2,4.2780748663101606E-5,null,null,null,3.4075904076330023E-4,2.0192954115050614E-2,0,null,null,null,3.9665344488517048E-3,3.5332155594813508E-2,0,null,null,null,5.3574671590289969E-3,2.7483503844058357E-2,0]
[210,null,null,null,0,0,0,null,null,null,2.1231422505307856E-4,0,0,null,null,null,1.3831258644536654E-3,1.1756569847856155E-2,0,null,null,null,0,0,0,null,null,null,0,0,0,null,null,null,1.1098779134295228E-3,3.6995930447650759E-4,0,null,null,null,4.7058823529411766E-4,1.8227215151975753E-2,0,null,null,null,1.7037952038165011E-4,2.4666076862055498E-2,0,null,null,null,1.2999566681110629E-3,4.7898403386553781E-2,0,null,null,null,2.0279677946606939E-3,3.8955142563109148E-2,0]
[220,null,null,null,0,0,0,null,null,null,0,0,0,null,null,null,6.9156293222683261E-3,4.8409405255878286E-3,0,null,null,null,0,0,0,null,null,null,0,0,0,null,null,null,1.1098779134295228E-3,0,0,null,null,null,3.4224598930481285E-4,2.0922789223746817E-2,0,null,null,null,0,2.0704168143279744E-2,0,null,null,null,2.3332555581480617E-4,4.7731742275257491E-2,0,null,null,null,6.3563169683394883E-4,4.1558205702524366E-2,0]
[230,null,null,null,0,0,0,null,null,null,0,0,0,null,null,null,2.7662517289073307E-3,6.2240663900414933E-3,0,null,null,null,0,0,0,null,null,null,1.5681354869060687E-4,0,0,null,null,null,0,0,0,null,null,null,4.2780748663101606E-5,1.9254100512650443E-2,0,null,null,null,4.2594880095412528E-5,1.290815421278552E-2,0,null,null,null,6.6664444518516056E-5,3.363221225959135E-2,0,null,null,null,6.0536352079423692E-5,3.1569707609419455E-2,0]
[240,null,null,null,0,0,0,null,null,null,0,0,0,null,null,null,0,0,0,null,null,null,0,0,0,null,null,null,0,0,0,null,null,null,0,0,0,null,null,null,4.2780748663101606E-5,1.5873936200429588E-2,0,null,null,null,0,6.4753776909023059E-3,0,null,null,null,6.6664444518516056E-5,2.4565847805073163E-2,0,null,null,null,0,1.5376233428173618E-2,0]
[250,null,null,null,0,0,0,null,null,null,0,0,0,null,null,null,0,2.0746887966804979E-3,0,null,null,null,0,0,0,null,null,null,0,0,0,null,null,null,3.6995930447650759E-4,0,0,null,null,null,0,1.4504755719530003E-2,0,null,null,null,4.2594880095412528E-5,2.8968794932984002E-3,0,null,null,null,0,1.4199526682443918E-2,0,null,null,null,0,6.6892669047763182E-3,0]
[260,null,null,null,0,0,0,null,null,null,0,0,0,null,null,null,0,1.3831258644536654E-3,0,null,null,null,0,0,0,null,null,null,0,0,0,null,null,null,0,0,0,null,null,null,0,9.8837715964938955E-3,1.2834224598930481E-4,null,null,null,0,8.520233803818825E-4,0,null,null,null,3.3332222259258028E-5,5.23315889470351E-3,0,null,null,null,0,2.814940371693202E-3,0]
[270,null,null,null,0,0,0,null,null,null,0,0,0,null,null,null,0,2.0746887966804979E-3,0,null,null,null,0,0,0,null,null,null,0,0,0,null,null,null,0,0,0,null,null,null,0,3.422951202248968E-3,8.5561497326203212E-5,null,null,null,0,5.112140282291295E-4,0,null,null,null,0,1.2999566681110629E-3,0,null,null,null,0,1.210727041588474E-3,0]
[280,null,null,null,0,0,0,null,null,null,0,0,0,null,null,null,0,6.9156293222683268E-4,0,null,null,null,0,0,0,null,null,null,0,0,0,null,null,null,0,0,0,null,null,null,0,8.1295091053412987E-4,8.5561497326203212E-5,null,null,null,0,8.520233803818825E-5,4.2594880095412528E-5,null,null,null,0,4.999833338888704E-4,0,null,null,null,0,5.7509534475452513E-4,0]
[290,null,null,null,0,0,0,null,null,null,0,0,0,null,null,null,0,6.9156293222683268E-4,0,null,null,null,0,0,0,null,null,null,0,0,0,null,null,null,0,0,0,null,null,null,0,3.8508201025300886E-4,4.2780748663101606E-5,null,null,null,0,4.2601169019094125E-5,0,null,null,null,0,1.9999333355554815E-4,0,null,null,null,0,9.0804528119135548E-5,0]
[300,null,null,null,0,0,0,null,null,null,0,0,0,null,null,null,0,0,0,null,null,null,0,0,0,null,null,null,0,0,0,null,null,null,0,0,0,null,null,null,0,1.283606700843363E-4,8.5561497326203212E-5,null,null,null,0,4.2601169019094125E-5,0,null,null,null,0,6.6664444518516056E-5,0,null,null,null,0,6.0536352079423692E-5,0]
[310,null,null,null,0,0,0,null,null,null,0,0,0,null,null,null,0,0,0,null,null,null,0,0,0,null,null,null,0,0,0,null,null,null,0,0,0,null,null,null,0,4.2786890028112096E-5,0,null,null,null,0,4.2601169019094125E-5,0,null,null,null,0,0,0,null,null,null,0,0,0]
[320,null,null,null,0,0,0,null,null,null,0,0,0,null,null,null,0,0,0,null,null,null,0,0,0,null,null,null,0,0,0,null,null,null,0,0,0,null,null,null,0,0,0,null,null,null,0,0,0,null,null,null,0,3.3332222259258028E-5,0,null,null,null,0,0,0]
[330,null,null,null,0,0,0,null,null,null,0,0,0,null,null,null,0,0,0,null,null,null,0,0,0,null,null,null,0,0,0,null,null,null,0,0,0,null,null,null,0,0,0,null,null,null,0,4.2601169019094125E-5,0,null,null,null,0,0,0,null,null,null,0,0,0]
[340,null,null,null,null,0,0,null,null,null,null,0,0,null,null,null,null,0,0,null,null,null,null,0,0,null,null,null,null,0,0,null,null,null,null,0,0,null,null,null,null,4.2786890028112096E-5,0,null,null,null,null,4.2601169019094125E-5,0,null,null,null,null,0,0,null,null,null,null,0,0]
[350,null,null,null,null,0,0,null,null,null,null,0,0,null,null,null,null,0,0,null,null,null,null,0,0,null,null,null,null,0,0,null,null,null,null,0,0,null,null,null,null,4.2786890028112096E-5,0,null,null,null,null,0,0,null,null,null,null,0,0,null,null,null,null,0,0]
[360,null,null,null,null,0,0,null,null,null,null,0,0,null,null,null,null,0,0,null,null,null,null,0,0,null,null,null,null,0,0,null,null,null,null,0,0,null,null,null,null,0,0,null,null,null,null,0,0,null,null,null,null,0,0,null,null,null,null,0,0]
[370,null,null,null,null,0,0,null,null,null,null,0,0,null,null,null,null,0,0,null,null,null,null,0,0,null,null,null,null,0,0,null,null,null,null,0,0,null,null,null,null,0,0,null,null,null,null,0,0,null,null,null,null,0,0,null,null,null,null,0,0]
[380,null,null,null,null,0,0,null,null,null,null,0,0,null,null,null,null,0,0,null,null,null,null,0,0,null,null,null,null,0,0,null,null,null,null,0,0,null,null,null,null,0,0,null,null,null,null,0,0,null,null,null,null,0,0,null,null,null,null,0,0]
[390,null,null,null,null,0,0,null,null,null,null,0,0,null,null,null,null,0,0,null,null,null,null,0,0,null,null,null,null,0,0,null,null,null,null,0,0,null,null,null,null,0,0,null,null,null,null,0,0,null,null,null,null,0,0,null,null,null,null,0,0]
[400,null,null,null,null,0,0,null,null,null,null,0,0,null,null,null,null,0,0,null,null,null,null,0,0,null,null,null,null,0,0,null,null,null,null,0,0,null,null,null,null,4.2786890028112096E-5,0,null,null,null,null,4.2601169019094125E-5,0,null,null,null,null,0,0,null,null,null,null,0,0]
[410,null,null,null,null,null,0,null,null,null,null,null,0,null,null,null,null,null,0,null,null,null,null,null,0,null,null,null,null,null,0,null,null,null,null,null,0,null,null,null,null,null,0,null,null,null,null,null,0,null,null,null,null,null,0,null,null,null,null,null,0]
[420,null,null,null,null,null,0,null,null,null,null,null,0,null,null,null,null,null,0,null,null,null,null,null,0,null,null,null,null,null,0,null,null,null,null,null,0,null,null,null,null,null,0,null,null,null,null,null,0,null,null,null,null,null,0,null,null,null,null,null,0]
[430,null,null,null,null,null,0,null,null,null,null,null,0,null,null,null,null,null,0,null,null,null,null,null,0,null,null,null,null,null,0,null,null,null,null,null,0,null,null,null,null,null,0,null,null,null,null,null,0,null,null,null,null,null,0,null,null,null,null,null,0]
[440,null,null,null,null,null,0,null,null,null,null,null,0,null,null,null,null,null,0,null,null,null,null,null,0,null,null,null,null,null,0,null,null,null,null,null,0,null,null,null,null,null,0,null,null,null,null,null,0,null,null,null,null,null,0,null,null,null,null,null,0]
[450,null,null,null,null,null,0,null,null,null,null,null,0,null,null,null,null,null,0,null,null,null,null,null,0,null,null,null,null,null,0,null,null,null,null,null,0,null,null,null,null,null,0,null,null,null,null,null,0,null,null,null,null,null,0,null,null,null,null,null,0]
[460,null,null,null,null,null,0,null,null,null,null,null,0,null,null,null,null,null,0,null,null,null,null,null,0,null,null,null,null,null,0,null,null,null,null,null,0,null,null,null,null,null,0,null,null,null,null,null,0,null,null,null,null,null,0,null,null,null,null,null,0]
[470,null,null,null,null,null,0,null,null,null,null,null,0,null,null,null,null,null,0,null,null,null,null,null,0,null,null,null,null,null,0,null,null,null,null,null,0,null,null,null,null,null,0,null,null,null,null,null,0,null,null,null,null,null,0,null,null,null,null,null,0]
[480,null,null,null,null,null,0,null,null,null,null,null,0,null,null,null,null,null,0,null,null,null,null,null,0,null,null,null,null,null,0,null,null,null,null,null,0,null,null,null,null,null,0,null,null,null,null,null,0,null,null,null,null,null,0,null,null,null,null,null,0]
[490]
[500]

{"sheet":"92206-1","index":19,"n_rows":56,"n_cols":61,"rows_kept":56,"cut":false,"hidden":true,"merged":[[0,20,0,29],[4,37,4,42],[4,43,4,48],[4,49,4,54],[4,55,4,60],[4,31,4,36],[4,1,4,6],[4,7,4,12],[4,13,4,18],[4,19,4,24],[4,25,4,30]]}
[null,null,null,null,null,null,null,null,null,null,null,null,null,null,null,null,null,null,null,null,"Recorded Classified Counts"]
["Year","WiM site ID & Lane",null,null,null,null,null,null,null,null,null,null,null,null,null,null,null,null,null,null,"Class 3","Class 4","Class 5","Class 6","Class 7","Class 8","Class 9","Class 10","Class 11","Class 12"]
[{"$f":"'Presumptive CTLD'!A3","v":"2014-2023"},{"$f":"MID(CELL(\"filename\",A1),FIND(\"]\",CELL(\"filename\",A1))+1,255)","v":"92206-1"},null,null,null,null,null,null,null,null,null,null,null,null,null,null,null,null,null,null,1008,932,340,52,101,97,3258,2813,1836,3040]
[]
[null,"Class 3",null,null,null,null,null,"Class 4",null,null,null,null,null,"Class 5",null,null,null,null,null,"Class 6",null,null,null,null,null,"Class 7",null,null,null,null,null,"Class 8",null,null,null,null,null,"Class 9",null,null,null,null,null,"Class 10",null,null,null,null,null,"Class 11",null,null,null,null,null,"Class 12"]
["Load (kN)","SAST","SADT","TAST","TADT","TRDT","QADT","SAST","SADT","TAST","TADT","TRDT","QADT","SAST","SADT","TAST","TADT","TRDT","QADT","SAST","SADT","TAST","TADT","TRDT","QADT","SAST","SADT","TAST","TADT","TRDT","QADT","SAST","SADT","TAST","TADT","TRDT","QADT","SAST","SADT","TAST","TADT","TRDT","QADT","SAST","SADT","TAST","TADT","TRDT","QADT","SAST","SADT","TAST","TADT","TRDT","QADT","SAST","SADT","TAST","TADT","TRDT","QADT"]
[10,0,0,0,0,0,0,0,0,0,0,0,0,0,0,0,0,0,0,0,0.11538461538461539,0,0,0,0,3.246753246753247E-3,9.74025974025974E-3,0,9.74025974025974E-3,0,0,0,0,0,3.3112582781456954E-3,0,0,0,0,0,1.0223644630952958E-4,0,0,2.7495422060186034E-4,8.8873089228581583E-5,0,3.5647685236398841E-4,0,0,4.2842966875456125E-4,0,0,1.0490839620571732E-4,5.2558808319176989E-4,0,4.2845999344309245E-4,0,0,0,5.1543903052608862E-4,0]
[20,2.875882946518668E-2,3.9761431411530811E-3,0,0,0,0,2.7056277056277055E-3,0,0,0,0,0,0,0,0,0,0,0,0.16025641025641027,0.21794871794871795,0,0,0,0,0.15909090909090909,0.10064935064935066,0,8.1168831168831168E-2,0,0,2.0074503311258277E-2,1.3245033112582781E-2,0,9.9337748344370865E-3,0,0,2.4993740503143312E-3,4.0745645309157581E-4,0,7.1565512416670702E-4,7.1572272588367122E-4,0,3.4827534609568975E-3,5.3323853537148955E-4,0,8.1098483912807363E-3,9.9012589893544183E-4,0,1.713718675018245E-3,0,0,1.0490839620571732E-3,3.9944694322574508E-3,0,1.2853799803292773E-3,0,0,7.9605535743316124E-4,3.1394922768407212E-3,0]
[30,0.20887991927346114,0.14065606361829028,0,0,0,0,2.2727272727272728E-2,0,0,8.0645161290322578E-3,0,0,0,0,1.4705882352941176E-3,8.8235294117647058E-3,0,0,0.12179487179487179,0.19230769230769232,0,0,0,0,6.8181818181818177E-2,0.11688311688311688,0,0.10714285714285714,0,0,1.6728752759381897E-2,2.9801324503311258E-2,0,2.9801324503311258E-2,0,0,1.0934761470125199E-2,1.4260975858205154E-3,0,3.4760391745240057E-3,4.4988285626973617E-3,0,1.3472756809491155E-2,1.2442232492001421E-3,2.6661926768574478E-4,2.789431369748209E-2,6.3008011750437217E-3,0,6.9619821172616199E-3,0,0,4.6159694330515626E-3,9.8810559640052729E-3,0,4.8558799256883814E-3,4.6790192775594239E-5,0,2.2008589293740339E-3,1.133965867157395E-2,0]
[40,0.1301715438950555,0.12773359840954276,0,0,0,0,5.4112554112554112E-2,0,0,2.6881720430107527E-2,0,0,0,0,1.1764705882352941E-2,5.8823529411764705E-3,0,0,1.9230769230769232E-2,7.0512820512820512E-2,0,0,0,0,4.8701298701298704E-2,4.8701298701298704E-2,0,4.8701298701298704E-2,0,0,5.3532008830022078E-2,1.6556291390728478E-2,0,8.2781456953642391E-2,6.6225165562913907E-3,0,2.8013817480606464E-2,1.0186411327289396E-3,0,6.3386596711908338E-3,1.0020118162371397E-2,0,1.6222299015509759E-2,0,2.6661926768574478E-4,5.1065309101141342E-2,6.4808240657592553E-3,0,8.3543785407139432E-3,0,0,1.1330106790217471E-2,1.4506231096092845E-2,0,6.2364732378939009E-3,0,0,2.7627803581503833E-3,2.9942321864197329E-2,0]
[50,7.1140262361251261E-2,9.3936381709741543E-2,0,0,0,0,0.13419913419913421,0,0,9.5161290322580638E-2,0,0,0,0,1.6176470588235296E-2,5.7352941176470586E-2,0,0,1.9230769230769232E-2,3.8461538461538464E-2,0,0,0,0,3.5714285714285712E-2,3.896103896103896E-2,0,2.2727272727272728E-2,0,0,0.1171012693156733,0,0,0.13907284768211919,0,0,0.1162208933396164,2.0372822654578791E-4,0,2.2083072402858388E-2,3.8546781094020578E-2,0,8.2394614773690811E-2,3.5549235691432633E-4,1.7774617845716317E-4,2.0675657437111326E-2,2.7813536615550138E-2,0,4.1771892703569721E-2,0,0,1.3113549525714667E-2,2.5543580843120015E-2,0,1.9804373030258494E-2,0,0,3.2778750011953702E-3,3.5424718825247545E-2,0]
[60,3.1786074672048435E-2,5.2186878727634195E-2,0,0,0,0,0.20346320346320348,0,0,0.14623655913978492,0,0,0,0,5.5882352941176473E-2,8.38235294117647E-2,0,0,6.41025641025641E-3,6.41025641025641E-3,0,0,0,0,6.4935064935064939E-3,1.2987012987012988E-2,0,1.2987012987012988E-2,0,0,8.6989514348785865E-2,1.3245033112582781E-2,0,0.10264900662251655,0,0,0.11382565987473184,5.0932056636446982E-4,3.0559233981868186E-4,5.3674134312503036E-2,5.7360064174391358E-2,0,8.2302963366823523E-2,8.8873089228581583E-5,5.3323853537148955E-4,3.7875665563673763E-2,4.9776329282845394E-2,0,8.6435685671232734E-2,0,0,2.276512197664066E-2,4.8143868420366116E-2,0,6.6601725647431817E-2,0,0,8.0073803600629757E-3,4.0719683411561E-2,0]
[70,1.2108980827447024E-2,2.8827037773359841E-2,0,0,0,0,6.3311688311688305E-2,0,0,5.7526881720430106E-2,0,0,0,0,8.0882352941176475E-2,7.3529411764705885E-2,0,0,6.41025641025641E-3,1.9230769230769232E-2,0,0,0,0,0,1.948051948051948E-2,0,6.4935064935064939E-3,0,0,2.0074503311258277E-2,0,0,8.2781456953642391E-2,0,0,4.394732705136032E-2,6.1118467963736372E-4,0,5.2038351171550555E-2,5.4701665478252011E-2,0,3.6293957119445566E-2,1.7774617845716317E-4,8.8873089228581588E-4,3.9212453760038721E-2,3.2944189000942883E-2,0,3.6737844095703624E-2,0,0,3.51443127289153E-2,5.2243455469261922E-2,0,3.5895426117343525E-2,0,0,1.1238428575526984E-2,3.6596171167352295E-2,0]
[80,1.1099899091826437E-2,1.8886679920477139E-2,0,0,0,0,1.2987012987012986E-2,0,0,2.9569892473118278E-2,0,0,0,0,8.6764705882352938E-2,5.2941176470588235E-2,0,0,0,6.41025641025641E-3,0,0,0,0,0,3.246753246753247E-3,0,0,0,0,6.6915011037527597E-3,6.6225165562913907E-3,0,4.3046357615894038E-2,0,0,1.1247183226414489E-2,3.0559233981868186E-4,4.0745645309157581E-4,5.1322696047383848E-2,3.1900784353672204E-2,0,8.4319294317903842E-3,0,5.3323853537148955E-4,2.4953379665479187E-2,1.9532483642635535E-2,0,7.4975192032048213E-3,0,0,2.8115450183132246E-2,5.1717867386070156E-2,0,5.4271599169458378E-3,0,9.3580385551188478E-5,1.1847176790034693E-2,1.8602663192623381E-2,0]
[90,6.0544904137235121E-3,1.2425447316103381E-2,0,0,0,0,6.4935064935064931E-3,0,0,1.9892473118279567E-2,0,0,0,0,0.10147058823529412,3.2352941176470591E-2,0,0,0,0,0,0,0,0,6.4935064935064939E-3,3.246753246753247E-3,0,3.246753246753247E-3,0,0,0,0,0,3.9735099337748346E-2,3.3112582781456954E-3,0,4.1656234171905514E-3,2.0372822654578791E-4,0,2.8012786288811105E-2,1.8813283080370787E-2,0,3.3911020540896108E-3,0,8.8873089228581583E-5,1.1763736128011617E-2,1.0081281880069954E-2,0,2.2492557609614466E-3,0,0,1.7414793770149074E-2,3.0063638358569233E-2,0,1.3329866462673987E-3,0,1.4037057832678272E-4,6.4620964309280151E-3,1.2229962451573559E-2,0]
[100,null,8.9463220675944331E-3,0,0,0,0,null,0,0,1.6129032258064516E-2,0,0,null,0,7.6470588235294124E-2,2.0588235294117647E-2,0,0,null,0,0,0,0,0,null,6.4935064935064939E-3,0,0,0,0,null,3.3112582781456954E-3,0,1.3245033112582781E-2,0,0,null,3.0559233981868186E-4,1.0186411327289395E-4,1.4006393144405552E-2,9.3043954364877262E-3,0,null,0,1.7774617845716317E-4,8.1989676043717312E-3,8.3710644182723726E-3,0,null,0,0,9.0221220736916904E-3,1.0511761663835396E-2,0,null,0,4.6790192775594239E-5,3.7929696442403566E-3,8.809321612627697E-3,0]
[110,null,5.964214711729623E-3,0,0,0,0,null,0,0,1.2365591397849464E-2,0,0,null,0,4.1176470588235294E-2,2.5000000000000001E-2,0,0,null,0,0,0,0,0,null,0,0,3.246753246753247E-3,0,0,null,0,0,9.9337748344370865E-3,0,0,null,1.0186411327289395E-4,2.0372822654578791E-4,1.1450481986667312E-2,6.0325201181623709E-3,0,null,0,2.6661926768574478E-4,7.0404178341887703E-3,7.5609614100524657E-3,0,null,0,0,5.3503282064915839E-3,7.2531155480464226E-3,0,null,0,9.3580385551188478E-5,3.2310482154640076E-3,7.5910111768387597E-3,0]
[120,null,2.9821073558648115E-3,0,0,0,0,null,0,0,1.4516129032258065E-2,0,0,null,0,1.1764705882352941E-2,2.7941176470588237E-2,0,0,null,0,0,0,0,0,null,0,0,3.246753246753247E-3,0,0,null,0,0,6.6225165562913907E-3,0,0,null,0,0,9.6102259530957811E-3,4.9078129774880307E-3,1.0186411327289395E-4,null,0,3.5549235691432633E-4,8.3772060305537261E-3,6.6608469564747915E-3,0,null,0,0,6.3994121685487576E-3,4.099587048895805E-3,0,null,0,0,7.8200732171375253E-3,9.0904701747328356E-3,0]
[130,null,4.9701789264413514E-4,0,0,0,0,null,0,0,1.3440860215053764E-2,0,0,null,0,4.4117647058823529E-3,1.4705882352941176E-2,0,0,null,0,0,0,0,0,null,0,0,3.246753246753247E-3,0,0,null,0,0,6.6225165562913907E-3,0,0,null,0,0,9.0990437215481331E-3,4.3965824589996946E-3,0,null,0,8.8873089228581583E-5,1.4615550946923524E-2,6.840869847190326E-3,0,null,0,0,1.8778602920823402E-2,5.1507632152793447E-3,0,null,0,0,1.624889464878276E-2,1.0964793922100431E-2,0]
[140,null,1.9880715705765406E-3,0,0,0,0,null,0,0,1.7741935483870968E-2,0,0,null,0,7.3529411764705881E-3,4.1176470588235294E-2,0,0,null,0,0,0,0,0,null,0,0,6.4935064935064939E-3,0,0,null,0,0,6.6225165562913907E-3,0,0,null,0,0,1.45175753759532E-2,4.7033207700926966E-3,0,null,0,0,2.1121253502566311E-2,6.9308812925480924E-3,0,null,0,0,3.5773763106149603E-2,5.6763512984711138E-3,0,null,0,0,2.5614251795055248E-2,1.5744319477887798E-2,0]
[150,null,0,0,0,0,0,null,0,0,1.3978494623655913E-2,0,0,null,0,4.4117647058823529E-3,3.5294117647058823E-2,0,0,null,0,0,0,0,0,null,0,0,0,0,0,null,0,0,6.6225165562913907E-3,0,0,null,1.0186411327289395E-4,0,1.45175753759532E-2,6.1347662218600389E-3,0,null,0,8.8873089228581583E-5,2.0408299797838335E-2,7.8309957461257674E-3,0,null,0,0,2.6227099051429333E-2,9.5657031140902113E-3,0,null,0,0,2.0791092864724917E-2,2.4787931558936445E-2,0]
[160,null,0,0,0,0,0,null,0,0,1.1290322580645162E-2,0,0,null,0,0,7.3529411764705881E-3,0,0,null,0,0,0,0,0,null,0,0,0,0,0,null,0,0,3.3112582781456954E-3,0,0,null,0,0,1.410862959071508E-2,6.3392584292553738E-3,0,null,0,0,1.5239385438560503E-2,8.0110186368413019E-3,0,null,0,0,2.559764867419503E-2,9.355467880813503E-3,0,null,0,0,1.7279083934872735E-2,3.7205326385246762E-2,0]
[170,null,9.9403578528827028E-4,0,0,0,0,null,0,0,5.3763440860215049E-3,0,0,null,0,0,0,0,0,null,0,0,0,0,0,null,0,0,0,0,0,null,0,0,0,0,0,null,0,0,1.216613711083402E-2,9.6111337475807274E-3,0,null,0,0,1.2298451406557599E-2,1.7012163172618049E-2,0,null,0,0,1.9617870090469142E-2,1.2719231613240829E-2,0,null,0,0,1.6202067863051402E-2,5.4730253423133771E-2,0]
[180,null,0,null,0,0,0,null,0,null,2.6881720430107525E-3,0,0,null,0,null,5.8823529411764705E-3,0,0,null,0,null,0,0,0,null,0,null,3.246753246753247E-3,0,0,null,0,null,0,0,0,null,0,null,8.0766792584528371E-3,1.1758301925231741E-2,0,null,0,null,8.4663252436447244E-3,2.6103319153752559E-2,0,null,0,null,1.2484099148480362E-2,2.5964051309673431E-2,0,null,0,null,1.0957467861138808E-2,6.3399000754708904E-2,0]
[190,null,null,null,0,0,0,null,null,null,4.3010752688172043E-3,0,0,null,null,null,1.4705882352941176E-3,0,0,null,null,null,0,0,0,null,null,null,0,0,0,null,null,null,0,0,0,null,null,null,4.7028765302383601E-3,8.1796882958133851E-3,0,null,null,null,3.4756493105488869E-3,2.8083570951623438E-2,0,null,null,null,5.6650533951087354E-3,3.7632106756530719E-2,0,null,null,null,5.5255607163007666E-3,6.0868663695762652E-2,0]
[200,null,null,null,0,0,0,null,null,null,1.0752688172043011E-3,0,0,null,null,null,1.4705882352941176E-3,0,0,null,null,null,0,0,0,null,null,null,0,0,0,null,null,null,0,0,0,null,null,null,1.5335466946429436E-3,8.6909188143017204E-3,0,null,null,null,2.2279803272749273E-3,2.3132941456946231E-2,0,null,null,null,2.6227099051429332E-3,3.2586461157889733E-2,0,null,null,null,1.873071429254497E-3,5.2246774457871709E-2,0]
[210,null,null,null,0,0,0,null,null,null,1.0752688172043011E-3,0,0,null,null,null,2.9411764705882353E-3,0,0,null,null,null,0,0,0,null,null,null,0,0,0,null,null,null,0,0,0,null,null,null,3.0670933892858871E-4,9.2021493327900591E-3,0,null,null,null,1.6041458356379479E-3,2.0162563760139907E-2,0,null,null,null,8.3926716964573852E-4,2.5858933693035078E-2,0,null,null,null,1.0301892860899735E-3,4.5686641342085124E-2,0]
[220,null,null,null,0,0,0,null,null,null,5.3763440860215054E-4,0,0,null,null,null,0,0,0,null,null,null,0,0,0,null,null,null,0,0,0,null,null,null,0,0,0,null,null,null,8.1789157047623662E-4,8.5886727106040534E-3,0,null,null,null,1.2476689832739592E-3,1.8002289071553487E-2,0,null,null,null,9.4417556585145587E-4,2.3336110893714578E-2,0,null,null,null,3.7461428585089943E-4,3.9782521537877202E-2,0]
[230,null,null,null,0,0,0,null,null,null,5.3763440860215054E-4,0,0,null,null,null,1.4705882352941176E-3,0,0,null,null,null,0,0,0,null,null,null,0,0,0,null,null,null,0,0,0,null,null,null,9.2012801678576623E-4,5.1123051848833657E-3,0,null,null,null,1.2476689832739592E-3,1.7102174617975814E-2,0,null,null,null,6.2945037723430395E-4,1.723928912869005E-2,0,null,null,null,2.3413392865681212E-4,2.6193674369462138E-2,0]
[240,null,null,null,0,0,0,null,null,null,0,0,0,null,null,null,0,0,0,null,null,null,0,0,0,null,null,null,0,0,0,null,null,null,0,0,0,null,null,null,2.0447289261905916E-4,2.9651370072323519E-3,0,null,null,null,5.3471527854598256E-4,9.8112475439966502E-3,0,null,null,null,7.3435877344002129E-4,1.2403878763325767E-2,0,null,null,null,5.1509464304498674E-4,1.3963711917888581E-2,0]
[250,null,null,null,0,0,0,null,null,null,0,0,0,null,null,null,0,0,0,null,null,null,0,0,0,null,null,null,0,0,0,null,null,null,0,0,0,null,null,null,2.0447289261905916E-4,8.1796882958133838E-4,0,null,null,null,7.1295370472797682E-4,7.0208927379058596E-3,0,null,null,null,3.1472518861715197E-4,1.0406644047197043E-2,0,null,null,null,3.2778750011953699E-4,6.4664169284182026E-3,0]
[260,null,null,null,0,0,0,null,null,null,1.0752688172043011E-3,0,0,null,null,null,0,0,0,null,null,null,0,0,0,null,null,null,0,0,0,null,null,null,0,0,0,null,null,null,3.0670933892858871E-4,6.1347662218600384E-4,0,null,null,null,9.8031134400096811E-4,3.6004578143106979E-3,0,null,null,null,4.1963358482286926E-4,5.6763512984711138E-3,0,null,null,null,3.2778750011953699E-4,2.530337058946253E-3,0]
[270,null,null,null,0,0,0,null,null,null,5.3763440860215054E-4,0,0,null,null,null,0,0,0,null,null,null,0,0,0,null,null,null,0,0,0,null,null,null,0,0,0,null,null,null,1.0223644630952958E-4,0,0,null,null,null,6.2383449163697959E-4,1.4401831257242789E-3,0,null,null,null,1.0490839620571732E-4,2.2074699494054333E-3,0,null,null,null,1.4048035719408728E-4,1.1245942484205569E-3,0]
[280,null,null,null,0,0,0,null,null,null,0,0,0,null,null,null,0,0,0,null,null,null,0,0,0,null,null,null,0,0,0,null,null,null,0,0,0,null,null,null,3.0670933892858871E-4,4.0898441479066919E-4,0,null,null,null,8.0207291781897395E-4,1.8902403525131164E-3,0,null,null,null,3.1472518861715197E-4,1.1562937830218937E-3,0,null,null,null,9.3653571462724858E-5,9.3716187368379756E-4,0]
[290,null,null,null,0,0,0,null,null,null,0,0,0,null,null,null,0,0,0,null,null,null,0,0,0,null,null,null,0,0,0,null,null,null,0,0,0,null,null,null,1.0223644630952958E-4,6.1347662218600384E-4,0,null,null,null,6.2383449163697959E-4,1.5301945710820464E-3,0,null,null,null,2.0981679241143463E-4,1.2614113996602476E-3,0,null,null,null,2.3413392865681212E-4,7.0287140526284811E-4,0]
[300,null,null,null,0,0,0,null,null,null,0,0,0,null,null,null,0,0,0,null,null,null,0,0,0,null,null,null,0,0,0,null,null,null,0,0,0,null,null,null,3.0670933892858871E-4,1.022461036976673E-4,0,null,null,null,4.4559606545498549E-4,2.1602746885864186E-3,0,null,null,null,1.0490839620571732E-4,1.3665290162986016E-3,0,null,null,null,1.4048035719408728E-4,9.840199673679874E-4,0]
[310,null,null,null,0,0,0,null,null,null,0,0,0,null,null,null,0,0,0,null,null,null,0,0,0,null,null,null,0,0,0,null,null,null,0,0,0,null,null,null,2.0447289261905916E-4,3.0673831109300192E-4,0,null,null,null,8.0207291781897395E-4,1.2601602350087442E-3,0,null,null,null,0,9.4605854974518563E-4,0,null,null,null,0,9.3716187368379756E-4,0]
[320,null,null,null,0,0,0,null,null,null,0,0,0,null,null,null,0,0,0,null,null,null,0,0,0,null,null,null,0,0,0,null,null,null,0,0,0,null,null,null,2.0447289261905916E-4,5.1123051848833657E-4,0,null,null,null,6.2383449163697959E-4,9.9012589893544183E-4,0,null,null,null,1.0490839620571732E-4,7.3582331646847776E-4,0,null,null,null,1.4048035719408728E-4,1.5463170915782658E-3,0]
[330,null,null,null,0,0,0,null,null,null,0,0,0,null,null,null,0,0,0,null,null,null,0,0,0,null,null,null,0,0,0,null,null,null,0,0,0,null,null,null,1.0223644630952958E-4,2.044922073953346E-4,0,null,null,null,3.5647685236398841E-4,1.6202060164398138E-3,0,null,null,null,1.0490839620571732E-4,5.2558808319176989E-4,0,null,null,null,1.4048035719408728E-4,7.0287140526284811E-4,0]
[340,null,null,null,null,0,0,null,null,null,null,0,0,null,null,null,null,0,0,null,null,null,null,0,0,null,null,null,null,0,0,null,null,null,null,0,0,null,null,null,null,2.044922073953346E-4,0,null,null,null,null,1.0801373442932093E-3,0,null,null,null,null,5.2558808319176989E-4,0,null,null,null,null,5.6229712421027847E-4,0]
[350,null,null,null,null,0,0,null,null,null,null,0,0,null,null,null,null,0,0,null,null,null,null,0,0,null,null,null,null,0,0,null,null,null,null,0,0,null,null,null,null,2.044922073953346E-4,0,null,null,null,null,1.0801373442932093E-3,0,null,null,null,null,4.2047046655341585E-4,0,null,null,null,null,4.6858093684189878E-4,0]
[360,null,null,null,null,0,0,null,null,null,null,0,0,null,null,null,null,0,0,null,null,null,null,0,0,null,null,null,null,0,0,null,null,null,null,0,0,null,null,null,null,0,0,null,null,null,null,6.300801175043721E-4,0,null,null,null,null,2.1023523327670792E-4,0,null,null,null,null,3.2800665578932908E-4,0]
[370,null,null,null,null,0,0,null,null,null,null,0,0,null,null,null,null,0,0,null,null,null,null,0,0,null,null,null,null,0,0,null,null,null,null,0,0,null,null,null,null,1.022461036976673E-4,0,null,null,null,null,8.1010300821990691E-4,0,null,null,null,null,0,0,null,null,null,null,3.7486474947351903E-4,0]
[380,null,null,null,null,0,0,null,null,null,null,0,0,null,null,null,null,0,0,null,null,null,null,0,0,null,null,null,null,0,0,null,null,null,null,0,0,null,null,null,null,1.022461036976673E-4,0,null,null,null,null,9.0011445357767448E-4,0,null,null,null,null,0,0,null,null,null,null,3.7486474947351903E-4,0]
[390,null,null,null,null,0,0,null,null,null,null,0,0,null,null,null,null,0,0,null,null,null,null,0,0,null,null,null,null,0,0,null,null,null,null,0,0,null,null,null,null,1.022461036976673E-4,0,null,null,null,null,1.2601602350087442E-3,0,null,null,null,null,2.1023523327670792E-4,0,null,null,null,null,3.2800665578932908E-4,0]
[400,null,null,null,null,0,0,null,null,null,null,0,0,null,null,null,null,0,0,null,null,null,null,0,0,null,null,null,null,0,0,null,null,null,null,0,0,null,null,null,null,4.0898441479066919E-4,0,null,null,null,null,7.2009156286213945E-4,0,null,null,null,null,2.1023523327670792E-4,0,null,null,null,null,1.4057428105256962E-4,0]
[410,null,null,null,null,null,0,null,null,null,null,null,0,null,null,null,null,null,0,null,null,null,null,null,0,null,null,null,null,null,0,null,null,null,null,null,0,null,null,null,null,null,0,null,null,null,null,null,0,null,null,null,null,null,0,null,null,null,null,null,0]
[420,null,null,null,null,null,0,null,null,null,null,null,0,null,null,null,null,null,0,null,null,null,null,null,0,null,null,null,null,null,0,null,null,null,null,null,0,null,null,null,null,null,0,null,null,null,null,null,0,null,null,null,null,null,0,null,null,null,null,null,0]
[430,null,null,null,null,null,0,null,null,null,null,null,0,null,null,null,null,null,0,null,null,null,null,null,0,null,null,null,null,null,0,null,null,null,null,null,0,null,null,null,null,null,0,null,null,null,null,null,0,null,null,null,null,null,0,null,null,null,null,null,0]
[440,null,null,null,null,null,0,null,null,null,null,null,0,null,null,null,null,null,0,null,null,null,null,null,0,null,null,null,null,null,0,null,null,null,null,null,0,null,null,null,null,null,0,null,null,null,null,null,0,null,null,null,null,null,0,null,null,null,null,null,0]
[450,null,null,null,null,null,0,null,null,null,null,null,0,null,null,null,null,null,0,null,null,null,null,null,0,null,null,null,null,null,0,null,null,null,null,null,0,null,null,null,null,null,0,null,null,null,null,null,0,null,null,null,null,null,0,null,null,null,null,null,0]
[460,null,null,null,null,null,0,null,null,null,null,null,0,null,null,null,null,null,0,null,null,null,null,null,0,null,null,null,null,null,0,null,null,null,null,null,0,null,null,null,null,null,0,null,null,null,null,null,0,null,null,null,null,null,0,null,null,null,null,null,0]
[470,null,null,null,null,null,0,null,null,null,null,null,0,null,null,null,null,null,0,null,null,null,null,null,0,null,null,null,null,null,0,null,null,null,null,null,0,null,null,null,null,null,0,null,null,null,null,null,0,null,null,null,null,null,0,null,null,null,null,null,0]
[480,null,null,null,null,null,0,null,null,null,null,null,0,null,null,null,null,null,0,null,null,null,null,null,0,null,null,null,null,null,0,null,null,null,null,null,0,null,null,null,null,null,0,null,null,null,null,null,0,null,null,null,null,null,0,null,null,null,null,null,0]
[490]
[500]

{"sheet":"92206-2","index":20,"n_rows":56,"n_cols":61,"rows_kept":56,"cut":false,"hidden":true,"merged":[[0,20,0,29],[4,37,4,42],[4,43,4,48],[4,49,4,54],[4,55,4,60],[4,31,4,36],[4,1,4,6],[4,7,4,12],[4,13,4,18],[4,19,4,24],[4,25,4,30]]}
[null,null,null,null,null,null,null,null,null,null,null,null,null,null,null,null,null,null,null,null,"Recorded Classified Counts"]
["Year","WiM site ID & Lane",null,null,null,null,null,null,null,null,null,null,null,null,null,null,null,null,null,null,"Class 3","Class 4","Class 5","Class 6","Class 7","Class 8","Class 9","Class 10","Class 11","Class 12"]
[{"$f":"'Presumptive CTLD'!A3","v":"2014-2023"},{"$f":"MID(CELL(\"filename\",A1),FIND(\"]\",CELL(\"filename\",A1))+1,255)","v":"92206-2"},null,null,null,null,null,null,null,null,null,null,null,null,null,null,null,null,null,null,4630,5462,1571,111,418,617,19689,14955,14058,23580]
[]
[null,"Class 3",null,null,null,null,null,"Class 4",null,null,null,null,null,"Class 5",null,null,null,null,null,"Class 6",null,null,null,null,null,"Class 7",null,null,null,null,null,"Class 8",null,null,null,null,null,"Class 9",null,null,null,null,null,"Class 10",null,null,null,null,null,"Class 11",null,null,null,null,null,"Class 12"]
["Load (kN)","SAST","SADT","TAST","TADT","TRDT","QADT","SAST","SADT","TAST","TADT","TRDT","QADT","SAST","SADT","TAST","TADT","TRDT","QADT","SAST","SADT","TAST","TADT","TRDT","QADT","SAST","SADT","TAST","TADT","TRDT","QADT","SAST","SADT","TAST","TADT","TRDT","QADT","SAST","SADT","TAST","TADT","TRDT","QADT","SAST","SADT","TAST","TADT","TRDT","QADT","SAST","SADT","TAST","TADT","TRDT","QADT","SAST","SADT","TAST","TADT","TRDT","QADT"]
[10,0,0,0,0,0,0,0,0,0,0,0,0,0,0,0,0,0,0,6.006006006006006E-3,7.8078078078078081E-2,0,0,0,0,1.179245283018868E-2,8.6477987421383646E-3,0,2.0440251572327043E-2,0,0,4.7720042417815486E-3,2.1208907741251328E-3,0,1.5906680805938495E-3,5.3022269353128319E-4,0,3.3535665179918847E-5,0,0,1.1737482812971596E-4,0,0,1.6717376040656658E-5,0,0,0,0,0,0,0,0,0,0,0,1.8134448803428621E-5,0,0,0,0,0]
[20,4.0869565217391303E-2,4.3196544276457883E-4,0,0,0,0,2.3800805565726839E-3,0,0,9.1541559868180161E-5,0,0,0,0,0,0,0,0,0.16816816816816818,0.1891891891891892,0,0,0,0,0.1878930817610063,0.12735849056603774,0,0.11713836477987422,0,0,1.2725344644750796E-2,5.8324496288441148E-3,0,9.5440084835630972E-3,1.5906680805938495E-3,0,3.8566014956906668E-4,1.0563734531674437E-3,0,0,1.0060699553975653E-4,0,2.5076064060984988E-4,8.3586880203283289E-5,0,6.8541241766692301E-4,3.3434752081313316E-5,0,1.376822568875549E-4,0,0,4.1304677066266472E-5,2.7536451377510979E-5,0,1.0880669282057172E-4,0,0,3.0224081339047701E-5,2.7201673205142927E-4,0]
[30,0.22369565217391302,0.10032397408207343,0,0,0,0,1.4097400219699744E-2,0,0,3.0208714756499453E-3,0,0,0,0,9.5663732517610586E-4,0,0,0,0.10510510510510511,0.20120120120120119,0,0,0,0,5.1886792452830191E-2,0.10849056603773585,0,9.5125786163522019E-2,0,0,6.3626723223753979E-3,1.9088016967126194E-2,0,1.166489925768823E-2,3.711558854718982E-3,0,2.0959790737449277E-3,6.0699553975653107E-3,0,3.3367986854019251E-3,6.8748113618833631E-4,0,2.1398241332040522E-3,3.677822728944465E-4,1.6717376040656658E-5,1.7937744491624594E-2,9.0273830619545955E-4,0,1.2804449890542605E-3,1.376822568875549E-5,0,6.3333838168275257E-4,6.1957015599399708E-4,0,8.1605019615428793E-4,0,0,3.2642007846171516E-4,4.8781667281222983E-3,0]
[40,0.14586956521739131,0.11403887688984882,0,0,0,0,9.8681801537898212E-2,0,0,4.339069937751739E-2,0,0,3.1826861871419476E-4,0,4.7831866258805297E-3,3.1826861871419479E-3,0,0,3.6036036036036036E-2,9.0090090090090086E-2,0,0,0,0,4.40251572327044E-2,5.1886792452830191E-2,0,2.2798742138364778E-2,0,0,5.35524920466596E-2,4.7720042417815486E-3,0,3.4994697773064687E-2,1.5906680805938495E-3,0,3.6838928200140848E-2,9.8930212280760594E-4,0,3.2697273550420874E-3,5.8519735738958379E-3,0,1.5279681701160185E-2,5.1823865726035646E-4,6.6869504162626631E-5,1.501220368450968E-2,7.1216021933197364E-3,0,1.1937051672151009E-2,8.2609354132532944E-5,0,6.0855557544299268E-3,7.6689017086368078E-3,0,1.5656074133626708E-3,0,6.0448162678095398E-6,2.4300161396594352E-3,4.8020020431478988E-2,0]
[50,6.0869565217391307E-2,0.11792656587473002,0,0,0,0,0.21228487733430979,0,0,9.9322592456975473E-2,0,0,3.1826861871419476E-4,0,1.7219471853169906E-2,3.0553787396562698E-2,0,0,1.5015015015015015E-2,6.006006006006006E-2,0,0,0,0,1.8867924528301886E-2,2.9088050314465409E-2,0,2.0440251572327043E-2,0,0,0.12672322375397668,2.1208907741251328E-3,0,6.0445387062566275E-2,0,0,0.18897347328884267,4.0242798215902611E-4,1.6767832589959423E-5,1.3011838089808511E-2,1.421912203628559E-2,0,0.13872078638536894,7.188471697482363E-4,3.3434752081313316E-5,1.7118593065632418E-2,4.557156708683005E-2,0,9.5702936762539409E-2,1.376822568875549E-5,0,3.7807547741322577E-2,3.1859674243780202E-2,0,5.1628775743361284E-2,0,0,1.1720898743282698E-2,0.13095489962582588,0]
[60,1.5869565217391305E-2,7.7861771058315335E-2,0,0,0,0,0.15580373489564261,0,0,7.250091541559868E-2,0,0,0,0,3.412006459794778E-2,3.5646085295989817E-2,3.1826861871419476E-4,0,3.003003003003003E-3,2.1021021021021023E-2,0,0,0,0,7.8616352201257862E-3,1.2578616352201259E-2,0,1.4937106918238994E-2,0,0,0.10551431601272535,5.3022269353128317E-3,1.0604453870625664E-3,3.0222693531283137E-2,0,0,9.4034005164492437E-2,4.0242798215902611E-4,0,2.9829974177537813E-2,2.9159260873939434E-2,0,8.4021531980340361E-2,7.188471697482363E-4,1.5045638436590993E-4,4.1291918820421949E-2,6.0834531411949583E-2,0,7.6152056284506622E-2,0,0,3.1873442469468959E-2,7.381145791741818E-2,0,8.2288083853691268E-2,0,0,2.6820849780270929E-2,0.14994771233928345,0]
[70,4.7826086956521737E-3,4.1360691144708424E-2,0,0,0,0,1.5195898938117906E-2,0,0,2.8560966678872209E-2,0,0,0,0,5.7079360402174317E-2,4.5194143857415658E-2,0,0,0,1.8018018018018018E-2,0,0,0,0,0,6.2893081761006293E-3,0,1.10062893081761E-2,0,0,1.4316012725344645E-2,5.3022269353128317E-3,0,3.3934252386002124E-2,5.3022269353128319E-4,0,7.0760253529628756E-3,5.0303497769878269E-4,6.7071330359837693E-5,4.7788322881384356E-2,3.8364800965827159E-2,0,4.2462135143267916E-3,9.6960781035808623E-4,7.35564545788893E-4,3.7196161690461069E-2,4.4953024173325758E-2,0,7.6964381600143185E-3,0,2.7536451377510979E-5,4.2075697704836774E-2,9.3568861780782317E-2,0,5.5612309663847764E-3,0,8.4627427749333554E-5,5.0963845953902229E-2,9.4389806021845962E-2,0]
[80,4.7826086956521737E-3,2.6457883369330453E-2,0,0,0,0,1.4646649578908826E-3,0,0,2.975100695715855E-2,0,0,0,0,0.12276845673093359,4.1693189051559519E-2,0,0,0,3.003003003003003E-3,0,0,0,0,5.50314465408805E-3,8.6477987421383646E-3,0,2.3584905660377358E-3,0,0,0,5.3022269353128317E-3,0,4.5068928950159064E-2,1.0604453870625664E-3,0,2.0121399107951305E-4,3.0182098661926958E-4,1.6767832589959422E-4,2.8086119588182031E-2,2.2586270498675343E-2,0,8.3586880203283289E-5,3.5106489685378985E-4,2.056237253000769E-3,2.5594302718245344E-2,2.8369387140994351E-2,0,5.644972532389751E-4,0,2.7536451377510979E-5,2.6834271867384449E-2,3.5425644697167878E-2,0,1.7529967176647666E-4,0,2.2970301817676252E-4,3.0357067296939509E-2,4.1533932576119349E-2,0]
[90,3.2608695652173911E-3,1.1123110151187904E-2,0,0,0,0,9.1541559868180161E-5,0,0,2.7096301720981326E-2,0,0,6.3653723742838951E-4,0,0.15274309291978491,3.3099936346276254E-2,0,0,0,0,0,0,0,0,7.8616352201257866E-4,3.9308176100628931E-3,0,7.8616352201257866E-4,0,0,0,1.0604453870625664E-3,1.5906680805938495E-3,3.3934252386002124E-2,5.3022269353128319E-4,0,0,1.3414266071967539E-4,1.6767832589959422E-4,1.4772460511754251E-2,1.2860927596498876E-2,0,0,3.3434752081313316E-5,9.6960781035808623E-4,1.0164164632719248E-2,1.6082115751111705E-2,0,1.376822568875549E-5,0,0,8.9493466976910685E-3,1.0835593617050571E-2,0,0,0,4.2313713874666777E-5,1.0947162261003077E-2,2.2184475702861011E-2,6.0448162678095398E-6]
[100,null,4.8596112311015119E-3,0,0,0,0,null,0,0,2.3526180886122301E-2,0,0,null,0,7.1747799388207939E-2,2.8325907065563337E-2,9.5480585614258432E-4,0,null,3.003003003003003E-3,0,0,0,0,null,0,0,2.3584905660377358E-3,0,0,null,5.3022269353128319E-4,0,9.5440084835630972E-3,0,0,null,1.6767832589959423E-5,6.7071330359837693E-5,1.0228377879875248E-2,9.2558435896576002E-3,0,null,0,8.6930355411414626E-4,8.9103614296699996E-3,6.6702330402220065E-3,0,null,0,1.376822568875549E-5,3.2906059396125621E-3,5.2869986644821084E-3,0,null,0,1.208963253561908E-5,6.4860878553596362E-3,8.6380424466998319E-3,0]
[110,null,3.7796976241900649E-3,0,0,0,0,null,0,0,2.9110216038081289E-2,0,0,null,0,2.3915933129402649E-2,3.0553787396562698E-2,0,0,null,3.003003003003003E-3,0,0,0,0,null,0,0,2.3584905660377358E-3,0,0,null,0,5.3022269353128319E-4,2.1739130434782608E-2,0,0,null,1.6767832589959423E-5,1.6767832589959423E-5,1.0681109359804151E-2,5.365706428787015E-3,0,null,0,2.3404326456919321E-4,1.4577551907452605E-2,3.2598883279280483E-3,0,null,0,0,4.612355605733089E-3,2.6572675579298096E-3,0,null,0,0,4.5396570171249645E-3,3.403231558776771E-3,0]
[120,null,1.5118790496760259E-3,0,0,0,0,null,0,0,4.0827535701208346E-2,0,0,null,0,7.0153403846247766E-3,2.9598981540420115E-2,0,0,null,0,0,0,0,0,null,0,0,3.1446540880503146E-3,0,0,null,0,0,3.4464475079533402E-2,5.3022269353128319E-4,0,null,0,0,1.3414266071967537E-2,3.7727623327408698E-3,0,null,0,8.3586880203283289E-5,2.9673342472165569E-2,2.4240195258952153E-3,0,null,0,0,1.2542853602456251E-2,1.8311740166044802E-3,0,null,0,0,2.6657639741040069E-3,2.3695679769813395E-3,0]
[130,null,2.1598272138228941E-4,0,0,0,0,null,0,0,3.9362870743317464E-2,0,0,null,0,2.8699119755283176E-3,4.742202418841502E-2,3.1826861871419476E-4,0,null,0,0,0,0,0,null,0,0,7.8616352201257866E-4,0,0,null,0,0,5.1431601272534468E-2,5.3022269353128319E-4,0,null,0,0,2.548710553673832E-2,4.2757973104396527E-3,0,null,0,3.3434752081313316E-5,3.0626232906483E-2,2.1231067571633958E-3,0,null,0,0,2.6063251228814144E-2,1.8587104679819912E-3,0,null,0,0,4.7995841166407751E-3,2.3514335281779111E-3,0]
[140,null,0,0,0,0,0,null,0,0,2.9934090076894911E-2,0,0,null,0,1.9132746503522117E-3,6.6199872692552508E-2,0,0,null,0,0,0,0,0,null,0,0,0,0,0,null,0,0,8.2184517497348883E-2,0,0,null,0,0,4.3898185720513766E-2,5.0974211073476642E-3,0,null,0,0,4.2294961382861346E-2,2.0896720050820822E-3,0,null,0,0,3.6086519530228137E-2,2.3405983670884332E-3,0,null,0,0,9.7442438237089792E-3,4.7814496678373463E-3,0]
[150,null,1.0799136069114471E-4,0,0,0,0,null,0,0,1.812522885389967E-2,0,0,null,0,1.2755164335681412E-3,6.0152768936982813E-2,0,0,null,0,0,0,0,0,null,0,0,0,0,0,null,0,0,9.3319194061505836E-2,0,0,null,0,0,4.6547503269727356E-2,8.1994701364901581E-3,0,null,0,0,4.5872479855561872E-2,3.9453007455949717E-3,0,null,0,0,3.2644463108039264E-2,5.1906210846608195E-3,0,null,0,0,1.2893593099237748E-2,1.0971341526074315E-2,0]
[160,null,0,0,0,0,0,null,0,0,8.6964481874771144E-3,0,0,null,0,0,2.7689369828134944E-2,0,0,null,0,0,0,0,0,null,0,0,0,0,0,null,0,0,3.9766702014846236E-2,0,0,null,0,0,2.8169958751131829E-2,1.4370032529595225E-2,0,null,0,0,2.4440803771440034E-2,7.05473268915711E-3,0,null,0,0,1.8931310322038798E-2,1.3823298591510512E-2,0,null,0,0,8.0577400849901164E-3,1.7953104315394333E-2,0]
[170,null,0,0,0,0,0,null,0,0,4.3024533138044671E-3,0,0,null,0,3.188791083920353E-4,7.0019096117122856E-3,0,0,null,0,0,0,0,0,null,0,0,7.8616352201257866E-4,0,0,null,0,0,5.8324496288441148E-3,5.3022269353128319E-4,0,null,0,0,1.2894463261678795E-2,2.5118213219759215E-2,0,null,0,0,9.077535190076565E-3,1.5363268581363469E-2,0,null,0,0,8.0819484792994719E-3,3.0730679737302254E-2,0,null,0,0,2.8712877272095315E-3,2.1960817500952058E-2,0]
[180,null,0,null,0,0,0,null,0,null,1.6477480776272428E-3,0,0,null,0,null,5.4105665181413114E-3,0,0,null,0,null,0,0,0,null,0,null,0,0,0,null,0,null,6.3626723223753979E-3,0,0,null,0,null,5.0638854421677457E-3,3.507830577819511E-2,0,null,0,null,3.527366344578555E-3,2.7349627202514295E-2,0,null,0,null,3.3869835194338506E-3,4.4746733488455342E-2,0,null,0,null,7.5560203347619249E-4,2.5061808246338354E-2,0]
[190,null,null,null,0,0,0,null,null,null,5.4924935920908091E-4,0,0,null,null,null,3.1826861871419479E-3,0,0,null,null,null,0,0,0,null,null,null,0,0,0,null,null,null,2.1208907741251328E-3,0,0,null,null,null,2.0959790737449277E-3,3.5396894597404339E-2,0,null,null,null,1.3541074592931894E-3,3.4554816276037313E-2,0,null,null,null,1.5833459542068814E-3,4.8202558136332972E-2,0,null,null,null,1.6925485549866711E-4,2.707473206351893E-2,0]
[200,null,null,null,0,0,0,null,null,null,9.1541559868180161E-5,0,0,null,null,null,1.5913430935709739E-3,0,0,null,null,null,0,0,0,null,null,null,0,0,0,null,null,null,1.0604453870625664E-3,0,0,null,null,null,5.5333847546866087E-4,2.5252355880478888E-2,0,null,null,null,3.8449964893510314E-4,2.8720452037848138E-2,0,null,null,null,6.8841128443777454E-4,4.2695267860830777E-2,0,null,null,null,4.8358530142476319E-5,2.6379578192720833E-2,0]
[210,null,null,null,0,0,0,null,null,null,9.1541559868180161E-5,0,0,null,null,null,6.3653723742838951E-4,0,0,null,null,null,0,0,0,null,null,null,0,0,0,null,null,null,1.0604453870625664E-3,0,0,null,null,null,1.1737482812971596E-4,1.336396257419766E-2,0,null,null,null,1.170216322845966E-4,1.715202781771373E-2,0,null,null,null,1.514504825763104E-4,2.6077019454502897E-2,0,null,null,null,2.4179265071238159E-5,1.6224286862800804E-2,0]
[220,null,null,null,0,0,0,null,null,null,0,0,0,null,null,null,0,0,0,null,null,null,0,0,0,null,null,null,0,0,0,null,null,null,0,0,0,null,null,null,3.3535665179918847E-5,6.472383379724337E-3,0,null,null,null,1.6717376040656658E-5,8.2751011401250452E-3,0,null,null,null,1.1014580551004392E-4,1.2763145213476339E-2,0,null,null,null,0,7.157062461086495E-3,0]
[230,null,null,null,0,0,0,null,null,null,0,0,0,null,null,null,0,0,0,null,null,null,0,0,0,null,null,null,0,0,0,null,null,null,0,0,0,null,null,null,3.3535665179918847E-5,2.9176028706529395E-3,0,null,null,null,0,4.6474305393025507E-3,0,null,null,null,1.1014580551004392E-4,5.5485949525684629E-3,0,null,null,null,0,2.9438255224232459E-3,0]
[240,null,null,null,0,0,0,null,null,null,0,0,0,null,null,null,0,0,0,null,null,null,0,0,0,null,null,null,0,0,0,null,null,null,0,0,0,null,null,null,0,1.3917301049666321E-3,0,null,null,null,0,1.8054766123909191E-3,0,null,null,null,0,3.1116190056587408E-3,0,null,null,null,0,9.309017052426691E-4,0]
[250,null,null,null,0,0,0,null,null,null,0,0,0,null,null,null,3.1826861871419476E-4,3.1826861871419476E-4,0,null,null,null,0,0,0,null,null,null,0,0,0,null,null,null,0,0,0,null,null,null,1.6767832589959423E-5,6.3717763841845802E-4,0,null,null,null,1.6717376040656658E-5,6.6869504162626631E-4,0,null,null,null,0,1.8174057909157246E-3,0,null,null,null,0,3.6268897606857238E-4,0]
[260,null,null,null,0,0,0,null,null,null,0,0,0,null,null,null,0,0,0,null,null,null,0,0,0,null,null,null,0,0,0,null,null,null,0,0,0,null,null,null,0,4.3596364733894497E-4,0,null,null,null,0,3.0091276873181987E-4,0,null,null,null,0,7.0217951012653003E-4,0,null,null,null,0,6.0448162678095402E-5,0]
[270,null,null,null,0,0,0,null,null,null,0,0,0,null,null,null,0,0,0,null,null,null,0,0,0,null,null,null,0,0,0,null,null,null,0,0,0,null,null,null,0,1.3414266071967539E-4,0,null,null,null,0,3.3434752081313316E-5,0,null,null,null,0,2.7536451377510981E-4,0,null,null,null,0,0,0]
[280,null,null,null,0,0,0,null,null,null,0,0,0,null,null,null,0,0,0,null,null,null,0,0,0,null,null,null,0,0,0,null,null,null,0,0,0,null,null,null,0,6.7071330359837693E-5,0,null,null,null,0,1.6717376040656658E-5,0,null,null,null,0,1.9275515964257685E-4,0,null,null,null,0,0,0]
[290,null,null,null,0,0,0,null,null,null,0,0,0,null,null,null,0,0,0,null,null,null,0,0,0,null,null,null,0,0,0,null,null,null,0,0,0,null,null,null,0,0,0,null,null,null,0,1.6717376040656658E-5,0,null,null,null,0,2.7536451377510979E-5,0,null,null,null,0,0,0]
[300,null,null,null,0,0,0,null,null,null,0,0,0,null,null,null,0,0,0,null,null,null,0,0,0,null,null,null,0,0,0,null,null,null,0,0,0,null,null,null,0,1.6767832589959423E-5,0,null,null,null,0,0,0,null,null,null,0,2.7536451377510979E-5,0,null,null,null,0,0,0]
[310,null,null,null,0,0,0,null,null,null,0,0,0,null,null,null,0,0,0,null,null,null,0,0,0,null,null,null,0,0,0,null,null,null,0,0,0,null,null,null,0,1.6767832589959423E-5,0,null,null,null,0,0,0,null,null,null,0,1.376822568875549E-5,0,null,null,null,0,0,0]
[320,null,null,null,0,0,0,null,null,null,0,0,0,null,null,null,0,0,0,null,null,null,0,0,0,null,null,null,0,0,0,null,null,null,0,0,0,null,null,null,0,0,0,null,null,null,0,0,0,null,null,null,0,1.376822568875549E-5,0,null,null,null,0,0,0]
[330,null,null,null,0,0,0,null,null,null,0,0,0,null,null,null,0,0,0,null,null,null,0,0,0,null,null,null,0,0,0,null,null,null,0,0,0,null,null,null,0,1.6767832589959423E-5,0,null,null,null,0,0,0,null,null,null,0,0,0,null,null,null,0,0,0]
[340,null,null,null,null,0,0,null,null,null,null,0,0,null,null,null,null,0,0,null,null,null,null,0,0,null,null,null,null,0,0,null,null,null,null,0,0,null,null,null,null,1.6767832589959423E-5,0,null,null,null,null,0,0,null,null,null,null,0,0,null,null,null,null,0,0]
[350,null,null,null,null,0,0,null,null,null,null,0,0,null,null,null,null,0,6.3653723742838951E-4,null,null,null,null,0,0,null,null,null,null,0,0,null,null,null,null,0,0,null,null,null,null,1.6767832589959423E-5,0,null,null,null,null,0,0,null,null,null,null,0,0,null,null,null,null,0,0]
[360,null,null,null,null,0,0,null,null,null,null,0,0,null,null,null,null,0,0,null,null,null,null,0,0,null,null,null,null,0,0,null,null,null,null,0,0,null,null,null,null,0,0,null,null,null,null,0,0,null,null,null,null,0,0,null,null,null,null,0,0]
[370,null,null,null,null,0,0,null,null,null,null,0,0,null,null,null,null,0,0,null,null,null,null,0,0,null,null,null,null,0,0,null,null,null,null,0,0,null,null,null,null,0,0,null,null,null,null,0,0,null,null,null,null,0,0,null,null,null,null,0,0]
[380,null,null,null,null,0,0,null,null,null,null,0,0,null,null,null,null,0,0,null,null,null,null,0,0,null,null,null,null,0,0,null,null,null,null,0,0,null,null,null,null,0,0,null,null,null,null,0,0,null,null,null,null,0,0,null,null,null,null,0,0]
[390,null,null,null,null,0,0,null,null,null,null,0,0,null,null,null,null,0,0,null,null,null,null,0,0,null,null,null,null,0,0,null,null,null,null,0,0,null,null,null,null,0,0,null,null,null,null,0,0,null,null,null,null,0,0,null,null,null,null,0,0]
[400,null,null,null,null,0,0,null,null,null,null,0,0,null,null,null,null,0,0,null,null,null,null,0,0,null,null,null,null,0,0,null,null,null,null,0,0,null,null,null,null,0,0,null,null,null,null,0,0,null,null,null,null,0,0,null,null,null,null,0,0]
[410,null,null,null,null,null,0,null,null,null,null,null,0,null,null,null,null,null,0,null,null,null,null,null,0,null,null,null,null,null,0,null,null,null,null,null,0,null,null,null,null,null,0,null,null,null,null,null,0,null,null,null,null,null,0,null,null,null,null,null,0]
[420,null,null,null,null,null,0,null,null,null,null,null,0,null,null,null,null,null,0,null,null,null,null,null,0,null,null,null,null,null,0,null,null,null,null,null,0,null,null,null,null,null,0,null,null,null,null,null,0,null,null,null,null,null,0,null,null,null,null,null,0]
[430,null,null,null,null,null,0,null,null,null,null,null,0,null,null,null,null,null,0,null,null,null,null,null,0,null,null,null,null,null,0,null,null,null,null,null,0,null,null,null,null,null,0,null,null,null,null,null,0,null,null,null,null,null,0,null,null,null,null,null,0]
[440,null,null,null,null,null,0,null,null,null,null,null,0,null,null,null,null,null,0,null,null,null,null,null,0,null,null,null,null,null,0,null,null,null,null,null,0,null,null,null,null,null,0,null,null,null,null,null,0,null,null,null,null,null,0,null,null,null,null,null,0]
[450,null,null,null,null,null,0,null,null,null,null,null,0,null,null,null,null,null,0,null,null,null,null,null,0,null,null,null,null,null,0,null,null,null,null,null,0,null,null,null,null,null,0,null,null,null,null,null,0,null,null,null,null,null,0,null,null,null,null,null,0]
[460,null,null,null,null,null,0,null,null,null,null,null,0,null,null,null,null,null,0,null,null,null,null,null,0,null,null,null,null,null,0,null,null,null,null,null,0,null,null,null,null,null,0,null,null,null,null,null,0,null,null,null,null,null,0,null,null,null,null,null,0]
[470,null,null,null,null,null,0,null,null,null,null,null,0,null,null,null,null,null,0,null,null,null,null,null,0,null,null,null,null,null,0,null,null,null,null,null,0,null,null,null,null,null,0,null,null,null,null,null,0,null,null,null,null,null,0,null,null,null,null,null,0]
[480,null,null,null,null,null,0,null,null,null,null,null,0,null,null,null,null,null,0,null,null,null,null,null,0,null,null,null,null,null,0,null,null,null,null,null,0,null,null,null,null,null,0,null,null,null,null,null,0,null,null,null,null,null,0,null,null,null,null,null,0]
[490]
[500]

{"sheet":"100021-2","index":21,"n_rows":56,"n_cols":61,"rows_kept":56,"cut":false,"hidden":true,"merged":[[0,20,0,29],[4,37,4,42],[4,43,4,48],[4,49,4,54],[4,55,4,60],[4,31,4,36],[4,1,4,6],[4,7,4,12],[4,13,4,18],[4,19,4,24],[4,25,4,30]]}
[null,null,null,null,null,null,null,null,null,null,null,null,null,null,null,null,null,null,null,null,"Recorded Classified Counts"]
["Year","WiM site ID & Lane",null,null,null,null,null,null,null,null,null,null,null,null,null,null,null,null,null,null,"Class 3","Class 4","Class 5","Class 6","Class 7","Class 8","Class 9","Class 10","Class 11","Class 12"]
[{"$f":"'Presumptive CTLD'!A3","v":"2014-2023"},{"$f":"MID(CELL(\"filename\",A1),FIND(\"]\",CELL(\"filename\",A1))+1,255)","v":"100021-2"},null,null,null,null,null,null,null,null,null,null,null,null,null,null,null,null,null,null,14206,4806,3182,2361,7578,1936,8994,5244,28550,40927]
[]
[null,"Class 3",null,null,null,null,null,"Class 4",null,null,null,null,null,"Class 5",null,null,null,null,null,"Class 6",null,null,null,null,null,"Class 7",null,null,null,null,null,"Class 8",null,null,null,null,null,"Class 9",null,null,null,null,null,"Class 10",null,null,null,null,null,"Class 11",null,null,null,null,null,"Class 12"]
["Load (kN)","SAST","SADT","TAST","TADT","TRDT","QADT","SAST","SADT","TAST","TADT","TRDT","QADT","SAST","SADT","TAST","TADT","TRDT","QADT","SAST","SADT","TAST","TADT","TRDT","QADT","SAST","SADT","TAST","TADT","TRDT","QADT","SAST","SADT","TAST","TADT","TRDT","QADT","SAST","SADT","TAST","TADT","TRDT","QADT","SAST","SADT","TAST","TADT","TRDT","QADT","SAST","SADT","TAST","TADT","TRDT","QADT","SAST","SADT","TAST","TADT","TRDT","QADT"]
[10,0,0,0,0,0,0,0,0,0,0,0,0,0,0,1.5945580494845018E-4,0,0,0,0,7.0732740364252436E-2,0,0,0,0,2.5520082435088196E-4,3.1598196818916388E-2,0,3.8700348728417113E-3,0,0,3.355704697986577E-4,3.0201342281879194E-3,0,3.355704697986577E-4,1.6778523489932885E-4,0,0,3.6468400131286242E-5,0,0,5.4702600196929359E-4,0,0,0,0,1.1944006497539535E-3,6.2108833787205585E-4,0,0,0,0,3.1601220081888378E-4,1.7998955785771208E-3,0,0,0,0,5.1233453771016603E-4,3.2112994880003215E-3,0]
[20,2.7125220458553791E-2,8.2007602421512032E-3,0,0,0,0,9.918680983919204E-3,2.0807324178110696E-4,0,0,0,0,0,0,0,0,0,0,0.24593409701598076,0.26669490328956658,0,0,0,0,0.17425962956092722,0.10853108786254997,0,4.37611635621332E-2,0,0,1.9463087248322148E-2,4.5302013422818792E-3,0,7.046979865771812E-3,1.3422818791946308E-3,0,1.823420006564312E-4,5.8349440210057988E-4,0,7.2936800262572485E-5,0,0,4.7804413409047119E-5,2.388801299507907E-4,0,1.9110410396063255E-4,4.7776025990158137E-5,0,0,2.0609491357753291E-5,0,2.7479321810337722E-5,0,0,0,0,0,0,0,0]
[30,0.18476190476190477,0.13716035477967056,0,0,0,0,3.7586580570641197E-3,2.0807324178110696E-4,0,3.5372451102788183E-3,0,0,0,0,0,0,0,0,5.741762126997596E-2,0.2503176620076239,0,0,0,0,6.9627291577065639E-2,0.12239516883558731,0,0.13260185421451051,0,0,1.2080536912751677E-2,1.7114093959731545E-2,0,1.3087248322147652E-2,5.0335570469798654E-3,0,2.9174720105028994E-4,3.2456876116844753E-3,0,2.552788009190037E-4,0,0,0,2.1021451435669579E-3,0,5.7808991448091351E-3,9.5552051980316274E-5,0,0,2.0609491357753291E-5,0,3.8471050534472811E-4,0,0,0,3.6834509247136119E-5,0,1.3394366998958588E-5,3.6834509247136119E-5,0]
[40,0.1344268077601411,0.12005490637758694,0,0,0,0,1.8793290285320598E-2,2.0807324178110696E-4,0,1.0715771951727009E-2,0,0,0,0,7.9727902474225102E-4,3.1426775612822125E-4,1.5713387806411063E-4,0,1.5697921086126432E-2,3.4025130594380913E-2,0,0,0,0,2.5137281198561876E-2,4.2230160755294718E-2,0,7.4466275410393815E-2,0,0,2.0302013422818791E-2,1.2919463087248322E-2,0,2.2315436241610739E-2,9.731543624161074E-3,0,1.7869516064330257E-3,3.6103716129973376E-3,0,6.1996280223186606E-4,5.8349440210057988E-4,0,1.4341324022714138E-4,1.2421766757441117E-3,0,1.4810568056949023E-2,3.822082079212651E-4,0,4.0533420848357191E-4,5.4958643620675444E-5,0,1.4701437168530682E-3,3.2975186172405266E-4,0,2.3441289503261504E-5,2.0091550498437882E-5,0,2.5114438123047353E-4,1.9756691323463918E-4,0]
[50,8.761904761904761E-2,6.9688863860340705E-2,0,0,0,0,0.13071777465122994,1.0403662089055348E-4,0,1.7790262172284643E-2,0,0,0,0,3.3485719039174542E-3,1.1156505342551854E-2,2.1998742928975488E-3,0,8.9096308867204072E-3,1.327121276295355E-2,0,0,0,0,1.9267662238491589E-2,2.4240877774942587E-2,0,1.169516033001616E-2,0,0,9.2953020134228181E-2,1.7953020134228188E-2,0,1.8624161073825505E-2,6.5436241610738258E-3,0,3.3003902118814051E-2,5.6890704204806538E-3,0,1.6775464060391672E-3,3.6103716129973376E-3,0,2.1990030168161676E-2,8.1219244183268838E-4,0,1.2612870861401749E-2,4.7298265730256559E-3,0,2.9829849715858805E-2,7.5568134978428735E-5,0,3.8883240361627875E-3,4.5684372509686459E-3,0,5.4819129881198683E-3,1.6742958748698233E-5,0,1.1552641536601781E-3,7.0956659176983116E-3,0]
[60,4.6349206349206348E-2,6.187526397296917E-2,0,0,0,0,0.19753836233236982,3.1210986267166043E-4,0,3.7453183520599252E-2,0,0,4.7140163419233188E-4,0,4.5125992800411407E-2,3.6140791954745441E-2,2.6712759270898804E-3,0,4.2426813746287654E-3,1.2847663419455034E-2,0,0,0,0,2.4201544842608641E-2,2.6027047716254147E-2,0,5.3585098239346774E-3,0,0,0.11644295302013423,1.4932885906040269E-2,3.355704697986577E-4,2.1308724832214763E-2,3.0201342281879194E-3,0,0.1677546406039167,4.011524014441486E-3,3.7368854455515537E-5,3.9750556143101998E-3,1.1378140840961308E-2,0,0.13088848391397101,1.4332807797047442E-4,0,2.4556877358941284E-2,1.5909416654722661E-2,0,0.10576474812889135,7.5568134978428735E-5,0,9.0750460278640321E-3,1.5312852078810694E-2,0,6.7383661054946836E-2,2.6788733997917176E-5,0,6.5498454624907491E-3,5.7589080912022451E-2,0]
[70,1.6119929453262787E-2,5.244262987470083E-2,0,0,0,0,0.11662280693723949,6.2421972534332086E-4,3.026519880452465E-4,5.2538493549729504E-2,0,0,2.0427404148334379E-3,0,6.9363275152575829E-2,5.2796983029541167E-2,1.272784412319296E-2,0,8.4853627492575306E-4,1.0024001129464916E-2,0,0,0,0,8.6768280279299857E-3,1.6628391596495706E-2,0,3.5723398826231182E-3,0,0,5.3859060402684567E-2,5.704697986577181E-3,0,4.1275167785234899E-2,2.0134228187919465E-3,0,0.10320557237154006,3.0268772108967578E-3,1.4947541782206215E-4,1.8088326465117974E-2,2.4616170088618213E-2,0,7.8351433577428242E-2,0,1.008021647264875E-4,3.8698581052028093E-2,2.3888012995079068E-2,0,5.4410964935421857E-2,8.9307795883597596E-5,4.597501918268042E-5,1.4831963947129784E-2,2.3907009974993818E-2,0,5.4996613930294806E-2,1.3394366998958588E-5,0,1.925105396925323E-2,0.13773092725854141,0]
[80,2.9629629629629628E-3,3.5337181472617205E-2,0,0,0,0,1.9315326126579501E-2,0,0,5.8676654182272157E-2,0,0,9.4280326838466376E-4,0,8.0684637303915799E-2,6.1910747957259586E-2,2.6084223758642364E-2,0,2.8284542497525106E-4,4.5178596639841879E-3,0,0,0,0,6.8053553160235189E-4,9.908990388704601E-3,0,3.3171727481500382E-3,0,0,8.389261744966443E-3,5.0335570469798654E-3,0,5.1174496644295304E-2,2.0134228187919465E-3,0,1.250866124503118E-2,8.7524160315086976E-4,8.2211479802134159E-4,3.9714087742970715E-2,4.1537507749535026E-2,0,9.6564915086275183E-3,4.7776025990158137E-5,1.8648400474400189E-3,4.1612918637427741E-2,4.1947350819358846E-2,0,5.427356350881726E-3,4.1218982715506583E-5,5.3637522379793822E-5,1.9654584924844055E-2,2.9011294001264048E-2,0,8.8641561878761693E-3,2.3440142248177527E-5,3.348591749739647E-6,3.4446963329571749E-2,0.14208074794145323,0]
[90,6.3492063492063492E-4,1.1403632268055752E-2,0,0,0,0,1.6705146920284973E-3,0,3.026519880452465E-4,6.4814814814814811E-2,0,0,1.5713387806411063E-4,0,9.2803278479998016E-2,3.1583909490886235E-2,3.1269641734758012E-2,0,0,3.5295778624876463E-3,0,0,0,0,4.2533470725146993E-5,5.741260525644297E-3,0,4.5079527090244112E-3,0,0,1.6778523489932885E-4,1.8456375838926174E-3,3.355704697986577E-4,7.2483221476510068E-2,8.3892617449664428E-4,0,1.823420006564312E-4,2.1881040078771744E-4,1.9058115772312922E-3,6.7794755844061125E-2,4.6971299369096678E-2,0,2.8682648045428276E-4,0,1.9656422121665062E-3,4.643829726243371E-2,4.2329559027280111E-2,0,9.6180998623220457E-5,6.8698304525844305E-6,0,1.8995081201395949E-2,2.4745129290209118E-2,0,9.0416402369722932E-5,1.3394366998958588E-5,1.2389789474036693E-4,3.4122149929847002E-2,7.2928979717579778E-2,0]
[100,null,2.3933549204561452E-3,0,0,0,0,null,0,1.5132599402262325E-4,6.0861423220973786E-2,0,0,null,0,7.9090079254431289E-2,2.4512884978001259E-2,2.0741671904462602E-2,0,null,5.6473245799802349E-4,0,0,0,0,null,9.7814068214680623E-4,0,2.1689206430211788E-3,0,0,null,5.0335570469798663E-4,0,6.6107382550335575E-2,3.355704697986577E-4,0,null,7.2936800262572485E-5,1.9805492861423228E-3,6.3199737427519054E-2,4.7810072572116259E-2,0,null,0,1.5120324708973126E-3,5.0355931393626679E-2,3.5019827050785914E-2,0,null,6.8698304525844305E-6,2.298750959134021E-5,1.476326564260394E-2,1.6576900882086229E-2,3.4349152262922152E-5,null,0,6.6971834994792933E-5,2.5251730384786678E-2,2.8057850271068503E-2,0]
[110,null,9.8549908489370679E-4,0,0,0,0,null,0,1.5132599402262325E-4,6.3670411985018729E-2,0,0,null,0,4.8634020509277308E-2,2.4984286612193589E-2,8.1709616593337517E-3,0,null,0,0,0,0,0,null,3.4022284596410649E-4,0,8.5055711491026625E-4,0,0,null,5.0335570469798663E-4,0,6.5771812080536909E-2,3.355704697986577E-4,0,null,7.2936800262572485E-5,2.0926558495088696E-3,4.3980890558331209E-2,3.2201597315925749E-2,3.6468400131286242E-5,null,0,7.5601623544865632E-4,3.6500883856480815E-2,2.8044527256222827E-2,0,null,0,3.0650012788453611E-5,1.3664092770190431E-2,9.7002005990492156E-3,3.4349152262922152E-5,null,0,1.3394366998958588E-5,1.4027250839659382E-2,1.3769409274929428E-2,3.348591749739647E-6]
[120,null,2.463747712234267E-4,0,0,0,0,null,0,0,4.0782355389096962E-2,0,0,null,0,2.4077826547215977E-2,1.6027655562539284E-2,7.54242614707731E-3,0,null,1.4118311449950587E-4,0,0,0,0,null,8.5055711491026622E-5,6.3791783618269963E-5,8.0802925916475296E-4,0,0,null,1.6778523489932885E-4,1.6778523489932885E-4,5.5704697986577179E-2,1.6778523489932885E-4,0,null,0,1.3079099059430436E-3,3.1836913314612886E-2,1.8525947266693411E-2,1.0940520039385872E-4,null,0,1.5624335532605561E-3,2.6229038268596818E-2,1.820266590225025E-2,0,null,0,1.5325006394226806E-5,1.2228298205600285E-2,6.4988596081448713E-3,6.8698304525844305E-6,null,0,0,9.8348139689853429E-3,7.9127223046347867E-3,0]
[130,null,2.1117837533436576E-4,0,0,0,0,null,0,0,2.8922180607573865E-2,0,0,null,0,1.594558049484502E-2,1.7756128221244501E-2,4.3997485857950975E-3,0,null,0,0,0,0,0,null,0,0,9.7814068214680623E-4,0,0,null,0,0,4.7147651006711408E-2,0,0,null,0,6.3527052574376402E-4,2.0021151672076146E-2,1.1706356442142882E-2,7.2936800262572485E-5,null,0,4.0320865890594999E-4,2.2263628111413691E-2,1.0462949691844633E-2,0,null,0,7.6625031971134028E-6,1.0923030419609243E-2,5.8943145283174413E-3,0,null,0,0,1.1974564097068978E-2,5.8935214795417783E-3,3.348591749739647E-6]
[140,null,0,0,0,0,0,null,0,1.5132599402262325E-4,1.9662921348314606E-2,0,0,null,0,1.1799729566185314E-2,1.2256442489000629E-2,2.6712759270898804E-3,0,null,0,0,0,0,0,null,0,0,5.1033426894615971E-4,0,0,null,0,0,2.8859060402684565E-2,3.355704697986577E-4,0,null,0,7.4737708911031073E-5,1.6994274461179387E-2,9.5547208343969951E-3,3.6468400131286242E-5,null,0,3.0240649417946251E-4,2.1355883617600688E-2,7.8830442883760926E-3,4.7776025990158137E-5,null,0,7.6625031971134028E-6,1.073067516693688E-2,7.3094996015498339E-3,1.3739660905168861E-5,null,0,0,1.4747198065853406E-2,6.1111799432748554E-3,0]
[150,null,0,0,0,0,0,null,0,4.5397798206786967E-4,1.1860174781523096E-2,0,0,null,0,8.2917018573194102E-3,1.0527969830295412E-2,2.9855436832181017E-3,0,null,0,0,0,0,0,null,0,6.3791783618269963E-5,2.5516713447307985E-4,0,0,null,0,0,2.1979865771812081E-2,3.355704697986577E-4,0,null,0,7.4737708911031073E-5,1.2581598045293753E-2,7.621895627438824E-3,3.6468400131286242E-5,null,0,1.008021647264875E-4,2.517796569681334E-2,5.9242272227796088E-3,4.7776025990158137E-5,null,0,0,1.5058668352065071E-2,1.5573905636008903E-2,2.0609491357753291E-5,null,0,0,1.5929250953511501E-2,7.8223103273918158E-3,0]
[160,null,0,0,0,0,0,null,0,0,8.843112775697045E-3,0,0,null,0,8.7700692721647613E-3,9.8994343180389688E-3,2.1998742928975488E-3,0,null,0,0,0,0,0,null,0,0,1.2758356723653993E-4,0,0,null,0,0,1.2751677852348993E-2,1.6778523489932885E-4,0,null,0,0,1.0065278436235002E-2,6.345501622843806E-3,0,null,0,3.5280757654270628E-4,3.1579953179494531E-2,4.9687067029764468E-3,4.7776025990158137E-5,null,0,7.6625031971134028E-6,2.5569508944519249E-2,3.5558242422577012E-2,6.8698304525844305E-6,null,0,0,1.3779455050178647E-2,1.1291451380122089E-2,0]
[170,null,0,0,0,0,0,null,0,1.5132599402262325E-4,9.6754057428214725E-3,0,0,null,0,7.4944228325771597E-3,9.585166561910748E-3,2.1998742928975488E-3,0,null,0,0,0,0,0,null,4.2527855745513311E-5,0,4.2527855745513311E-5,0,0,null,0,0,7.550335570469799E-3,0,0,null,0,0,6.5278436235002369E-3,6.2360964224499474E-3,0,null,0,2.5200541181621874E-4,2.126033156562037E-2,5.1120347809469205E-3,1.4332807797047442E-4,null,0,7.6625031971134028E-6,3.5551372592124424E-2,5.4031216509576541E-2,0,null,0,0,1.0350497098445249E-2,1.6853462276439642E-2,0]
[180,null,0,null,0,0,0,null,0,null,4.1614648356221393E-3,0,0,null,0,null,5.6568196103079825E-3,2.9855436832181017E-3,0,null,0,null,0,0,0,null,0,null,8.5055711491026622E-5,0,0,null,0,null,2.5167785234899327E-3,0,0,null,0,null,3.2456876116844753E-3,7.1113380256008166E-3,0,null,0,null,1.4476135875017917E-2,5.7331231188189769E-3,1.9110410396063255E-4,null,0,null,3.1889752960896925E-2,6.4961116759638365E-2,1.3739660905168861E-5,null,0,null,6.5665884212394478E-3,2.1859606942300415E-2,0]
[190,null,null,null,0,0,0,null,null,null,9.3632958801498128E-4,0,0,null,null,null,4.0854808296668758E-3,2.6712759270898804E-3,0,null,null,null,0,0,0,null,null,null,0,0,0,null,null,null,1.0067114093959733E-3,0,0,null,null,null,1.9692936070894568E-3,7.0748696254695305E-3,3.6468400131286242E-5,null,null,null,9.2685490420906791E-3,6.0675553007500833E-3,0,null,null,null,2.1131598472149706E-2,6.4116127613970481E-2,0,null,null,null,4.0618417924341921E-3,2.5633469844256997E-2,0]
[200,null,null,null,0,0,0,null,null,null,1.0403662089055348E-3,0,0,null,null,null,5.02828409805154E-3,5.3425518541797608E-3,0,null,null,null,0,0,0,null,null,null,0,0,0,null,null,null,5.0335570469798663E-4,0,0,null,null,null,7.65836402757011E-4,5.6526020203493677E-3,1.0940520039385872E-4,null,null,null,3.2487697673307535E-3,6.2586594047107161E-3,4.7776025990158137E-5,null,null,null,1.2509961254156248E-2,5.5817372427248498E-2,0,null,null,null,2.2636480228240014E-3,2.551292054126637E-2,3.348591749739647E-6]
[210,null,null,null,0,0,0,null,null,null,5.2018310445276742E-4,0,0,null,null,null,1.7284726587052169E-3,4.8711502199874296E-3,0,null,null,null,0,0,0,null,null,null,0,0,0,null,null,null,3.355704697986577E-4,0,0,null,null,null,2.9174720105028994E-4,5.3973232194303635E-3,0,null,null,null,1.3377287277244279E-3,9.0774449381300464E-3,0,null,null,null,7.124014179330054E-3,3.9879365777252616E-2,0,null,null,null,1.2557219061523676E-3,2.009824768193736E-2,0]
[220,null,null,null,0,0,0,null,null,null,1.0403662089055348E-3,0,0,null,null,null,1.8856065367693275E-3,4.3997485857950975E-3,0,null,null,null,0,0,0,null,null,null,0,0,0,null,null,null,3.355704697986577E-4,0,0,null,null,null,2.552788009190037E-4,3.2821560118157615E-3,7.2936800262572485E-5,null,null,null,8.5996846782284645E-4,8.7430127561989399E-3,4.7776025990158137E-5,null,null,null,2.9952460773268116E-3,2.4181803193097193E-2,0,null,null,null,6.228380654515743E-4,1.2701208506762481E-2,0]
[230,null,null,null,0,0,0,null,null,null,1.0403662089055348E-4,0,0,null,null,null,1.8856065367693275E-3,6.1282212445003146E-3,0,null,null,null,0,0,0,null,null,null,0,0,0,null,null,null,0,0,0,null,null,null,1.823420006564312E-4,2.2610408081397467E-3,3.6468400131286242E-5,null,null,null,9.5552051980316274E-5,6.3064354307008743E-3,0,null,null,null,1.1816108378445221E-3,1.2070292105190844E-2,0,null,null,null,2.1096128023359776E-4,6.6737433572311164E-3,0]
[240,null,null,null,0,0,0,null,null,null,1.0403662089055348E-4,0,0,null,null,null,1.5713387806411063E-3,2.8284098051539913E-3,0,null,null,null,0,0,0,null,null,null,0,0,0,null,null,null,1.6778523489932885E-4,0,0,null,null,null,3.6468400131286242E-5,2.2975092082710333E-3,1.0940520039385872E-4,null,null,null,1.4332807797047442E-4,3.3443218193110699E-3,0,null,null,null,2.2670440493528619E-4,4.843230469072023E-3,0,null,null,null,6.0274651495313643E-5,2.8797889047760964E-3,0]
[250,null,null,null,0,0,0,null,null,null,2.0807324178110696E-4,0,0,null,null,null,4.7140163419233188E-4,1.7284726587052169E-3,0,null,null,null,0,0,0,null,null,null,0,0,0,null,null,null,1.6778523489932885E-4,0,0,null,null,null,7.2936800262572485E-5,1.2763940045950185E-3,3.6468400131286242E-5,null,null,null,9.5552051980316274E-5,1.6721609096555349E-3,0,null,null,null,5.4958643620675444E-5,1.5388420213789124E-3,0,null,null,null,3.348591749739647E-6,1.1586127454099179E-3,0]
[260,null,null,null,0,0,0,null,null,null,1.0403662089055348E-4,0,0,null,null,null,3.1426775612822125E-4,3.1426775612822125E-4,0,null,null,null,0,0,0,null,null,null,0,0,0,null,null,null,0,0,0,null,null,null,0,9.8464680354472841E-4,0,null,null,null,9.5552051980316274E-5,2.388801299507907E-4,0,null,null,null,3.4349152262922152E-5,4.6714847077574127E-4,6.8698304525844305E-6,null,null,null,6.697183499479294E-6,2.779331152283907E-4,0]
[270,null,null,null,0,0,0,null,null,null,3.1210986267166043E-4,0,0,null,null,null,0,1.5713387806411063E-4,0,null,null,null,0,0,0,null,null,null,0,0,0,null,null,null,0,0,0,null,null,null,0,4.3762080157543488E-4,3.6468400131286242E-5,null,null,null,0,1.4332807797047442E-4,0,null,null,null,0,1.9235525267236405E-4,0,null,null,null,0,9.3760568992710109E-5,0]
[280,null,null,null,0,0,0,null,null,null,0,0,0,null,null,null,0,0,0,null,null,null,0,0,0,null,null,null,0,0,0,null,null,null,0,0,0,null,null,null,0,1.4587360052514497E-4,0,null,null,null,0,1.4332807797047442E-4,0,null,null,null,0,1.1678711769393532E-4,0,null,null,null,0,5.0228876246094707E-5,0]
[290,null,null,null,0,0,0,null,null,null,0,0,0,null,null,null,3.1426775612822125E-4,0,0,null,null,null,0,0,0,null,null,null,0,0,0,null,null,null,0,0,0,null,null,null,0,1.0940520039385872E-4,0,null,null,null,0,1.4332807797047442E-4,1.9110410396063255E-4,null,null,null,0,2.7479321810337722E-5,0,null,null,null,0,6.697183499479294E-6,0]
[300,null,null,null,0,0,0,null,null,null,0,0,0,null,null,null,0,1.5713387806411063E-4,0,null,null,null,0,0,0,null,null,null,0,0,0,null,null,null,0,0,0,null,null,null,0,1.0940520039385872E-4,0,null,null,null,0,4.7776025990158137E-5,4.7776025990158137E-5,null,null,null,0,1.3739660905168861E-5,0,null,null,null,0,6.697183499479294E-6,0]
[310,null,null,null,0,0,0,null,null,null,0,0,0,null,null,null,0,0,0,null,null,null,0,0,0,null,null,null,0,0,0,null,null,null,0,0,0,null,null,null,0,3.6468400131286242E-5,0,null,null,null,0,4.7776025990158137E-5,0,null,null,null,0,1.3739660905168861E-5,0,null,null,null,0,6.697183499479294E-6,0]
[320,null,null,null,0,0,0,null,null,null,0,0,0,null,null,null,0,0,0,null,null,null,0,0,0,null,null,null,0,0,0,null,null,null,0,0,0,null,null,null,0,0,0,null,null,null,0,4.7776025990158137E-5,0,null,null,null,0,0,0,null,null,null,0,0,0]
[330,null,null,null,0,0,0,null,null,null,0,0,0,null,null,null,0,0,0,null,null,null,0,0,0,null,null,null,0,0,0,null,null,null,0,0,0,null,null,null,0,0,3.6468400131286242E-5,null,null,null,0,4.7776025990158137E-5,0,null,null,null,0,0,0,null,null,null,0,0,0]
[340,null,null,null,null,0,0,null,null,null,null,0,0,null,null,null,null,0,0,null,null,null,null,0,0,null,null,null,null,0,0,null,null,null,null,0,0,null,null,null,null,0,3.6468400131286242E-5,null,null,null,null,4.7776025990158137E-5,0,null,null,null,null,0,0,null,null,null,null,0,0]
[350,null,null,null,null,0,0,null,null,null,null,0,0,null,null,null,null,0,0,null,null,null,null,0,0,null,null,null,null,0,0,null,null,null,null,0,0,null,null,null,null,0,0,null,null,null,null,4.7776025990158137E-5,0,null,null,null,null,0,0,null,null,null,null,0,0]
[360,null,null,null,null,0,0,null,null,null,null,0,0,null,null,null,null,0,0,null,null,null,null,0,0,null,null,null,null,0,0,null,null,null,null,0,0,null,null,null,null,7.2936800262572485E-5,0,null,null,null,null,0,4.7776025990158137E-5,null,null,null,null,0,0,null,null,null,null,0,0]
[370,null,null,null,null,0,0,null,null,null,null,0,0,null,null,null,null,0,0,null,null,null,null,0,0,null,null,null,null,0,0,null,null,null,null,0,0,null,null,null,null,0,0,null,null,null,null,4.7776025990158137E-5,0,null,null,null,null,0,0,null,null,null,null,0,0]
[380,null,null,null,null,0,0,null,null,null,null,0,0,null,null,null,null,0,0,null,null,null,null,0,0,null,null,null,null,0,0,null,null,null,null,0,0,null,null,null,null,0,0,null,null,null,null,0,0,null,null,null,null,0,0,null,null,null,null,0,0]
[390,null,null,null,null,0,0,null,null,null,null,0,0,null,null,null,null,0,0,null,null,null,null,0,0,null,null,null,null,0,0,null,null,null,null,0,0,null,null,null,null,0,0,null,null,null,null,0,0,null,null,null,null,0,0,null,null,null,null,0,0]
[400,null,null,null,null,0,0,null,null,null,null,0,0,null,null,null,null,0,0,null,null,null,null,0,0,null,null,null,null,0,0,null,null,null,null,0,0,null,null,null,null,0,0,null,null,null,null,0,0,null,null,null,null,0,0,null,null,null,null,0,0]
[410,null,null,null,null,null,0,null,null,null,null,null,0,null,null,null,null,null,0,null,null,null,null,null,0,null,null,null,null,null,0,null,null,null,null,null,0,null,null,null,null,null,0,null,null,null,null,null,0,null,null,null,null,null,0,null,null,null,null,null,0]
[420,null,null,null,null,null,0,null,null,null,null,null,0,null,null,null,null,null,0,null,null,null,null,null,0,null,null,null,null,null,0,null,null,null,null,null,0,null,null,null,null,null,0,null,null,null,null,null,0,null,null,null,null,null,0,null,null,null,null,null,0]
[430,null,null,null,null,null,0,null,null,null,null,null,0,null,null,null,null,null,0,null,null,null,null,null,0,null,null,null,null,null,0,null,null,null,null,null,0,null,null,null,null,null,0,null,null,null,null,null,0,null,null,null,null,null,0,null,null,null,null,null,0]
[440,null,null,null,null,null,0,null,null,null,null,null,0,null,null,null,null,null,0,null,null,null,null,null,0,null,null,null,null,null,0,null,null,null,null,null,0,null,null,null,null,null,0,null,null,null,null,null,0,null,null,null,null,null,0,null,null,null,null,null,0]
[450,null,null,null,null,null,0,null,null,null,null,null,0,null,null,null,null,null,0,null,null,null,null,null,0,null,null,null,null,null,0,null,null,null,null,null,0,null,null,null,null,null,3.6468400131286242E-5,null,null,null,null,null,0,null,null,null,null,null,0,null,null,null,null,null,0]
[460,null,null,null,null,null,0,null,null,null,null,null,0,null,null,null,null,null,0,null,null,null,null,null,0,null,null,null,null,null,0,null,null,null,null,null,0,null,null,null,null,null,0,null,null,null,null,null,0,null,null,null,null,null,0,null,null,null,null,null,0]
[470,null,null,null,null,null,0,null,null,null,null,null,0,null,null,null,null,null,0,null,null,null,null,null,0,null,null,null,null,null,0,null,null,null,null,null,0,null,null,null,null,null,0,null,null,null,null,null,0,null,null,null,null,null,0,null,null,null,null,null,0]
[480,null,null,null,null,null,0,null,null,null,null,null,0,null,null,null,null,null,0,null,null,null,null,null,0,null,null,null,null,null,0,null,null,null,null,null,0,null,null,null,null,null,0,null,null,null,null,null,0,null,null,null,null,null,0,null,null,null,null,null,0]
[490]
[500]

{"sheet":"100088-1","index":22,"n_rows":56,"n_cols":61,"rows_kept":56,"cut":false,"hidden":true,"merged":[[0,20,0,29],[4,37,4,42],[4,43,4,48],[4,49,4,54],[4,55,4,60],[4,31,4,36],[4,1,4,6],[4,7,4,12],[4,13,4,18],[4,19,4,24],[4,25,4,30]]}
[null,null,null,null,null,null,null,null,null,null,null,null,null,null,null,null,null,null,null,null,"Recorded Classified Counts"]
["Year","WiM site ID & Lane",null,null,null,null,null,null,null,null,null,null,null,null,null,null,null,null,null,null,"Class 3","Class 4","Class 5","Class 6","Class 7","Class 8","Class 9","Class 10","Class 11","Class 12"]
[{"$f":"'Presumptive CTLD'!A3","v":"2014-2023"},{"$f":"MID(CELL(\"filename\",A1),FIND(\"]\",CELL(\"filename\",A1))+1,255)","v":"100088-1"},null,null,null,null,null,null,null,null,null,null,null,null,null,null,null,null,null,null,10466,1715,806,964,2499,502,1917,748,2151,11718]
[]
[null,"Class 3",null,null,null,null,null,"Class 4",null,null,null,null,null,"Class 5",null,null,null,null,null,"Class 6",null,null,null,null,null,"Class 7",null,null,null,null,null,"Class 8",null,null,null,null,null,"Class 9",null,null,null,null,null,"Class 10",null,null,null,null,null,"Class 11",null,null,null,null,null,"Class 12"]
["Load (kN)","SAST","SADT","TAST","TADT","TRDT","QADT","SAST","SADT","TAST","TADT","TRDT","QADT","SAST","SADT","TAST","TADT","TRDT","QADT","SAST","SADT","TAST","TADT","TRDT","QADT","SAST","SADT","TAST","TADT","TRDT","QADT","SAST","SADT","TAST","TADT","TRDT","QADT","SAST","SADT","TAST","TADT","TRDT","QADT","SAST","SADT","TAST","TADT","TRDT","QADT","SAST","SADT","TAST","TADT","TRDT","QADT","SAST","SADT","TAST","TADT","TRDT","QADT"]
[10,0,0.35223581119816549,0,0,0,0,0,0,0,0.21778425655976677,0,0,0,0,0,0.19416873449131514,8.6848635235732014E-3,0,0,0.16424619640387275,0,0,0,0,0,8.6378308586184629E-2,0,5.0355067785668173E-2,0,0,0,7.6973255055446832E-2,0,6.5231572080887146E-2,6.262230919765166E-2,0,0,9.2560850188549877E-3,0,0.14226945491943777,0.1330133699005828,3.4281796366129587E-4,0,0,0,0.19502353732347008,0.11768661735036987,3.3624747814391392E-4,0,3.5816618911174784E-4,0,0.18615687679083096,0.18382879656160458,0,0,1.1467232383464251E-5,0,8.056877472621983E-2,0.2467404391950003,0]
[20,2.2075688073394495E-2,6.2105866615708009E-4,0,0,0,0,3.2126168224299069E-3,0,0,0,0,0,0,0,0,0,0,0,0.22429906542056077,0.19571230982019364,0,0,0,0,0.18502259522272435,7.4112330535829565E-2,0,3.0213040671400904E-2,0,0,1.5033208208501457E-2,3.2615786040443573E-3,0,3.9138943248532287E-3,6.5231572080887146E-4,0,1.7140898183064793E-4,0,0,0,0,0,0,0,0,0,0,0,0,8.954154727793696E-5,0,0,0,0,0,0,0,0,0,0]
[30,7.6834862385321098E-2,5.4700936365373591E-2,0,0,0,0,1.7523364485981308E-3,0,0,2.0408163265306124E-3,0,0,0,0,0,0,0,0,2.8383523710626513E-2,0.25380359612724757,0,0,0,0,5.7456423499031635E-2,0.14590058102001291,0,0.14925758553905746,0,0,1.8301296949480034E-2,7.175472928897586E-3,0,1.1741682974559686E-2,3.2615786040443573E-3,0,0,6.856359273225917E-3,0,1.7140898183064793E-4,0,0,0,0,0,1.3449899125756557E-3,0,0,0,8.954154727793696E-5,0,0,0,0,0,1.4907402098503526E-4,0,0,3.4401697150392751E-5,0]
[40,2.1120030581039756E-2,3.9413338429199314E-2,0,0,0,0,2.7453271028037383E-2,0,0,2.0408163265306124E-3,0,0,0,0,0,0,0,0,3.8075458636206297E-3,3.4232365145228219E-2,0,0,0,0,1.0458360232408006E-2,4.041316978695933E-2,0,4.7772756617172368E-2,0,0,3.3988122906177205E-2,7.8277886497064575E-3,0,1.6307893020221786E-2,1.5003261578604044E-2,0,3.9424065821049023E-3,4.9708604730887901E-3,0,1.3712718546451835E-3,1.7140898183064793E-4,0,3.3671841298725275E-4,3.3624747814391392E-4,0,7.0611970410221925E-3,3.3624747814391392E-4,0,1.7908309455587392E-4,0,0,5.3724928366762179E-4,0,0,1.37606788601571E-4,2.8668080958660629E-4,0,1.37606788601571E-4,6.8803394300785502E-5,0]
[50,0.10435779816513761,2.0351614752532009E-2,0,0,0,0,0.12237149532710281,0,0,1.4577259475218658E-2,0,0,0,0,4.8573200992555826E-2,3.1017369727047149E-3,0,0,2.3191415714780204E-2,7.6071922544951589E-3,0,0,0,0,2.3111684958037445E-2,1.4590058102001291E-2,0,5.2937378954163979E-3,0,0,0.12549460765357739,3.1963470319634701E-2,0,9.7847358121330719E-3,1.3046314416177429E-2,0,7.1477545423380182E-2,8.5704490915323962E-4,1.8854988001371271E-3,1.7140898183064792E-3,1.0284538909838875E-3,0,5.2191354013024174E-2,1.0087424344317419E-3,3.3624747814391392E-4,6.3887020847343641E-3,6.7249495628782783E-4,0,3.3219914040114616E-2,8.954154727793696E-5,8.954154727793696E-5,1.7908309455587394E-3,5.3724928366762179E-4,0,1.920761424230262E-2,2.2934464766928503E-5,2.2934464766928503E-5,1.7200848575196377E-4,3.3254973912046326E-4,0]
[60,7.1674311926605509E-3,1.0940187273074718E-2,0,0,0,0,0.10922897196261683,0,0,3.3527696793002916E-2,0,0,3.1017369727047149E-3,0,4.9818667684672644E-3,1.054590570719603E-2,0,0,2.0768431983385254E-3,4.8409405255878286E-3,0,0,0,0,5.1646223369916072E-3,8.6507424144609425E-3,0,2.5823111684958036E-3,0,0,3.7909829395351508E-2,4.1095890410958902E-2,0,5.8708414872798431E-3,5.8708414872798431E-3,0,0.10181693520740487,6.8563592732259174E-4,0,3.2567706547823104E-3,4.4566335275968462E-3,0,7.0374148314335819E-2,3.3624747814391392E-4,2.0174848688634837E-3,8.7424344317417624E-3,1.6812373907195697E-3,0,5.050143266475645E-2,8.954154727793696E-5,0,2.5071633237822352E-3,4.2084527220630375E-3,0,4.2566366607419297E-2,0,0,3.6695143627085605E-4,1.4116163064044493E-2,0]
[70,0.26715405198776759,9.6980699407605581E-3,0,0,0,0,0.22400700934579437,0,0,5.2186588921282799E-2,0,0,8.0645161290322578E-3,0,0.17187440351212063,4.8387096774193547E-2,1.2406947890818859E-3,0,5.157493942540671E-2,2.4204702627939143E-3,0,0,0,0,4.0929632020658489E-2,8.2633957391865728E-3,0,1.8076178179470626E-3,0,0,9.4774573488378769E-2,3.131115459882583E-2,0,1.1089367253750815E-2,2.4787997390737115E-2,0,0.13267055193692148,1.0284538909838875E-3,4.11381556393555E-3,9.9417209461775801E-3,5.6564964004113816E-3,0,0.10808661056890813,0,1.0087424344317419E-3,9.751176866173503E-3,5.3799596503026226E-3,0,0.1012714899713467,1.7908309455587392E-4,1.7908309455587392E-4,6.984240687679083E-3,1.0565902578796561E-2,0,6.5523765839114734E-2,1.1467232383464251E-5,1.2613955621810675E-4,2.4998566595952065E-3,5.9549337767329853E-2,0]
[80,1.0034403669724769E-3,6.4494553793235238E-3,0,0,0,0,1.0221962616822431E-2,0,0,4.6647230320699708E-2,0,0,3.1017369727047149E-3,0,4.6082267608322194E-2,5.3970223325062038E-2,3.1017369727047149E-3,0,0,2.0746887966804979E-3,0,0,0,0,3.8734667527437055E-4,5.2937378954163979E-3,0,1.0329244673983216E-3,0,0,1.9608532445871468E-3,2.217873450750163E-2,0,1.0437051532941943E-2,2.0874103065883887E-2,0,4.9708604730887901E-3,6.8563592732259174E-4,1.5426808364758314E-3,1.731230716489544E-2,1.1827219746314706E-2,0,8.4179603246813187E-3,3.3624747814391392E-4,1.0087424344317419E-3,1.9502353732347006E-2,4.3712172158708812E-3,0,6.626074498567335E-3,0,1.7908309455587392E-4,1.2714899713467049E-2,1.2446275071633237E-2,0,6.1579037899203029E-3,4.5868929533857006E-5,6.8803394300785502E-5,1.1490166848231179E-2,5.5432601341666186E-2,0]
[90,2.8669724770642203E-4,3.2008408178864894E-3,0,0,0,0,1.7523364485981308E-3,0,0,3.965014577259475E-2,0,0,0,0,5.1064134376789465E-2,3.3498759305210915E-2,5.5831265508684861E-3,0,0,1.037344398340249E-3,0,0,0,0,1.291155584247902E-4,2.1949644932214331E-3,0,1.2911555842479018E-3,0,0,0,8.4801043705153289E-3,0,1.5655577299412915E-2,1.4350945857795172E-2,0,1.7140898183064793E-4,6.8563592732259174E-4,3.5995886184436066E-3,1.8854988001371271E-2,1.1827219746314706E-2,0,1.0101552389617581E-3,0,1.0087424344317419E-3,1.6476126429051781E-2,5.0437121721587088E-3,0,1.7908309455587392E-4,0,1.7908309455587392E-4,1.4237106017191976E-2,1.2804441260744986E-2,0,4.1282036580471301E-4,0,9.1737859067714012E-5,1.8897998967949085E-2,2.8576343099592914E-2,0]
[100,null,1.1943435887636156E-3,0,0,0,0,null,0,0,2.1282798833819241E-2,0,0,null,0,7.161433479671693E-2,1.9851116625310174E-2,1.2406947890818859E-3,0,null,6.9156293222683268E-4,0,0,0,0,null,6.4557779212395089E-4,0,5.164622336991608E-4,0,0,null,6.5231572080887146E-3,0,1.5003261578604044E-2,1.1741682974559686E-2,0,null,6.8563592732259174E-4,1.3712718546451835E-3,1.6626671237572849E-2,1.4912581419266369E-2,0,null,0,2.6899798251513113E-3,1.9838601210490921E-2,8.7424344317417624E-3,0,null,0,0,1.7460601719197708E-2,1.3520773638968482E-2,0,null,0,2.2934464766928503E-5,1.4850065936586205E-2,1.8714523249813656E-2,0]
[110,null,6.6883240970762466E-4,0,0,0,0,null,0,0,1.9533527696793004E-2,0,0,null,0,5.853693452949036E-2,1.5508684863523574E-2,1.8610421836228288E-3,0,null,0,0,0,0,0,null,2.582311168495804E-4,0,2.582311168495804E-4,0,0,null,0,0,1.6960208741030658E-2,1.0437051532941943E-2,0,null,0,3.4281796366129587E-4,1.7483716146726089E-2,9.598902982516283E-3,0,null,0,1.3449899125756557E-3,2.1856086079354405E-2,6.0524546065904503E-3,0,null,0,0,1.916189111747851E-2,1.0118194842406877E-2,0,null,0,0,1.1604839172065822E-2,1.4609254056533455E-2,0]
[120,null,4.2996369195490158E-4,0,0,0,0,null,0,0,1.4868804664723033E-2,0,0,null,0,1.7436533689635426E-2,1.6749379652605458E-2,6.2034739454094293E-4,0,null,0,0,0,0,0,null,0,0,1.291155584247902E-4,0,0,null,0,0,1.6960208741030658E-2,4.5662100456621002E-3,0,null,0,3.4281796366129587E-4,1.9369214946863215E-2,1.1655810764484058E-2,0,null,0,1.3449899125756557E-3,2.7236045729657026E-2,9.4149293880295901E-3,0,null,0,0,2.1310888252148996E-2,9.4914040114613182E-3,0,null,0,2.2934464766928503E-5,1.1386961756780001E-2,9.3457943925233638E-3,0]
[130,null,9.5547487101089239E-5,0,0,0,0,null,0,0,1.1661807580174927E-2,0,0,null,0,6.8500668066424891E-3,1.2406947890818859E-2,0,0,null,0,0,0,0,0,null,0,0,0,0,0,null,0,0,1.3046314416177429E-2,4.5662100456621002E-3,0,null,0,0,1.4912581419266369E-2,9.4274940006856354E-3,0,null,0,0,2.8917283120376596E-2,9.751176866173503E-3,0,null,0,0,2.4713467048710601E-2,9.8495702005730653E-3,0,null,0,1.1467232383464251E-5,1.216673355885557E-2,7.6601112321541195E-3,0]
[140,null,0,0,0,0,0,null,0,0,9.6209912536443145E-3,0,0,null,0,3.7364000763504485E-3,9.9255583126550868E-3,1.8610421836228288E-3,0,null,0,0,0,0,0,null,0,0,1.291155584247902E-4,0,0,null,0,0,1.1741682974559686E-2,4.5662100456621002E-3,0,null,0,0,1.8854988001371271E-2,7.0277682550565646E-3,0,null,0,3.3624747814391392E-4,4.5057162071284462E-2,6.7249495628782787E-3,0,null,0,0,2.9906876790830945E-2,1.0565902578796561E-2,0,null,0,0,1.3141448311450031E-2,7.4766355140186919E-3,0]
[150,null,0,0,0,0,0,null,0,0,4.9562682215743437E-3,0,0,null,0,1.8682000381752242E-3,5.5831265508684861E-3,1.8610421836228288E-3,0,null,0,0,0,0,0,null,0,0,0,0,0,null,0,0,5.2185257664709717E-3,2.6092628832354858E-3,0,null,0,1.7140898183064793E-4,2.4168666438121357E-2,7.1991772368872132E-3,0,null,0,0,3.496973772696705E-2,7.3974445191661064E-3,0,null,0,0,2.5787965616045846E-2,7.4319484240687678E-3,0,null,0,0,1.4735393612751562E-2,8.2678745484777248E-3,0]
[160,null,0,0,0,0,0,null,0,0,5.2478134110787176E-3,0,0,null,0,3.1136667302920406E-3,6.8238213399503724E-3,6.2034739454094293E-4,0,null,0,0,0,0,0,null,0,0,0,0,0,null,0,0,1.3046314416177429E-3,1.9569471624266144E-3,0,null,0,0,1.6112444292080905E-2,7.713404182379157E-3,0,null,0,0,1.9502353732347006E-2,1.109616677874916E-2,0,null,0,0,2.1400429799426933E-2,1.1103151862464184E-2,0,null,0,0,1.3508399747720888E-2,1.278596410756264E-2,0]
[170,null,0,0,0,0,0,null,0,0,1.749271137026239E-3,0,0,null,0,0,8.0645161290322578E-3,6.2034739454094293E-4,0,null,0,0,0,0,0,null,0,0,0,0,0,null,0,0,1.9569471624266144E-3,6.5231572080887146E-4,0,null,0,0,9.0846760370243401E-3,9.598902982516283E-3,0,null,0,0,1.5131136516476126E-2,1.109616677874916E-2,0,null,0,0,1.2267191977077364E-2,1.4416189111747852E-2,0,null,0,0,1.0228771286050112E-2,1.9253483171836477E-2,0]
[180,null,0,null,0,0,0,null,0,null,5.8309037900874635E-4,0,0,null,0,null,6.2034739454094297E-3,6.2034739454094293E-4,0,null,0,null,0,0,0,null,0,null,0,0,0,null,0,null,6.5231572080887146E-4,0,0,null,0,null,4.6280425094274939E-3,1.4226945491943779E-2,0,null,0,null,9.0786819098856754E-3,1.109616677874916E-2,0,null,0,null,6.1783667621776502E-3,1.6744269340974213E-2,0,null,0,null,7.0179462186801215E-3,2.6363167249584311E-2,0]
[190,null,null,null,0,0,0,null,null,null,1.1661807580174927E-3,0,0,null,null,null,1.2406947890818859E-3,6.2034739454094293E-4,0,null,null,null,0,0,0,null,null,null,0,0,0,null,null,null,6.5231572080887146E-4,0,0,null,null,null,1.1998628728145354E-3,1.64552622557422E-2,0,null,null,null,3.6987222595830532E-3,6.7249495628782787E-3,0,null,null,null,2.6862464183381087E-3,1.943051575931232E-2,0,null,null,null,3.5319075741069893E-3,2.9642795711255089E-2,0]
[200,null,null,null,0,0,0,null,null,null,2.9154518950437317E-4,0,0,null,null,null,4.3424317617866007E-3,3.1017369727047149E-3,0,null,null,null,0,0,0,null,null,null,0,0,0,null,null,null,6.5231572080887146E-4,0,0,null,null,null,0,1.1484401782653411E-2,0,null,null,null,1.6812373907195697E-3,1.1768661735036988E-2,0,null,null,null,1.5222063037249284E-3,1.7191977077363897E-2,8.954154727793696E-5,null,null,null,1.4104695831661028E-3,2.8197924430938593E-2,0]
[210,null,null,null,0,0,0,null,null,null,0,0,0,null,null,null,1.8610421836228288E-3,1.2406947890818859E-3,0,null,null,null,0,0,0,null,null,null,0,0,0,null,null,null,0,0,0,null,null,null,0,8.5704490915323971E-3,0,null,null,null,0,5.3799596503026226E-3,0,null,null,null,1.7908309455587392E-4,1.3878939828080229E-2,0,null,null,null,5.3895992202281984E-4,2.2567513330657644E-2,0]
[220,null,null,null,0,0,0,null,null,null,0,0,0,null,null,null,1.2406947890818859E-3,1.8610421836228288E-3,0,null,null,null,0,0,0,null,null,null,0,0,0,null,null,null,0,0,0,null,null,null,0,5.4850874185807339E-3,0,null,null,null,0,6.0524546065904503E-3,0,null,null,null,8.954154727793696E-5,9.4018624641833814E-3,0,null,null,null,1.9494295051889228E-4,1.3944154578292529E-2,0]
[230,null,null,null,0,0,0,null,null,null,2.9154518950437317E-4,0,0,null,null,null,0,2.4813895781637717E-3,0,null,null,null,0,0,0,null,null,null,0,0,0,null,null,null,0,0,0,null,null,null,0,3.2567706547823104E-3,0,null,null,null,0,1.6812373907195697E-3,0,null,null,null,8.954154727793696E-5,6.1783667621776502E-3,0,null,null,null,3.4401697150392751E-5,7.3848976549509776E-3,0]
[240,null,null,null,0,0,0,null,null,null,0,0,0,null,null,null,6.2034739454094293E-4,1.8610421836228288E-3,0,null,null,null,0,0,0,null,null,null,0,0,0,null,null,null,0,0,0,null,null,null,1.7140898183064793E-4,1.5426808364758314E-3,0,null,null,null,0,3.0262273032952251E-3,0,null,null,null,0,2.4176217765042979E-3,0,null,null,null,2.2934464766928503E-5,3.3713663207384898E-3,0]
[250,null,null,null,0,0,0,null,null,null,0,0,0,null,null,null,0,3.7220843672456576E-3,0,null,null,null,0,0,0,null,null,null,0,0,0,null,null,null,0,0,0,null,null,null,0,1.0284538909838875E-3,0,null,null,null,0,1.0087424344317419E-3,0,null,null,null,0,1.7012893982808024E-3,0,null,null,null,0,1.5251419070007454E-3,0]
[260,null,null,null,0,0,0,null,null,null,0,0,0,null,null,null,0,1.8610421836228288E-3,0,null,null,null,0,0,0,null,null,null,0,0,0,null,null,null,0,0,0,null,null,null,0,1.7140898183064793E-4,0,null,null,null,0,3.3624747814391392E-4,3.3624747814391392E-4,null,null,null,0,6.2679083094555879E-4,0,null,null,null,0,4.8162376010549854E-4,0]
[270,null,null,null,0,0,0,null,null,null,2.9154518950437317E-4,0,0,null,null,null,0,1.2406947890818859E-3,0,null,null,null,0,0,0,null,null,null,0,0,0,null,null,null,0,0,0,null,null,null,0,3.4281796366129587E-4,0,null,null,null,0,1.0087424344317419E-3,0,null,null,null,0,2.6862464183381089E-4,0,null,null,null,0,1.0320509145117825E-4,0]
[280,null,null,null,0,0,0,null,null,null,0,0,0,null,null,null,0,0,0,null,null,null,0,0,0,null,null,null,0,0,0,null,null,null,0,0,0,null,null,null,0,0,0,null,null,null,0,3.3624747814391392E-4,0,null,null,null,0,0,0,null,null,null,0,4.5868929533857006E-5,0]
[290,null,null,null,0,0,0,null,null,null,0,0,0,null,null,null,0,0,0,null,null,null,0,0,0,null,null,null,0,0,0,null,null,null,0,0,0,null,null,null,0,0,0,null,null,null,0,0,0,null,null,null,0,0,0,null,null,null,0,0,0]
[300,null,null,null,0,0,0,null,null,null,0,0,0,null,null,null,0,0,0,null,null,null,0,0,0,null,null,null,0,0,0,null,null,null,0,0,0,null,null,null,0,0,0,null,null,null,0,3.3624747814391392E-4,0,null,null,null,0,0,0,null,null,null,0,0,0]
[310,null,null,null,0,0,0,null,null,null,0,0,0,null,null,null,0,0,0,null,null,null,0,0,0,null,null,null,0,0,0,null,null,null,0,0,0,null,null,null,0,1.7140898183064793E-4,0,null,null,null,0,0,0,null,null,null,0,0,0,null,null,null,0,0,0]
[320,null,null,null,0,0,0,null,null,null,0,0,0,null,null,null,0,0,0,null,null,null,0,0,0,null,null,null,0,0,0,null,null,null,0,0,0,null,null,null,0,0,0,null,null,null,0,3.3624747814391392E-4,0,null,null,null,0,0,0,null,null,null,0,0,0]
[330,null,null,null,0,0,0,null,null,null,0,0,0,null,null,null,0,0,0,null,null,null,0,0,0,null,null,null,0,0,0,null,null,null,0,0,0,null,null,null,0,0,0,null,null,null,0,0,0,null,null,null,0,0,0,null,null,null,0,0,0]
[340,null,null,null,null,0,0,null,null,null,null,0,0,null,null,null,null,0,0,null,null,null,null,0,0,null,null,null,null,0,0,null,null,null,null,0,0,null,null,null,null,0,0,null,null,null,null,0,0,null,null,null,null,0,0,null,null,null,null,0,0]
[350,null,null,null,null,0,0,null,null,null,null,0,0,null,null,null,null,0,0,null,null,null,null,0,0,null,null,null,null,0,0,null,null,null,null,0,0,null,null,null,null,0,0,null,null,null,null,0,0,null,null,null,null,0,0,null,null,null,null,0,0]
[360,null,null,null,null,0,0,null,null,null,null,0,0,null,null,null,null,0,0,null,null,null,null,0,0,null,null,null,null,0,0,null,null,null,null,0,0,null,null,null,null,0,0,null,null,null,null,0,0,null,null,null,null,0,0,null,null,null,null,0,0]
[370,null,null,null,null,0,0,null,null,null,null,0,0,null,null,null,null,0,0,null,null,null,null,0,0,null,null,null,null,0,0,null,null,null,null,0,0,null,null,null,null,0,0,null,null,null,null,0,0,null,null,null,null,0,0,null,null,null,null,0,0]
[380,null,null,null,null,0,0,null,null,null,null,0,0,null,null,null,null,0,0,null,null,null,null,0,0,null,null,null,null,0,0,null,null,null,null,0,0,null,null,null,null,0,0,null,null,null,null,0,0,null,null,null,null,0,0,null,null,null,null,0,0]
[390,null,null,null,null,0,0,null,null,null,null,0,0,null,null,null,null,0,0,null,null,null,null,0,0,null,null,null,null,0,0,null,null,null,null,0,0,null,null,null,null,0,0,null,null,null,null,0,0,null,null,null,null,0,0,null,null,null,null,0,0]
[400,null,null,null,null,0,0,null,null,null,null,0,0,null,null,null,null,0,0,null,null,null,null,0,0,null,null,null,null,0,0,null,null,null,null,0,0,null,null,null,null,0,0,null,null,null,null,0,0,null,null,null,null,0,0,null,null,null,null,0,0]
[410,null,null,null,null,null,0,null,null,null,null,null,0,null,null,null,null,null,0,null,null,null,null,null,0,null,null,null,null,null,0,null,null,null,null,null,0,null,null,null,null,null,0,null,null,null,null,null,0,null,null,null,null,null,0,null,null,null,null,null,0]
[420,null,null,null,null,null,0,null,null,null,null,null,0,null,null,null,null,null,0,null,null,null,null,null,0,null,null,null,null,null,0,null,null,null,null,null,0,null,null,null,null,null,0,null,null,null,null,null,0,null,null,null,null,null,0,null,null,null,null,null,0]
[430,null,null,null,null,null,0,null,null,null,null,null,0,null,null,null,null,null,0,null,null,null,null,null,0,null,null,null,null,null,0,null,null,null,null,null,0,null,null,null,null,null,0,null,null,null,null,null,0,null,null,null,null,null,0,null,null,null,null,null,0]
[440,null,null,null,null,null,0,null,null,null,null,null,0,null,null,null,null,null,0,null,null,null,null,null,0,null,null,null,null,null,0,null,null,null,null,null,0,null,null,null,null,null,0,null,null,null,null,null,0,null,null,null,null,null,0,null,null,null,null,null,0]
[450,null,null,null,null,null,0,null,null,null,null,null,0,null,null,null,null,null,0,null,null,null,null,null,0,null,null,null,null,null,0,null,null,null,null,null,0,null,null,null,null,null,0,null,null,null,null,null,0,null,null,null,null,null,0,null,null,null,null,null,0]
[460,null,null,null,null,null,0,null,null,null,null,null,0,null,null,null,null,null,0,null,null,null,null,null,0,null,null,null,null,null,0,null,null,null,null,null,0,null,null,null,null,null,0,null,null,null,null,null,0,null,null,null,null,null,0,null,null,null,null,null,0]
[470,null,null,null,null,null,0,null,null,null,null,null,0,null,null,null,null,null,0,null,null,null,null,null,0,null,null,null,null,null,0,null,null,null,null,null,0,null,null,null,null,null,0,null,null,null,null,null,0,null,null,null,null,null,0,null,null,null,null,null,0]
[480,null,null,null,null,null,0,null,null,null,null,null,0,null,null,null,null,null,0,null,null,null,null,null,0,null,null,null,null,null,0,null,null,null,null,null,0,null,null,null,null,null,0,null,null,null,null,null,0,null,null,null,null,null,0,null,null,null,null,null,0]
[490]
[500]

{"sheet":"130000-2","index":23,"n_rows":56,"n_cols":61,"rows_kept":56,"cut":false,"hidden":true,"merged":[[0,20,0,29],[4,37,4,42],[4,43,4,48],[4,49,4,54],[4,55,4,60],[4,31,4,36],[4,1,4,6],[4,7,4,12],[4,13,4,18],[4,19,4,24],[4,25,4,30]]}
[null,null,null,null,null,null,null,null,null,null,null,null,null,null,null,null,null,null,null,null,"Recorded Classified Counts"]
["Year","WiM site ID & Lane",null,null,null,null,null,null,null,null,null,null,null,null,null,null,null,null,null,null,"Class 3","Class 4","Class 5","Class 6","Class 7","Class 8","Class 9","Class 10","Class 11","Class 12"]
[{"$f":"'Presumptive CTLD'!A3","v":"2014-2023"},{"$f":"MID(CELL(\"filename\",A1),FIND(\"]\",CELL(\"filename\",A1))+1,255)","v":"130000-2"},null,null,null,null,null,null,null,null,null,null,null,null,null,null,null,null,null,null,444048,203613,89257,23111,38902,26542,144586,38411,506,0]
[]
[null,"Class 3",null,null,null,null,null,"Class 4",null,null,null,null,null,"Class 5",null,null,null,null,null,"Class 6",null,null,null,null,null,"Class 7",null,null,null,null,null,"Class 8",null,null,null,null,null,"Class 9",null,null,null,null,null,"Class 10",null,null,null,null,null,"Class 11",null,null,null,null,null,"Class 12"]
["Load (kN)","SAST","SADT","TAST","TADT","TRDT","QADT","SAST","SADT","TAST","TADT","TRDT","QADT","SAST","SADT","TAST","TADT","TRDT","QADT","SAST","SADT","TAST","TADT","TRDT","QADT","SAST","SADT","TAST","TADT","TRDT","QADT","SAST","SADT","TAST","TADT","TRDT","QADT","SAST","SADT","TAST","TADT","TRDT","QADT","SAST","SADT","TAST","TADT","TRDT","QADT","SAST","SADT","TAST","TADT","TRDT","QADT","SAST","SADT","TAST","TADT","TRDT","QADT"]
[10,3.4035875901489348E-5,4.5039516544116332E-6,0,0,0,0,9.8830112176771643E-6,0,0,7.3668985618617196E-6,0,0,0,0,0,5.5991982359214644E-6,0,0,4.3312543312543311E-4,5.7059201084644066E-2,0,0,0,0,9.3388022388620081E-4,7.9009062327235358E-3,0,2.3837781017937675E-2,0,0,3.9186469525561769E-4,5.6247890704098598E-4,1.2532039801433323E-5,7.2497281351949303E-4,1.9999250028123944E-4,0,6.5409537221572576E-5,7.4227193694737298E-5,0,8.3229778836069651E-5,2.2495788783286105E-6,0,6.5230099231827937E-6,3.2541913985212952E-5,0,6.5085284994938894E-6,0,0,0,0,0,0,0,0,0,0,0,0,0,0]
[20,2.0387489664992119E-2,1.9299432839153846E-3,0,0,0,0,1.7443514799200192E-3,0,0,2.3574075397957503E-4,0,0,0,0,3.938210908861709E-5,1.0638476648250781E-4,0,0,3.7349849849849848E-2,5.8919827206969415E-2,0,0,0,0,9.8668690563685685E-2,6.7835892354349503E-2,0,8.5941473669933197E-2,0,0,3.6026270370274529E-3,3.2873767233728736E-3,3.7596119404299975E-5,1.9749259402772395E-3,1.8249315650663101E-3,0,1.8720660653070772E-4,5.5557929826060941E-4,8.9972355993620957E-6,3.0367622007755146E-4,8.5483997376487221E-5,0,9.1322138924559117E-5,1.3016765594085181E-4,0,1.2496374719028268E-3,1.9525919953144336E-5,0,3.9525691699604743E-4,3.9525691699604743E-4,0,7.9051383399209485E-4,1.1857707509881424E-3,0,0,0,0,0,0,0]
[30,0.18104816921198899,9.2182378510842891E-2,0,0,0,0,1.6566397553631346E-2,0,0,5.4441380372158106E-3,0,0,1.6797406480439421E-5,1.1198270986959614E-5,1.3839998336856861E-3,1.9877153737521197E-3,0,0,0.12598175098175099,0.11876275574594521,0,0,0,0,9.1664588884539183E-2,8.100124361982125E-2,0,8.261842596046251E-2,0,0,1.0946929873914997E-2,6.5747534467457472E-3,2.3810875622723318E-4,5.2373036011149586E-3,2.0374235966151271E-3,0,6.4935881952037046E-3,5.8437045217856814E-3,1.5745162298883669E-5,1.9862674246553919E-3,5.0615524762393752E-4,0,5.427144256088084E-3,8.9164844319483498E-4,0,1.4592120895865299E-2,2.4732831940649491E-4,0,5.1383399209486164E-3,3.9525691699604743E-4,0,5.1383399209486164E-3,6.7193675889328066E-3,0,0,0,0,0,0,0]
[40,0.16428209674291533,0.12458268072476658,0,0,0,0,4.22029286522859E-2,2.4556087331268983E-6,0,1.5303503945840746E-2,0,0,7.8387896908717293E-5,1.3997838733699518E-4,3.336227241364276E-3,6.8030258566445789E-3,0,0,0.10227535227535228,0.12366673157222909,0,0,0,0,4.2134977737701952E-2,4.5574326080602717E-2,0,3.2738801668305582E-2,0,0,1.4145051419065684E-2,8.9121657937827337E-3,2.1304467662436652E-4,1.1949551891804057E-2,2.8373935977400845E-3,0,7.2446701226100384E-3,3.4931767214523338E-3,2.0243780098564717E-5,6.2512312266334484E-3,2.029120148252407E-3,0,6.301227585794579E-3,7.5497240445694051E-4,1.3068522117322102E-5,4.3867482086588812E-2,1.2236243170637116E-3,0,5.5335968379446642E-3,7.9051383399209485E-4,0,2.3320158102766799E-2,3.0434782608695653E-2,0,0,0,0,0,0,0]
[50,8.0314456364744408E-2,0.10602302194484983,0,0,0,0,0.13633613974785647,0,0,3.1989529188457537E-2,0,0,1.4557752283047496E-4,1.3437925184351537E-4,6.4474138593650261E-3,2.7671237681923873E-2,0,0,5.1209863709863711E-2,0.12301767594816208,0,0,0,0,4.2720775332685118E-2,3.4994571811891376E-2,0,1.0893153843545488E-2,0,0,6.3001730359806399E-2,1.2849518143069635E-2,2.2557671642579983E-4,3.653612989512893E-2,1.9374273464745071E-3,0,4.2259072047702885E-2,1.8084443554717813E-3,2.0243780098564717E-5,7.1330169915993754E-3,7.6328211341689777E-3,0,2.7514055855985025E-2,3.449442882432573E-4,2.6137044234644204E-5,4.2669912842681935E-2,4.1199691101134542E-3,0,1.3043478260869565E-2,0,0,4.6640316205533598E-2,5.256916996047431E-2,0,0,0,0,0,0,0]
[60,3.797382674329166E-2,7.2663378028536479E-2,0,0,0,0,0.18068121108157389,0,0,5.769754953650099E-2,0,0,1.623749293109144E-4,1.2878011635003556E-4,1.9955477276760687E-2,4.455841956146301E-2,5.5991354934798071E-6,0,1.2459574959574959E-2,0.11052696104945083,0,0,0,0,3.7151453270236501E-2,3.6223790056252869E-2,0,9.901325828218779E-3,0,0,0.15664475172927789,8.124695323925353E-3,1.1780117413347326E-3,7.0134869942377165E-2,3.812357036611127E-3,0,0.17561332993350487,4.5413546687780183E-3,1.3495853399043143E-4,1.7840415566185635E-2,1.4948451646493619E-2,0,8.9097792540753784E-2,4.2304488180776843E-4,7.187687164527156E-5,4.4876304004010367E-2,1.1090722533385982E-2,0,8.1422924901185773E-2,0,0,8.8142292490118582E-2,4.2687747035573126E-2,0,0,0,0,0,0,0]
[70,1.217463280996274E-2,3.9891499803123828E-2,0,0,0,0,0.10375185176317486,0,0,5.8586488629632297E-2,0,0,8.9586167895676914E-5,3.3594812960878843E-5,4.8209327540051403E-2,6.5544214549696653E-2,5.5991354934798071E-6,0,2.7142527142527142E-3,4.5664669017690368E-2,0,0,0,0,1.3235629718532609E-2,3.1730785438931541E-2,0,1.3037875962157946E-2,0,0,6.5605734463763082E-2,5.7872829768883666E-3,9.5243502490893273E-4,7.3284751821806687E-2,6.0497731335074937E-3,0,8.8156267665695315E-2,4.0982408155094347E-3,1.6644885858819878E-4,3.4443631717240505E-2,3.1773052077513304E-2,0,0.11350689567330381,3.1891075705508696E-4,1.6335652646652624E-4,3.4625371617307492E-2,1.5750908762203097E-2,2.6033531188170364E-5,9.1699604743083002E-2,0,0,5.8893280632411067E-2,8.9328063241106717E-2,0,0,0,0,0,0,0]
[80,2.3881839590878359E-3,2.7182474222287811E-2,0,0,0,0,1.6628166373741825E-2,0,0,5.5047921687084715E-2,0,0,3.3594812960878843E-5,1.6797406480439421E-5,6.2921358292441928E-2,5.981063555611308E-2,1.6797406480439421E-5,0,4.6200046200046198E-4,1.570714610242098E-2,0,0,0,0,2.5893951662299204E-3,2.2108973664101913E-2,0,1.579295378250992E-2,0,0,3.9818509356619215E-3,4.2748396935114929E-3,1.115351542327566E-3,6.6684999312525778E-2,2.5874029723885355E-3,0,2.8915526454502084E-3,2.2920457689374939E-3,3.5089218837512176E-4,3.5485128679432404E-2,3.3885406644263864E-2,0,4.2660484897615479E-3,2.5382692908466106E-4,3.0711026975706936E-4,2.5409295262024144E-2,1.8875055954706191E-2,6.5083827970425909E-6,2.3715415019762848E-3,0,0,2.9249011857707511E-2,2.0553359683794466E-2,0,0,0,0,0,0,0]
[90,1.3886637367807654E-3,1.7334583929916773E-2,0,0,0,0,2.0680200972989465E-3,0,0,4.3749554926042794E-2,0,0,5.5991354934798071E-6,0,8.8857290135088321E-2,3.7458636198314597E-2,1.6797406480439421E-5,0,4.4756294756294752E-4,8.033866280117985E-3,0,0,0,0,6.791856173717824E-4,1.3792676438456218E-2,0,1.1969753484113797E-2,0,0,3.8048797829658364E-3,1.6499381273202254E-3,1.4035884577605323E-3,6.0160243990850341E-2,1.5749409397147608E-3,0,7.059719017362832E-4,1.3563332666038359E-3,2.7891430358022498E-4,3.3100707988453111E-2,2.0142729276554382E-2,0,4.9574875416189229E-4,1.0413412475268145E-4,1.1369614242070227E-3,1.8679476793547461E-2,1.4364568445529849E-2,1.3016765594085182E-5,3.9525691699604743E-4,0,0,8.3003952569169967E-3,7.5098814229249012E-3,0,0,0,0,0,0,0]
[100,null,8.8198633272515807E-3,0,0,0,0,null,4.9112174662537966E-6,0,3.6350733137079677E-2,0,0,null,0,9.0938915901200942E-2,2.491083295161459E-2,5.5991354934798071E-6,0,null,3.4327830783987077E-3,0,0,0,0,null,6.6547332539570563E-3,0,7.6718320843647218E-3,0,0,null,6.7497468844918314E-4,1.4161204975619657E-3,4.4660825219054283E-2,1.1499568766171269E-3,0,null,6.2305856525582512E-4,3.0815531927815178E-4,3.8211466299684194E-2,1.6880839902977895E-2,0,null,3.9050296782255544E-5,7.5797428280468193E-4,1.4826427921847078E-2,1.0140461095666293E-2,5.2067062376340727E-5,null,0,0,7.9051383399209481E-3,7.5098814229249012E-3,0,null,0,0,0,0,0]
[110,null,4.9802445418656634E-3,0,0,0,0,null,0,0,3.1807812357264952E-2,2.4556087331268983E-6,0,null,0,8.3698233844479483E-2,2.2122432230125704E-2,5.5991354934798071E-6,0,null,1.081759373444971E-3,0,0,0,0,null,2.2804117774706343E-3,0,6.4426435183615339E-3,0,0,null,3.1248828168943662E-4,1.6166331343848987E-3,3.4398710048373186E-2,1.2249540642225918E-3,0,null,1.8669263868676349E-4,1.8219402088708245E-4,2.7375848876620749E-2,1.6500661072540362E-2,0,null,1.3016765594085182E-5,4.2472696881296827E-4,1.4396865040880483E-2,6.6713559839909802E-3,2.6033531188170364E-5,null,0,0,4.7430830039525695E-3,7.1146245059288534E-3,0,null,0,0,0,0,0]
[120,null,2.8645132522057987E-3,0,0,0,0,null,0,0,2.6948114939290169E-2,2.4556087331268983E-6,0,null,0,6.99651298037203E-2,2.157931000124132E-2,0,0,null,3.4616299950239069E-4,0,0,0,0,null,5.9341570417451462E-4,0,7.2734054457292054E-3,0,0,null,1.7499343774608452E-4,7.1432626868169944E-4,3.0211367073734736E-2,1.0749596890116621E-3,0,null,3.8238251297288909E-5,8.5473738193939908E-5,1.8915654330608371E-2,1.9060681836078321E-2,0,null,0,1.9602783175983151E-4,1.8894258234030761E-2,4.8749713483017022E-3,6.5083827970425909E-6,null,0,0,5.9288537549407111E-3,6.3241106719367588E-3,0,null,0,0,0,0,0]
[130,null,9.0079033088232658E-4,0,0,0,0,null,0,0,2.5202159980128942E-2,0,0,null,0,1.2787933422632375E-2,2.3001506353165377E-2,0,0,null,2.0192841637639455E-4,0,0,0,0,null,2.1193418006232662E-4,0,4.4166016750873151E-3,0,0,null,2.1249203154881691E-4,4.3862139305016635E-4,2.5599040035998648E-2,7.4997187605464798E-4,0,null,2.4742397898245763E-5,1.124654449920262E-5,1.6954130894255594E-2,2.0540904738018544E-2,0,null,0,7.8411132703932605E-5,2.4055521334129415E-2,4.2761764697386096E-3,6.5083827970425909E-6,null,0,0,6.7193675889328066E-3,3.1620553359683794E-3,0,null,0,0,0,0,0]
[140,null,3.6144212026653351E-4,0,0,0,0,null,0,0,2.4440913795403231E-2,2.4556087331268983E-6,0,null,0,3.3193491946120115E-3,2.1814476327150022E-2,1.1198270986959614E-5,0,null,1.1538766650079689E-4,0,0,0,0,null,9.3251039227423724E-5,0,2.8991895832626902E-3,0,0,null,4.999812507030986E-5,0,2.2361661437696086E-2,5.7497843830856346E-4,0,null,2.2493088998405239E-6,4.4986177996810478E-6,1.8569238494371757E-2,1.2050994051206368E-2,0,null,0,3.9205566351966303E-5,3.074628863160913E-2,3.931218550566393E-3,6.5083827970425909E-6,null,0,0,1.1857707509881422E-2,1.5810276679841897E-3,0,null,0,0,0,0,0]
[150,null,2.0605578818933223E-4,0,0,0,0,null,0,0,2.5479646492625734E-2,0,0,null,0,2.9874142751508104E-3,2.4916432149850516E-2,0,0,null,1.0096420818819728E-4,0,0,0,0,null,4.2386836012465327E-5,0,9.5791936523007015E-4,0,0,null,0,1.2532039801433323E-5,1.9774258465307552E-2,2.7498968788670426E-4,0,null,0,0,2.2337073076815452E-2,6.802726528065719E-3,0,null,0,1.9602783175983151E-5,4.4420707009045796E-2,3.983287670441444E-3,1.3016765594085182E-5,null,0,0,1.8972332015810278E-2,3.952569169960474E-3,0,null,0,0,0,0,0]
[160,null,5.7425383593748318E-5,0,0,0,0,null,0,0,2.6665717161085466E-2,0,0,null,0,2.858015916716783E-3,3.6002844656975015E-2,0,0,null,1.4423458312599612E-5,0,0,0,0,null,2.5432101607479198E-5,0,8.5619341494015124E-4,0,0,null,0,5.0128159205733292E-5,2.8636426134019975E-2,4.6248265690036625E-4,0,null,2.2493088998405239E-6,1.124654449920262E-5,3.0356374740344867E-2,6.6002644290161444E-3,0,null,0,2.6137044234644204E-5,6.6992283845290601E-2,3.7294507110505683E-3,2.6033531188170364E-5,null,0,0,4.0711462450592886E-2,9.0909090909090905E-3,0,null,0,0,0,0,0]
[170,null,1.35118549632349E-5,0,0,0,0,null,0,0,1.7945764896695148E-2,0,0,null,0,1.5246502232878899E-3,4.2044379553534274E-2,1.6797406480439421E-5,0,null,1.4423458312599612E-5,0,0,0,0,null,1.6954734404986129E-5,0,6.6121867688447326E-4,0,0,null,0,1.2532039801433323E-5,3.3561241453445495E-2,5.8747796957614093E-4,0,null,2.2493088998405239E-6,2.2493088998405239E-6,3.0171919554816278E-2,7.2031515684082116E-3,0,null,0,2.6137044234644204E-5,9.9534926342760052E-2,4.927040468176754E-3,2.6033531188170364E-5,null,0,0,3.3992094861660077E-2,9.881422924901186E-3,0,null,0,0,0,0,0]
[180,null,1.0133891222426173E-5,null,0,0,0,null,0,null,7.4282893832105668E-3,0,0,null,0,null,1.7766256002578806E-2,0,0,null,0,null,0,0,0,null,2.5432101607479198E-5,null,5.0862975144959474E-4,0,0,null,1.2499531267577465E-5,null,6.6497506343512116E-3,5.9997750084371841E-4,0,null,2.2493088998405239E-6,null,7.4029514094460878E-3,8.9668214090178437E-3,0,null,0,null,3.2093554031004362E-2,6.2482943850061872E-3,1.9525148391127772E-5,null,0,null,6.7193675889328066E-3,1.1067193675889328E-2,0,null,0,null,0,0,0]
[190,null,null,null,0,0,0,null,null,null,3.572945802502934E-3,2.4556087331268983E-6,0,null,null,null,7.4469336537755469E-3,0,0,null,null,null,0,0,0,null,null,null,2.8822352582143706E-4,0,0,null,null,null,2.6249015661912677E-3,7.874704698573804E-4,0,null,null,null,1.5768668909212117E-3,1.2003752894761468E-2,0,null,null,null,5.9357779915384266E-3,9.2357601378372702E-3,3.2541913985212952E-5,null,null,null,7.9051383399209485E-4,1.4229249011857707E-2,0,null,null,null,0,0,0]
[200,null,null,null,0,0,0,null,null,null,2.050453433051512E-3,0,0,null,null,null,4.832108077600223E-3,0,0,null,null,null,0,0,0,null,null,null,1.864975755315181E-4,0,0,null,null,null,1.6499381273202254E-3,1.1749559391522819E-3,0,null,null,null,5.4661719613959263E-4,1.7809915979727611E-2,0,null,null,null,1.6857088813689175E-3,1.3095383648575468E-2,1.3016765594085182E-5,null,null,null,0,1.7786561264822136E-2,0,null,null,null,0,0,0]
[210,null,null,null,0,0,0,null,null,null,1.4782909780802515E-3,0,0,null,null,null,2.1052985367064703E-3,5.5991354934798071E-6,5.5991354934798071E-6,null,null,null,0,0,0,null,null,null,1.0172595028991896E-4,0,0,null,null,null,1.3124507830956339E-3,9.4996437633588745E-4,0,null,null,null,2.5643769695437679E-4,2.5991634360208769E-2,0,null,null,null,8.8515987593116891E-4,1.2184174050762065E-2,2.6033531188170364E-5,null,null,null,0,3.4782608695652174E-2,0,null,null,null,0,0,0]
[220,null,null,null,0,0,0,null,null,null,7.9071377897315786E-4,0,0,null,null,null,2.267675285548193E-3,0,0,null,null,null,0,0,0,null,null,null,5.9340137669119395E-5,0,0,null,null,null,1.2874517205604789E-3,6.7497468844918314E-4,0,null,null,null,1.6196065070802745E-4,1.3070053283089231E-2,0,null,null,null,3.7098612447115166E-4,8.3180419000394874E-3,3.9050296782255544E-5,null,null,null,0,1.5810276679841896E-2,0,null,null,null,0,0,0]
[230,null,null,null,0,0,0,null,null,null,5.0340473506055078E-4,0,0,null,null,null,2.1276953296501559E-3,5.5991354934798071E-6,0,null,null,null,0,0,0,null,null,null,2.543148757247974E-5,0,0,null,null,null,6.2497656337887324E-4,2.8748921915428173E-4,0,null,null,null,1.1922103454896464E-4,2.9491979094888087E-3,0,null,null,null,1.5620468398785335E-4,5.9619142256934037E-3,5.8575445173383319E-5,null,null,null,3.9525691699604743E-4,3.952569169960474E-3,0,null,null,null,0,0,0]
[240,null,null,null,0,0,0,null,null,null,5.451504935777672E-4,0,0,null,null,null,1.5901722990016957E-3,0,0,null,null,null,0,0,0,null,null,null,8.4771625241599138E-6,0,0,null,null,null,1.7499343774608452E-4,1.8749296901366199E-4,0,null,null,null,1.3271775544130028E-4,1.1000440715026908E-3,0,null,null,null,1.4969615548835944E-4,9.8931327762597963E-4,1.9525148391127772E-5,null,null,null,3.9525691699604743E-4,7.9051383399209485E-4,0,null,null,null,0,0,0]
[250,null,null,null,0,0,0,null,null,null,4.2236885088007192E-4,0,0,null,null,null,6.2711020242320391E-4,0,0,null,null,null,0,0,0,null,null,null,8.4771625241599138E-6,0,0,null,null,null,1.499943752109296E-4,7.4997187605464801E-5,0,null,null,null,7.1982511425789972E-5,4.8815861659730857E-4,0,null,null,null,1.3667909848937167E-4,1.5620735962515469E-4,1.9525148391127772E-5,null,null,null,0,0,0,null,null,null,0,0,0]
[260,null,null,null,0,0,0,null,null,null,1.8908372975445079E-4,0,0,null,null,null,3.3595189415528781E-4,0,0,null,null,null,0,0,0,null,null,null,1.6954325048319828E-5,0,0,null,null,null,8.7496718873042261E-5,2.499906253515493E-5,0,null,null,null,6.2984697497566234E-5,2.5645199212946164E-4,0,null,null,null,7.8102341993926673E-5,1.1715551971886602E-4,1.3016765594085182E-5,null,null,null,0,0,0,null,null,null,0,0,0]
[270,null,null,null,0,0,0,null,null,null,5.4023922786985938E-5,0,0,null,null,null,8.9587171774743431E-5,0,0,null,null,null,0,0,0,null,null,null,0,0,0,null,null,null,4.999812507030986E-5,3.74985938027324E-5,0,null,null,null,3.3741802230839051E-5,1.7096799475297444E-4,0,null,null,null,1.9525585498481668E-5,3.9051839906288673E-5,2.6033531188170364E-5,null,null,null,0,0,0,null,null,null,0,0,0]
[280,null,null,null,0,0,0,null,null,null,2.2100695685585157E-5,0,0,null,null,null,5.5991982359214638E-5,0,0,null,null,null,0,0,0,null,null,null,0,0,0,null,null,null,3.74985938027324E-5,4.999812507030986E-5,0,null,null,null,1.7995627856447493E-5,9.8981470646458892E-5,0,null,null,null,3.9051170996963336E-5,3.9051839906288673E-5,6.5083827970425909E-6,null,null,null,0,0,0,null,null,null,0,0,0]
[290,null,null,null,0,0,0,null,null,null,7.3668985618617196E-6,0,0,null,null,null,2.2396792943685858E-5,0,0,null,null,null,0,0,0,null,null,null,0,0,0,null,null,null,2.499906253515493E-5,1.2499531267577465E-5,0,null,null,null,8.9978139282237465E-6,8.9983155133144431E-5,0,null,null,null,1.9525585498481668E-5,1.301727996876289E-5,0,null,null,null,0,3.9525691699604743E-4,0,null,null,null,0,0,0]
[300,null,null,null,0,0,0,null,null,null,0,0,0,null,null,null,1.679759470776439E-5,0,0,null,null,null,0,0,0,null,null,null,0,0,0,null,null,null,0,1.2499531267577465E-5,0,null,null,null,1.1247267410279684E-5,5.8489050836543879E-5,2.2493088998405239E-6,null,null,null,1.9525585498481668E-5,2.6034559937525781E-5,0,null,null,null,0,0,0,null,null,null,0,0,0]
[310,null,null,null,0,0,0,null,null,null,1.2278164269769533E-5,0,0,null,null,null,1.679759470776439E-5,0,0,null,null,null,0,0,0,null,null,null,0,0,0,null,null,null,0,0,0,null,null,null,1.1247267410279684E-5,4.4991577566572215E-5,0,null,null,null,1.9525585498481668E-5,1.9525919953144336E-5,6.5083827970425909E-6,null,null,null,0,0,0,null,null,null,0,0,0]
[320,null,null,null,0,0,0,null,null,null,7.3668985618617196E-6,0,0,null,null,null,1.679759470776439E-5,0,0,null,null,null,0,0,0,null,null,null,0,0,0,null,null,null,2.499906253515493E-5,4.999812507030986E-5,0,null,null,null,1.1247267410279684E-5,3.1494104296600551E-5,2.2493088998405239E-6,null,null,null,6.5085284994938894E-6,2.6034559937525781E-5,6.5083827970425909E-6,null,null,null,0,3.9525691699604743E-4,0,null,null,null,0,0,0]
[330,null,null,null,0,0,0,null,null,null,2.4556328539539064E-6,0,0,null,null,null,1.679759470776439E-5,0,0,null,null,null,0,0,0,null,null,null,0,0,0,null,null,null,0,4.999812507030986E-5,0,null,null,null,8.9978139282237465E-6,3.3743683174929163E-5,0,null,null,null,0,6.5086399843814452E-6,6.5083827970425909E-6,null,null,null,0,0,0,null,null,null,0,0,0]
[340,null,null,null,null,0,0,null,null,null,null,0,0,null,null,null,null,0,0,null,null,null,null,0,0,null,null,null,null,0,0,null,null,null,null,1.2499531267577465E-5,1.2499531267577465E-5,null,null,null,null,2.2495788783286108E-5,0,null,null,null,null,0,6.5083827970425909E-6,null,null,null,null,0,0,null,null,null,null,0,0]
[350,null,null,null,null,0,0,null,null,null,null,0,0,null,null,null,null,0,0,null,null,null,null,0,0,null,null,null,null,0,0,null,null,null,null,1.2499531267577465E-5,0,null,null,null,null,1.7996631026628884E-5,0,null,null,null,null,0,2.6033531188170364E-5,null,null,null,null,0,0,null,null,null,null,0,0]
[360,null,null,null,null,0,0,null,null,null,null,0,0,null,null,null,null,0,0,null,null,null,null,0,0,null,null,null,null,0,0,null,null,null,null,1.2499531267577465E-5,2.499906253515493E-5,null,null,null,null,6.7487366349858328E-6,0,null,null,null,null,6.5086399843814452E-6,0,null,null,null,null,0,0,null,null,null,null,0,0]
[370,null,null,null,null,0,0,null,null,null,null,0,0,null,null,null,null,0,0,null,null,null,null,0,0,null,null,null,null,0,0,null,null,null,null,0,2.499906253515493E-5,null,null,null,null,2.2495788783286105E-6,0,null,null,null,null,0,0,null,null,null,null,0,0,null,null,null,null,0,0]
[380,null,null,null,null,0,0,null,null,null,null,0,0,null,null,null,null,0,0,null,null,null,null,0,0,null,null,null,null,0,0,null,null,null,null,0,2.499906253515493E-5,null,null,null,null,6.7487366349858328E-6,0,null,null,null,null,0,0,null,null,null,null,0,0,null,null,null,null,0,0]
[390,null,null,null,null,0,0,null,null,null,null,0,0,null,null,null,null,0,0,null,null,null,null,0,0,null,null,null,null,0,0,null,null,null,null,0,2.499906253515493E-5,null,null,null,null,4.499157756657221E-6,0,null,null,null,null,0,0,null,null,null,null,0,0,null,null,null,null,0,0]
[400,null,null,null,null,0,0,null,null,null,null,0,0,null,null,null,null,0,0,null,null,null,null,0,0,null,null,null,null,0,0,null,null,null,null,0,1.2499531267577465E-5,null,null,null,null,4.499157756657221E-6,0,null,null,null,null,0,0,null,null,null,null,0,0,null,null,null,null,0,0]
[410,null,null,null,null,null,0,null,null,null,null,null,0,null,null,null,null,null,0,null,null,null,null,null,0,null,null,null,null,null,0,null,null,null,null,null,1.2499531267577465E-5,null,null,null,null,null,0,null,null,null,null,null,0,null,null,null,null,null,0,null,null,null,null,null,0]
[420,null,null,null,null,null,0,null,null,null,null,null,0,null,null,null,null,null,0,null,null,null,null,null,0,null,null,null,null,null,0,null,null,null,null,null,2.499906253515493E-5,null,null,null,null,null,0,null,null,null,null,null,0,null,null,null,null,null,0,null,null,null,null,null,0]
[430,null,null,null,null,null,0,null,null,null,null,null,0,null,null,null,null,null,0,null,null,null,null,null,0,null,null,null,null,null,0,null,null,null,null,null,2.499906253515493E-5,null,null,null,null,null,0,null,null,null,null,null,0,null,null,null,null,null,0,null,null,null,null,null,0]
[440,null,null,null,null,null,0,null,null,null,null,null,0,null,null,null,null,null,0,null,null,null,null,null,0,null,null,null,null,null,0,null,null,null,null,null,2.499906253515493E-5,null,null,null,null,null,2.2493088998405239E-6,null,null,null,null,null,0,null,null,null,null,null,0,null,null,null,null,null,0]
[450,null,null,null,null,null,0,null,null,null,null,null,0,null,null,null,null,null,0,null,null,null,null,null,0,null,null,null,null,null,0,null,null,null,null,null,0,null,null,null,null,null,0,null,null,null,null,null,0,null,null,null,null,null,0,null,null,null,null,null,0]
[460,null,null,null,null,null,0,null,null,null,null,null,0,null,null,null,null,null,0,null,null,null,null,null,0,null,null,null,null,null,0,null,null,null,null,null,0,null,null,null,null,null,0,null,null,null,null,null,0,null,null,null,null,null,0,null,null,null,null,null,0]
[470,null,null,null,null,null,0,null,null,null,null,null,0,null,null,null,null,null,0,null,null,null,null,null,0,null,null,null,null,null,0,null,null,null,null,null,0,null,null,null,null,null,0,null,null,null,null,null,0,null,null,null,null,null,0,null,null,null,null,null,0]
[480,null,null,null,null,null,0,null,null,null,null,null,0,null,null,null,null,null,0,null,null,null,null,null,0,null,null,null,null,null,0,null,null,null,null,null,0,null,null,null,null,null,0,null,null,null,null,null,0,null,null,null,null,null,0,null,null,null,null,null,0]
[490]
[500]

{"sheet":"131830-1","index":24,"n_rows":56,"n_cols":61,"rows_kept":56,"cut":false,"hidden":true,"merged":[[0,20,0,29],[4,37,4,42],[4,43,4,48],[4,49,4,54],[4,55,4,60],[4,31,4,36],[4,1,4,6],[4,7,4,12],[4,13,4,18],[4,19,4,24],[4,25,4,30]]}
[null,null,null,null,null,null,null,null,null,null,null,null,null,null,null,null,null,null,null,null,"Recorded Classified Counts"]
["Year","WiM site ID & Lane",null,null,null,null,null,null,null,null,null,null,null,null,null,null,null,null,null,null,"Class 3","Class 4","Class 5","Class 6","Class 7","Class 8","Class 9","Class 10","Class 11","Class 12"]
[{"$f":"'Presumptive CTLD'!A3","v":"2014-2023"},{"$f":"MID(CELL(\"filename\",A1),FIND(\"]\",CELL(\"filename\",A1))+1,255)","v":"131830-1"},null,null,null,null,null,null,null,null,null,null,null,null,null,null,null,null,null,null,38524,18322,6621,3024,4794,4055,21523,13252,287,0]
[]
[null,"Class 3",null,null,null,null,null,"Class 4",null,null,null,null,null,"Class 5",null,null,null,null,null,"Class 6",null,null,null,null,null,"Class 7",null,null,null,null,null,"Class 8",null,null,null,null,null,"Class 9",null,null,null,null,null,"Class 10",null,null,null,null,null,"Class 11",null,null,null,null,null,"Class 12"]
["Load (kN)","SAST","SADT","TAST","TADT","TRDT","QADT","SAST","SADT","TAST","TADT","TRDT","QADT","SAST","SADT","TAST","TADT","TRDT","QADT","SAST","SADT","TAST","TADT","TRDT","QADT","SAST","SADT","TAST","TADT","TRDT","QADT","SAST","SADT","TAST","TADT","TRDT","QADT","SAST","SADT","TAST","TADT","TRDT","QADT","SAST","SADT","TAST","TADT","TRDT","QADT","SAST","SADT","TAST","TADT","TRDT","QADT","SAST","SADT","TAST","TADT","TRDT","QADT"]
[10,7.8192196418797405E-5,0,0,0,0,0,8.217395402577521E-5,0,0,0,0,0,0,0,0,0,0,0,9.9206349206349201E-4,6.4263668430335097E-2,0,0,0,0,4.4765840220385676E-3,8.8154269972451783E-3,0,2.1005509641873279E-2,0,0,8.0257905463256091E-5,7.2196374137654419E-4,0,1.2834910957805229E-3,4.0109096743141346E-4,0,0,1.5178191973772083E-5,0,4.5534575921316254E-5,0,0,0,0,0,0,0,0,6.9686411149825784E-4,6.9686411149825784E-4,0,0,0,0,0,0,0,0,0,0]
[20,3.7050069069773504E-2,5.1915688921191981E-4,0,0,0,0,1.0134787663178942E-2,0,0,1.0915838882218098E-4,0,0,1.5103458692040478E-4,0,3.03215981638231E-4,2.2655188038060717E-4,0,0,5.5996472663139327E-2,7.2200176366843033E-2,0,0,0,0,0.1268595041322314,9.070247933884297E-2,0,7.4035812672176307E-2,0,0,1.0112496088370268E-2,6.5778918658751804E-3,0,2.2461094176159154E-3,2.08567303064335E-3,0,6.5272344578302579E-3,7.5890959868860422E-4,0,2.2767287960658126E-4,0,0,3.661206310862837E-3,7.5488789914697664E-5,0,1.3210538235072092E-3,3.7744394957348832E-5,0,6.9686411149825784E-3,6.9686411149825784E-4,0,6.9686411149825784E-4,0,0,0,0,0,0,0,0]
[30,0.22011103291891468,8.5829612708960654E-2,0,0,0,0,2.6049143426170741E-2,8.1868791616635737E-5,0,3.6295164283375175E-3,0,0,3.0206917384080956E-4,0,8.11102750882268E-3,3.0206917384080953E-3,0,0,0.13117283950617284,0.11607142857142858,0,0,0,0,8.4573002754820936E-2,6.5082644628099179E-2,0,9.9586776859504136E-2,0,0,1.5810807376261449E-2,1.7808438953954758E-2,0,6.8185464463340287E-3,2.8076367720198943E-3,0,1.0929322813111131E-2,4.4775666322627652E-3,7.5890959868860427E-5,1.4722846214558921E-3,1.0624734381640458E-3,0,8.2848946931380688E-3,9.6248207141239528E-4,1.8872197478674416E-5,7.9074507435645813E-3,6.2278251679625575E-4,0,1.2543554006968641E-2,5.5749128919860627E-3,0,2.7874564459930314E-3,0,0,0,0,0,0,0,0]
[40,0.15006385696040869,0.13572058976222615,0,0,0,0,9.2555263551031469E-2,2.7289597205545246E-5,0,1.842047811374304E-2,0,0,0,0,1.1446403306843218E-2,1.4725872224739466E-2,0,0,8.4545855379188711E-2,0.11970899470899471,0,0,0,0,3.6157024793388427E-2,5.0344352617079889E-2,0,3.5674931129476582E-2,0,0,3.4109609821883838E-2,1.1471201668538425E-2,0,1.7888657147441041E-2,2.8076367720198943E-3,0,2.1964902931349731E-2,2.5499362515937103E-3,1.0624734381640459E-4,6.2989496691154149E-3,3.7034788416003884E-3,0,9.9456480712614183E-3,1.2078206386351626E-3,2.0759417226541858E-4,2.5496338793689136E-2,2.3778968823129766E-3,0,6.9686411149825784E-3,1.3937282229965157E-3,0,8.3623693379790941E-3,2.0905923344947735E-3,0,0,0,0,0,0,0]
[50,6.5368676206114626E-2,0.11152787872495068,0,0,0,0,0.20006618673475401,0,8.57673055031422E-5,3.7987119310118986E-2,0,0,0,0,1.8268762893703418E-2,4.4253133967678597E-2,3.0206917384080956E-4,0,4.5745149911816579E-2,0.11695326278659612,0,0,0,0,4.4765840220385676E-2,4.1528925619834713E-2,0,1.3360881542699725E-2,0,0,0.13370967050178467,8.9042194769773791E-3,0,3.0001604363869727E-2,2.005454837157067E-3,0,0.1319563933532987,1.82138303685265E-3,1.973164956590371E-4,9.2890534879485152E-3,8.6819258089976328E-3,0,8.0471050049067711E-2,5.2842152940288367E-4,1.8872197478674417E-4,2.7175964369291161E-2,4.4349664074884877E-3,0,6.2717770034843204E-2,0,0,2.1602787456445994E-2,3.4843205574912892E-3,0,0,0,0,0,0,0]
[60,2.079912424740011E-2,7.2318554667220439E-2,0,0,0,0,0.13424484956010807,0,8.57673055031422E-5,5.9382163519266458E-2,0,0,7.5517293460202389E-5,0,4.8059733089659606E-2,7.6272466394804408E-2,2.2655188038060717E-4,0,1.2786596119929453E-2,9.3033509700176362E-2,0,0,0,0,2.90633608815427E-2,3.2369146005509643E-2,0,1.5151515151515152E-2,0,0,0.10802714075354271,8.2624739290871173E-3,1.6043638697256537E-4,5.0136370928926678E-2,1.3637092892668057E-3,0,0.12902672765478418,2.3981543318559893E-3,2.4285107158035334E-4,2.3374415639609011E-2,2.0520915548539857E-2,0,0.11179889786366724,3.2082735713746509E-4,1.3210538235072092E-4,2.7213708764248508E-2,1.020985883596286E-2,0,7.456445993031359E-2,0,0,2.9965156794425088E-2,4.8780487804878049E-3,0,0,0,0,0,0,0]
[70,4.5742434904996482E-3,4.7814349496417816E-2,0,0,0,0,3.160958098191486E-2,2.7289597205545246E-5,0,6.9752210457373648E-2,0,0,1.5103458692040478E-4,0,8.3990826913789993E-2,8.3597643860444049E-2,3.0206917384080956E-4,0,2.0943562610229276E-3,5.3902116402116403E-2,0,0,0,0,4.0633608815426993E-3,2.8650137741046831E-2,0,1.4944903581267217E-2,0,0,2.1107829136836353E-2,5.9361463179849186E-3,2.4065458045884806E-4,5.8880154018931492E-2,1.8450184501845018E-3,0,2.2268495231713925E-2,3.3543804262036307E-3,4.8570214316070667E-4,3.613927508955133E-2,2.9870681804383462E-2,4.5534575921316254E-5,2.6798520419717673E-2,2.8308296218011627E-4,8.681210840190232E-4,2.7421302936513927E-2,1.5965879066958556E-2,0,3.3449477351916376E-2,4.8780487804878049E-3,0,4.3902439024390241E-2,4.181184668989547E-3,0,0,0,0,0,0,0]
[80,1.1859149790184272E-3,2.5866992004983907E-2,0,0,0,0,4.1634803373059434E-3,5.4579194411090491E-5,4.28836527515711E-5,6.1347014518065714E-2,0,0,1.5103458692040478E-4,0,0.10832390944025802,5.8601419725117052E-2,1.0572421084428334E-3,0,0,2.2486772486772486E-2,0,0,0,0,6.8870523415977955E-5,1.955922865013774E-2,0,1.1432506887052342E-2,0,0,1.2038685819488414E-3,4.4922188352318308E-3,3.2087277394513073E-4,6.1447136210492539E-2,2.2461094176159154E-3,0,1.0929322813111131E-3,3.3392022342298585E-3,5.1605852710825083E-4,3.4348248436646224E-2,2.7002003521340537E-2,1.5178191973772083E-5,1.6984977730806975E-3,1.6984977730806976E-4,1.4531592058579302E-3,2.0325356684532347E-2,1.7135955310636372E-2,0,2.0905923344947735E-3,5.5749128919860627E-3,0,3.3449477351916376E-2,1.3937282229965157E-3,0,0,0,0,0,0,0]
[90,7.6888993145150775E-4,1.1499325096044025E-2,0,0,0,0,7.9434822224916022E-4,2.7289597205545246E-5,0,5.034930684423098E-2,0,0,0,0,9.551303421604275E-2,3.0206917384080954E-2,6.7965564114182153E-4,0,0,5.9523809523809521E-3,0,0,0,0,1.3774104683195591E-4,9.0220385674931129E-3,0,9.2286501377410474E-3,0,0,8.0257905463256091E-5,4.3317824482592649E-3,3.2087277394513073E-4,6.7623937108936313E-2,1.4439274827530884E-3,0,4.553884505462971E-5,2.5802926355412543E-3,6.0712767895088342E-4,2.7988585999635725E-2,2.266104061684172E-2,4.5534575921316254E-5,9.4360987393372087E-5,1.5097757982939533E-4,1.7928587604740696E-3,1.9079791650939835E-2,1.4965652600588812E-2,0,0,4.8780487804878049E-3,0,1.9512195121951219E-2,4.181184668989547E-3,0,0,0,0,0,0,0]
[100,null,5.3083791921918807E-3,0,0,0,0,null,2.7289597205545246E-5,0,4.1643925335662045E-2,0,0,null,0,7.0042891758431355E-2,2.4165533907264763E-2,8.3069022806222625E-4,0,null,1.5432098765432098E-3,0,0,0,0,null,2.6859504132231405E-3,0,5.5096418732782371E-3,0,0,null,6.4174554789026147E-4,0,5.8639499438472645E-2,7.2196374137654419E-4,0,null,6.6784044684597174E-4,4.0981118329184627E-4,2.4983303988828851E-2,1.9777184141825027E-2,3.0356383947544167E-5,null,7.5488789914697664E-5,1.3021816260285347E-3,2.1174605571072695E-2,1.1606401449384766E-2,0,null,0,0,1.7421602787456445E-2,1.3937282229965157E-3,0,null,0,0,0,0,0]
[110,null,2.5698266015990031E-3,0,0,0,0,null,0,0,3.1846959938871301E-2,0,0,null,0,3.2065090058242929E-2,2.1900015103458691E-2,3.7758646730101192E-4,0,null,4.4091710758377423E-4,0,0,0,0,null,4.1322314049586776E-4,0,5.7162534435261708E-3,0,0,null,1.6043638697256537E-4,0,5.1981389379111183E-2,8.8240012834910953E-4,0,null,1.0624734381640459E-4,1.6696011171149293E-4,2.490741302895999E-2,1.8062048448788781E-2,1.0624734381640459E-4,null,1.8872197478674416E-5,8.681210840190232E-4,2.3061825318940136E-2,1.1719634634256813E-2,0,null,0,0,2.4390243902439025E-2,3.4843205574912892E-3,0,null,0,0,0,0,0]
[120,null,8.176721005087738E-4,0,0,0,0,null,2.7289597205545246E-5,0,2.8872393843466869E-2,0,0,null,0,1.4857583100273318E-2,1.9710013593112821E-2,3.0206917384080956E-4,0,null,1.1022927689594356E-4,0,0,0,0,null,0,0,6.1983471074380167E-3,0,0,null,0,0,4.2435424354243544E-2,7.2196374137654419E-4,0,null,0,3.0356383947544167E-5,2.8504644526743974E-2,1.6498694675490255E-2,1.3660372776394875E-4,null,0,3.0195515965879066E-4,2.8081829848267532E-2,1.3531365592209557E-2,1.8872197478674416E-5,null,0,0,3.5540069686411151E-2,4.181184668989547E-3,0,null,0,0,0,0,0]
[130,null,1.8170491122417194E-4,0,0,0,0,null,2.7289597205545246E-5,4.28836527515711E-5,2.5188298220718261E-2,0,0,null,0,4.3966317337543496E-3,2.439208578764537E-2,9.0620752152242867E-4,0,null,0,0,0,0,0,null,0,0,3.5812672176308538E-3,0,0,null,0,0,3.9868442162682496E-2,3.2087277394513073E-4,0,null,0,3.0356383947544167E-5,2.8793030174245643E-2,1.4768380790480238E-2,1.3660372776394875E-4,null,0,1.132331848720465E-4,3.715935683550993E-2,1.5324224352683626E-2,0,null,0,0,4.5993031358885016E-2,4.8780487804878049E-3,0,null,0,0,0,0,0]
[140,null,2.5957844460595993E-5,0,0,0,0,null,0,4.28836527515711E-5,2.3414474402357822E-2,0,0,null,0,1.8192958898293858E-3,2.2202084277299503E-2,5.286210542214167E-4,0,null,0,0,0,0,0,null,0,0,2.7548209366391185E-3,0,0,null,0,0,3.4413605005615272E-2,1.6043638697256537E-4,0,null,0,0,2.9460870621091616E-2,1.3296096169024345E-2,6.0712767895088334E-5,null,0,7.5488789914697664E-5,5.1124782969728992E-2,1.5928134672001208E-2,0,null,0,0,6.8292682926829273E-2,2.7874564459930314E-3,0,null,0,0,0,0,0]
[150,null,0,0,0,0,0,null,0,0,2.0576356292981116E-2,0,0,null,0,1.1370599311433663E-3,1.8577254191209785E-2,6.7965564114182153E-4,0,null,0,0,0,0,0,null,0,0,1.0330578512396695E-3,0,0,null,0,0,2.3744585271939674E-2,1.6043638697256537E-4,0,null,0,0,2.8201080687268534E-2,1.3053245097443992E-2,3.0356383947544167E-5,null,0,1.8872197478674416E-5,5.9353061070431042E-2,1.6154601041745299E-2,1.8872197478674416E-5,null,0,0,7.526132404181185E-2,2.7874564459930314E-3,0,null,0,0,0,0,0]
[160,null,0,0,0,0,0,null,0,0,1.3672088199978168E-2,0,0,null,0,5.3062796786690423E-4,1.5103458692040477E-2,9.0620752152242867E-4,0,null,0,0,0,0,0,null,0,0,6.1983471074380169E-4,0,0,null,0,0,2.0214984758543237E-2,0,0,null,0,0,2.2144982089733471E-2,1.1489891324145468E-2,4.5534575921316254E-5,null,0,0,5.0917188797463576E-2,1.6248962029138673E-2,0,null,0,0,7.5958188153310111E-2,7.6655052264808362E-3,0,null,0,0,0,0,0]
[170,null,0,0,0,0,0,null,0,0,7.0952952734417638E-3,0,0,null,0,3.03215981638231E-4,8.9865579217640844E-3,1.8124150430448573E-3,0,null,0,0,0,0,0,null,0,0,4.8209366391184575E-4,0,0,null,0,0,1.1150328894593295E-2,0,0,null,0,0,1.3144314249286625E-2,1.3189848825207941E-2,1.5178191973772083E-5,null,0,0,3.2403563070883976E-2,1.6173473239223975E-2,0,null,0,0,4.6689895470383276E-2,1.9512195121951219E-2,0,null,0,0,0,0,0]
[180,null,0,null,0,0,0,null,0,null,2.9745660954044319E-3,0,0,null,0,null,4.908624074913155E-3,2.1144842168856668E-3,0,null,0,null,0,0,0,null,0,null,2.0661157024793388E-4,0,0,null,0,null,4.7328734156906783E-3,0,0,null,0,null,5.0998725031874206E-3,1.5997814340355777E-2,0,null,0,null,1.422963689892051E-2,1.7437910470295161E-2,1.8872197478674416E-5,null,0,null,2.5087108013937282E-2,3.2055749128919862E-2,0,null,0,null,0,0,0]
[190,null,null,null,0,0,0,null,null,null,1.2007422770439909E-3,0,0,null,null,null,1.8879323365050596E-3,1.8879323365050596E-3,0,null,null,null,0,0,0,null,null,null,6.8870523415977955E-5,0,0,null,null,null,1.1230547088079577E-3,0,0,null,null,null,1.7606702689575617E-3,1.6362090947726306E-2,1.5178191973772083E-5,null,null,null,4.0197780629576511E-3,1.5984751264437231E-2,0,null,null,null,9.7560975609756097E-3,3.9024390243902439E-2,0,null,null,null,0,0,0]
[200,null,null,null,0,0,0,null,null,null,7.913983189608121E-4,0,0,null,null,null,2.5675879776468811E-3,1.6613804561244525E-3,0,null,null,null,0,0,0,null,null,null,6.8870523415977955E-5,0,0,null,null,null,4.8130916091769613E-4,0,0,null,null,null,4.5534575921316251E-4,1.3903223847975229E-2,1.5178191973772083E-5,null,null,null,1.0568430588057673E-3,1.8041820789612743E-2,0,null,null,null,9.7560975609756097E-3,2.7177700348432057E-2,0,null,null,null,0,0,0]
[210,null,null,null,0,0,0,null,null,null,6.5495033293308589E-4,0,0,null,null,null,1.6613804561244525E-3,1.5858631626642502E-3,0,null,null,null,0,0,0,null,null,null,0,0,0,null,null,null,1.6043638697256537E-4,0,0,null,null,null,2.1249468763280918E-4,1.0442596077955195E-2,0,null,null,null,3.3969955461613953E-4,1.2587755718275835E-2,0,null,null,null,2.0905923344947735E-3,6.9686411149825784E-3,0,null,null,null,0,0,0]
[220,null,null,null,0,0,0,null,null,null,3.2747516646654295E-4,0,0,null,null,null,8.3069022806222625E-4,1.8879323365050596E-3,0,null,null,null,0,0,0,null,null,null,0,0,0,null,null,null,1.6043638697256537E-4,0,0,null,null,null,7.5890959868860427E-5,6.678404468459717E-3,3.0356383947544167E-5,null,null,null,1.3210538235072092E-4,9.3417377519438363E-3,0,null,null,null,1.3937282229965157E-3,2.7874564459930314E-3,0,null,null,null,0,0,0]
[230,null,null,null,0,0,0,null,null,null,2.4560637484990724E-4,0,0,null,null,null,6.7965564114182153E-4,1.0572421084428334E-3,0,null,null,null,0,0,0,null,null,null,0,0,0,null,null,null,0,0,0,null,null,null,1.5178191973772083E-5,3.749013417521705E-3,3.0356383947544167E-5,null,null,null,9.4360987393372087E-5,6.1523363780478599E-3,5.6616592436023248E-5,null,null,null,1.3937282229965157E-3,2.0905923344947735E-3,0,null,null,null,0,0,0]
[240,null,null,null,0,0,0,null,null,null,1.0915838882218098E-4,0,0,null,null,null,2.2655188038060717E-4,6.7965564114182153E-4,0,null,null,null,0,0,0,null,null,null,0,0,0,null,null,null,0,0,0,null,null,null,0,1.5785319652722968E-3,0,null,null,null,3.7744394957348832E-5,2.9818072016305577E-3,5.6616592436023248E-5,null,null,null,0,0,0,null,null,null,0,0,0]
[250,null,null,null,0,0,0,null,null,null,2.7289597205545246E-5,0,0,null,null,null,2.2655188038060717E-4,3.0206917384080956E-4,0,null,null,null,0,0,0,null,null,null,0,0,0,null,null,null,0,0,0,null,null,null,0,6.981968307935159E-4,1.5178191973772083E-5,null,null,null,1.8872197478674416E-5,1.3021816260285347E-3,1.8872197478674416E-5,null,null,null,0,0,0,null,null,null,0,0,0]
[260,null,null,null,0,0,0,null,null,null,5.4579194411090491E-5,0,0,null,null,null,0,3.7758646730101192E-4,0,null,null,null,0,0,0,null,null,null,0,0,0,null,null,null,0,0,0,null,null,null,3.0356383947544167E-5,1.5178191973772085E-4,1.5178191973772083E-5,null,null,null,0,3.3969955461613953E-4,0,null,null,null,0,0,0,null,null,null,0,0,0]
[270,null,null,null,0,0,0,null,null,null,2.7289597205545246E-5,0,0,null,null,null,3.7758646730101192E-4,0,0,null,null,null,0,0,0,null,null,null,0,0,0,null,null,null,0,0,0,null,null,null,1.5178191973772083E-5,1.2142553579017667E-4,1.5178191973772083E-5,null,null,null,0,1.132331848720465E-4,0,null,null,null,0,0,0,null,null,null,0,0,0]
[280,null,null,null,0,0,0,null,null,null,0,0,0,null,null,null,0,7.5517293460202389E-5,0,null,null,null,0,0,0,null,null,null,0,0,0,null,null,null,0,0,0,null,null,null,0,4.5534575921316254E-5,0,null,null,null,0,3.7744394957348832E-5,0,null,null,null,0,0,0,null,null,null,0,0,0]
[290,null,null,null,0,0,0,null,null,null,0,0,0,null,null,null,7.5517293460202389E-5,0,0,null,null,null,0,0,0,null,null,null,0,0,0,null,null,null,0,0,0,null,null,null,0,3.0356383947544167E-5,0,null,null,null,0,0,0,null,null,null,0,0,0,null,null,null,0,0,0]
[300,null,null,null,0,0,0,null,null,null,0,0,0,null,null,null,0,0,0,null,null,null,0,0,0,null,null,null,0,0,0,null,null,null,0,0,0,null,null,null,1.5178191973772083E-5,0,0,null,null,null,0,0,0,null,null,null,0,0,0,null,null,null,0,0,0]
[310,null,null,null,0,0,0,null,null,null,0,0,0,null,null,null,0,0,0,null,null,null,0,0,0,null,null,null,0,0,0,null,null,null,0,0,0,null,null,null,0,1.5178191973772083E-5,0,null,null,null,0,0,0,null,null,null,0,0,0,null,null,null,0,0,0]
[320,null,null,null,0,0,0,null,null,null,0,0,0,null,null,null,7.5517293460202389E-5,0,0,null,null,null,0,0,0,null,null,null,0,0,0,null,null,null,0,0,0,null,null,null,0,0,0,null,null,null,0,0,0,null,null,null,0,0,0,null,null,null,0,0,0]
[330,null,null,null,0,0,0,null,null,null,0,0,0,null,null,null,0,0,0,null,null,null,0,0,0,null,null,null,0,0,0,null,null,null,0,0,0,null,null,null,0,0,1.5178191973772083E-5,null,null,null,0,1.8872197478674416E-5,0,null,null,null,0,0,0,null,null,null,0,0,0]
[340,null,null,null,null,0,0,null,null,null,null,0,0,null,null,null,null,0,0,null,null,null,null,0,0,null,null,null,null,0,0,null,null,null,null,0,0,null,null,null,null,0,0,null,null,null,null,0,0,null,null,null,null,0,0,null,null,null,null,0,0]
[350,null,null,null,null,0,0,null,null,null,null,0,0,null,null,null,null,0,0,null,null,null,null,0,0,null,null,null,null,0,0,null,null,null,null,0,0,null,null,null,null,0,0,null,null,null,null,0,0,null,null,null,null,0,0,null,null,null,null,0,0]
[360,null,null,null,null,0,0,null,null,null,null,0,0,null,null,null,null,0,0,null,null,null,null,0,0,null,null,null,null,0,0,null,null,null,null,0,0,null,null,null,null,0,0,null,null,null,null,0,0,null,null,null,null,0,0,null,null,null,null,0,0]
[370,null,null,null,null,0,0,null,null,null,null,0,0,null,null,null,null,0,0,null,null,null,null,0,0,null,null,null,null,0,0,null,null,null,null,0,0,null,null,null,null,0,0,null,null,null,null,0,0,null,null,null,null,0,0,null,null,null,null,0,0]
[380,null,null,null,null,0,0,null,null,null,null,0,0,null,null,null,null,0,0,null,null,null,null,0,0,null,null,null,null,0,0,null,null,null,null,0,0,null,null,null,null,1.5178191973772083E-5,0,null,null,null,null,0,0,null,null,null,null,0,0,null,null,null,null,0,0]
[390,null,null,null,null,0,0,null,null,null,null,0,0,null,null,null,null,0,0,null,null,null,null,0,0,null,null,null,null,0,0,null,null,null,null,0,0,null,null,null,null,0,0,null,null,null,null,0,0,null,null,null,null,0,0,null,null,null,null,0,0]
[400,null,null,null,null,0,0,null,null,null,null,0,0,null,null,null,null,0,0,null,null,null,null,0,0,null,null,null,null,0,0,null,null,null,null,0,0,null,null,null,null,0,0,null,null,null,null,0,0,null,null,null,null,0,0,null,null,null,null,0,0]
[410,null,null,null,null,null,0,null,null,null,null,null,0,null,null,null,null,null,0,null,null,null,null,null,0,null,null,null,null,null,0,null,null,null,null,null,0,null,null,null,null,null,0,null,null,null,null,null,0,null,null,null,null,null,0,null,null,null,null,null,0]
[420,null,null,null,null,null,0,null,null,null,null,null,0,null,null,null,null,null,0,null,null,null,null,null,0,null,null,null,null,null,0,null,null,null,null,null,0,null,null,null,null,null,0,null,null,null,null,null,0,null,null,null,null,null,0,null,null,null,null,null,0]
[430,null,null,null,null,null,0,null,null,null,null,null,0,null,null,null,null,null,0,null,null,null,null,null,0,null,null,null,null,null,0,null,null,null,null,null,0,null,null,null,null,null,0,null,null,null,null,null,0,null,null,null,null,null,0,null,null,null,null,null,0]
[440,null,null,null,null,null,0,null,null,null,null,null,0,null,null,null,null,null,0,null,null,null,null,null,0,null,null,null,null,null,0,null,null,null,null,null,0,null,null,null,null,null,0,null,null,null,null,null,0,null,null,null,null,null,0,null,null,null,null,null,0]
[450,null,null,null,null,null,0,null,null,null,null,null,0,null,null,null,null,null,0,null,null,null,null,null,0,null,null,null,null,null,0,null,null,null,null,null,0,null,null,null,null,null,0,null,null,null,null,null,0,null,null,null,null,null,0,null,null,null,null,null,0]
[460,null,null,null,null,null,0,null,null,null,null,null,0,null,null,null,null,null,0,null,null,null,null,null,0,null,null,null,null,null,0,null,null,null,null,null,0,null,null,null,null,null,0,null,null,null,null,null,0,null,null,null,null,null,0,null,null,null,null,null,0]
[470,null,null,null,null,null,0,null,null,null,null,null,0,null,null,null,null,null,0,null,null,null,null,null,0,null,null,null,null,null,0,null,null,null,null,null,0,null,null,null,null,null,0,null,null,null,null,null,0,null,null,null,null,null,0,null,null,null,null,null,0]
[480,null,null,null,null,null,0,null,null,null,null,null,0,null,null,null,null,null,0,null,null,null,null,null,0,null,null,null,null,null,0,null,null,null,null,null,0,null,null,null,null,null,0,null,null,null,null,null,0,null,null,null,null,null,0,null,null,null,null,null,0]
[490]
[500]

{"sheet":"131830-2","index":25,"n_rows":56,"n_cols":61,"rows_kept":56,"cut":false,"hidden":true,"merged":[[0,20,0,29],[4,37,4,42],[4,43,4,48],[4,49,4,54],[4,55,4,60],[4,31,4,36],[4,1,4,6],[4,7,4,12],[4,13,4,18],[4,19,4,24],[4,25,4,30]]}
[null,null,null,null,null,null,null,null,null,null,null,null,null,null,null,null,null,null,null,null,"Recorded Classified Counts"]
["Year","WiM site ID & Lane",null,null,null,null,null,null,null,null,null,null,null,null,null,null,null,null,null,null,"Class 3","Class 4","Class 5","Class 6","Class 7","Class 8","Class 9","Class 10","Class 11","Class 12"]
[{"$f":"'Presumptive CTLD'!A3","v":"2014-2023"},{"$f":"MID(CELL(\"filename\",A1),FIND(\"]\",CELL(\"filename\",A1))+1,255)","v":"131830-2"},null,null,null,null,null,null,null,null,null,null,null,null,null,null,null,null,null,null,186536,80682,21744,19167,31188,19053,107732,66271,1884,4]
[]
[null,"Class 3",null,null,null,null,null,"Class 4",null,null,null,null,null,"Class 5",null,null,null,null,null,"Class 6",null,null,null,null,null,"Class 7",null,null,null,null,null,"Class 8",null,null,null,null,null,"Class 9",null,null,null,null,null,"Class 10",null,null,null,null,null,"Class 11",null,null,null,null,null,"Class 12"]
["Load (kN)","SAST","SADT","TAST","TADT","TRDT","QADT","SAST","SADT","TAST","TADT","TRDT","QADT","SAST","SADT","TAST","TADT","TRDT","QADT","SAST","SADT","TAST","TADT","TRDT","QADT","SAST","SADT","TAST","TADT","TRDT","QADT","SAST","SADT","TAST","TADT","TRDT","QADT","SAST","SADT","TAST","TADT","TRDT","QADT","SAST","SADT","TAST","TADT","TRDT","QADT","SAST","SADT","TAST","TADT","TRDT","QADT","SAST","SADT","TAST","TADT","TRDT","QADT"]
[10,8.0690712498991371E-6,2.6804477419908224E-6,0,0,0,0,0,0,0,0,0,0,0,0,0,0,0,0,1.5651901706057285E-4,7.6363889323663933E-2,0,0,0,0,1.157321384963316E-3,5.1707845364874763E-3,0,7.9207500291984759E-3,0,0,1.7132491917679145E-5,3.4230749482259916E-4,0,1.540383726701696E-4,1.7115374741129957E-5,0,0,5.9995740302438525E-6,0,2.9997870151219262E-6,0,0,0,0,0,3.7729157470184534E-6,0,0,0,2.1199915200339198E-4,0,0,0,0,0,0,0,0,0,0]
[20,3.4694316684149656E-2,1.2383668567997599E-3,0,0,0,0,1.6713091803075082E-3,0,0,3.0985845665699911E-5,0,0,0,0,0,4.5989698307579102E-5,0,0,9.5180953374723917E-2,0.13591067981426411,0,0,0,0,0.16482804752450017,0.11656031343236041,0,7.9887028444623767E-2,0,0,3.546425826959583E-3,3.5257671966727713E-3,0,1.3007684803258768E-3,1.3007684803258768E-3,0,5.9996859406724113E-4,2.6398125733072953E-4,0,8.9993610453657788E-5,1.1999148060487705E-5,0,3.0561551840594222E-4,1.5091662988073814E-5,0,1.4337079838670124E-4,3.7729157470184534E-6,0,3.1799872800508796E-4,5.8935764256942975E-2,0,0,0,0,0,0,0,0,0,0]
[30,0.22744291132090699,0.10019513659561693,0,0,0,0,7.9216327319407906E-3,1.2394338266279964E-5,0,5.7013956024887832E-4,0,0,1.825859664151648E-4,0,6.2608019517433437E-4,6.8984547461368659E-4,0,0,0.12505869463139771,0.1161718926627363,0,0,0,0,5.8683626556809615E-2,6.8621725789155152E-2,0,0.10782200609451811,0,0,6.5103469287180749E-3,1.4445376281513683E-2,0,3.9878823146832802E-3,2.2078833416057644E-3,0,1.5389194437824736E-3,1.3409047957595011E-2,0,1.0619246033531618E-3,1.4998935075609632E-4,0,1.1168172030636902E-3,2.1128328183303338E-4,0,3.0485159235909103E-3,5.65937362052768E-5,0,1.9079923680305278E-3,9.7307610769556921E-2,0,3.1799872800508796E-4,0,0,0,0,0,0,0,0]
[40,0.13499018262997928,0.12551732641420424,0,0,0,0,8.7001273055189732E-2,0,7.1931427438231919E-6,5.7199871098882029E-3,0,0,1.5650225692728412E-4,0,1.5304182548705951E-3,3.8631346578366448E-3,0,0,7.6224761308498978E-2,9.4694005321646582E-2,0,0,0,0,2.7043096949555652E-2,3.2776615737447307E-2,0,4.2417421403013279E-2,0,0,1.7971984021645421E-2,9.0540332380577467E-3,0,9.8584558508908546E-3,1.8998065962654252E-3,0,9.2995132080422385E-3,8.31540960591798E-3,6.0113842153427576E-6,1.1894155514958439E-2,6.5995314332682384E-4,2.9997870151219262E-6,5.9123397202729818E-3,4.0747490067799297E-4,7.5547298802327043E-6,3.6808566027912028E-2,3.6219991171377154E-4,0,6.0419758320966717E-3,9.5399618401526397E-3,0,5.1939792240831032E-3,0,0,0,0.32258064516129031,0,0,0,0]
[50,7.2831437101589611E-2,0.10593933610670327,0,0,0,0,0.20213521513800919,1.9830941226047942E-4,3.5965713719115965E-5,2.7063037604422299E-2,0,0,3.651719328303296E-4,0,5.3796520474239098E-3,2.0603384841795438E-2,4.5989698307579102E-5,0,2.9982087268047512E-2,7.3320463991930582E-2,0,0,0,0,4.312880243780725E-2,3.5208052408608775E-2,0,1.2550035569051739E-2,0,0,0.14209688796523082,9.1738408612456572E-3,3.4230749482259914E-5,3.7551132182039128E-2,1.7628835983363857E-3,0,0.12821328855216943,1.6648817933926691E-3,3.0056921076713788E-6,1.0172277768278452E-2,4.9076515567394712E-3,5.9995740302438525E-6,7.6788728772811551E-2,3.0560617550849471E-4,1.5109459760465409E-5,5.7514327647549303E-2,2.7919576527936554E-3,0,7.9817680729277085E-2,1.3779944880220479E-2,0,5.6497774008903962E-2,7.4199703201187199E-4,0,0,6.4516129032258063E-2,0,0,0,0]
[60,2.427714570052987E-2,6.9672878157567439E-2,0,0,0,0,0.15770572834106128,1.2394338266279964E-5,1.8702171133940304E-4,5.2105798071440966E-2,0,0,1.1998506364425117E-3,0,2.8683748201135246E-2,4.5805739514348784E-2,2.7593818984547461E-4,0,6.1911966748404374E-3,8.7615867550129567E-2,0,0,0,0,3.1725470626333838E-2,3.3689731692555978E-2,0,1.1244067400698639E-2,0,0,0.12986428873600792,1.0234994095195715E-2,1.7115374741129957E-5,7.3459188388929772E-2,1.6259606004073459E-3,0,0.15044812464830137,1.4039003230770614E-3,6.311953426109896E-5,2.7916017962724648E-2,2.3665319762296876E-2,2.9997870151219262E-6,0.12550987925646503,6.3007692975208167E-4,3.0218919520930817E-5,4.3392304006459229E-2,1.7838345651903249E-2,0,8.7343650625397493E-2,1.1447954208183167E-2,1.0599957600169599E-4,6.964172143311427E-2,4.3459826160695356E-3,0,3.2258064516129031E-2,0,0,0,0,0]
[70,4.4326098066112592E-3,4.0313934039541963E-2,0,0,0,0,3.8446324192352645E-2,1.8591507399419944E-5,2.8772570975292767E-5,6.8522099105128784E-2,0,0,8.0859499412430126E-4,0,6.8590563604654847E-2,4.5805739514348784E-2,1.1037527593818985E-3,0,5.0433905497295698E-4,5.1164327576911708E-2,0,0,0,0,4.3426096004586818E-3,2.3475574148200843E-2,0,1.5459265472537507E-2,0,0,2.3865561241327049E-2,9.7386482277029458E-3,5.1346124223389868E-5,0.10149417221490065,3.3717288240026014E-3,0,3.0007429232273067E-2,1.8508685883302286E-3,2.8854644233645239E-4,5.5154084060031736E-2,3.6843384119727499E-2,1.1999148060487705E-5,3.5040139746123279E-2,3.0560617550849471E-4,1.4731723266453775E-4,5.0923043837508064E-2,2.7678109920127373E-2,0,2.2153911384354463E-2,5.0879796480814074E-3,1.0599957600169599E-4,8.7767648929404279E-2,2.9679881280474878E-2,0,3.2258064516129031E-2,0,0,0,0,0]
[80,9.1180505123860246E-4,2.8525324870266329E-2,0,0,0,0,4.2372968809283301E-3,4.3380183931979871E-5,8.6317712925878319E-5,7.1428571428571425E-2,0,0,2.0866967590304548E-4,0,0.10040471278166178,5.1370493009565858E-2,1.172737306843267E-3,0,3.4782003791238414E-5,1.9686614145840942E-2,0,0,0,0,2.0173492031470649E-4,1.6011382096556705E-2,0,1.3866621364789824E-2,0,0,1.439129321085048E-3,7.9073031304020408E-3,1.198076231879097E-4,9.5931675424033414E-2,4.1419206873534497E-3,0,1.4549238406130597E-3,1.9738598559502275E-3,3.9975705032029338E-4,5.3378210147079559E-2,4.473582375651329E-2,5.9995740302438525E-6,2.1166704422930075E-3,1.2827913539862742E-4,6.1571048523896544E-4,3.5382403875539058E-2,2.7704520330356502E-2,0,1.5899936400254398E-3,6.5719737121051518E-3,1.0599957600169599E-4,5.9995760016959936E-2,2.4273902904388384E-2,0,6.4516129032258063E-2,3.2258064516129031E-2,0,0,0,0]
[90,4.1152263374485596E-4,1.6806407342282455E-2,0,0,0,0,4.7840448655642431E-4,2.4788676532559927E-5,1.4386285487646384E-5,5.9040430331424608E-2,0,0,5.7384160873337508E-4,0,0.11747119513900658,4.0976821192052981E-2,6.6685062545989696E-4,0,0,7.7389958435505474E-3,0,0,0,0,3.1852882154953651E-5,8.4410137710627178E-3,0,1.0936156206534087E-2,0,0,1.7132491917679144E-4,3.3546134492614716E-3,1.7115374741129958E-4,7.3407842264706383E-2,2.7213445838396634E-3,0,8.399560316941376E-5,1.3259058606838914E-3,2.4346106072138172E-4,3.9552191794382602E-2,3.8133292536229928E-2,3.5997444181463116E-5,4.1503342005745243E-5,7.5458314940369067E-5,9.7078278960990253E-4,2.1339611465136372E-2,2.4742781468947019E-2,0,0,8.2679669281322879E-3,1.0599957600169599E-4,2.6393894424422304E-2,4.5579817680729273E-3,0,0,0.19354838709677419,0,0,0,0]
[100,null,7.4489642749924947E-3,0,0,0,0,null,4.3380183931979871E-5,0,4.4080464044024686E-2,0,0,null,0,9.0781628300278486E-2,3.2560706401766004E-2,3.909124356144224E-4,0,null,3.1303803412114574E-3,0,0,0,0,null,3.004788549950628E-3,0,5.7229011605066729E-3,0,0,null,7.8730723809197799E-4,1.540383726701696E-4,4.8436510517397779E-2,1.4376914782549164E-3,0,null,6.8995101347804307E-4,2.6149521336740999E-4,2.5600182387050519E-2,2.2822379611047616E-2,7.4994675378048159E-5,null,2.6410410229129173E-5,8.423523816459466E-4,1.6136760649997924E-2,1.739314159375507E-2,3.7729157470184534E-6,null,1.483994064023744E-3,1.0599957600169599E-4,1.5687937248251006E-2,1.9079923680305278E-3,0,null,0.16129032258064516,0,0,0,0]
[110,null,2.9565338594158769E-3,0,0,0,0,null,4.3380183931979871E-5,1.4386285487646384E-5,3.405964155573734E-2,0,0,null,0,5.0086415613946757E-2,3.2123804267844003E-2,4.5989698307579102E-4,0,null,6.6085807203352981E-4,0,0,0,0,null,1.1467037575783314E-3,0,4.2151980718388672E-3,0,0,null,1.198076231879097E-4,5.1346124223389868E-5,3.3392096119944543E-2,1.163845482396837E-3,0,null,2.4598253523999794E-4,1.5930168170658307E-4,1.6993793440665712E-2,1.3691027937016471E-2,4.1997018211706968E-5,null,7.5458314940369068E-6,3.7018176413140255E-4,1.2982603085490497E-2,1.1937505423566386E-2,2.2637494482110721E-5,null,1.0599957600169599E-4,0,1.2825948696205215E-2,9.5399618401526389E-4,0,null,0,0,3.2258064516129031E-2,0,0]
[120,null,1.0426941716344298E-3,0,0,0,0,null,0,0,2.9461342058947473E-2,0,0,null,0,2.1078033237535924E-2,3.026122148638705E-2,7.5883002207505516E-4,0,null,1.7391001895619208E-4,0,0,0,0,null,1.4864678338978371E-4,0,3.960375014599238E-3,0,0,null,6.8461498964519828E-5,1.7115374741129957E-5,2.5912677358070756E-2,8.5576873705649789E-4,0,null,8.6993823438535862E-5,7.2136610584113098E-5,1.4036003443755494E-2,8.6543855386267583E-3,2.9997870151219265E-5,null,0,1.2843040796395598E-4,1.292978226503224E-2,8.8437145110112549E-3,3.0183325976147627E-5,null,0,0,1.8337926648293406E-2,5.2999788000847997E-4,0,null,0,0,0,0,0]
[130,null,2.4660119226315564E-4,0,0,0,0,null,6.1971691331399818E-6,0,2.7125009295753701E-2,0,0,null,0,6.7245650592798875E-3,3.0698123620309051E-2,3.909124356144224E-4,0,null,3.4782003791238414E-5,0,0,0,0,null,3.1852882154953651E-5,0,2.8879946487157982E-3,0,0,null,1.7115374741129957E-5,0,2.2301333287692335E-2,9.7557636024440757E-4,0,null,8.9993610453657791E-6,1.8034152646028274E-5,1.4101998758088177E-2,6.4105448513155569E-3,4.1997018211706968E-5,null,0,5.2883109161628936E-5,1.7415779088237181E-2,6.9233003957788622E-3,1.1318747241055361E-5,null,0,0,2.2047911808352767E-2,1.165995336018656E-3,0,null,0,0,3.2258064516129031E-2,0,0]
[140,null,7.5052536775743021E-5,0,0,0,0,null,0,7.1931427438231919E-6,2.3945861530452889E-2,0,0,null,0,3.0608365097411902E-3,3.1571927888153051E-2,4.5989698307579102E-4,0,null,0,0,0,0,0,null,0,0,2.3358780246966011E-3,0,0,null,1.7115374741129957E-5,0,1.8518835469902614E-2,4.6211511801050884E-4,0,null,0,6.0113842153427576E-6,1.6744811118410592E-2,5.6965955417165384E-3,2.0998509105853484E-5,null,0,7.5547298802327043E-6,2.4097612876206861E-2,6.0668485212056729E-3,3.7729157470184534E-6,null,0,0,2.5015899936400254E-2,1.2719949120203519E-3,0,null,0,0,0,0,0]
[150,null,1.0721790967963289E-5,0,0,0,0,null,0,7.1931427438231919E-6,2.0221362881435761E-2,0,0,null,0,9.9709068120356942E-4,3.3664459161147901E-2,6.2086092715231791E-4,0,null,0,0,0,0,0,null,0,0,1.4546149517428836E-3,0,0,null,0,0,1.3178838550670067E-2,2.9096137059920926E-4,0,null,0,0,2.0704529978371536E-2,5.3666189700531265E-3,5.9995740302438525E-6,null,0,7.5547298802327043E-6,3.4533497832459903E-2,5.2632174670907425E-3,3.7729157470184534E-6,null,0,0,2.9043883824464701E-2,4.2399830400678397E-4,0,null,0,0,0,0,0]
[160,null,5.3608954839816447E-6,0,0,0,0,null,0,0,1.5542500185915074E-2,0,0,null,0,5.7970388442068002E-4,2.9433406916850625E-2,4.1390728476821192E-4,0,null,0,0,0,0,0,null,0,0,7.8570442648885684E-4,0,0,null,0,0,9.0198024885754877E-3,1.7115374741129958E-4,0,null,0,0,2.0083574066241297E-2,5.6395995884292215E-3,5.9995740302438525E-6,null,0,7.5547298802327043E-6,4.2928235369575962E-2,5.1613487419212446E-3,7.5458314940369068E-6,null,0,0,2.8513885944456221E-2,1.0599957600169599E-4,0,null,0,0,0,0,0]
[170,null,0,0,0,0,0,null,0,1.4386285487646384E-5,9.8163159068937311E-3,0,0,null,0,5.1013941829019843E-4,2.1132266372332599E-2,7.3583517292126564E-4,0,null,0,0,0,0,0,null,0,0,4.0346984062941297E-4,0,0,null,0,0,5.5282660413849757E-3,1.3692299792903966E-4,0,null,0,6.0113842153427576E-6,1.4611962550658903E-2,6.4975386747540926E-3,1.4998935075609632E-5,null,0,0,3.4631593641882383E-2,6.8478420808384928E-3,3.7729157470184534E-6,null,0,0,2.3425906296374813E-2,2.1199915200339198E-4,0,null,0,0,0,0,0]
[180,null,2.6804477419908224E-6,null,0,0,0,null,0,null,5.1932277335713043E-3,0,0,null,0,null,1.2394223693892568E-2,1.1037527593818985E-3,2.2994849153789551E-5,null,0,null,0,0,0,null,0,null,2.4420542985464466E-4,0,0,null,0,null,3.2690365755558217E-3,6.8461498964519828E-5,0,null,0,null,7.0524992725516491E-3,9.0053606193960228E-3,2.0998509105853484E-5,null,0,null,1.8502378823378494E-2,1.0522662018434466E-2,0,null,0,null,1.4945940216239136E-2,4.2399830400678397E-4,0,null,0,null,0,0,0]
[190,null,null,null,0,0,0,null,null,null,2.5966138667856522E-3,0,0,null,null,null,6.3235835172921265E-3,1.7706033848417955E-3,0,null,null,null,0,0,0,null,null,null,2.1235254769969104E-4,0,0,null,null,null,2.0880757184178547E-3,6.8461498964519828E-5,0,null,null,null,2.8168000071994888E-3,1.1243201732676979E-2,8.9993610453657791E-6,null,null,null,6.7572921029100501E-3,1.6996985440318132E-2,0,null,null,null,6.7839728641085435E-3,3.1799872800508796E-4,0,null,null,null,0,0,0]
[200,null,null,null,0,0,0,null,null,null,1.3385885327582361E-3,0,0,null,null,null,3.4032376747608535E-3,2.6674025018395878E-3,0,null,null,null,0,0,0,null,null,null,8.4941019079876417E-5,0,0,null,null,null,7.701918633508481E-4,5.1346124223389868E-5,0,null,null,null,9.089354655819437E-4,1.3514040503124278E-2,2.0998509105853484E-5,null,null,null,2.3618452576335516E-3,2.239602787430154E-2,0,null,null,null,6.7839728641085435E-3,8.4799660801356794E-4,0,null,null,null,0,0,0]
[210,null,null,null,0,0,0,null,null,null,6.5689992811283806E-4,0,0,null,null,null,2.4834437086092716E-3,2.920345842531273E-3,0,null,null,null,0,0,0,null,null,null,8.4941019079876417E-5,0,0,null,null,null,4.9634586749276873E-4,0,0,null,null,null,2.6098147031560761E-4,1.3151066274294526E-2,1.1999148060487705E-5,null,null,null,5.7348319354680495E-4,2.2497896599471039E-2,0,null,null,null,3.0739877040491838E-3,3.1799872800508796E-4,0,null,null,null,0,0,0]
[220,null,null,null,0,0,0,null,null,null,6.011254059145782E-4,0,0,null,null,null,1.8625827814569536E-3,1.9085724797645327E-3,0,null,null,null,0,0,0,null,null,null,3.1852882154953651E-5,0,0,null,null,null,8.5576873705649789E-5,3.4230749482259914E-5,0,null,null,null,4.799659224195082E-5,9.7223097160101628E-3,1.1999148060487705E-5,null,null,null,1.697812086158304E-4,1.6615920949869269E-2,0,null,null,null,1.483994064023744E-3,0,0,null,null,null,3.2258064516129031E-2,0,0]
[230,null,null,null,0,0,0,null,null,null,3.1605562579013909E-4,0,0,null,null,null,1.172737306843267E-3,1.1497424576894775E-3,0,null,null,null,0,0,0,null,null,null,4.2470509539938209E-5,0,0,null,null,null,1.0269224844677974E-4,0,0,null,null,null,1.1999148060487705E-5,6.0775684926370225E-3,3.2997657166341191E-5,null,null,null,7.9231230687387515E-5,9.68507472259637E-3,3.7729157470184534E-6,null,null,null,8.4799660801356794E-4,1.0599957600169599E-4,0,null,null,null,0,0,0]
[240,null,null,null,0,0,0,null,null,null,8.6760367863959742E-5,0,0,null,null,null,6.4385577630610743E-4,3.2192788815305372E-4,0,null,null,null,0,0,0,null,null,null,0,0,0,null,null,null,5.1346124223389868E-5,0,0,null,null,null,8.9993610453657791E-6,2.900794043622903E-3,3.5997444181463116E-5,null,null,null,4.1502073217202988E-5,4.2671677098778706E-3,3.7729157470184534E-6,null,null,null,4.2399830400678397E-4,0,0,null,null,null,0,0,0]
[250,null,null,null,0,0,0,null,null,null,6.1971691331399822E-5,0,0,null,null,null,3.4492273730684329E-4,4.5989698307579102E-5,0,null,null,null,0,0,0,null,null,null,0,0,0,null,null,null,5.1346124223389868E-5,0,0,null,null,null,1.1999148060487705E-5,1.4398977672585246E-3,3.2997657166341191E-5,null,null,null,1.1318747241055361E-5,1.6034891924828426E-3,3.7729157470184534E-6,null,null,null,2.1199915200339198E-4,0,0,null,null,null,0,0,0]
[260,null,null,null,0,0,0,null,null,null,6.1971691331399818E-6,0,0,null,null,null,1.1497424576894776E-4,0,0,null,null,null,0,0,0,null,null,null,0,0,0,null,null,null,0,0,0,null,null,null,0,4.8896528346487403E-4,2.6998083136097336E-5,null,null,null,7.5458314940369068E-6,5.2443528883556502E-4,0,null,null,null,0,1.0599957600169599E-4,0,null,null,null,0,0,0]
[270,null,null,null,0,0,0,null,null,null,0,0,0,null,null,null,2.2994849153789551E-5,2.2994849153789551E-5,0,null,null,null,0,0,0,null,null,null,0,0,0,null,null,null,0,0,0,null,null,null,0,1.8598679493755943E-4,2.0998509105853484E-5,null,null,null,3.7729157470184534E-6,1.622353771217935E-4,0,null,null,null,0,0,0,null,null,null,0,0,0]
[280,null,null,null,0,0,0,null,null,null,6.1971691331399818E-6,0,0,null,null,null,4.5989698307579102E-5,0,2.2994849153789551E-5,null,null,null,0,0,0,null,null,null,0,0,0,null,null,null,0,0,0,null,null,null,2.9997870151219262E-6,6.5995314332682381E-5,1.7998722090731558E-5,null,null,null,0,7.5458314940369067E-5,0,null,null,null,0,0,0,null,null,null,0,0,0]
[290,null,null,null,0,0,0,null,null,null,0,0,0,null,null,null,0,0,0,null,null,null,0,0,0,null,null,null,0,0,0,null,null,null,0,0,0,null,null,null,0,5.6995953287316604E-5,2.9997870151219262E-6,null,null,null,0,2.2637494482110721E-5,0,null,null,null,0,0,0,null,null,null,0,0,0]
[300,null,null,null,0,0,0,null,null,null,0,0,0,null,null,null,0,0,2.2994849153789551E-5,null,null,null,0,0,0,null,null,null,0,0,0,null,null,null,0,0,0,null,null,null,0,8.9993610453657791E-6,1.7998722090731558E-5,null,null,null,0,2.2637494482110721E-5,0,null,null,null,0,0,0,null,null,null,0,0,0]
[310,null,null,null,0,0,0,null,null,null,0,0,0,null,null,null,0,0,0,null,null,null,0,0,0,null,null,null,0,0,0,null,null,null,0,0,0,null,null,null,0,8.9993610453657791E-6,8.9993610453657791E-6,null,null,null,0,7.5458314940369068E-6,0,null,null,null,0,0,0,null,null,null,0,0,0]
[320,null,null,null,0,0,0,null,null,null,0,0,0,null,null,null,0,0,1.1497424576894776E-4,null,null,null,0,0,0,null,null,null,0,0,0,null,null,null,0,0,0,null,null,null,0,2.9997870151219262E-6,2.9997870151219262E-6,null,null,null,0,7.5458314940369068E-6,0,null,null,null,0,0,0,null,null,null,0,0,0]
[330,null,null,null,0,0,0,null,null,null,0,0,0,null,null,null,0,0,4.5989698307579102E-5,null,null,null,0,0,0,null,null,null,0,0,0,null,null,null,0,0,0,null,null,null,0,5.9995740302438525E-6,0,null,null,null,0,3.7729157470184534E-6,0,null,null,null,0,0,0,null,null,null,0,0,0]
[340,null,null,null,null,0,0,null,null,null,null,0,0,null,null,null,null,0,4.5989698307579102E-5,null,null,null,null,0,0,null,null,null,null,0,0,null,null,null,null,0,0,null,null,null,null,2.9997870151219262E-6,2.9997870151219262E-6,null,null,null,null,7.5458314940369068E-6,0,null,null,null,null,0,0,null,null,null,null,0,0]
[350,null,null,null,null,0,0,null,null,null,null,0,0,null,null,null,null,0,9.1979396615158204E-5,null,null,null,null,0,0,null,null,null,null,0,0,null,null,null,null,0,0,null,null,null,null,0,2.9997870151219262E-6,null,null,null,null,0,0,null,null,null,null,0,0,null,null,null,null,0,0]
[360,null,null,null,null,0,0,null,null,null,null,0,0,null,null,null,null,0,6.8984547461368653E-5,null,null,null,null,0,0,null,null,null,null,0,0,null,null,null,null,0,0,null,null,null,null,0,2.9997870151219262E-6,null,null,null,null,0,0,null,null,null,null,0,0,null,null,null,null,0,0]
[370,null,null,null,null,0,0,null,null,null,null,0,0,null,null,null,null,0,1.6096394407652686E-4,null,null,null,null,0,0,null,null,null,null,0,0,null,null,null,null,0,0,null,null,null,null,0,0,null,null,null,null,0,0,null,null,null,null,0,0,null,null,null,null,0,0]
[380,null,null,null,null,0,0,null,null,null,null,0,0,null,null,null,null,0,2.5294334069168509E-4,null,null,null,null,0,0,null,null,null,null,0,0,null,null,null,null,0,0,null,null,null,null,2.9997870151219262E-6,0,null,null,null,null,0,0,null,null,null,null,0,0,null,null,null,null,0,0]
[390,null,null,null,null,0,0,null,null,null,null,0,0,null,null,null,null,0,1.1497424576894776E-4,null,null,null,null,0,0,null,null,null,null,0,0,null,null,null,null,0,0,null,null,null,null,0,0,null,null,null,null,0,0,null,null,null,null,0,0,null,null,null,null,0,0]
[400,null,null,null,null,0,0,null,null,null,null,0,0,null,null,null,null,0,1.1497424576894776E-4,null,null,null,null,0,0,null,null,null,null,0,0,null,null,null,null,0,0,null,null,null,null,0,0,null,null,null,null,0,0,null,null,null,null,0,0,null,null,null,null,0,0]
[410,null,null,null,null,null,0,null,null,null,null,null,0,null,null,null,null,null,6.8984547461368653E-5,null,null,null,null,null,0,null,null,null,null,null,0,null,null,null,null,null,0,null,null,null,null,null,0,null,null,null,null,null,0,null,null,null,null,null,0,null,null,null,null,null,0]
[420,null,null,null,null,null,0,null,null,null,null,null,0,null,null,null,null,null,2.2994849153789551E-5,null,null,null,null,null,0,null,null,null,null,null,0,null,null,null,null,null,0,null,null,null,null,null,0,null,null,null,null,null,0,null,null,null,null,null,0,null,null,null,null,null,0]
[430,null,null,null,null,null,0,null,null,null,null,null,0,null,null,null,null,null,0,null,null,null,null,null,0,null,null,null,null,null,0,null,null,null,null,null,0,null,null,null,null,null,0,null,null,null,null,null,0,null,null,null,null,null,0,null,null,null,null,null,0]
[440,null,null,null,null,null,0,null,null,null,null,null,0,null,null,null,null,null,0,null,null,null,null,null,0,null,null,null,null,null,0,null,null,null,null,null,0,null,null,null,null,null,0,null,null,null,null,null,0,null,null,null,null,null,0,null,null,null,null,null,0]
[450,null,null,null,null,null,0,null,null,null,null,null,0,null,null,null,null,null,0,null,null,null,null,null,0,null,null,null,null,null,0,null,null,null,null,null,0,null,null,null,null,null,0,null,null,null,null,null,0,null,null,null,null,null,0,null,null,null,null,null,0]
[460,null,null,null,null,null,0,null,null,null,null,null,0,null,null,null,null,null,0,null,null,null,null,null,0,null,null,null,null,null,0,null,null,null,null,null,0,null,null,null,null,null,0,null,null,null,null,null,0,null,null,null,null,null,0,null,null,null,null,null,0]
[470,null,null,null,null,null,0,null,null,null,null,null,0,null,null,null,null,null,0,null,null,null,null,null,0,null,null,null,null,null,0,null,null,null,null,null,0,null,null,null,null,null,0,null,null,null,null,null,0,null,null,null,null,null,0,null,null,null,null,null,0]
[480,null,null,null,null,null,0,null,null,null,null,null,0,null,null,null,null,null,0,null,null,null,null,null,0,null,null,null,null,null,0,null,null,null,null,null,0,null,null,null,null,null,0,null,null,null,null,null,0,null,null,null,null,null,0,null,null,null,null,null,0]
[490]
[500]

{"sheet":"136161-1","index":26,"n_rows":56,"n_cols":61,"rows_kept":56,"cut":false,"hidden":true,"merged":[[0,20,0,29],[4,37,4,42],[4,43,4,48],[4,49,4,54],[4,55,4,60],[4,31,4,36],[4,1,4,6],[4,7,4,12],[4,13,4,18],[4,19,4,24],[4,25,4,30]]}
[null,null,null,null,null,null,null,null,null,null,null,null,null,null,null,null,null,null,null,null,"Recorded Classified Counts"]
["Year","WiM site ID & Lane",null,null,null,null,null,null,null,null,null,null,null,null,null,null,null,null,null,null,"Class 3","Class 4","Class 5","Class 6","Class 7","Class 8","Class 9","Class 10","Class 11","Class 12"]
[{"$f":"'Presumptive CTLD'!A3","v":"2014-2023"},{"$f":"MID(CELL(\"filename\",A1),FIND(\"]\",CELL(\"filename\",A1))+1,255)","v":"136161-1"},null,null,null,null,null,null,null,null,null,null,null,null,null,null,null,null,null,null,245156,105488,34546,10492,23621,21381,113640,25126,0,0]
[]
[null,"Class 3",null,null,null,null,null,"Class 4",null,null,null,null,null,"Class 5",null,null,null,null,null,"Class 6",null,null,null,null,null,"Class 7",null,null,null,null,null,"Class 8",null,null,null,null,null,"Class 9",null,null,null,null,null,"Class 10",null,null,null,null,null,"Class 11",null,null,null,null,null,"Class 12"]
["Load (kN)","SAST","SADT","TAST","TADT","TRDT","QADT","SAST","SADT","TAST","TADT","TRDT","QADT","SAST","SADT","TAST","TADT","TRDT","QADT","SAST","SADT","TAST","TADT","TRDT","QADT","SAST","SADT","TAST","TADT","TRDT","QADT","SAST","SADT","TAST","TADT","TRDT","QADT","SAST","SADT","TAST","TADT","TRDT","QADT","SAST","SADT","TAST","TADT","TRDT","QADT","SAST","SADT","TAST","TADT","TRDT","QADT","SAST","SADT","TAST","TADT","TRDT","QADT"]
[10,3.9058806116197893E-5,4.0791019449158077E-6,0,0,0,0,2.9569148885433852E-4,0,0,0,0,0,0,0,1.4552672463237244E-5,0,0,0,7.9465991445884412E-4,7.0461909905330702E-2,0,0,0,0,8.9869073446514197E-4,5.1078340604698326E-3,0,1.5729801027137766E-2,0,0,2.7867890361737741E-4,2.9335927246900426E-4,0,2.7791931076010933E-4,1.2351969367115971E-4,0,1.2990543694830527E-4,5.4707086065356085E-5,5.7577650659120156E-6,3.4548889267742026E-5,0,0,9.9662764873225346E-6,1.9898121617319326E-5,0,9.9502249861472201E-6,0,0,0,0,0,0,0,0,0,0,0,0,0,0]
[20,2.9384556559206985E-2,1.142148544576426E-3,0,0,0,0,1.2543042188498555E-3,0,0,2.1803427878052479E-4,0,0,0,0,1.8918474202208414E-4,5.7892147269872642E-5,0,0,4.3547363312344656E-2,7.1192578944024393E-2,0,0,0,0,8.5207115261476271E-2,5.4600500904637687E-2,0,7.0440322173266359E-2,0,0,2.3068420354994019E-3,1.6520759028517608E-3,0,8.1831797057143295E-4,1.0962372813315424E-3,0,2.7135802384757097E-4,4.5493261043822423E-4,1.1515530131824031E-5,2.7351204003629107E-4,9.2138030173417954E-5,0,3.9865105949290138E-5,1.8903215536453358E-4,0,2.2885517468138603E-4,1.9898121617319326E-5,0,0,0,0,0,0,0,0,0,0,0,0,0]
[30,0.19022049723915913,9.1072069573162773E-2,0,0,0,0,7.8310552370778053E-3,0,0,1.2987259214318216E-3,0,0,0,0,1.5716886260296221E-3,3.2853793575652723E-3,0,0,0.13550540861352209,0.11128407141495648,0,0,0,0,6.755626755487186E-2,5.8880416806954439E-2,0,6.5950102433137828E-2,0,0,5.1710418782335583E-3,8.1831797057143295E-3,0,1.7601556348140256E-3,1.605756017725076E-3,0,1.9543551292000591E-3,9.4844811315412079E-3,1.4394412664780039E-5,2.3032592845161353E-3,2.7065546363441522E-4,0,1.1959531784787043E-3,4.5765679719834447E-4,0,2.0696467971186216E-3,1.293377905125756E-4,0,0,0,0,0,0,0,0,0,0,0,0,0]
[40,0.15192230997890824,0.11341739002741157,0,0,0,0,3.9999427693892538E-2,0,0,1.1091308964052783E-2,0,0,2.8945235614217899E-5,4.3417853421326847E-5,2.4448489738238565E-3,6.3970822733209259E-3,0,0,9.9586780479982345E-2,0.13698456064553022,0,0,0,0,3.1018872381773421E-2,3.9291031234383322E-2,0,2.6506328403446244E-2,0,0,7.7101163334141083E-3,8.0287800886253806E-3,4.6319885126684886E-5,7.8898204332453255E-3,1.3123967452560717E-3,0,3.3226923983888748E-3,3.8381339855326135E-3,3.1667707862516087E-5,9.4520002888330897E-3,8.7243197320455124E-4,0,2.4417377393940211E-3,4.9745304043298316E-4,0,2.1830793619606999E-2,4.7755491881566379E-4,0,0,0,0,0,0,0,0,0,0,0,0,0]
[50,7.4719496100286567E-2,0.10740683331157813,0,0,0,0,0.14865651141273764,0,0,2.6676020021234644E-2,0,0,4.3417853421326847E-5,1.447261780710895E-5,5.6027788983463384E-3,2.5052826731037384E-2,0,0,3.7158297600095549E-2,0.10931444183239088,0,0,0,0,9.3646382939813005E-2,7.170613200274957E-2,0,1.4537086408666125E-2,0,0,7.7952682206305288E-2,5.4503064832399214E-3,3.0879923417789926E-5,1.6814118300986614E-2,9.4183766424259263E-4,0,5.5821809650430647E-2,5.3843289969587296E-4,1.7273295197736046E-5,3.9356943024169457E-3,4.5234014188262374E-3,0,1.6862939816549728E-2,2.1887933779051258E-4,1.9983889382911222E-5,2.6417847338220866E-2,2.4972142629735754E-3,0,0,0,0,0,0,0,0,0,0,0,0,0]
[60,3.8357803332744023E-2,7.3968395118130789E-2,0,0,0,0,0.19662530165301079,0,0,5.0043606855756102E-2,0,0,0,0,3.2044984764048406E-2,8.4160709093577354E-2,0,0,1.2650985838184799E-2,7.8912256178918616E-2,0,3.1768219073638731E-5,0,0,4.4106056202422049E-2,5.041881258040689E-2,0,4.4691718350966803E-2,0,0,0.19896125502149539,5.1723871724798122E-3,2.1615946392452946E-4,4.3695091636172745E-2,1.3895965538005465E-3,0,0.21071527909261434,9.4153774438797042E-4,1.122764187852843E-4,1.5575790911540365E-2,2.6296769674182065E-2,0,0.12982071752386334,2.5867558102515121E-4,1.9983889382911222E-5,1.9223834673236427E-2,1.5003183699458772E-2,9.9490608086596628E-6,0,0,0,0,0,0,0,0,0,0,0,0]
[70,1.1995164930948142E-2,4.2090213418613763E-2,0,0,0,0,8.9346521809631915E-2,0,0,7.2880327620203245E-2,0,0,2.8945235614217899E-5,0,0.10329486914405794,5.6111963741324059E-2,0,0,3.5918628133539757E-3,5.0860918736895612E-2,0,0,0,0,7.9056700547480464E-3,2.1708294756996784E-2,0,4.2685151404596861E-2,0,0,3.2961521433410919E-2,6.0061451047601399E-3,2.9335927246900426E-4,7.2629579878641895E-2,2.1152747541186099E-3,1.5439961708894963E-5,5.1927533329469228E-2,1.4108669564223411E-3,7.4850945856856207E-5,4.4012405852997698E-2,3.2072672440678206E-2,0,9.4031818657888108E-2,4.2780961477236547E-4,8.9927502223100477E-5,3.8706375196112683E-2,3.4602833492518303E-2,0,0,0,0,0,0,0,0,0,0,0,0,0]
[80,1.51095907870555E-3,2.6750750554757865E-2,0,0,0,0,1.4140730071824417E-2,0,0,7.2406340057636881E-2,0,0,0,0,9.2118416692291732E-2,6.2277477425565497E-2,0,0,3.178639657835376E-4,2.3572018552639937E-2,0,0,0,0,8.7060664901310639E-4,1.8494849702470437E-2,0,1.0355569275671429E-2,0,0,1.9043058413854123E-3,1.764787623326694E-2,2.9335927246900426E-4,5.6186020658668769E-2,2.2542344094986645E-3,0,1.405865506529437E-3,1.1517281276917069E-3,2.5622054543308469E-4,3.9106463576978327E-2,3.6552884157860656E-2,0,2.8304225223995997E-3,2.1887933779051258E-4,2.2981472790347903E-4,3.7572049547691902E-2,4.9874641833810886E-2,0,0,0,0,0,0,0,0,0,0,0,0,0]
[90,1.8501539739251634E-3,2.0077339772875603E-2,0,0,0,0,1.8504564141206994E-3,0,0,5.3897125739420598E-2,0,0,0,0,8.8232853144607395E-2,5.8731583405285788E-2,0,0,1.589319828917688E-4,8.6409555880297348E-3,0,0,0,0,2.3871472634230334E-4,1.5646249937977644E-2,0,6.8054892936323073E-3,0,0,1.300501550214428E-3,2.5846495900690165E-2,3.3967915759568917E-4,5.7019778590949095E-2,1.9608751370296601E-3,0,3.6373522345525475E-4,7.1407143916885833E-4,1.9576401224100852E-4,2.5592089725079908E-2,2.1370264373347127E-2,0,4.2854988895486899E-4,9.9490608086596631E-5,5.7953279210442535E-4,3.2577036604645997E-2,3.2712511938872972E-2,0,0,0,0,0,0,0,0,0,0,0,0,0]
[100,null,1.2061904451116042E-2,0,0,0,0,null,0,0,3.8070681025329893E-2,0,0,null,0,7.4786183788576183E-2,3.6486525816837229E-2,1.447261780710895E-5,0,null,3.3991994408793442E-3,0,0,0,0,null,4.5325011031092186E-3,0,5.0094013975808937E-3,0,0,null,3.7982305803881608E-3,1.6983957879784458E-4,7.6288850803650013E-2,3.3041518057035217E-3,0,null,2.5625950841140483E-4,1.7273295197736048E-4,1.4478863677289556E-2,1.3267876344972184E-2,0,null,2.9847182425978987E-5,5.6954084741296976E-4,1.6835780676561093E-2,2.067414836039478E-2,0,null,0,0,0,0,0,null,0,0,0,0,0]
[110,null,5.2069736326850287E-3,0,0,0,0,null,0,0,3.0515319278022146E-2,0,0,null,0,6.0961144948500808E-2,2.4792312068322959E-2,0,0,null,1.2389605438719105E-3,0,0,0,0,null,1.6137387828407438E-3,0,3.8587825891729577E-3,0,0,null,5.7127858322911359E-4,7.7199808544474812E-5,8.0951719239736292E-2,7.4420615436873718E-3,0,null,7.7741648619190232E-5,2.2743172010352461E-4,1.6499973699452462E-2,1.0342493886966165E-2,0,null,1.9898121617319326E-5,5.6954084741296976E-4,1.1383057384152418E-2,8.5163960522126707E-3,0,null,0,0,0,0,0,null,0,0,0,0,0]
[120,null,2.9695862158987075E-3,0,0,0,0,null,0,0,2.6913013802517823E-2,0,0,null,0,2.3968251546951737E-2,2.2780559950694883E-2,0,0,null,3.8121862888366477E-4,0,0,0,0,null,4.2097533465410703E-4,0,4.0552297028035806E-3,0,0,null,1.8527954050673954E-4,6.1759846835579853E-5,4.7724921642194329E-2,1.3201167261105193E-2,0,null,5.7586406384585341E-6,1.1515530131824032E-4,1.6692871664530689E-2,1.0333855946637407E-2,0,null,0,1.0991139160601171E-4,1.3472604631243335E-2,7.8597580388411331E-3,0,null,0,0,0,0,0,null,0,0,0,0,0]
[130,null,2.5841110821041642E-3,0,0,0,0,null,0,0,2.3950591536478084E-2,0,0,null,0,7.4800736461039423E-3,2.1014849458963768E-2,0,0,null,2.5414575258910985E-4,0,0,0,0,null,2.3855268963732734E-4,0,6.258243762804142E-3,0,0,null,7.7199808544474812E-5,3.0879923417789926E-5,2.7683851344048667E-2,1.2784288294965028E-2,0,null,5.7586406384585341E-6,0,1.9298433730139567E-2,1.3118152045940379E-2,0,null,0,4.995972345727804E-5,1.7124337201159363E-2,7.8100127347978353E-3,0,null,0,0,0,0,0,null,0,0,0,0,0]
[140,null,8.0766218509332988E-4,0,0,0,0,null,0,0,2.1500075838010009E-2,0,0,null,0,2.2120062144120609E-3,1.8264972463644818E-2,0,0,null,1.2707287629455492E-4,0,0,0,0,null,4.2097533465410708E-5,0,6.3985631296831586E-3,0,0,null,1.5439961708894963E-5,0,1.2985007797180663E-2,4.7863881297574382E-3,0,null,0,0,1.8846419095553277E-2,1.0895322068006674E-2,0,null,0,2.9975834074366828E-5,1.8766124323873656E-2,7.1633237822349575E-3,0,null,0,0,0,0,0,null,0,0,0,0,0]
[150,null,2.0191554627333247E-4,0,0,0,0,null,0,0,1.8528173820718943E-2,0,0,null,0,2.0373741448532138E-3,1.64992619719137E-2,0,0,null,0,0,0,0,0,null,1.4032511155136903E-5,0,1.0102994415289199E-3,0,0,null,0,1.5439961708894963E-5,8.1986196674232251E-3,5.6973458705822412E-3,0,null,0,5.7577650659120156E-6,3.4076721114416217E-2,8.0419224460736363E-3,0,null,0,2.9975834074366828E-5,2.1790992719662412E-2,7.0837312957656795E-3,0,null,0,0,0,0,0,null,0,0,0,0,0]
[160,null,1.7132228168646391E-4,0,0,0,0,null,0,0,1.7191528894281813E-2,0,0,null,0,1.993716127463502E-3,1.594928657284991E-2,1.447261780710895E-5,0,null,0,0,0,0,0,null,0,0,5.0514972076445993E-4,0,0,null,0,0,4.940787746846388E-3,1.3587166303827567E-3,0,null,0,2.8788825329560078E-6,5.1138114264469493E-2,7.0168868603943607E-3,0,null,0,9.991944691455611E-6,3.2139226705255521E-2,7.7204711875198985E-3,0,null,0,0,0,0,0,null,0,0,0,0,0]
[170,null,5.0988774311447595E-5,0,0,0,0,null,0,0,1.4797891703321705E-2,0,0,null,0,9.1681836518394625E-4,1.7338698107326855E-2,2.8945235614217899E-5,0,null,0,0,0,0,0,null,2.8065022310273806E-5,0,2.3854292369432828E-4,0,0,null,0,0,3.5203112696280511E-3,1.8527954050673954E-4,0,null,0,0,2.4503799713146035E-2,6.2625067383495023E-3,0,null,0,9.991944691455611E-6,5.3761065600153431E-2,7.6607768226679401E-3,0,null,0,0,0,0,0,null,0,0,0,0,0]
[180,null,1.6316407779663231E-5,null,0,0,0,null,0,null,9.6883057788563626E-3,0,0,null,0,null,1.0840304576283651E-2,0,0,null,3.1768219073638731E-5,null,0,0,0,null,1.4032511155136903E-5,null,2.3854292369432828E-4,0,0,null,0,null,2.1461546775363998E-3,1.3895965538005466E-4,0,null,0,null,6.1727348825032424E-3,6.538920828869756E-3,0,null,0,null,4.4497406138050366E-2,9.2028812480101883E-3,0,null,0,null,0,0,0,null,0,null,0,0,0]
[190,null,null,null,0,0,0,null,null,null,4.2516684362202337E-3,0,0,null,null,null,5.6879034692649873E-3,0,0,null,null,null,0,0,0,null,null,null,1.6838324025481998E-4,0,0,null,null,null,1.0344774344959624E-3,7.7199808544474812E-5,0,null,null,null,2.3176546550443609E-3,9.6773724816518036E-3,0,null,null,null,1.141290805911086E-2,1.0934017828716969E-2,0,null,null,null,0,0,0,null,null,null,0,0,0]
[200,null,null,null,0,0,0,null,null,null,1.9812680115273776E-3,0,0,null,null,null,3.8064086829941255E-3,0,0,null,null,null,0,0,0,null,null,null,2.1047905031852497E-4,0,0,null,null,null,7.8743804715364308E-4,6.1759846835579853E-5,0,null,null,null,8.4644778705967965E-4,1.9824073054499455E-2,0,null,null,null,2.9950177208303134E-3,1.5072827125119389E-2,0,null,null,null,0,0,0,null,null,null,0,0,0]
[210,null,null,null,0,0,0,null,null,null,9.9537388138935226E-4,0,0,null,null,null,2.9524995107635048E-3,0,0,null,null,null,0,0,0,null,null,null,5.6127746751606656E-5,0,0,null,null,null,5.7127858322911359E-4,4.6319885126684886E-5,0,null,null,null,2.8502833645887172E-4,3.5438589855450883E-2,0,null,null,null,9.452713736839858E-4,2.4126472460999682E-2,9.9490608086596628E-6,null,null,null,0,0,0,null,null,null,0,0,0]
[220,null,null,null,0,0,0,null,null,null,7.2520097072652809E-4,0,0,null,null,null,1.6209801235564339E-3,0,0,null,null,null,0,0,0,null,null,null,2.8063873375803328E-5,0,0,null,null,null,5.2495869810242869E-4,1.5439961708894963E-5,0,null,null,null,1.7274444633871014E-4,2.4805285310749863E-2,0,null,null,null,5.4726237423809707E-4,2.7349968163005414E-2,0,null,null,null,0,0,0,null,null,null,0,0,0]
[230,null,null,null,0,0,0,null,null,null,5.308660700743213E-4,0,0,null,null,null,1.2012620558498571E-3,1.447261780710895E-5,0,null,null,null,0,0,0,null,null,null,1.4031936687901664E-5,0,0,null,null,null,2.1615946392452946E-4,1.5439961708894963E-5,0,null,null,null,1.5259092759919396E-4,7.1406973384398904E-3,0,null,null,null,2.7860629961212215E-4,1.7669531996179561E-2,0,null,null,null,0,0,0,null,null,null,0,0,0]
[240,null,null,null,0,0,0,null,null,null,4.6924768694069465E-4,0,0,null,null,null,1.0565316876751756E-3,0,0,null,null,null,0,0,0,null,null,null,1.4031936687901664E-5,0,0,null,null,null,1.2351969367115971E-4,1.5439961708894963E-5,0,null,null,null,7.1976852641129227E-5,1.7506225732949409E-3,0,null,null,null,1.5920359977835552E-4,5.7306590257879654E-3,0,null,null,null,0,0,0,null,null,null,0,0,0]
[250,null,null,null,0,0,0,null,null,null,4.1710905505839527E-4,0,0,null,null,null,1.0275856140402391E-3,0,0,null,null,null,0,0,0,null,null,null,0,0,0,null,null,null,1.5439961708894963E-5,0,0,null,null,null,6.6218704429838891E-5,3.6567280725075245E-4,0,null,null,null,1.1940269983376664E-4,1.6415950334288444E-3,0,null,null,null,0,0,0,null,null,null,0,0,0]
[260,null,null,null,0,0,0,null,null,null,4.7398756256635828E-4,0,0,null,null,null,7.0917880405593986E-4,0,0,null,null,null,0,0,0,null,null,null,1.4031936687901664E-5,0,0,null,null,null,3.0879923417789926E-5,0,0,null,null,null,6.3339630324193717E-5,2.4762095609106075E-4,0,null,null,null,1.094524748476194E-4,5.6709646609360079E-4,0,null,null,null,0,0,0,null,null,null,0,0,0]
[270,null,null,null,0,0,0,null,null,null,2.4173365690884272E-4,0,0,null,null,null,6.5128665678606721E-4,0,0,null,null,null,0,0,0,null,null,null,0,0,0,null,null,null,1.5439961708894963E-5,1.5439961708894963E-5,0,null,null,null,4.606518569032271E-5,1.813967469039166E-4,0,null,null,null,6.9651574903030537E-5,1.4923591212989495E-4,0,null,null,null,0,0,0,null,null,null,0,0,0]
[280,null,null,null,0,0,0,null,null,null,1.5167602002123465E-4,0,0,null,null,null,8.8285524586555772E-4,0,0,null,null,null,0,0,0,null,null,null,0,0,0,null,null,null,3.0879923417789926E-5,0,0,null,null,null,2.3032592845161355E-5,1.2381047804553038E-4,0,null,null,null,3.980089994458888E-5,2.9847182425978987E-5,0,null,null,null,0,0,0,null,null,null,0,0,0]
[290,null,null,null,0,0,0,null,null,null,5.2138631882299409E-5,0,0,null,null,null,1.5920340499214975E-4,0,0,null,null,null,0,0,0,null,null,null,1.4031936687901664E-5,0,0,null,null,null,0,1.5439961708894963E-5,0,null,null,null,1.1516296422580678E-5,9.5017343616337263E-5,0,null,null,null,1.990044997229444E-5,9.9490608086596628E-6,0,null,null,null,0,0,0,null,null,null,0,0,0]
[300,null,null,null,0,0,0,null,null,null,2.8439253753981494E-5,0,0,null,null,null,7.2365184087340805E-5,0,0,null,null,null,0,0,0,null,null,null,0,0,0,null,null,null,0,1.5439961708894963E-5,0,null,null,null,2.8790741056451687E-5,6.3344895744224842E-5,0,null,null,null,3.980089994458888E-5,9.9490608086596628E-6,0,null,null,null,0,0,0,null,null,null,0,0,0]
[310,null,null,null,0,0,0,null,null,null,9.4797512513271654E-6,0,0,null,null,null,1.447303681746816E-5,0,0,null,null,null,0,0,0,null,null,null,0,0,0,null,null,null,0,3.0879923417789926E-5,0,null,null,null,2.5911666950806523E-5,6.3344895744224842E-5,0,null,null,null,9.9502249861472201E-6,1.9898121617319326E-5,0,null,null,null,0,0,0,null,null,null,0,0,0]
[320,null,null,null,0,0,0,null,null,null,0,0,0,null,null,null,0,0,0,null,null,null,0,0,0,null,null,null,0,0,0,null,null,null,0,4.6319885126684886E-5,0,null,null,null,8.6372223169355065E-6,3.7431074757951045E-5,0,null,null,null,9.9502249861472201E-6,2.9847182425978987E-5,0,null,null,null,0,0,0,null,null,null,0,0,0]
[330,null,null,null,0,0,0,null,null,null,4.7398756256635827E-6,0,0,null,null,null,1.447303681746816E-5,0,0,null,null,null,0,0,0,null,null,null,0,0,0,null,null,null,0,0,0,null,null,null,1.1516296422580678E-5,1.4396567214596555E-5,0,null,null,null,9.9502249861472201E-6,1.9898121617319326E-5,0,null,null,null,0,0,0,null,null,null,0,0,0]
[340,null,null,null,null,0,0,null,null,null,null,0,0,null,null,null,null,0,0,null,null,null,null,0,0,null,null,null,null,0,0,null,null,null,null,0,0,null,null,null,null,1.1517253771677244E-5,0,null,null,null,null,0,0,null,null,null,null,0,0,null,null,null,null,0,0]
[350,null,null,null,null,0,0,null,null,null,null,0,0,null,null,null,null,0,0,null,null,null,null,0,0,null,null,null,null,0,0,null,null,null,null,0,0,null,null,null,null,1.7275880657515865E-5,0,null,null,null,null,1.9898121617319326E-5,0,null,null,null,null,0,0,null,null,null,null,0,0]
[360,null,null,null,null,0,0,null,null,null,null,0,0,null,null,null,null,0,0,null,null,null,null,0,0,null,null,null,null,0,0,null,null,null,null,0,0,null,null,null,null,5.7586268858386221E-6,0,null,null,null,null,0,0,null,null,null,null,0,0,null,null,null,null,0,0]
[370,null,null,null,null,0,0,null,null,null,null,0,0,null,null,null,null,0,0,null,null,null,null,0,0,null,null,null,null,0,0,null,null,null,null,0,0,null,null,null,null,1.4396567214596555E-5,0,null,null,null,null,0,0,null,null,null,null,0,0,null,null,null,null,0,0]
[380,null,null,null,null,0,0,null,null,null,null,0,0,null,null,null,null,0,0,null,null,null,null,0,0,null,null,null,null,0,0,null,null,null,null,0,0,null,null,null,null,2.3034507543354489E-5,0,null,null,null,null,0,0,null,null,null,null,0,0,null,null,null,null,0,0]
[390,null,null,null,null,0,0,null,null,null,null,0,0,null,null,null,null,0,0,null,null,null,null,0,0,null,null,null,null,0,0,null,null,null,null,0,0,null,null,null,null,8.6379403287579324E-6,0,null,null,null,null,0,0,null,null,null,null,0,0,null,null,null,null,0,0]
[400,null,null,null,null,0,0,null,null,null,null,0,0,null,null,null,null,0,0,null,null,null,null,0,0,null,null,null,null,0,0,null,null,null,null,0,0,null,null,null,null,5.7586268858386221E-6,0,null,null,null,null,0,0,null,null,null,null,0,0,null,null,null,null,0,0]
[410,null,null,null,null,null,0,null,null,null,null,null,0,null,null,null,null,null,0,null,null,null,null,null,0,null,null,null,null,null,0,null,null,null,null,null,0,null,null,null,null,null,0,null,null,null,null,null,0,null,null,null,null,null,0,null,null,null,null,null,0]
[420,null,null,null,null,null,0,null,null,null,null,null,0,null,null,null,null,null,0,null,null,null,null,null,0,null,null,null,null,null,0,null,null,null,null,null,0,null,null,null,null,null,0,null,null,null,null,null,0,null,null,null,null,null,0,null,null,null,null,null,0]
[430,null,null,null,null,null,0,null,null,null,null,null,0,null,null,null,null,null,0,null,null,null,null,null,0,null,null,null,null,null,0,null,null,null,null,null,0,null,null,null,null,null,0,null,null,null,null,null,0,null,null,null,null,null,0,null,null,null,null,null,0]
[440,null,null,null,null,null,0,null,null,null,null,null,0,null,null,null,null,null,0,null,null,null,null,null,0,null,null,null,null,null,0,null,null,null,null,null,0,null,null,null,null,null,0,null,null,null,null,null,0,null,null,null,null,null,0,null,null,null,null,null,0]
[450,null,null,null,null,null,0,null,null,null,null,null,0,null,null,null,null,null,0,null,null,null,null,null,0,null,null,null,null,null,0,null,null,null,null,null,0,null,null,null,null,null,0,null,null,null,null,null,0,null,null,null,null,null,0,null,null,null,null,null,0]
[460,null,null,null,null,null,0,null,null,null,null,null,0,null,null,null,null,null,0,null,null,null,null,null,0,null,null,null,null,null,0,null,null,null,null,null,0,null,null,null,null,null,0,null,null,null,null,null,0,null,null,null,null,null,0,null,null,null,null,null,0]
[470,null,null,null,null,null,0,null,null,null,null,null,0,null,null,null,null,null,0,null,null,null,null,null,0,null,null,null,null,null,0,null,null,null,null,null,0,null,null,null,null,null,0,null,null,null,null,null,0,null,null,null,null,null,0,null,null,null,null,null,0]
[480,null,null,null,null,null,0,null,null,null,null,null,0,null,null,null,null,null,0,null,null,null,null,null,0,null,null,null,null,null,0,null,null,null,null,null,0,null,null,null,null,null,0,null,null,null,null,null,0,null,null,null,null,null,0,null,null,null,null,null,0]
[490]
[500]

{"sheet":"136237-1","index":27,"n_rows":56,"n_cols":61,"rows_kept":56,"cut":false,"hidden":true,"merged":[[0,20,0,29],[4,37,4,42],[4,43,4,48],[4,49,4,54],[4,55,4,60],[4,31,4,36],[4,1,4,6],[4,7,4,12],[4,13,4,18],[4,19,4,24],[4,25,4,30]]}
[null,null,null,null,null,null,null,null,null,null,null,null,null,null,null,null,null,null,null,null,"Recorded Classified Counts"]
["Year","WiM site ID & Lane",null,null,null,null,null,null,null,null,null,null,null,null,null,null,null,null,null,null,"Class 3","Class 4","Class 5","Class 6","Class 7","Class 8","Class 9","Class 10","Class 11","Class 12"]
[{"$f":"'Presumptive CTLD'!A3","v":"2014-2023"},{"$f":"MID(CELL(\"filename\",A1),FIND(\"]\",CELL(\"filename\",A1))+1,255)","v":"136237-1"},null,null,null,null,null,null,null,null,null,null,null,null,null,null,null,null,null,null,175304,127582,49240,22663,27993,68007,558880,125328,14150,0]
[]
[null,"Class 3",null,null,null,null,null,"Class 4",null,null,null,null,null,"Class 5",null,null,null,null,null,"Class 6",null,null,null,null,null,"Class 7",null,null,null,null,null,"Class 8",null,null,null,null,null,"Class 9",null,null,null,null,null,"Class 10",null,null,null,null,null,"Class 11",null,null,null,null,null,"Class 12"]
["Load (kN)","SAST","SADT","TAST","TADT","TRDT","QADT","SAST","SADT","TAST","TADT","TRDT","QADT","SAST","SADT","TAST","TADT","TRDT","QADT","SAST","SADT","TAST","TADT","TRDT","QADT","SAST","SADT","TAST","TADT","TRDT","QADT","SAST","SADT","TAST","TADT","TRDT","QADT","SAST","SADT","TAST","TADT","TRDT","QADT","SAST","SADT","TAST","TADT","TRDT","QADT","SAST","SADT","TAST","TADT","TRDT","QADT","SAST","SADT","TAST","TADT","TRDT","QADT"]
[10,1.3506795943588539E-4,8.5564913821870956E-6,0,0,0,0,3.9328899411844066E-6,0,0,0,0,0,0,0,0,0,0,0,8.8249569783347309E-5,1.0825280560090604E-2,0,0,0,0,4.1420797360603405E-4,5.5427873366875789E-2,0,2.5469076538808819E-3,0,0,4.9087770158433988E-6,2.9403693103853844E-5,0,4.2635355000588071E-4,3.9204924138471795E-5,0,0,2.3765501048058596E-6,0,1.7230201590153271E-5,0,0,0,2.7975213960431057E-5,0,1.3987606980215528E-5,0,0,0,0,0,0,0,0,0,0,0,0,0,0]
[20,1.9484271595219212E-2,1.3661864573558729E-3,0,0,0,0,1.0304171645903145E-3,0,0,3.1352630891122568E-5,0,0,5.5152060996098251E-5,0,1.0197062191025407E-5,1.1160487814776486E-4,0,0,1.1428319286943477E-2,4.3051081792642928E-2,0,0,0,0,2.3547723299503033E-2,4.7052611963475995E-2,0,1.3262555709843128E-2,0,0,9.9648173421620998E-4,6.6158309483671149E-4,0,1.1614458776022269E-3,1.4211785000196024E-4,0,6.8122845709679019E-4,1.0932130482106954E-4,0,8.1991993773832805E-5,8.1397728587186588E-5,0,3.3182892690261656E-4,1.8983180901721076E-4,0,7.4134316995142305E-4,6.7939805332475431E-5,0,4.9504250788324578E-4,0,0,3.8163347895072797E-4,2.9683665690895847E-4,0,0,0,0,0,0,0]
[30,0.19227067715016832,8.1925552820647382E-2,0,0,0,0,9.1597006730184827E-3,0,0,3.7740729435188796E-3,0,0,1.3788015249024564E-4,5.0729490067165846E-5,7.4438553994485475E-4,2.4045778291836612E-3,2.0291796026866337E-5,0,0.17146891408904383,0.26629307682125047,0,0,0,0,3.5580464932758321E-2,6.6039298507153649E-2,0,1.1005539984046249E-2,0,0,2.7390975748406163E-3,3.7048653310855842E-3,4.9082370033390041E-6,3.180499470733524E-3,1.3721723448465128E-4,0,1.5384112102674458E-3,1.6724971362571236E-3,0,7.2010359749192295E-4,8.4309034208188149E-4,0,1.1274187636932272E-3,2.7175922132990172E-4,2.0001417500075794E-6,1.8547566855765793E-2,3.7766538846581931E-4,0,1.5417038102649655E-3,0,0,8.4807439766828425E-4,7.6329426062303615E-4,0,0,0,0,0,0,0]
[40,0.15710415332853153,0.12968218338842763,0,0,0,0,8.994126006494621E-2,3.9190481415873709E-6,0,4.1597103034796877E-2,0,0,3.1712435072756495E-4,2.3335565430896289E-4,1.1930562763499727E-3,6.6151255047584264E-3,1.2175077616119802E-4,0,0.12735883745900073,0.19966465163482328,0,0,0,0,3.3053796293761512E-2,0.12907634014535063,0,5.1248751571993352E-3,0,0,2.9393756770870274E-2,4.5281687379934918E-3,9.8164740066780083E-6,1.6294546595052337E-2,2.4993139138275769E-4,0,1.9242623372321285E-2,1.2453122549182705E-3,0,2.4823373187469089E-3,4.4406322880338137E-3,5.9483898727136043E-7,1.0290694672859459E-2,3.5968132234839932E-4,2.0001417500075794E-6,8.6837062362746603E-2,7.9729359787228512E-4,3.9964591372044366E-6,8.9107651418984248E-4,0,0,3.4347013105565515E-3,1.5689937579473521E-3,0,0,0,0,0,0,0]
[50,8.7733824119534995E-2,0.11700146316002635,0,0,0,0,0.18929785864908785,3.9190481415873709E-6,0,6.5315368303931101E-2,0,0,4.5500450321781058E-4,2.2320975629552971E-4,9.891150325294645E-3,3.3572776526450354E-2,8.3196363710151989E-4,0,1.7473414817102767E-2,8.3984173910485516E-2,0,0,0,0,0.1009424831677905,7.4994306064558869E-2,0,3.6754155167793216E-3,0,0,0.13858950148830668,4.9398204414474456E-3,4.9082370033390041E-6,3.7411298859136709E-2,4.7045908966166151E-4,0,0.12709012362162264,1.8002367043904388E-4,5.3472377358131842E-6,1.5213079714340499E-2,1.9938878639834994E-2,6.5432288599849639E-6,6.8724569318746737E-2,1.6984951333118856E-4,6.0004252500227387E-6,9.1450974436649124E-2,3.7306946045803416E-3,1.9982295686022183E-6,1.6251538330224267E-2,2.8268151686901952E-5,0,2.4212524053429517E-2,1.378170192791593E-2,0,0,0,0,0,0,0]
[60,3.2922096665904316E-2,7.4929195033812401E-2,0,0,0,0,0.15034258378165632,3.9190481415873709E-6,0,7.599485820121972E-2,0,0,4.4121648796878601E-4,1.6233436821493069E-4,4.4255249909050262E-2,5.4797995170552546E-2,4.7279884742598569E-3,0,4.8831428613452174E-3,3.8403271117386638E-2,0,0,0,0,8.4218836233446864E-2,9.0885562250243287E-2,0,5.3422941032623371E-3,0,0,0.12593467434146241,4.2194299604030264E-3,8.8348266060102066E-5,8.2198024071823417E-2,2.3130905241698359E-3,0,0.1394604239638427,1.9665952117268489E-4,2.8518601257670317E-5,5.2224146874872139E-2,4.5325463654968631E-2,2.7362593414482578E-5,0.10156563823490991,1.5985836548817748E-4,5.4003827250204642E-5,7.2445813009673427E-2,1.6563324894143788E-2,1.3987606980215528E-5,8.6773879596106093E-2,1.4134075843450976E-5,0,3.3329323828363573E-2,4.3691528881218605E-2,0,0,0,0,0,0,0]
[70,7.8109513563135412E-3,3.9165913220064401E-2,0,0,0,0,4.9043137566569556E-2,1.1757144424762114E-5,0,7.5273747690723897E-2,0,0,2.0682022873536846E-4,1.3189667417463119E-4,7.1705741327290656E-2,5.474726568048538E-2,1.8364075404314036E-3,0,5.294974187000838E-4,1.639971171807204E-2,0,0,0,0,1.1401074473506086E-2,6.3233741226163112E-2,0,1.5592044417661008E-2,0,0,2.8672166549541293E-2,1.9504449758889716E-3,5.0554841134391735E-4,0.12504900615517309,3.420629631081664E-3,0,3.927109667508058E-2,2.317136352185713E-4,7.7237878406190443E-5,6.1914649907127306E-2,4.9198688418909287E-2,6.4837449612578291E-5,5.826196327411845E-2,1.4986721764516638E-4,2.90020553751099E-4,5.3166894131799224E-2,2.3559126613820154E-2,7.9929182744088731E-6,8.4157226340151783E-2,0,0,4.8622932132981633E-2,3.8461549688060766E-2,0,0,0,0,0,0,0]
[80,1.5863300767789093E-3,2.4585651904817589E-2,0,0,0,0,9.6080501263135065E-3,3.9190481415873709E-6,3.9190481415873709E-6,6.2764047965166006E-2,0,0,1.5166816773927019E-4,3.0437694040299505E-5,9.0203212141810749E-2,4.7563969886974693E-2,3.9569002252389359E-4,0,7.3541308152789425E-5,5.4273485416758589E-3,0,0,0,0,5.9024636238859851E-4,1.684369629583618E-2,0,3.3078739651013891E-2,0,0,3.4116000260111623E-3,1.3770729603638217E-3,4.6137427831386638E-4,0.12963598227937428,3.2540087034931588E-3,0,3.8561335088890727E-3,2.0913640922291566E-4,9.4467866666032914E-5,5.2180180153573126E-2,4.2307806257199869E-2,9.1605204039789501E-5,7.6440591353952149E-3,1.2588846282193976E-4,3.9402792475149318E-4,3.8084257347989682E-2,2.3067562139944011E-2,2.3978754823226621E-5,9.448239864743092E-3,0,0,3.8474308507551166E-2,4.4511363457443345E-2,0,0,0,0,0,0,0]
[90,9.4834950242217409E-4,1.502519886712054E-2,0,0,0,0,1.545625746885472E-3,0,0,4.5567129921385265E-2,0,0,3.8606442697268777E-4,0,8.69299551784916E-2,3.6606400032466874E-2,1.7248026622836387E-4,0,2.941652326111577E-5,1.5590757328391358E-3,0,0,0,0,5.1775996700754256E-5,4.6172640122574904E-3,0,4.3131777585641275E-2,0,0,3.7797583021994174E-4,7.4489355863096402E-4,2.7976950919032323E-4,9.1303367702983501E-2,2.3767985258948523E-3,0,2.609592431636046E-4,1.4021645618354572E-4,1.473461064979633E-4,3.3266171966644192E-2,3.4118125302121181E-2,7.1380678472563245E-5,3.9779491839530537E-4,7.3934494038282086E-5,3.5202494800133394E-4,2.1590870488746972E-2,2.2134388931406773E-2,9.1918560155702052E-5,4.3846622126801773E-4,0,0,1.6919084233482273E-2,1.7061040232814902E-2,0,0,0,0,0,0,0]
[100,null,8.5621957097752211E-3,0,0,0,0,null,0,3.9190481415873709E-6,3.1297763787063108E-2,0,0,null,0,7.3214906531562429E-2,3.1695785393965219E-2,2.0291796026866338E-4,0,null,5.883304652223154E-4,0,0,0,0,null,1.7910015114810443E-3,0,1.8252838186146321E-2,0,0,null,2.6463323793468461E-4,2.994024572036792E-4,5.650409691457247E-2,1.1320421844983729E-3,0,null,6.1790302724952354E-5,1.913122834368717E-4,1.9831962030266416E-2,2.1555544475497294E-2,2.2603881516311695E-5,null,4.9955739215055458E-5,3.1602239650119755E-4,1.1859492489654167E-2,1.3186316923206039E-2,2.5976984391828841E-4,null,0,0,5.6538293177885619E-3,4.8341969839458951E-3,0,null,0,0,0,0,0]
[110,null,4.3923322428560431E-3,0,0,0,0,null,0,0,2.3953410000817646E-2,0,0,null,0,5.0740581462542421E-2,2.8895517542257665E-2,2.6379334834926237E-4,0,null,3.3829001750283137E-4,0,0,0,0,null,6.9362486282791892E-4,0,4.1723731077804686E-3,0,0,null,1.0781354138079743E-4,4.6628251531720535E-4,3.2525385188379663E-2,9.3111694828870511E-4,0,null,2.554791362666299E-5,7.96144285109963E-5,1.3295180033891714E-2,1.3502516641404396E-2,1.3086457719969928E-5,null,7.9929182744088731E-6,3.0402154600115208E-4,7.7671183331568232E-3,7.0137857857937866E-3,2.4178577780086842E-4,null,0,0,3.9859496690409363E-3,3.1521225947951309E-3,0,null,0,0,0,0,0]
[120,null,2.0307406213724041E-3,0,0,0,0,null,0,1.1757144424762114E-5,1.8153173285959973E-2,0,0,null,0,3.5883461850218408E-2,2.4522635498467969E-2,1.927720622552302E-4,0,null,1.1766609304446308E-4,0,0,0,0,null,2.3811002753794231E-4,0,1.2009808449194401E-3,0,0,null,3.9204924138471795E-5,5.5953901838064646E-4,1.8289097110597091E-2,6.713843258713294E-4,0,null,4.1589626834102542E-6,1.9606538364648341E-5,1.0138488273599151E-2,8.8200677436261667E-3,1.2491618732698568E-5,null,0,2.4201715175091711E-4,7.2395857270458374E-3,3.5368663364259267E-3,6.5941575763873208E-5,null,0,0,6.1768085296840039E-3,2.841150858985746E-3,0,null,0,0,0,0,0]
[130,null,9.0128375892370742E-4,0,0,0,0,null,0,0,1.4841551648085148E-2,0,0,null,0,2.3555213661268691E-2,2.2736957448103733E-2,5.072949006716585E-4,0,null,1.4708261630557885E-5,0,0,0,0,null,7.2468269250678093E-5,0,8.9038235054372296E-4,0,0,null,2.4503077586544871E-5,3.239436422203742E-4,1.1977104324303132E-2,5.1456462931744225E-4,4.9006155173089743E-6,null,5.941375262014649E-7,4.7531002096117192E-6,1.1148534573711585E-2,6.1785035005704619E-3,1.0112262783613126E-5,null,1.9982295686022183E-6,8.6006095250325927E-5,9.8173018705426992E-3,2.3978754823226621E-3,1.7984066117419966E-5,null,0,0,7.6326695790145584E-3,3.5620398829075022E-3,0,null,0,0,0,0,0]
[140,null,3.3085100011123438E-4,0,0,0,0,null,0,0,1.2415641832884539E-2,0,0,null,0,6.0672520036601169E-3,2.3416732615003755E-2,4.7685720663135896E-4,0,null,0,0,0,0,0,null,2.0705219785908026E-5,0,7.2472982021000703E-4,0,0,null,4.9006155173089743E-6,1.0798121407345808E-4,7.0225820363037598E-3,3.2344062414239226E-4,0,null,0,1.7824125786043948E-6,1.2584582754518498E-2,5.1393456370741894E-3,5.9483898727136034E-6,null,0,2.4001701000090955E-5,1.4479171454091675E-2,2.0921463583265226E-3,4.1962820940646587E-5,null,0,0,1.2791788831496622E-2,3.5620398829075022E-3,0,null,0,0,0,0,0]
[150,null,8.2712750027808595E-5,0,0,0,0,null,0,7.8380962831747418E-6,8.8649563844649081E-3,0,0,null,0,1.7335005724743193E-3,2.2706519754063431E-2,6.8992106491345549E-4,0,null,0,0,0,0,0,null,0,0,3.8307147639671799E-4,0,0,null,0,2.4541185016695016E-5,4.5722742776492728E-3,2.8423570000392048E-4,0,null,0,5.941375262014649E-7,1.2765202798773898E-2,5.4922671756200935E-3,6.5432288599849639E-6,null,0,1.4000992250053056E-5,2.0018263818257023E-2,2.1500950158159868E-3,4.9955739215055458E-5,null,0,0,2.6262037181127868E-2,3.7740660664139008E-3,0,null,0,0,0,0,0]
[160,null,1.4260818970311827E-5,0,0,0,0,null,0,0,6.9563649789678205E-3,0,0,null,0,8.1576497528203261E-4,2.3710963657393315E-2,1.3494044357866115E-3,0,null,0,0,0,0,0,null,1.0352609892954013E-5,0,2.6918536179228831E-4,0,0,null,4.9006155173089743E-6,9.8164740066780083E-6,3.2001019328027598E-3,2.1562708276159486E-4,0,null,0,0,1.2026086565044563E-2,7.4725491419054425E-3,1.1896779745427207E-5,null,0,4.0002835000151588E-6,2.3279374474215846E-2,2.4138613188714798E-3,7.7930953175486519E-5,null,0,0,4.231891244364739E-2,4.3677393802318181E-3,0,null,0,0,0,0,0]
[170,null,0,0,0,0,0,null,0,0,4.5970795044108469E-3,0,0,null,0,4.8945898516921955E-4,1.9267060327509588E-2,1.9987419086463344E-3,0,null,0,0,0,0,0,null,0,0,2.5883207864643107E-4,0,0,null,0,9.8164740066780083E-6,1.8524326655427921E-3,2.3522954483083075E-4,0,null,0,0,9.6263353849539053E-3,8.6144939181431977E-3,1.6060652656326731E-5,null,0,0,2.2148376538386989E-2,2.7155939837304149E-3,1.2988492195914421E-4,null,0,0,4.9880909156189583E-2,7.3502410282218298E-3,0,null,0,0,0,0,0]
[180,null,0,null,0,0,0,null,0,null,3.5624426850038027E-3,0,0,null,0,null,1.6091394249305006E-2,2.536474503358292E-3,0,null,0,null,0,0,0,null,0,null,1.449459640420014E-4,0,0,null,0,null,9.6542125690986789E-4,1.519190810365782E-4,0,null,0,null,7.2319315088050212E-3,9.3096424031578577E-3,3.15264663253821E-5,null,0,null,1.9610624986262173E-2,3.4269637101528045E-3,8.9920330587099829E-5,null,0,null,4.0933724260789187E-2,1.3583810823309958E-2,0,null,0,null,0,0,0]
[190,null,null,null,0,0,0,null,null,null,2.0183256136160157E-3,0,0,null,null,null,1.1738804001542176E-2,2.1509303788478317E-3,0,null,null,null,0,0,0,null,null,null,4.1413132583428975E-5,0,0,null,null,null,7.8409848276943586E-4,1.2251538793272434E-4,0,null,null,null,4.7501883349405308E-3,9.2627050268192616E-3,4.4018085058080667E-5,null,null,null,1.4750930675421577E-2,5.0415332015833975E-3,4.1962820940646587E-5,null,null,null,2.2869739590454734E-2,2.3266339870102178E-2,0,null,null,null,0,0,0]
[200,null,null,null,0,0,0,null,null,null,1.2854578665360255E-3,0,0,null,null,null,7.4572350398733793E-3,1.562468294068708E-3,0,null,null,null,0,0,0,null,null,null,3.1059849437571729E-5,0,0,null,null,null,4.3125416552318972E-4,2.9403693103853844E-4,0,null,null,null,2.4918436368656142E-3,8.5663682537960306E-3,6.3647771638035555E-5,null,null,null,8.1647660173086653E-3,7.4354122247688552E-3,2.5976984391828841E-5,null,null,null,1.0982563449804281E-2,3.4687483621646864E-2,0,null,null,null,0,0,0]
[210,null,null,null,0,0,0,null,null,null,8.1516840316918696E-4,0,0,null,null,null,3.5409184066881759E-3,9.4356851524928474E-4,0,null,null,null,0,0,0,null,null,null,3.1059849437571729E-5,0,0,null,null,null,2.2542831379621279E-4,3.8224801035009997E-4,0,null,null,null,1.1259045521841533E-3,7.42501762156256E-3,1.005277888488599E-4,null,null,null,3.4289619397214069E-3,1.0698521110296278E-2,3.7966361803442148E-5,null,null,null,4.1414299752801217E-3,3.9182438711982522E-2,0,null,null,null,0,0,0]
[220,null,null,null,0,0,0,null,null,null,3.5271709752512893E-4,0,0,null,null,null,1.6030518861224407E-3,4.565654106044926E-4,0,null,null,null,0,0,0,null,null,null,3.1059849437571729E-5,0,0,null,null,null,7.3509232759634609E-5,3.1854000862508331E-4,4.9006155173089743E-6,null,null,null,4.8482222405396786E-4,5.9426283308689062E-3,1.0885553467065894E-4,null,null,null,1.2948527604542375E-3,1.260083565960559E-2,5.1953968783657681E-5,null,null,null,1.2155733033245408E-3,3.5224616619863078E-2,0,null,null,null,0,0,0]
[230,null,null,null,0,0,0,null,null,null,2.0771117965368705E-4,0,0,null,null,null,1.2377995576388467E-3,2.2320975629552971E-4,0,null,null,null,0,0,0,null,null,null,0,0,0,null,null,null,3.4304308621162821E-5,2.5483200690006665E-4,0,null,null,null,1.7349030566637084E-4,4.7579051863225561E-3,1.0469166175975942E-4,null,null,null,4.5759457120990801E-4,1.2454964901097628E-2,6.993803490107764E-5,null,null,null,2.8269146588942812E-4,2.4906009022551662E-2,0,null,null,null,0,0,0]
[240,null,null,null,0,0,0,null,null,null,1.4892499673283224E-4,0,0,null,null,null,6.4933747285972278E-4,1.1160487814776486E-4,0,null,null,null,0,0,0,null,null,null,0,0,0,null,null,null,1.9602462069235897E-5,2.3032892931352177E-4,0,null,null,null,7.3079820537546637E-5,3.5844707778576396E-3,7.7329068345276844E-5,null,null,null,1.5985836548817748E-4,9.4476294003512894E-3,9.7913248861508707E-5,null,null,null,1.1307658635577124E-4,1.5831288368477789E-2,0,null,null,null,0,0,0]
[250,null,null,null,0,0,0,null,null,null,9.4057892673367718E-5,0,0,null,null,null,4.4641951259105942E-4,1.0145898013433169E-4,0,null,null,null,0,0,0,null,null,null,1.0353283145857244E-5,0,0,null,null,null,9.8012310346179486E-6,1.7152154310581409E-4,0,null,null,null,2.7330664591277601E-5,2.3528102569726921E-3,6.1863254676221478E-5,null,null,null,3.1971673097635493E-5,5.6549896791442782E-3,1.8583534988000631E-4,null,null,null,7.067286647235703E-5,9.399827468783685E-3,0,null,null,null,0,0,0]
[260,null,null,null,0,0,0,null,null,null,5.0948025198074185E-5,0,0,null,null,null,3.3481463444329457E-4,5.0729490067165846E-5,0,null,null,null,0,0,0,null,null,null,0,0,0,null,null,null,2.4503077586544871E-5,4.4105539655780768E-5,0,null,null,null,1.4259477178057877E-5,1.4009915621064667E-3,3.0336788350839381E-5,null,null,null,2.7975213960431057E-5,2.8234983804349347E-3,1.9782472729161962E-4,null,null,null,0,4.9331425362488818E-3,0,null,null,null,0,0,0]
[270,null,null,null,0,0,0,null,null,null,1.5676315445561284E-5,0,0,null,null,null,1.6233436821493069E-4,1.1160487814776486E-4,0,null,null,null,0,0,0,null,null,null,0,0,0,null,null,null,4.9006155173089743E-6,3.4304308621162821E-5,0,null,null,null,8.9121732362861734E-6,6.9039533298037082E-4,1.6655491643598089E-5,null,null,null,9.9911478430110927E-6,1.15297846108348E-3,2.6576453262409504E-4,null,null,null,2.826914658894281E-5,2.2192073873669753E-3,0,null,null,null,0,0,0]
[280,null,null,null,0,0,0,null,null,null,1.1757236584170965E-5,0,0,null,null,null,5.0729490067165846E-5,1.6233436821493069E-4,0,null,null,null,0,0,0,null,null,null,0,0,0,null,null,null,9.8012310346179486E-6,1.4701846551926922E-5,0,null,null,null,6.5355937066098607E-6,3.3925622644732505E-4,4.7587118981708834E-6,null,null,null,5.9946887058066553E-6,5.4551667222840566E-4,2.1580879340903959E-4,null,null,null,1.4134573294471405E-5,9.3291520742815515E-4,0,null,null,null,0,0,0]
[290,null,null,null,0,0,0,null,null,null,3.919078861390321E-6,0,0,null,null,null,1.0145898013433168E-5,1.2175077616119802E-4,0,null,null,null,0,0,0,null,null,null,0,0,0,null,null,null,4.9006155173089743E-6,9.8012310346179486E-6,0,null,null,null,1.1882897648381565E-6,1.4318870503293404E-4,1.1896779745427209E-6,null,null,null,1.9982295686022183E-6,2.6376630305549283E-4,2.2979640038925511E-4,null,null,null,0,3.3924189361023827E-4,0,null,null,null,0,0,0]
[300,null,null,null,0,0,0,null,null,null,0,0,0,null,null,null,1.0145898013433168E-5,1.8262616424179705E-4,0,null,null,null,0,0,0,null,null,null,0,0,0,null,null,null,0,0,0,null,null,null,5.9414488241907826E-7,8.318016060004467E-5,5.9483898727136043E-7,null,null,null,7.9929182744088731E-6,1.4187429937075752E-4,1.6984951333118856E-4,null,null,null,1.4134573294471405E-5,1.2721571010383936E-4,0,null,null,null,0,0,0]
[310,null,null,null,0,0,0,null,null,null,3.919078861390321E-6,0,0,null,null,null,0,1.6233436821493069E-4,0,null,null,null,0,0,0,null,null,null,0,0,0,null,null,null,0,0,9.8012310346179486E-6,null,null,null,1.7824346472572347E-6,2.6142336188585473E-5,5.9483898727136043E-7,null,null,null,3.9964591372044366E-6,4.3961050509248803E-5,1.1789554454753088E-4,null,null,null,1.4134573294471405E-5,7.0675394502132971E-5,0,null,null,null,0,0,0]
[320,null,null,null,0,0,0,null,null,null,3.919078861390321E-6,0,0,null,null,null,1.0145898013433168E-5,8.1167184107465347E-5,0,null,null,null,0,0,0,null,null,null,0,0,0,null,null,null,0,0,0,null,null,null,1.1882897648381565E-6,1.8418464132867036E-5,0,null,null,null,0,2.1980525254624402E-5,5.1953968783657681E-5,null,null,null,0,1.4135078900426593E-5,0,null,null,null,0,0,0]
[330,null,null,null,0,0,0,null,null,null,0,0,0,null,null,null,0,5.0729490067165846E-5,0,null,null,null,0,0,0,null,null,null,0,0,0,null,null,null,0,0,4.9006155173089743E-6,null,null,null,5.9414488241907826E-7,9.5063040685765345E-6,0,null,null,null,1.9982295686022183E-6,5.9946887058066553E-6,2.9973443529033276E-5,null,null,null,0,1.4135078900426593E-5,0,null,null,null,0,0,0]
[340,null,null,null,null,0,0,null,null,null,null,0,0,null,null,null,null,2.0291796026866337E-5,0,null,null,null,null,0,0,null,null,null,null,0,0,null,null,null,null,0,0,null,null,null,null,4.7531520342882673E-6,0,null,null,null,null,1.3987606980215528E-5,7.9929182744088731E-6,null,null,null,null,2.8270157800853187E-5,0,null,null,null,null,0,0]
[350,null,null,null,null,0,0,null,null,null,null,0,0,null,null,null,null,3.0437694040299505E-5,0,null,null,null,null,0,0,null,null,null,null,0,0,null,null,null,null,0,9.8012310346179486E-6,null,null,null,null,5.9414400428603341E-7,0,null,null,null,null,5.9946887058066553E-6,1.7984066117419966E-5,null,null,null,null,1.4135078900426593E-5,0,null,null,null,null,0,0]
[360,null,null,null,null,0,0,null,null,null,null,0,0,null,null,null,null,2.0291796026866337E-5,0,null,null,null,null,0,0,null,null,null,null,0,0,null,null,null,null,0,1.4701846551926922E-5,null,null,null,null,5.9414400428603341E-7,0,null,null,null,null,1.9982295686022183E-6,1.9982295686022183E-6,null,null,null,null,0,0,null,null,null,null,0,0]
[370,null,null,null,null,0,0,null,null,null,null,0,0,null,null,null,null,0,0,null,null,null,null,0,0,null,null,null,null,0,0,null,null,null,null,0,3.4304308621162821E-5,null,null,null,null,1.1882880085720668E-6,0,null,null,null,null,0,0,null,null,null,null,0,0,null,null,null,null,0,0]
[380,null,null,null,null,0,0,null,null,null,null,0,0,null,null,null,null,0,0,null,null,null,null,0,0,null,null,null,null,0,0,null,null,null,null,0,1.9602462069235897E-5,null,null,null,null,1.7824320128581002E-6,0,null,null,null,null,1.9982295686022183E-6,0,null,null,null,null,0,0,null,null,null,null,0,0]
[390,null,null,null,null,0,0,null,null,null,null,0,0,null,null,null,null,0,0,null,null,null,null,0,0,null,null,null,null,0,0,null,null,null,null,0,3.4304308621162821E-5,null,null,null,null,5.9414400428603341E-7,0,null,null,null,null,0,1.9982295686022183E-6,null,null,null,null,0,0,null,null,null,null,0,0]
[400,null,null,null,null,0,0,null,null,null,null,0,0,null,null,null,null,0,0,null,null,null,null,0,0,null,null,null,null,0,0,null,null,null,null,0,2.4503077586544871E-5,null,null,null,null,0,0,null,null,null,null,0,0,null,null,null,null,0,0,null,null,null,null,0,0]
[410,null,null,null,null,null,0,null,null,null,null,null,0,null,null,null,null,null,0,null,null,null,null,null,0,null,null,null,null,null,0,null,null,null,null,null,1.4701846551926922E-5,null,null,null,null,null,0,null,null,null,null,null,0,null,null,null,null,null,0,null,null,null,null,null,0]
[420,null,null,null,null,null,0,null,null,null,null,null,0,null,null,null,null,null,0,null,null,null,null,null,0,null,null,null,null,null,0,null,null,null,null,null,4.9006155173089743E-6,null,null,null,null,null,0,null,null,null,null,null,1.9982295686022183E-6,null,null,null,null,null,0,null,null,null,null,null,0]
[430,null,null,null,null,null,0,null,null,null,null,null,0,null,null,null,null,null,0,null,null,null,null,null,0,null,null,null,null,null,0,null,null,null,null,null,9.8012310346179486E-6,null,null,null,null,null,0,null,null,null,null,null,0,null,null,null,null,null,0,null,null,null,null,null,0]
[440,null,null,null,null,null,0,null,null,null,null,null,0,null,null,null,null,null,0,null,null,null,null,null,0,null,null,null,null,null,0,null,null,null,null,null,0,null,null,null,null,null,0,null,null,null,null,null,0,null,null,null,null,null,0,null,null,null,null,null,0]
[450,null,null,null,null,null,0,null,null,null,null,null,0,null,null,null,null,null,0,null,null,null,null,null,0,null,null,null,null,null,0,null,null,null,null,null,0,null,null,null,null,null,0,null,null,null,null,null,0,null,null,null,null,null,0,null,null,null,null,null,0]
[460,null,null,null,null,null,0,null,null,null,null,null,0,null,null,null,null,null,0,null,null,null,null,null,0,null,null,null,null,null,0,null,null,null,null,null,0,null,null,null,null,null,0,null,null,null,null,null,0,null,null,null,null,null,0,null,null,null,null,null,0]
[470,null,null,null,null,null,0,null,null,null,null,null,0,null,null,null,null,null,0,null,null,null,null,null,0,null,null,null,null,null,0,null,null,null,null,null,0,null,null,null,null,null,0,null,null,null,null,null,0,null,null,null,null,null,0,null,null,null,null,null,0]
[480,null,null,null,null,null,0,null,null,null,null,null,0,null,null,null,null,null,0,null,null,null,null,null,0,null,null,null,null,null,0,null,null,null,null,null,0,null,null,null,null,null,0,null,null,null,null,null,0,null,null,null,null,null,0,null,null,null,null,null,0]
[490]
[500]